{"text_format":"1","workbook":"xlsx","n_sheets":25,"sheets":["Legend","1. Agency Information","2. Revenue","3. Providers","4. Non-Providers","5. Cost Information","6. Reclass Template","7. Adjustment Template","8. Other Information","Cost Breakdown","Form 1 - Direct Medical Cost","Form 2 - Direct Dental Cost","Form 3 - Direct BH Cost","Form 4 - NonAllowable","Form 5 - Overhead & Enabling","Form 6A - Reclassification","Form 6B - Adjustments","Form 7 - Visits by FTE","Form A - Allocations","Form B - Cost per Visit","Tab 9. Reconciliation","Tab 10. Accuracy of Report","Provider List","Flat Data Tab","System Data"],"not_rendered":{"charts":0,"images":1,"macros":1,"external_links":0,"defined_names":349,"comments":0,"pivot_tables":0},"unopened":[],"bounds":{"document_bytes":16777216,"sheet_cells":100000,"rows_first":2000,"rows_last":500,"rows_between":2000,"halvings":0,"cell_chars":16384,"cell_head_chars":4096},"cells_cut":0,"cells_raw":0,"read":"whole","date_system":"1900"}

{"sheet":"Legend","index":0,"n_rows":9,"n_cols":3,"rows_kept":9,"cut":false,"hidden":false,"merged":[[38,1,38,2],[1,1,1,8],[2,1,2,8],[3,1,4,8],[29,1,29,2],[30,1,30,2],[31,1,31,2],[33,1,33,2],[34,1,34,2],[35,1,35,2],[26,1,26,2],[27,1,27,2],[37,1,37,2]]}
[]
[null,"2025 Community Health Center Cost Report"]
[null,"Legend"]
[null,"Select your Clinic Name in Tab 1, Cell C8"]
[]
[]
[]
[null,null,"Provider Input (Unlocked)"]
[null,null,"Calculated/Populated/Linked (Locked)"]

{"sheet":"1. Agency Information","index":1,"n_rows":42,"n_cols":9,"rows_kept":42,"cut":false,"hidden":false,"merged":[[1,1,1,5],[2,1,2,5],[3,1,3,5]]}
[]
[null,"Community Health Center Cost Report",null,null,null,null,null,null,"Version 7.1"]
[null,"Tab 1 - Agency Information"]
[null,{"$f":"C9","v":0}]
[]
[]
[null,"Organization"]
["Line"]
[1,"Provider Name"]
[2,"Federal Employee ID Number (FEIN)"]
[3,"MassHealth Provider ID"]
[4,"Medicare Provider Number:"]
[5,"Mailing Address"]
[6,"City"]
[7,"State"]
[8,"Zip Code"]
[9,"Main Phone Number"]
[10,"Fiscal Year Ending"]
[]
[null,"Cost Report Contact Information"]
[11,"Name "]
[12,"Title"]
[13,"Phone Number"]
[14,"Extension"]
[15,"E-mail Address"]
[16,"Executive Director"]
[17,"Medical Director"]
[18,"Financial Manager"]
[]
[]
[null,"2025-01-31"]
[null,"2025-02-28"]
[null,"2025-03-31"]
[null,"2025-04-30"]
[null,"2025-05-31"]
[null,"2025-06-30"]
[null,"2025-07-31"]
[null,"2025-08-31"]
[null,"2025-09-30"]
[null,"2025-10-31"]
[null,"2025-11-30"]
[null,"2025-12-31"]

{"sheet":"2. Revenue","index":2,"n_rows":62,"n_cols":6,"rows_kept":62,"cut":false,"hidden":false,"merged":[[45,1,45,3],[46,1,46,3],[47,1,47,3],[48,1,48,3],[57,1,57,3],[53,1,53,3],[54,1,54,3],[55,1,55,3],[26,1,26,3],[30,1,30,3],[29,1,29,3],[44,1,44,3],[27,1,27,3],[31,1,31,3],[43,1,43,3],[32,1,32,3],[33,1,33,3],[35,1,35,3],[36,1,36,3],[34,1,34,3],[14,1,14,3],[15,1,15,3],[19,1,19,3],[23,1,23,3],[56,1,56,3],[37,1,37,3],[38,1,38,3],[39,1,39,3],[40,1,40,3],[52,1,52,3],[49,1,49,3],[50,1,50,3],[51,1,51,3],[28,1,28,3],[41,1,41,3],[42,1,42,3],[25,1,25,3],[18,1,18,3],[21,1,21,3],[22,1,22,3],[1,2,1,6],[2,2,2,6],[3,2,3,6],[17,1,17,3],[7,1,7,3],[24,1,24,3],[8,1,8,3],[9,1,9,3],[10,1,10,3],[20,1,20,3],[12,1,12,3],[13,1,13,3]]}
[]
[null,null,"Community Health Center Cost Report"]
[null,null,"Tab 2 - Revenue"]
[null,null,{"$f":"'1. Agency Information'!C9","v":0}]
[]
[]
[]
["Line","A. Third Party Revenues - NPSR",null,null,"Revenue","Total"]
[1,"Medicare"]
[2,"MassHealth - Fee For Service / PCC Plan"]
[3,"MassHealth - MCO"]
[4,"MassHealth - ACO"]
[5,"MassHealth - Dental"]
[6,"Massachusetts Behavioral Health Partnership"]
[7,"Commonwealth Care"]
[8,"Health Safety Net Trust Fund"]
[9,"Children's Medical Security Plan"]
[10,"Healthy Start"]
[11,"Commercial / Private Third Parties"]
[12,"Patient Fees / Self Pay"]
[13,"Other"]
[14,"TOTAL",null,null,{"$f":"SUM(E9:E21)","v":0}]
[15,"TOTAL NET PATIENT SERVICE REVENUE*",null,null,null,{"$f":"E22","v":0}]
[null,"B. Unrestricted Grants, Gifts, & Donations"]
[16,"Federal"]
[17,"State - Cost Reimbursement Contracts"]
[18,"State - Unit Rate Contracts"]
[19,"Local"]
[20,"Private"]
[21,"Donated",null,null," "]
[22,"TOTAL UNRESTRICTED GRANTS, GIFTS, & DONATIONS**",null,null,null,{"$f":"SUM(E25:E30)","v":0}]
[null,"C. Restricted Grants, Gifts, & Donations"]
[23,"Federal"]
[24,"State - Cost Reimbursement Contracts"]
[25,"State - Unit Rate Contracts"]
[26,"Local"]
[27,"Private"]
[28,"Donated"]
[29,"TOTAL RESTRICTED GRANTS, GIFTS, & DONATIONS**",null,null,null,{"$f":"SUM(E33:E38)","v":0}]
[null,"D. Other Income"]
[30,"Contract Revenue **"]
[31,"Non-Operating Income"]
[32,"Investment Income"]
[33,"Capital Grants"]
[34,"Endowment Grants"]
[35,"Non-Operating Gains (Losses)"]
[null,"Other with Description"]
[36]
[37]
[38]
[39]
[40]
[41]
[42,"TOTAL OTHER INCOME",null,null,null,{"$f":"SUM(E41:E53)","v":0}]
[43,"TOTAL REVENUE",null,null,null,{"$f":"SUM(F23,F31,F39,F54)","v":0}]
[44,"E. Other Adjustments"]
[45,"TOTAL ***",null,null,null,{"$f":"F55-F56","v":0}]
[46,"Total (Part B + Part C + Contract Revenue)",null,null,null,{"$f":"SUM(F31,F39,E41)","v":0}]
[null,"NOTES:"]
[null,"* NPSR must agree with financial Statements and Include Prior Year 3rd Party Settlements"]
[null,"** Sum of Part B, C and Contract Revenue must tie to Total Grant and Contract Revenue reported on the Financial Statements."]
[null,"*** Must agree with Financial Statements, excluding Temporarily and Permanently Restricted"]

{"sheet":"3. Providers","index":3,"n_rows":108,"n_cols":7,"rows_kept":108,"cut":false,"hidden":false,"merged":[[7,2,7,6],[8,2,8,3],[8,4,8,5],[1,1,1,4],[2,1,2,4],[3,1,3,4]]}
[]
[null,"Community Health Center Cost Report"]
[null,"Tab 3 - Providers"]
[null,{"$f":"'1. Agency Information'!C9","v":0}]
[]
[null,"Please see accompanying Instructions document for guidance on data input."]
[]
[null,null,"Staffing"]
[null,"Service Category","Salary or Contractor Expense",null,"Salary or Contractor FTEs",null,"Billable Visits"]
[null,null,"Employee","Contracted","Employee","Contracted"]
[null,"HEALTHCARE"]
["Line","MEDICAL"]
[1,"Family Physicians"]
[2,"General Practitioners"]
[3,"Internists"]
[4,"Obstetrician/Gynecologists"]
[5,"Pediatricians"]
[6,"Licensed Medical Residents"]
[7,"Specialty Physicians"]
[8,"Physician - OBAT"]
[9,"Sub-Total Physicians",{"$f":"SUM(C13:C20)","v":0},{"$f":"SUM(D13:D20)","v":0},{"$f":"SUM(E13:E20)","v":0},{"$f":"SUM(F13:F20)","v":0},{"$f":"SUM(G13:G20)","v":0}]
[10,"Nurse Practitioners"]
[11,"Physician Assistants"]
[12,"Certified Nurse Midwives"]
[13,"Sub - Total Medical",{"$f":"SUM(C21:C24)","v":0},{"$f":"SUM(D21:D24)","v":0},{"$f":"SUM(E21:E24)","v":0},{"$f":"SUM(F21:F24)","v":0},{"$f":"SUM(G21:G24)","v":0}]
[null,"NURSES"]
[14,"Registered Nurses (RNs)"]
[15,"RN - OBAT"]
[16,"Licensed Practical Nurses"]
[17,"Sub - Total Nurses",{"$f":"SUM(C27:C29)","v":0},{"$f":"SUM(D27:D29)","v":0},{"$f":"SUM(E27:E29)","v":0},{"$f":"SUM(F27:F29)","v":0},{"$f":"SUM(G27:G29)","v":0}]
[null,"VISION"]
[18,"Ophthalmologists"]
[19,"Optometrists"]
[20,"Opticians"]
[21,"Sub - Total Vision",{"$f":"SUM(C32:C34)","v":0},{"$f":"SUM(D32:D34)","v":0},0,0,0]
[null,"OTHER PROFESSIONAL SERVICES"]
[22,"Audiologists"]
[23,"Acupuncturists"]
[24,"Chiropractors"]
[25,"Herbalists"]
[26,"Massage Therapists"]
[27,"Naturopaths"]
[28,"Nutritionists/Dieticians"]
[29,"Registered Dieticians"]
[30,"Occupational Therapists"]
[31,"Podiatrists"]
[32,"Physical Therapists"]
[33,"Respiratory Therapists"]
[34,"Speech Therapists/Pathologists"]
[35,"Traditional Healers"]
[36,"Other NON-BILLABLE Medical Providers not Listed Above (list below)",{"$f":"SUM(C52:C56)","v":0},{"$f":"SUM(D52:D56)","v":0},{"$f":"SUM(E52:E56)","v":0},{"$f":"SUM(F52:F56)","v":0},{"$f":"SUM(G52:G56)","v":0}]
[37,"Other Provider Type"]
[38,"Other Provider Type"]
[39,"Other Provider Type"]
[40,"Other Provider Type"]
[41,"Other Provider Type"]
[42,"Sub - Total Other Health Services",{"$f":"SUM(C37:C51)","v":0},{"$f":"SUM(D37:D51)","v":0},0,0,0]
[43,"SUB-TOTAL MEDICAL",{"$f":"C25+C35+C30+C57","v":0},{"$f":"D25+D35+D30+D57","v":0},{"$f":"E25+E35+E30+E57","v":0},{"$f":"F25+F35+F30+F57","v":0},{"$f":"G25+G35+G30+G57","v":0}]
[]
[null,"DENTAL  "]
[44,"General Dentists"]
[45,"Dental Specialist (DMD-DDS)"]
[46,"Dental Hygienists"]
[47,"Other NON-BILLABLE Dental Providers not Listed Above (list below)",{"$f":"SUM(C65:C69)","v":0},{"$f":"SUM(D65:D69)","v":0},{"$f":"SUM(E65:E69)","v":0},{"$f":"SUM(F65:F69)","v":0},{"$f":"SUM(G65:G69)","v":0}]
[48,"Other Provider Type"]
[49,"Other Provider Type"]
[50,"Other Provider Type"]
[51,"Other Provider Type"]
[52,"Other Provider Type"]
[53,"SUB - TOTAL DENTAL",{"$f":"SUM(C61:C64)","v":0},{"$f":"SUM(D61:D64)","v":0},0,0,0]
[]
[null,"BEHAVIORAL HEALTH"]
[null,"MENTAL HEALTH SERVICES"]
[54,"Psychiatrists"]
[55,"Psychologists"]
[56,"Social Workers ",0,null,null,0,0]
[57,"Licensed Independent Clinical Social Worker (LISCW)"]
[58,"Licensed Clinical Social Worker (LCSW)"]
[59,"Unlicensed Master of Social Worker (MSW)"]
[60,"Licensed Mental Health Counselor (LMHC)"]
[61,"Family Therapists"]
[62,"Other Licensed Mental Health Providers:",0,null,null,null,0]
[63,"Psychiatric Nurse Practitioner"]
[64,"RNs - Psychiatric and Mental Health"]
[65,"RN Nurse Counselors"]
[66,"Unlicensed Mental Health Providers, including trainees (interns or residents) and \"Certified\" staff"]
[67,"Sub - Total Mental Health",{"$f":"SUM(C74:C86)","v":0},{"$f":"SUM(D74:D86)","v":0},{"$f":"SUM(E74:E86)","v":0},{"$f":"SUM(F74:F86)","v":0},{"$f":"SUM(G74:G86)","v":0}]
[null,"SUBSTANCE ABUSE SERVICES"]
[68,"RN Nurse Counselors"]
[69,"Social Workers ",0,0,0,0,0]
[70,"Licensed Independent Clinical Social Worker (LISCW)"]
[71,"Licensed Clinical Social Worker (LCSW)"]
[72,"Unlicensed Master of Social Worker (MSW)"]
[73,"Licensed Mental Health Counselor (LMHC)"]
[74,"Family Therapists"]
[75,"LADAC/CADAC (if not included in other category above)"]
[76,"Harm Reduction Specialist"]
[77,"Recovery Coaches/Peer Support"]
[78,"Other NON-BILLABLE BH Providers not Listed Above (list below)",{"$f":"SUM(C100:C104)","v":0},{"$f":"SUM(D100:D104)","v":0},{"$f":"SUM(E100:E104)","v":0},{"$f":"SUM(F100:F104)","v":0},{"$f":"SUM(G100:G104)","v":0}]
[79,"Other Provider Type"]
[80,"Other Provider Type"]
[81,"Other Provider Type"]
[82,"Other Provider Type"]
[83,"Other Provider Type"]
[84,"Sub - Total Substance Abuse Services",{"$f":"SUM(C89:C99)","v":0},{"$f":"SUM(D89:D99)","v":0},0,0,0]
[85,"SUB-TOTAL BEHAVIORAL HEALTH",{"$f":"C105+C87","v":0},{"$f":"D105+D87","v":0},{"$f":"E105+E87","v":0},{"$f":"F105+F87","v":0},{"$f":"G105+G87","v":0}]
[]
[86,"TOTAL PROVIDERS",{"$f":"C106+C70+C58","v":0},{"$f":"D106+D70+D58","v":0},{"$f":"E106+E70+E58","v":0},{"$f":"F106+F70+F58","v":0},{"$f":"G106+G70+G58","v":0}]

{"sheet":"4. Non-Providers","index":4,"n_rows":317,"n_cols":6,"rows_kept":317,"cut":false,"hidden":false,"merged":[[10,4,10,5],[10,2,10,3],[1,1,1,4],[2,1,2,4],[3,1,3,4]]}
[]
[null,"Community Health Center Cost Report"]
[null,"Tab 4 - Non-Providers"]
[null,{"$f":"'1. Agency Information'!C9","v":0}]
[]
[null,"Please see accompanying Instructions document for guidance on data input."]
[]
[]
[]
[null,"Non-Provider Staff"]
[null,"Service  Category","Salary or Contractor Expense",null,"Salary or Contractor FTEs"]
[null,null,"Employee","Contracted","Employee","Contracted"]
["Line","MEDICAL"]
[null,"Other Medical Personnel"]
[1,"Nursing Director"]
[2,"Nurse Managers"]
[3,"Nurse Aides/Assistants (Certified and Uncertified)"]
[4,"Clinic Aides/Medical Assistants (Certified and Uncertified Medical Technologists)"]
[5,"Unlicensed Interns and Residents"]
[6,"EMS/EMT Staff (not credentialed as a nurse)"]
[7,"Co-op Practice Assistant"]
[8,"Other Medical Staff not Listed Above (list below)",{"$f":"SUM(C23:C27)","v":0},{"$f":"SUM(D23:D27)","v":0},{"$f":"SUM(E23:E27)","v":0},{"$f":"SUM(F23:F27)","v":0}]
[9,"Enter Other Staff Type"]
[10,"Enter Other Staff Type"]
[11,"Enter Other Staff Type"]
[12,"Enter Other Staff Type"]
[13,"Enter Other Staff Type"]
[14,"Sub-Total Other Medical Personnel",{"$f":"SUM(C15:C22)","v":0},{"$f":"SUM(D15:D22)","v":0},0,0]
[null,"Other Vision Care Staff"]
[15,"Ophthalmologist/Optometric Assistants"]
[16,"Ophthalmologist/Optometric Aides"]
[17,"Ophthalmologist/Optometric Technicians"]
[18,"Other Vision Staff not Listed Above (list below)",{"$f":"SUM(C34:C38)","v":0},{"$f":"SUM(D34:D38)","v":0},{"$f":"SUM(E34:E38)","v":0},{"$f":"SUM(F34:F38)","v":0}]
[19,"Enter Other Staff Type"]
[20,"Enter Other Staff Type"]
[21,"Enter Other Staff Type"]
[22,"Enter Other Staff Type"]
[23,"Enter Other Staff Type"]
[24,"Sub-Total Other Vision Staff",{"$f":"SUM(C30:C33)","v":0},{"$f":"SUM(D30:D33)","v":0},0,0]
[25,"SUB-TOTAL MEDICAL",{"$f":"C28+C39","v":0},{"$f":"D28+D39","v":0},{"$f":"E28+E39","v":0},{"$f":"F28+F39","v":0}]
[]
[null,"LABORATORY"]
[null,"Laboratory Personnel"]
[26,"Pathologists"]
[27,"Medical Technologists"]
[28,"Laboratory Technicians"]
[29,"Laboratory Assistants"]
[30,"Phlebotomists"]
[31,"Other Laboratory Staff not Listed Above (list below)",{"$f":"SUM(C50:C54)","v":0},{"$f":"SUM(D50:D54)","v":0},{"$f":"SUM(E50:E54)","v":0},{"$f":"SUM(F50:F54)","v":0}]
[32,"Enter Other Staff Type"]
[33,"Enter Other Staff Type"]
[34,"Enter Other Staff Type"]
[35,"Enter Other Staff Type"]
[36,"Enter Other Staff Type"]
[37,"Sub-Total Laboratory Personnel",{"$f":"SUM(C44:C49)","v":0},{"$f":"SUM(D44:D49)","v":0},0,0]
[]
[null,"X-RAY"]
[null,"X-Ray Personnel"]
[38,"Radiologists"]
[39,"X-Ray Technologists"]
[40,"X-Ray Technicians"]
[41,"Radiology Assistants"]
[42,"Other Radiology Staff not Listed Above (list below)",{"$f":"SUM(C64:C68)","v":0},{"$f":"SUM(D64:D68)","v":0},{"$f":"SUM(E64:E68)","v":0},{"$f":"SUM(F64:F68)","v":0}]
[43,"Enter Other Staff Type"]
[44,"Enter Other Staff Type"]
[45,"Enter Other Staff Type"]
[46,"Enter Other Staff Type"]
[47,"Enter Other Staff Type"]
[48,"Sub-Total X-Ray Personnel",{"$f":"SUM(C59:C63)","v":0},{"$f":"SUM(D59:D63)","v":0},0,0]
[]
[null,"PHARMACY"]
[null,"Pharmacy Personnel"]
[49,"Pharmacists, Clinical Pharmacists"]
[50,"Pharmacy Technicians"]
[51,"Pharmacist Assistants"]
[52,"Pharmacy Clerks"]
[53,"Other Pharmacy Staff not Listed Above (list below)",{"$f":"SUM(C78:C82)","v":0},{"$f":"SUM(D78:D82)","v":0},{"$f":"SUM(E78:E82)","v":0},{"$f":"SUM(F78:F82)","v":0}]
[54,"Enter Other Staff Type"]
[55,"Enter Other Staff Type"]
[56,"Enter Other Staff Type"]
[57,"Enter Other Staff Type"]
[58,"Enter Other Staff Type"]
[59,"Sub-Total Pharmacy Personnel",{"$f":"SUM(C73:C77)","v":0},{"$f":"SUM(D73:D77)","v":0},0,0]
[60,"SUB-TOTAL PHARMACY",{"$f":"C83","v":0},{"$f":"D83","v":0},{"$f":"E83","v":0},{"$f":"F83","v":0}]
[]
[null,"DENTAL"]
[null,"Other Dental"]
[62,"Director - Dental"]
[63,"Managers - Dental"]
[64,"Dental Assistants, Advanced Practice Dental Assistants"]
[65,"Dental Technicians"]
[66,"Dental Aides"]
[67,"Dental Students"]
[68,"Other Dental Staff not Listed Above (list below)",{"$f":"SUM(C95:C99)","v":0},{"$f":"SUM(D95:D99)","v":0},{"$f":"SUM(E95:E99)","v":0},{"$f":"SUM(F95:F99)","v":0}]
[69,"Enter Other Staff Type"]
[70,"Enter Other Staff Type"]
[71,"Enter Other Staff Type"]
[72,"Enter Other Staff Type"]
[73,"Enter Other Staff Type"]
[74,"Sub-Total Other Dental",{"$f":"SUM(C88:C94)","v":0},{"$f":"SUM(D88:D94)","v":0},0,0]
[75,"SUB-TOTAL DENTAL",{"$f":"C100","v":0},{"$f":"D100","v":0},{"$f":"E100","v":0},{"$f":"F100","v":0}]
[]
[null,"BEHAVIORAL HEALTH"]
[null,"Other Behavioral Health "]
[77,"Director - Mental Health"]
[78,"Managers - Mental Health"]
[79,"Director - Substance Use Disorder"]
[80,"Managers - Substance Use Disorder"]
[81,"Other BH Staff not Listed Above (list below)",{"$f":"SUM(C110:C114)","v":0},{"$f":"SUM(D110:D114)","v":0},{"$f":"SUM(E110:E114)","v":0},{"$f":"SUM(F110:F114)","v":0}]
[82,"Enter Other Staff Type"]
[83,"Enter Other Staff Type"]
[84,"Enter Other Staff Type"]
[85,"Enter Other Staff Type"]
[86,"Enter Other Staff Type"]
[87,"Sub Total Other Behavioral Health",{"$f":"SUM(C105:C109)","v":0},{"$f":"SUM(D105:D109)","v":0},0,0]
[88,"SUB-TOTAL BEHAVIORAL HEALTH",{"$f":"C115","v":0},{"$f":"D115","v":0},{"$f":"E115","v":0},{"$f":"F115","v":0}]
[]
[null,"ENABLING"]
[null,"Case Managers"]
[89,"Case Managers"]
[90,"Care/Referral Coordinators"]
[91,"Patient Advocates"]
[92,"Social Workers"]
[93,"Public Health Nurses"]
[94,"Home Health Nurses"]
[95,"Visiting Nurses"]
[96,"RN Case Manager"]
[97,"LPN Case Manager"]
[98,"Sub-Total Case Managers",{"$f":"SUM(C120:C128)","v":0},{"$f":"SUM(D120:D128)","v":0},{"$f":"SUM(E120:E128)","v":0},{"$f":"SUM(F120:F128)","v":0}]
[]
[null,"Health Educators"]
[99,"Family Planning Counselors"]
[100,"Health Educators"]
[101,"Social Workers"]
[102,"Public Health Nurses"]
[103,"Home Health Nurses"]
[104,"Visiting Nurses"]
[105,"Registered Nurses"]
[106,"Licensed Practical Nurses"]
[107,"Sub-Total Health Educators",{"$f":"SUM(C132:C139)","v":0},{"$f":"SUM(D132:D139)","v":0},{"$f":"SUM(E132:E139)","v":0},{"$f":"SUM(F132:F139)","v":0}]
[]
[108,"Outreach Workers"]
[109,"Sub-Total Outreach Workers",{"$f":"C142","v":0},{"$f":"D142","v":0},{"$f":"E142","v":0},{"$f":"F142","v":0}]
[]
[null,"Patient Transportation Workers"]
[110,"Patient Transportation Coordinators"]
[111,"Drivers"]
[112,"Sub-Total Patient Transportation Workers",{"$f":"SUM(C146:C147)","v":0},{"$f":"SUM(D146:D147)","v":0},{"$f":"SUM(E146:E147)","v":0},{"$f":"SUM(F146:F147)","v":0}]
[]
[null,"Eligibility Assistance Workers"]
[113,"Benefit Assistance Workers"]
[114,"Pharmacy Assistance Program Eligibility Workers"]
[115,"Eligibility Workers"]
[116,"Patient Navigators"]
[117,"Patient Advocates"]
[118,"Registration Clerks"]
[119,"Sub-Total Eligibility Assistance Workers",{"$f":"SUM(C151:C156)","v":0},{"$f":"SUM(D151:D156)","v":0},{"$f":"SUM(E151:E156)","v":0},{"$f":"SUM(F151:F156)","v":0}]
[]
[null,"Interpretation"]
[120,"Interpreters"]
[121,"Translators"]
[122,"Sub-Total Interpretation",{"$f":"SUM(C160:C161)","v":0},{"$f":"SUM(D160:D161)","v":0},{"$f":"SUM(E160:E161)","v":0},{"$f":"SUM(F160:F161)","v":0}]
[]
[null,"Community Health Workers"]
[123,"Community Health Workers"]
[124,"Community Health Advisors or Representatives"]
[125,"Lay Health Advocates"]
[126,"Promotoras"]
[127,"Public Health Advocates (needle exchange)"]
[128,"Sub-Total Community Health Workers",{"$f":"SUM(C165:C169)","v":0},{"$f":"SUM(D165:D169)","v":0},{"$f":"SUM(E165:E169)","v":0},{"$f":"SUM(F165:F169)","v":0}]
[]
[129,"Other Enabling Staff not Listed Above (list below)",{"$f":"SUM(C173:C177)","v":0},{"$f":"SUM(D173:D177)","v":0},{"$f":"SUM(E173:E177)","v":0},{"$f":"SUM(F173:F177)","v":0}]
[130,"Other Enabling  Staff "]
[131,"Other Enabling  Staff "]
[132,"Other Enabling  Staff "]
[133,"Other Enabling  Staff "]
[134,"Other Enabling  Staff "]
[135,"SUB-TOTAL ENABLING ",{"$f":"C129+C140+C143+C148+C157+C162+C170+C172","v":0},{"$f":"D129+D140+D143+D148+D157+D162+D170+D172","v":0},{"$f":"E129+E140+E143+E148+E157+E162+E170+E172","v":0},{"$f":"F129+F140+F143+F148+F157+F162+F170+F172","v":0}]
[]
[null,"ADMINSTRATIVE"]
[null,"Quality Improvement Staff"]
[136,"QI Director"]
[137,"QI Nurses"]
[138,"QI Technicians"]
[139,"QI Data Specialists"]
[140,"Statisticians, Analysts"]
[141,"Quality Assurance/Quality Improvement and HIT/EHR Design and Operation Staff"]
[142,"Sub-Total Quality Improvement Staff",{"$f":"SUM(C182:C187)","v":0},{"$f":"SUM(D182:D187)","v":0},{"$f":"SUM(E182:E187)","v":0},{"$f":"SUM(F182:F187)","v":0}]
[]
[null,"Executive Management Team"]
[143,"Chief Executive Officer/Executive Director"]
[144,"Chief Financial Officer"]
[145,"Chief Information Officer"]
[146,"Chief Medical Officer"]
[147,"Directors of Planning And Evaluation"]
[148,"Project Directors COO"]
[149,"General Counsel"]
[150,"Chief HR Officer"]
[151,"Compliance Officer"]
[152,"Directors of Marketing"]
[153,"     Sub-Total - Executive Management Team",{"$f":"SUM(C191:C200)","v":0},{"$f":"SUM(D191:D200)","v":0},0,0]
[]
[null,"Human Resources Staff"]
[154,"HR Director"]
[155,"HR Managers"]
[156,"Credentialing Staff"]
[157,"     Sub-Total - Human Resources Team",{"$f":"SUM(C204:C206)","v":0},{"$f":"SUM(D204:D206)","v":0},{"$f":"SUM(E204:E206)","v":0},{"$f":"SUM(F204:F206)","v":0}]
[]
[null,"Management Support Staff"]
[158,"Secretaries"]
[159,"Administrators"]
[160,"Clerk Typists"]
[161,"Receptionist"]
[162,"Mail Room Staff"]
[163,"Marketing Representatives"]
[164,"     Sub-Total - Management Support Staff",{"$f":"SUM(C210:C215)","v":0},{"$f":"SUM(D210:D215)","v":0},{"$f":"SUM(E210:E215)","v":0},{"$f":"SUM(F210:F215)","v":0}]
[]
[null,"Fiscal and Billing Staff"]
[165,"Finance Directors"]
[166,"Accountants"]
[167,"Bookkeepers"]
[168,"Billing Manager"]
[169,"Billing Clerks"]
[170,"Coders"]
[171,"Cashiers"]
[172,"Purchasing Staff"]
[173,"Data Entry Clerks"]
[174,"     Sub-Total Fiscal & Billing Staff",{"$f":"SUM(C219:C227)","v":0},{"$f":"SUM(D219:D227)","v":0},{"$f":"SUM(E219:E227)","v":0},{"$f":"SUM(F219:F227)","v":0}]
[]
[null,"IT Staff"]
[175,"IT Directors"]
[176,"IT Managers"]
[177,"Directors of Data Processing"]
[178,"Application Analysts "]
[179,"Reporting Analysts"]
[180,"Programmers"]
[181,"PC Technicians"]
[182,"IT Help Desk Technicians"]
[183,"IT Help Desk Staff - Other than Technicians"]
[184,"Telecom Staff"]
[185,"Data Entry Clerks"]
[186,"     Sub-Total - IT Staff",{"$f":"SUM(C231:C241)","v":0},{"$f":"SUM(D231:D241)","v":0},{"$f":"SUM(E231:E241)","v":0},{"$f":"SUM(F231:F241)","v":0}]
[]
[null,"Patient Services Support Staff"]
[187,"Director - Patient Services"]
[188,"Managers - Patient Services"]
[189,"Medical and Dental Team Clerks"]
[190,"Medical and Dental Team Secretaries"]
[191,"Medical and Dental Appointment Clerks"]
[192,"Medical and Dental Patient Records Clerks"]
[193,"Patient Records Supervisors"]
[194,"Patient Records Technicians"]
[195,"Patient Record Clerks"]
[196,"Patient Records Transcriptionist"]
[197,"Registration Clerks"]
[198,"Enrollment/Service Representatives"]
[199,"Call/Contact Center Staff"]
[200,"Appointment Clerks"]
[201,"Sub-Total Patient Services Support Staff",{"$f":"SUM(C245:C258)","v":0},{"$f":"SUM(D245:D258)","v":0},{"$f":"SUM(E245:E258)","v":0},{"$f":"SUM(F245:F258)","v":0}]
[]
[202,"Other Administrative Staff not Listed Above (list below)",{"$f":"SUM(C262:C269)","v":0},{"$f":"SUM(D262:D269)","v":0},{"$f":"SUM(E262:E269)","v":0},{"$f":"SUM(F262:F269)","v":0}]
[203,"Enter Other Staff Type"]
[204,"Enter Other Staff Type"]
[205,"Enter Other Staff Type"]
[206,"Enter Other Staff Type"]
[207,"Enter Other Staff Type"]
[208,"Enter Other Staff Type"]
[209,"Enter Other Staff Type"]
[210,"Enter Other Staff Type"]
[211,"SUB-TOTAL ADMINISTRATIVE",{"$f":"C188+C201+C207+C216+C228+C242+C259+C261","v":0},{"$f":"D188+D201+D207+D216+D228+D242+D259+D261","v":0},{"$f":"E188+E201+E207+E216+E228+E242+E259+E261","v":0},{"$f":"F188+F201+F207+F216+F228+F242+F259+F261","v":0}]
[]
[null,"FACILITY"]
[null,"Facility Staff"]
[212,"Director - Facilities"]
[213,"Manager - Facilities"]
[214,"Janitors/Custodians"]
[215,"Security Guards"]
[216,"Groundskeepers"]
[217,"Equipment Maintenance Personnel"]
[218,"Housekeeping Personnel"]
[219,"Other Facility Staff not Listed Above (list below)",{"$f":"SUM(C282:C286)","v":0},{"$f":"SUM(D282:D286)","v":0},{"$f":"SUM(E282:E286)","v":0},{"$f":"SUM(F282:F286)","v":0}]
[220,"Enter Other Staff Type"]
[221,"Enter Other Staff Type"]
[222,"Enter Other Staff Type"]
[223,"Enter Other Staff Type"]
[224,"Enter Other Staff Type"]
[225,"Sub-Total Facility Staff",{"$f":"SUM(C274:C281)","v":0},{"$f":"SUM(D274:D281)","v":0},0,0]
[226,"SUB-TOTAL FACILITY",{"$f":"C287","v":0},{"$f":"D287","v":0},{"$f":"E287","v":0},{"$f":"F287","v":0}]
[227,"TOTAL OF ALL ALLOWABLE STAFF",{"$f":"C40+C55+C69+C84+C101+C116+C178+C270+C288","v":0},{"$f":"D40+D55+D69+D84+D101+D116+D178+D270+D288","v":0},{"$f":"E40+E55+E69+E84+E101+E116+E178+E270+E288","v":0},{"$f":"F40+F55+F69+F84+F101+F116+F178+F270+F288","v":0}]
[]
[null,"NON- ALLOWABLE PROGRAMS / SERVICES"]
[null,"Other Programs/Services"]
[228,"WIC Workers"]
[229,"Head Start Workers"]
[230,"Housing Assistance Workers"]
[231,"Child Care Workers"]
[232,"Food Bank/Meal Delivery Workers"]
[233,"Employment/Educational Counselors"]
[234,"Exercise Trainers/Fitness Center staff"]
[235,"Adult Day Health Care, Frail Elderly Support staff"]
[236,"Fundraising/Development Staff"]
[237,"PACE Personnel"]
[238,"SCO Personnel"]
[239,"Non-FQHC Sites"]
[240,"Other Non-Allowable not Listed Above (list below)",{"$f":"SUM(C306:C310)","v":0},{"$f":"SUM(D306:D310)","v":0},{"$f":"SUM(E306:E310)","v":0},{"$f":"SUM(F306:F310)","v":0}]
[241,"Enter Other Staff Type"]
[242,"Enter Other Staff Type"]
[243,"Enter Other Staff Type"]
[244,"Enter Other Staff Type"]
[245,"Enter Other Staff Type"]
[246,"Sub-Total Other Program/Services",{"$f":"SUM(C293:C305)","v":0},{"$f":"SUM(D293:D305)","v":0},0,0]
[247,"TOTAL OF ALL NON ALLOWABLE STAFF",{"$f":"C311","v":0},{"$f":"D311","v":0},{"$f":"E311","v":0},{"$f":"F311","v":0}]
[]
[248,"Total of All Allowable Staff - Tab 4 and Tab 5",{"$f":"C289+'3. Providers'!C108","v":0},{"$f":"D289+'3. Providers'!D108","v":0},{"$f":"E289+'3. Providers'!E108","v":0},{"$f":"F289+'3. Providers'!F108","v":0}]
[249,"Total of Non-Allowable Staff - Tab 5",{"$f":"C312","v":0},{"$f":"D312","v":0},{"$f":"E312","v":0},{"$f":"F312","v":0}]
[]
[250,"ALL ALLOWABLE + NON-ALLOWABLE STAFF",{"$f":"C314+C315","v":0},{"$f":"D314+D315","v":0},{"$f":"E314+E315","v":0},{"$f":"F314+F315","v":0}]

{"sheet":"5. Cost Information","index":5,"n_rows":63,"n_cols":26,"rows_kept":63,"cut":false,"hidden":false,"merged":[[1,1,1,4],[2,1,2,4],[3,1,3,4],[59,19,59,20],[9,1,9,2],[31,22,32,22],[21,1,21,2],[31,15,31,20],[31,3,31,13],[62,19,62,21]]}
[]
[null,"Community Health Center Cost Report"]
[null,"Tab 5 - Cost Information"]
[null,{"$f":"'1. Agency Information'!C9","v":0}]
[null,"Fringe Benefits"]
[]
[null,"Please see accompanying Instructions document for guidance on data input."]
[]
[]
["Line","Benefit",null,"Annual Benefit Amount","Percentage of Total Allowable and Non-Allowable Staff Costs"]
[1,"FICA",null,null,{"$f":"IFERROR(D11/('4. Non-Providers'!$C$317), \"0\")","v":"0"}]
[2,"Health Insurance",null,null,{"$f":"IFERROR(D12/('4. Non-Providers'!$C$317), \"0\")","v":"0"}]
[3,"Retirement Plan",null,null,{"$f":"IFERROR(D13/('4. Non-Providers'!$C$317), \"0\")","v":"0"}]
[4,"Workman's Comp",null,null,{"$f":"IFERROR(D14/('4. Non-Providers'!$C$317), \"0\")","v":"0"}]
[5,"Unemployment",null,null,{"$f":"IFERROR(D15/('4. Non-Providers'!$C$317), \"0\")","v":"0"}]
[6,"Disability ",null,null,{"$f":"IFERROR(D16/('4. Non-Providers'!$C$317), \"0\")","v":"0"}]
[7,"Other Union Benefits",null,null,{"$f":"IFERROR(D17/('4. Non-Providers'!$C$317), \"0\")","v":"0"}]
[8,"Other (Metropolitan Commuter Trans)",null,null,{"$f":"IFERROR(D18/('4. Non-Providers'!$C$317), \"0\")","v":"0"}]
[9,"Other (Uniform Allowance)",null,null,{"$f":"IFERROR(D19/('4. Non-Providers'!$C$317), \"0\")","v":"0"}]
[10,"Other (Life Insurance)",null,null,{"$f":"IFERROR(D20/('4. Non-Providers'!$C$317), \"0\")","v":"0"}]
[11,"Other (please specify)",null,null,{"$f":"IFERROR(D21/('4. Non-Providers'!$C$317), \"0\")","v":"0"}]
[12,"TOTAL BENEFITS",null,{"$f":"SUM(D11:D21)","v":0},{"$f":"SUM(E11:E21)","v":0}]
[]
[]
[null,"Cost Information"]
[]
[null,"Please see accompanying Instructions document for guidance on data input."]
[]
[]
[]
[]
[null,null,null,"Allowable Expenses",null,null,null,null,null,null,null,null,null,null,null,"Non-Allowable Expenses",null,null,null,null,null,null,"Total Allowable + Non-Allowable"]
[null,"Trial Balance",null,"Medical","Behavioral Health & Substance Abuse","Dental","Vision","Laboratory","X-Ray","Pharmacy","Enabling","Admin","Facility","Total Allowable",null,"WIC","Non-FQHC Sites","PACE Program","SCO","Other\n(Specify)","Total Non-Allowable"]
[null,"Operating Expenses"]
[13,"Insurance",null,null,null,null,null,null,null,null,null,null,null,{"$f":"SUM(D35:M35)","v":0},null,null,null,null,null,null,{"$f":"SUM(P35:T35)","v":0},null,{"$f":"N35+U35","v":0}]
[14,"Consumable Supplies",null,null,null,null,null,null,null,null,null,null,null,{"$f":"SUM(D36:M36)","v":0},null,null,null,null,null,null,{"$f":"SUM(P36:T36)","v":0},null,{"$f":"N36+U36","v":0}]
[15,"Repairs and Maintenance",null,null,null,null,null,null,null,null,null,null,null,{"$f":"SUM(D37:M37)","v":0},null,null,null,null,null,null,0,null,0]
[16,"Travel, Conference and Meeting Expenses",null,null,null,null,null,null,null,null,null,null,null,0,null,null,null,null,null,null,0,null,0]
[17,"Dues and Subscriptions",null,null,null,null,null,null,null,null,null,null,null,0,null,null,null,null,null,null,0,null,0]
[18,"Utilities",null,null,null,null,null,null,null,null,null,null,null,0,null,null,null,null,null,null,0,null,0]
[19,"Interest Expense (Operating)",null,null,null,null,null,null,null,null,null,null,null,0,null,null,null,null,null,null,0,null,0]
[20,"Postage & Supplies",null,null,null,null,null,null,null,null,null,null,null,0,null,null,null,null,null,null,0,null,0]
[21,"Professional Services",null,null,null,null,null,null,null,null,null,null,null,0,null,null,null,null,null,null,0,null,0]
[22,"Staff Training",null,null,null,null,null,null,null,null,null,null,null,0,null,null,null,null,null,null,0,null,0]
[23,"Contracted Services",null,null,null,null,null,null,null,null,null,null,null,0,null,null,null,null,null,null,0,null,0]
[24,"Publishing, Printing and Mailing",null,null,null,null,null,null,null,null,null,null,null,0,null,null,null,null,null,null,0,null,0]
[25,"Telephone & Pagers/Communications",null,null,null,null,null,null,null,null,null,null,null,{"$f":"SUM(D47:M47)","v":0},null,null,null,null,null,null,{"$f":"SUM(P47:T47)","v":0},null,{"$f":"N47+U47","v":0}]
[26,"Personnel Recruitment",null,null,null,null,null,null,null,null,null,null,null,{"$f":"SUM(D48:M48)","v":0},null,null,null,null,null,null,{"$f":"SUM(P48:T48)","v":0},null,{"$f":"N48+U48","v":0}]
[27,"Promotion/Advertising",null,null,null,null,null,null,null,null,null,null,null,{"$f":"SUM(D49:M49)","v":0},null,null,null,null,null,null,{"$f":"SUM(P49:T49)","v":0},null,{"$f":"N49+U49","v":0}]
[28,"Other Operating Costs",null,null,null,null,null,null,null,null,null,null,null,{"$f":"SUM(D50:M50)","v":0},null,null,null,null,null,null,{"$f":"SUM(P50:T50)","v":0},null,{"$f":"N50+U50","v":0}]
[null,"Capital Expenses"]
[29,"Rent",null,null,null,null,null,null,null,null,null,null,null,{"$f":"SUM(D52:M52)","v":0},null,null,null,null,null,null,{"$f":"SUM(P52:T52)","v":0},null,{"$f":"N52+U52","v":0}]
[30,"Depreciation",null,null,null,null,null,null,null,null,null,null,null,{"$f":"SUM(D53:M53)","v":0},null,null,null,null,null,null,{"$f":"SUM(P53:T53)","v":0},null,{"$f":"N53+U53","v":0}]
[31,"Occupancy Taxes",null,null,null,null,null,null,null,null,null,null,null,{"$f":"SUM(D54:M54)","v":0},null,null,null,null,null,null,{"$f":"SUM(P54:T54)","v":0},null,{"$f":"N54+U54","v":0}]
[32,"Interest Expense (Capital)",null,null,null,null,null,null,null,null,null,null,null,{"$f":"SUM(D55:M55)","v":0},null,null,null,null,null,null,{"$f":"SUM(P55:T55)","v":0},null,{"$f":"N55+U55","v":0}]
[33,"Equipment Rental",null,null,null,null,null,null,null,null,null,null,null,{"$f":"SUM(D56:M56)","v":0},null,null,null,null,null,null,{"$f":"SUM(P56:T56)","v":0},null,{"$f":"N56+U56","v":0}]
[34,"Other Capital Costs",null,null,null,null,null,null,null,null,null,null,null,{"$f":"SUM(D57:M57)","v":0},null,null,null,null,null,null,{"$f":"SUM(P57:T57)","v":0},null,{"$f":"N57+U57","v":0}]
[35,"TOTAL",null,{"$f":"SUM(D35:D57)","v":0},{"$f":"SUM(E35:E57)","v":0},0,0,0,0,0,0,0,0,0,null,{"$f":"SUM(P35:P57)","v":0},0,0,0,0,0,null,{"$f":"SUM(W35:W57)","v":0},null,null,"`"]
[]
[null,null,null,null,null,null,null,null,null,null,null,null,null,null,null,null,null,null,null,"Total Other than Personnel Services (OTPS) Expenses",null,null,{"$f":"W58","v":0}]
[null,null,null,null,null,null,null,null,null,null,null,null,null,null,null,null,null,null,null,"Total Fringe",null,null,{"$f":"D22","v":0}]
[null,null,null,null,null,null,null,null,null,null,null,null,null,null,null,null,null,null,null,"Total Personnel/Contracted",null,null,{"$f":"'4. Non-Providers'!C317+'4. Non-Providers'!D317","v":0}]
[null,null,null,null,null,null,null,null,null,null,null,null,null,null,null,null,null,null,null,"Total",null,null,{"$f":"W60+W61+W62","v":0}]

{"sheet":"6. Reclass Template","index":6,"n_rows":63,"n_cols":12,"rows_kept":63,"cut":false,"hidden":false,"merged":[[1,1,1,4],[2,1,2,4],[3,1,3,4],[62,1,66,8],[8,3,8,5],[8,6,8,8],[8,2,9,2],[8,1,9,1]]}
[]
[null,"Community Health Center Cost Report"]
[null,"Tab 6 - Reclass Template"]
[null,{"$f":"'1. Agency Information'!C9","v":0}]
[]
[null,"Please see accompanying Instructions document for guidance on data input."]
[]
[]
[null,"Description of Reclassification(s)",null,"Increases",null,null,"Decreases"]
["Line",null,null,"Cost Center","Line #","Amount","Cost Center","Line #","Amount"]
[1]
[2]
[3]
[4,null,null,null,null,null,null,null,null,null,null,"Cost Center"]
[5,null,null,null,null,null,null,null,null,null,"A","Medical"]
[6,null,null,null,null,null,null,null,null,null,"B","Dental "]
[7,null,null,null,null,null,null,null,null,null,"C","Behavioral Health"]
[8,null,null,null,null,null,null,null,null,null,"D","Non-Allowable Cost"]
[9,null,null,null,null,null,null,null,null,null,"E","Overhead - Facility "]
[10,null,null,null,null,null,null,null,null,null,"F","Overhead - Administrative"]
[11,null,null,null,null,null,null,null,null,null,"G","Enabling "]
[12]
[13]
[14]
[15]
[16]
[17]
[18]
[19]
[20]
[21]
[22]
[23]
[24]
[25]
[26]
[27]
[28]
[29]
[30]
[31]
[32]
[33]
[34]
[35]
[36]
[37]
[38]
[39]
[40]
[41]
[42]
[43]
[44]
[45]
[46]
[47]
[48]
[49]
[50]
[51,"TOTAL",null,null,null,{"$f":"SUM(F11:F60)","v":0},null,null,{"$f":"SUM(I11:I60)","v":0}]
[]
[null,{"$f":"IF(F61 = I61, \"\", \"ERROR:INCREASES/DECREASES DO NOT EQUAL. PLEASE ADJUST\")","v":""}]

{"sheet":"7. Adjustment Template","index":7,"n_rows":29,"n_cols":9,"rows_kept":29,"cut":false,"hidden":false,"merged":[[8,1,8,5],[1,1,1,3],[2,1,2,3],[3,1,3,3]]}
[]
[null,"Community Health Center Cost Report"]
[null,"Tab 7 - Adjustment Template"]
[null,{"$f":"'1. Agency Information'!C9","v":0}]
[]
[null,"Please see accompanying Instructions document for guidance on data input."]
[null,"Note: Bad Debt should be reflected as a positive dollar value."]
[]
[null,"Adjustments to Expenses"]
["Line","Description of Adjustment to Expenses","Basis for Adjustment","Worksheet Line Number","Cost Center","Amount"]
[1,"Bad Debt",null,null,null,null,null,null,"Cost Center"]
[2,null,null,null,null,null,null,"A","Medical"]
[3,null,null,null,null,null,null,"B","Dental "]
[4,null,null,null,null,null,null,"C","Behavioral Health"]
[5,null,null,null,null,null,null,"D","Non-Allowable Cost"]
[6,null,null,null,null,null,null,"E","Overhead - Facility "]
[7,null,null,null,null,null,null,"F","Overhead - Administrative"]
[8,null,null,null,null,null,null,"G","Enabling "]
[9]
[10]
[11]
[12]
[13]
[14]
[15]
[16]
[17]
[18]
[19,"TOTAL",null,null,null,{"$f":"SUM(F11:F28)","v":0}]

{"sheet":"8. Other Information","index":8,"n_rows":19,"n_cols":3,"rows_kept":19,"cut":false,"hidden":false,"merged":[[1,1,1,4],[2,1,2,4],[3,1,3,4]]}
[]
[null,"Community Health Center Cost Report"]
[null,"Tab 8 - Other Information"]
[null,{"$f":"'1. Agency Information'!C9","v":0}]
[null,"Facility Square Footage"]
[]
[]
["Line","Description of Area","Square Feet"]
[1,"Medical"]
[2,"Vision"]
[3,"Dental"]
[4,"Laboratory"]
[5,"X-Ray"]
[6,"Pharmacy"]
[7,"Administration"]
[8,"Enabling"]
[9,"Behavioral Health/Substance Abuse"]
[10,"Non-Allowable Services"]
[11,"TOTAL SQUARE FOOTAGE",{"$f":"SUM(C9:C18)","v":0}]

{"sheet":"Cost Breakdown","index":9,"n_rows":42,"n_cols":16,"rows_kept":42,"cut":false,"hidden":false,"merged":[[37,2,37,13],[29,2,29,13],[1,1,1,5],[2,1,2,5],[3,1,3,5]]}
[]
[null,"Community Health Center Cost Report"]
[null,"Cost Breakdown"]
[null,{"$f":"'1. Agency Information'!C9","v":0}]
[null,"Worksheet - Allocation of Costs by Services"]
[null,"Costs"]
[null,"Description","Tab","Totals","Medical","Behavioral Health & Substance Abuse","Dental","Laboratory","X-Ray","Pharmacy","Enabling","Admin","Facility","Non-Allowable",null,"Allocation Method"]
[]
[null,"Salaries - Provider",3,{"$f":"SUM($E$9:$N$9)","v":0},{"$f":"'3. Providers'!C58","v":0},{"$f":"'3. Providers'!C106","v":0},{"$f":"'3. Providers'!C70","v":0},null,null,null,null,null,null,null,null,"Direct"]
[null,"Salaries - Non-Provider",4,{"$f":"SUM($E$10:$N$10)","v":0},{"$f":"'4. Non-Providers'!C40","v":0},{"$f":"'4. Non-Providers'!C116","v":0},{"$f":"'4. Non-Providers'!C101","v":0},{"$f":"'4. Non-Providers'!C55","v":0},{"$f":"'4. Non-Providers'!C69","v":0},{"$f":"'4. Non-Providers'!C84","v":0},{"$f":"'4. Non-Providers'!C178","v":0},{"$f":"'4. Non-Providers'!C270","v":0},{"$f":"'4. Non-Providers'!C288","v":0},{"$f":"'4. Non-Providers'!C312","v":0},null,"Direct"]
[null,"Subtotal - Salaries",null,{"$f":"SUM($D$9:$D$10)","v":0},{"$f":"SUM($E$9:$E$10)","v":0},{"$f":"SUM(F9:F10)","v":0},0,{"$f":"SUM($H$10:$H$10)","v":0},{"$f":"SUM(I10:I10)","v":0},0,0,0,0,{"$f":"SUM(N9:N10)","v":0}]
[null,"Fringe Benefits",5,{"$f":"'5. Cost Information'!D22","v":0},{"$f":"IFERROR((D12/$D$11)*E$11,0)","v":0},{"$f":"IFERROR(($D$12/$D$11)*F$11,0)","v":0},0,0,0,0,0,0,{"$f":"IFERROR(($D$12/$D$11)*M$11,0)","v":0},{"$f":"IFERROR(($D$12/$D$11)*N$11,0)","v":0},null,"% of Salaries"]
[null,"Total Compensation",null,{"$f":"D11+D12","v":0},{"$f":"E11+E12","v":0},0,0,0,0,0,0,0,0,0]
[null,"Contractors - Provider",3,{"$f":"SUM($E$14:$N$14)","v":0},{"$f":"'3. Providers'!D58","v":0},{"$f":"'3. Providers'!D106","v":0},{"$f":"'3. Providers'!D70","v":0},null,null,null,null,null,null,null,null,"Direct"]
[null,"Contractors - Non-Providers",4,{"$f":"SUM($E$15:$N$15)","v":0},{"$f":"'4. Non-Providers'!D40","v":0},{"$f":"'4. Non-Providers'!D116","v":0},{"$f":"'4. Non-Providers'!D101","v":0},{"$f":"'4. Non-Providers'!D55","v":0},{"$f":"'4. Non-Providers'!D69","v":0},{"$f":"'4. Non-Providers'!D84","v":0},{"$f":"'4. Non-Providers'!D178","v":0},{"$f":"'4. Non-Providers'!D270","v":0},{"$f":"'4. Non-Providers'!D288","v":0},{"$f":"'4. Non-Providers'!D312","v":0},null,"Direct"]
[null,"OTPS",5,{"$f":"SUM(E16:N16)","v":0},{"$f":"'5. Cost Information'!D58+'5. Cost Information'!G58","v":0},{"$f":"'5. Cost Information'!E58","v":0},{"$f":"'5. Cost Information'!F58","v":0},{"$f":"'5. Cost Information'!H58","v":0},{"$f":"'5. Cost Information'!I58","v":0},{"$f":"'5. Cost Information'!J58","v":0},{"$f":"'5. Cost Information'!K58","v":0},{"$f":"'5. Cost Information'!L58","v":0},{"$f":"'5. Cost Information'!M58","v":0},{"$f":"'5. Cost Information'!U58","v":0},null,"Direct"]
[]
[null,"TOTAL EXPENSES",null,{"$f":"SUM(D13:D16)","v":0},{"$f":"SUM(E13:E16)","v":0},0,0,0,0,0,0,0,0,{"$f":"SUM(N13:N16)","v":0}]
[]
[null,"Facility Cost Allocation",null,{"$f":"SUM(E20:N20)","v":0},{"$f":"IFERROR(E40*$M$18,0)","v":0},{"$f":"IFERROR(F40*$M$18,0)","v":0},0,0,0,0,0,0,{"$f":"-SUM(E20:L20)-N20","v":0},0,null,"Square Foot %"]
[null,"Subtotal - After Facility Allocation",null,{"$f":"SUM(E21:N21)","v":0},{"$f":"E18+E20","v":0},{"$f":"F18+F20","v":0},0,0,0,0,0,0,0,{"$f":"N18+N20","v":0}]
[null,"Enabling Services Allocation",null,{"$f":"IFERROR(SUM(E22:L22), \"\")","v":0},{"$f":"IFERROR(E42*$K$21,0)","v":0},{"$f":"IFERROR(F42*$K$21,0)","v":0},0,null,null,null,{"$f":"-SUM(E22:G22)","v":0},null,null,null,null,"Visits"]
[null,"Subtotal - Accumulated Costs",null,{"$f":"SUM(E23:N23)","v":0},{"$f":"E21+E22","v":0},{"$f":"F21+F22","v":0},0,0,0,0,0,0,0,0]
[]
[null,"Administrative Allocation",null,{"$f":"SUM(E25:N25)","v":0},{"$f":"IFERROR(E41*$L$23,0)","v":0},{"$f":"IFERROR(F41*$L$23,0)","v":0},0,0,0,0,null,{"$f":"-SUM(E25:K25)-N25","v":0},null,0,null,"Accumulated Costs"]
[]
[null,"Total",null,{"$f":"SUM(E27:N27)","v":0},{"$f":"SUM(E23:E25)","v":0},{"$f":"SUM(F23:F25)","v":0},0,0,0,0,0,0,0,0]
[]
[]
[null,null,"Statistical Bases/Allocations"]
["Line","Allocation Basis",null,"Total","Medical","Behavioral Health & Substance Abuse","Dental","Laboratory","X-Ray","Pharmacy","Enabling","Admin","Facility","Non-Allowable"]
[1,"Square Footage","Facility",{"$f":"SUM(E32:N32)","v":0},{"$f":"'8. Other Information'!C9+'8. Other Information'!C10","v":0},{"$f":"'8. Other Information'!C17","v":0},{"$f":"'8. Other Information'!C11","v":0},{"$f":"'8. Other Information'!C12","v":0},{"$f":"'8. Other Information'!C13","v":0},{"$f":"'8. Other Information'!C14","v":0},{"$f":"'8. Other Information'!C16","v":0},{"$f":"'8. Other Information'!C15","v":0},0,{"$f":"'8. Other Information'!C18","v":0}]
[2,"Accumulated Cost (Worksheets ____)","Admin",{"$f":"SUM(E33:N33)","v":0},{"$f":"E23","v":0},{"$f":"F23","v":0},0,0,0,0,null,null,null,{"$f":"N23","v":0}]
[3,"Total Visits (Worksheet __)","Enabling",{"$f":"SUM(E34:N34)","v":0},{"$f":"'3. Providers'!G58","v":0},{"$f":"'3. Providers'!G106","v":0},{"$f":"'3. Providers'!G70","v":0}]
[]
[]
[]
[null,null,"Percentage Allocated"]
["Line","Allocation Basis",null,"Total","Medical","Behavioral Health & Substance Abuse","Dental","Laboratory","X-Ray","Pharmacy","Enabling","Admin","Facility","Non-Allowable"]
[1,"Square Footage","Facility",{"$f":"SUM(E40:N40)","v":0},{"$f":"IFERROR(E32/$D32,0)","v":0},{"$f":"IFERROR(F32/$D32,0)","v":0},0,0,0,0,0,0,null,0]
[2,"Accumulated Cost","Admin",{"$f":"SUM(E41:N41)","v":0},{"$f":"IFERROR(E33/$D33,0)","v":0},0,0,0,0,0,0,null,null,0]
[3,"Total Visits","Enabling",{"$f":"SUM(E42:N42)","v":0},0,0,0]

{"sheet":"Form 1 - Direct Medical Cost","index":10,"n_rows":49,"n_cols":12,"rows_kept":49,"cut":false,"hidden":false,"merged":[[7,5,9,5],[1,1,1,5],[2,1,2,5],[3,1,3,5]]}
[]
[null,"Community Health Center Cost Report"]
[null,"Form 1 - Direct Medical Cost"]
[null,{"$f":"'1. Agency Information'!C9","v":0}]
[]
["RECLASSIFICATIONS AND ADJUSTMENTS OF TRIAL BALANCE OF EXPENSES",null,null,null,null,null,null,null,null,null,null,"Form 1 (Direct Medical Care Cost)"]
[]
[null,null,null,null,null,"Compensation"," ",null,"","Reclassified","Adjustments","Net Expenses"]
["COST CENTER",null,null,"Salaried","Fringe",null,"Other",null,"Reclass-","Trial Balance","Increase","w Cost Changes"]
[null,null,null,"Personnel","Benefits",null,"Costs","Total","ifications","(Col 3 & 4)","(Decrease)","(Col 5 + 6)"]
["A.","DIRECT MEDICAL COST",null,"IA","IB","I","II","III","IV","V","VI","VII"]
[null,"(Excluding Dental and Behavioral Health)"]
["1.","Staff Cost"]
[100,"Physician",null,{"$f":"'3. Providers'!C21","v":0},{"$f":"IFERROR((D14/D$29)*E$29,\"0\")","v":"0"},{"$f":"D14+E14","v":0},{"$f":"'3. Providers'!D21","v":0},{"$f":"SUM(F14:G14)","v":0},{"$f":"SUMIF('6. Reclass Template'!$E:$E,'Form 1 - Direct Medical Cost'!A14,'6. Reclass Template'!$F:$F)-SUMIF('6. Reclass Template'!$H:$H,'Form 1 - Direct Medical Cost'!A14,'6. Reclass Template'!$I:$I)","v":0},{"$f":"H14+I14","v":0},{"$f":"SUMIF('7. Adjustment Template'!D$11:D$28, 'Form 1 - Direct Medical Cost'!A14, '7. Adjustment Template'!F$11:F$28)","v":0},{"$f":"J14+K14","v":0}]
[101,"Nurse Practitioners",null,{"$f":"'3. Providers'!C22","v":0},"0",{"$f":"D15+E15","v":0},{"$f":"'3. Providers'!D22","v":0},0,{"$f":"SUMIF('6. Reclass Template'!$E:$E,'Form 1 - Direct Medical Cost'!A15,'6. Reclass Template'!$F:$F)-SUMIF('6. Reclass Template'!$H:$H,'Form 1 - Direct Medical Cost'!A15,'6. Reclass Template'!$I:$I)","v":0},{"$f":"H15+I15","v":0},{"$f":"SUMIF('7. Adjustment Template'!D$11:D$28, 'Form 1 - Direct Medical Cost'!A15, '7. Adjustment Template'!F$11:F$28)","v":0},{"$f":"J15+K15","v":0}]
[102,"Physician Assistants",null,{"$f":"'3. Providers'!C23","v":0},"0",0,{"$f":"'3. Providers'!D23","v":0},0,{"$f":"SUMIF('6. Reclass Template'!$E:$E,'Form 1 - Direct Medical Cost'!A16,'6. Reclass Template'!$F:$F)-SUMIF('6. Reclass Template'!$H:$H,'Form 1 - Direct Medical Cost'!A16,'6. Reclass Template'!$I:$I)","v":0},0,{"$f":"SUMIF('7. Adjustment Template'!D$11:D$28, 'Form 1 - Direct Medical Cost'!A16, '7. Adjustment Template'!F$11:F$28)","v":0},0]
[103,"Certified Nurse Midwives",null,{"$f":"'3. Providers'!C24","v":0},"0",0,{"$f":"'3. Providers'!D24","v":0},0,{"$f":"SUMIF('6. Reclass Template'!$E:$E,'Form 1 - Direct Medical Cost'!A17,'6. Reclass Template'!$F:$F)-SUMIF('6. Reclass Template'!$H:$H,'Form 1 - Direct Medical Cost'!A17,'6. Reclass Template'!$I:$I)","v":0},0,{"$f":"SUMIF('7. Adjustment Template'!D$11:D$28, 'Form 1 - Direct Medical Cost'!A17, '7. Adjustment Template'!F$11:F$28)","v":0},0]
[104,"Registered Nurses (RNs)",null,{"$f":"'3. Providers'!C27+'3. Providers'!C28","v":0},"0",{"$f":"D18+E18","v":0},{"$f":"'3. Providers'!D27+'3. Providers'!D28","v":0},0,{"$f":"SUMIF('6. Reclass Template'!$E:$E,'Form 1 - Direct Medical Cost'!A18,'6. Reclass Template'!$F:$F)-SUMIF('6. Reclass Template'!$H:$H,'Form 1 - Direct Medical Cost'!A18,'6. Reclass Template'!$I:$I)","v":0},{"$f":"H18+I18","v":0},{"$f":"SUMIF('7. Adjustment Template'!D$11:D$28, 'Form 1 - Direct Medical Cost'!A18, '7. Adjustment Template'!F$11:F$28)","v":0},0]
[105,"Licensed Practical Nurses",null,{"$f":"'3. Providers'!C29","v":0},"0",0,{"$f":"'3. Providers'!D29","v":0},0,{"$f":"SUMIF('6. Reclass Template'!$E:$E,'Form 1 - Direct Medical Cost'!A19,'6. Reclass Template'!$F:$F)-SUMIF('6. Reclass Template'!$H:$H,'Form 1 - Direct Medical Cost'!A19,'6. Reclass Template'!$I:$I)","v":0},0,{"$f":"SUMIF('7. Adjustment Template'!D$11:D$28, 'Form 1 - Direct Medical Cost'!A19, '7. Adjustment Template'!F$11:F$28)","v":0},0]
[106,"Opthalmologists",null,{"$f":"'3. Providers'!C32","v":0},"0",0,{"$f":"'3. Providers'!D32","v":0},0,{"$f":"SUMIF('6. Reclass Template'!$E:$E,'Form 1 - Direct Medical Cost'!A20,'6. Reclass Template'!$F:$F)-SUMIF('6. Reclass Template'!$H:$H,'Form 1 - Direct Medical Cost'!A20,'6. Reclass Template'!$I:$I)","v":0},0,{"$f":"SUMIF('7. Adjustment Template'!D$11:D$28, 'Form 1 - Direct Medical Cost'!A20, '7. Adjustment Template'!F$11:F$28)","v":0},0]
["e.1","In-Bundle Direct Medical Staff Costs",null,{"$f":"SUM(D14:D20)","v":0},{"$f":"SUM(E14:E20)","v":0},{"$f":"SUM(F14:F20)","v":0},0,0,0,0,0,0]
[107,"Other Professional Services",null,{"$f":"'3. Providers'!C57-'3. Providers'!C51","v":0},{"$f":"IFERROR((D22/D$29)*E$29,\"0\")","v":"0"},{"$f":"D22+E22","v":0},{"$f":"'3. Providers'!D57-'3. Providers'!D51","v":0},{"$f":"SUM(F22:G22)","v":0},{"$f":"SUMIF('6. Reclass Template'!$E:$E,'Form 1 - Direct Medical Cost'!A22,'6. Reclass Template'!$F:$F)-SUMIF('6. Reclass Template'!$H:$H,'Form 1 - Direct Medical Cost'!A22,'6. Reclass Template'!$I:$I)","v":0},{"$f":"H22+I22","v":0},{"$f":"SUMIF('7. Adjustment Template'!D$11:D$28, 'Form 1 - Direct Medical Cost'!A22, '7. Adjustment Template'!F$11:F$28)","v":0},{"$f":"J22+K22","v":0}]
[108,"Optometrists",null,{"$f":"'3. Providers'!C33","v":0},{"$f":"IFERROR((D23/D$29)*E$29,\"0\")","v":"0"},0,{"$f":"'3. Providers'!D33","v":0},0,{"$f":"SUMIF('6. Reclass Template'!$E:$E,'Form 1 - Direct Medical Cost'!A23,'6. Reclass Template'!$F:$F)-SUMIF('6. Reclass Template'!$H:$H,'Form 1 - Direct Medical Cost'!A23,'6. Reclass Template'!$I:$I)","v":0},0,{"$f":"SUMIF('7. Adjustment Template'!D$11:D$28, 'Form 1 - Direct Medical Cost'!A23, '7. Adjustment Template'!F$11:F$28)","v":0},0]
[109,"Optician",null,{"$f":"'3. Providers'!C34","v":0},{"$f":"IFERROR((D24/D$29)*E$29,\"0\")","v":"0"},0,{"$f":"'3. Providers'!D34","v":0},0,{"$f":"SUMIF('6. Reclass Template'!$E:$E,'Form 1 - Direct Medical Cost'!A24,'6. Reclass Template'!$F:$F)-SUMIF('6. Reclass Template'!$H:$H,'Form 1 - Direct Medical Cost'!A24,'6. Reclass Template'!$I:$I)","v":0},0,{"$f":"SUMIF('7. Adjustment Template'!D$11:D$28, 'Form 1 - Direct Medical Cost'!A24, '7. Adjustment Template'!F$11:F$28)","v":0},0]
[110,"Other NON-BILLABLE Medical Providers",null,{"$f":"'3. Providers'!C51","v":0},{"$f":"IFERROR((D25/D$29)*E$29,\"0\")","v":"0"},0,{"$f":"'3. Providers'!D51","v":0},0,{"$f":"SUMIF('6. Reclass Template'!$E:$E,'Form 1 - Direct Medical Cost'!A25,'6. Reclass Template'!$F:$F)-SUMIF('6. Reclass Template'!$H:$H,'Form 1 - Direct Medical Cost'!A25,'6. Reclass Template'!$I:$I)","v":0},0,{"$f":"SUMIF('7. Adjustment Template'!D$11:D$28, 'Form 1 - Direct Medical Cost'!A25, '7. Adjustment Template'!F$11:F$28)","v":0},0]
["e.2","Out-of-Bundle Direct Medical Staff Costs",null,{"$f":"SUM(D22:D25)","v":0},{"$f":"SUM(E22:E25)","v":0},{"$f":"SUM(F22:F25)","v":0},0,0,0,0,0,0]
[111,"Other Non-Provider Medical Staff",null,{"$f":"'4. Non-Providers'!C40","v":0},{"$f":"IFERROR((D27/D$29)*E$29,\"0\")","v":"0"},0,{"$f":"'4. Non-Providers'!D40","v":0},0,{"$f":"SUMIF('6. Reclass Template'!$E:$E,'Form 1 - Direct Medical Cost'!A27,'6. Reclass Template'!$F:$F)-SUMIF('6. Reclass Template'!$H:$H,'Form 1 - Direct Medical Cost'!A27,'6. Reclass Template'!$I:$I)","v":0},0,{"$f":"SUMIF('7. Adjustment Template'!D$11:D$28, 'Form 1 - Direct Medical Cost'!A27, '7. Adjustment Template'!F$11:F$28)","v":0},0]
["e.3","Non-Provider Direct Medical Staff Costs",null,{"$f":"D27","v":0},{"$f":"E27","v":"0"},{"$f":"F27","v":0},0,0,0,0,0,0]
["e.4","Subtotal Direct Medical Staff Cost",null,{"$f":"SUM(D21,D26,D28)","v":0},{"$f":"'Cost Breakdown'!E$12","v":0},{"$f":"SUM(F21,F26,F28)","v":0},0,0,0,0,0,0]
["2.","Other Direct Medical Cost"]
[112,"Insurance",null,null,null,null,{"$f":"'5. Cost Information'!D35+'5. Cost Information'!G35","v":0},{"$f":"SUM(D31:G31)","v":0},{"$f":"SUMIF('6. Reclass Template'!$E:$E,'Form 1 - Direct Medical Cost'!A31,'6. Reclass Template'!$F:$F)-SUMIF('6. Reclass Template'!$H:$H,'Form 1 - Direct Medical Cost'!A31,'6. Reclass Template'!$I:$I)","v":0},{"$f":"H31+I31","v":0},{"$f":"SUMIF('7. Adjustment Template'!D$11:D$28, 'Form 1 - Direct Medical Cost'!A31, '7. Adjustment Template'!F$11:F$28)","v":0},{"$f":"J31+K31","v":0}]
[113,"Consumable Supplies",null,null,null,null,{"$f":"'5. Cost Information'!D36+'5. Cost Information'!G36","v":0},{"$f":"SUM(D32:G32)","v":0},{"$f":"SUMIF('6. Reclass Template'!$E:$E,'Form 1 - Direct Medical Cost'!A32,'6. Reclass Template'!$F:$F)-SUMIF('6. Reclass Template'!$H:$H,'Form 1 - Direct Medical Cost'!A32,'6. Reclass Template'!$I:$I)","v":0},0,{"$f":"SUMIF('7. Adjustment Template'!D$11:D$28, 'Form 1 - Direct Medical Cost'!A32, '7. Adjustment Template'!F$11:F$28)","v":0},{"$f":"J32+K32","v":0}]
[114,"Repairs and Maintenance",null,null,null,null,{"$f":"'5. Cost Information'!D37+'5. Cost Information'!G37","v":0},0,{"$f":"SUMIF('6. Reclass Template'!$E:$E,'Form 1 - Direct Medical Cost'!A33,'6. Reclass Template'!$F:$F)-SUMIF('6. Reclass Template'!$H:$H,'Form 1 - Direct Medical Cost'!A33,'6. Reclass Template'!$I:$I)","v":0},0,{"$f":"SUMIF('7. Adjustment Template'!D$11:D$28, 'Form 1 - Direct Medical Cost'!A33, '7. Adjustment Template'!F$11:F$28)","v":0},0]
[115,"Equipment Rental",null,null,null,null,{"$f":"'5. Cost Information'!D56+'5. Cost Information'!G56","v":0},0,{"$f":"SUMIF('6. Reclass Template'!$E:$E,'Form 1 - Direct Medical Cost'!A34,'6. Reclass Template'!$F:$F)-SUMIF('6. Reclass Template'!$H:$H,'Form 1 - Direct Medical Cost'!A34,'6. Reclass Template'!$I:$I)","v":0},0,{"$f":"SUMIF('7. Adjustment Template'!D$11:D$28, 'Form 1 - Direct Medical Cost'!A34, '7. Adjustment Template'!F$11:F$28)","v":0},0]
[116,"Travel, Conference and Meeting Expenses",null,null,null,null,{"$f":"'5. Cost Information'!D38+'5. Cost Information'!G38","v":0},0,{"$f":"SUMIF('6. Reclass Template'!$E:$E,'Form 1 - Direct Medical Cost'!A35,'6. Reclass Template'!$F:$F)-SUMIF('6. Reclass Template'!$H:$H,'Form 1 - Direct Medical Cost'!A35,'6. Reclass Template'!$I:$I)","v":0},0,{"$f":"SUMIF('7. Adjustment Template'!D$11:D$28, 'Form 1 - Direct Medical Cost'!A35, '7. Adjustment Template'!F$11:F$28)","v":0},0]
[117,"Dues and Subscriptions",null,null,null,null,{"$f":"'5. Cost Information'!D39+'5. Cost Information'!G39","v":0},0,{"$f":"SUMIF('6. Reclass Template'!$E:$E,'Form 1 - Direct Medical Cost'!A36,'6. Reclass Template'!$F:$F)-SUMIF('6. Reclass Template'!$H:$H,'Form 1 - Direct Medical Cost'!A36,'6. Reclass Template'!$I:$I)","v":0},0,{"$f":"SUMIF('7. Adjustment Template'!D$11:D$28, 'Form 1 - Direct Medical Cost'!A36, '7. Adjustment Template'!F$11:F$28)","v":0},0]
[118,"Interest Expense (Operating)",null,null,null,null,{"$f":"'5. Cost Information'!D41+'5. Cost Information'!G41","v":0},0,{"$f":"SUMIF('6. Reclass Template'!$E:$E,'Form 1 - Direct Medical Cost'!A37,'6. Reclass Template'!$F:$F)-SUMIF('6. Reclass Template'!$H:$H,'Form 1 - Direct Medical Cost'!A37,'6. Reclass Template'!$I:$I)","v":0},0,{"$f":"SUMIF('7. Adjustment Template'!D$11:D$28, 'Form 1 - Direct Medical Cost'!A37, '7. Adjustment Template'!F$11:F$28)","v":0},0]
[119,"Interest Expense (Capital)",null,null,null,null,{"$f":"'5. Cost Information'!D55+'5. Cost Information'!G55","v":0},{"$f":"SUM(D38:G38)","v":0},{"$f":"SUMIF('6. Reclass Template'!$E:$E,'Form 1 - Direct Medical Cost'!A38,'6. Reclass Template'!$F:$F)-SUMIF('6. Reclass Template'!$H:$H,'Form 1 - Direct Medical Cost'!A38,'6. Reclass Template'!$I:$I)","v":0},{"$f":"H38+I38","v":0},{"$f":"SUMIF('7. Adjustment Template'!D$11:D$28, 'Form 1 - Direct Medical Cost'!A38, '7. Adjustment Template'!F$11:F$28)","v":0},{"$f":"J38+K38","v":0}]
[120,"Professional Services",null,null,null,null,{"$f":"'5. Cost Information'!D43+'5. Cost Information'!G43","v":0},0,{"$f":"SUMIF('6. Reclass Template'!$E:$E,'Form 1 - Direct Medical Cost'!A39,'6. Reclass Template'!$F:$F)-SUMIF('6. Reclass Template'!$H:$H,'Form 1 - Direct Medical Cost'!A39,'6. Reclass Template'!$I:$I)","v":0},0,{"$f":"SUMIF('7. Adjustment Template'!D$11:D$28, 'Form 1 - Direct Medical Cost'!A39, '7. Adjustment Template'!F$11:F$28)","v":0},0]
[121,"Staff Training",null,null,null,null,{"$f":"'5. Cost Information'!D44+'5. Cost Information'!G44","v":0},0,{"$f":"SUMIF('6. Reclass Template'!$E:$E,'Form 1 - Direct Medical Cost'!A40,'6. Reclass Template'!$F:$F)-SUMIF('6. Reclass Template'!$H:$H,'Form 1 - Direct Medical Cost'!A40,'6. Reclass Template'!$I:$I)","v":0},0,{"$f":"SUMIF('7. Adjustment Template'!D$11:D$28, 'Form 1 - Direct Medical Cost'!A40, '7. Adjustment Template'!F$11:F$28)","v":0},0]
[122,"Contracted Services",null,null,null,null,{"$f":"'5. Cost Information'!D45+'5. Cost Information'!G45","v":0},0,{"$f":"SUMIF('6. Reclass Template'!$E:$E,'Form 1 - Direct Medical Cost'!A41,'6. Reclass Template'!$F:$F)-SUMIF('6. Reclass Template'!$H:$H,'Form 1 - Direct Medical Cost'!A41,'6. Reclass Template'!$I:$I)","v":0},0,{"$f":"SUMIF('7. Adjustment Template'!D$11:D$28, 'Form 1 - Direct Medical Cost'!A41, '7. Adjustment Template'!F$11:F$28)","v":0},0]
[123,"Publishing, Printing and Mailing",null,null,null,null,{"$f":"'5. Cost Information'!D46+'5. Cost Information'!G46","v":0},0,{"$f":"SUMIF('6. Reclass Template'!$E:$E,'Form 1 - Direct Medical Cost'!A42,'6. Reclass Template'!$F:$F)-SUMIF('6. Reclass Template'!$H:$H,'Form 1 - Direct Medical Cost'!A42,'6. Reclass Template'!$I:$I)","v":0},0,{"$f":"SUMIF('7. Adjustment Template'!D$11:D$28, 'Form 1 - Direct Medical Cost'!A42, '7. Adjustment Template'!F$11:F$28)","v":0},0]
[124,"Depreciation",null,null,null,null,{"$f":"'5. Cost Information'!D53+'5. Cost Information'!G53","v":0},0,{"$f":"SUMIF('6. Reclass Template'!$E:$E,'Form 1 - Direct Medical Cost'!A43,'6. Reclass Template'!$F:$F)-SUMIF('6. Reclass Template'!$H:$H,'Form 1 - Direct Medical Cost'!A43,'6. Reclass Template'!$I:$I)","v":0},0,{"$f":"SUMIF('7. Adjustment Template'!D$11:D$28, 'Form 1 - Direct Medical Cost'!A43, '7. Adjustment Template'!F$11:F$28)","v":0},0]
[125,"Personnel Recruitment",null,null,null,null,{"$f":"'5. Cost Information'!D48+'5. Cost Information'!G48","v":0},{"$f":"SUM(D44:G44)","v":0},{"$f":"SUMIF('6. Reclass Template'!$E:$E,'Form 1 - Direct Medical Cost'!A44,'6. Reclass Template'!$F:$F)-SUMIF('6. Reclass Template'!$H:$H,'Form 1 - Direct Medical Cost'!A44,'6. Reclass Template'!$I:$I)","v":0},0,{"$f":"SUMIF('7. Adjustment Template'!D$11:D$28, 'Form 1 - Direct Medical Cost'!A44, '7. Adjustment Template'!F$11:F$28)","v":0},0]
[126,"Other Operating Expense ",null,null,null,null,{"$f":"'5. Cost Information'!D50+'5. Cost Information'!G50","v":0},0,{"$f":"SUMIF('6. Reclass Template'!$E:$E,'Form 1 - Direct Medical Cost'!A45,'6. Reclass Template'!$F:$F)-SUMIF('6. Reclass Template'!$H:$H,'Form 1 - Direct Medical Cost'!A45,'6. Reclass Template'!$I:$I)","v":0},0,{"$f":"SUMIF('7. Adjustment Template'!D$11:D$28, 'Form 1 - Direct Medical Cost'!A45, '7. Adjustment Template'!F$11:F$28)","v":0},0]
[127,"Other Capital Expense",null,null,null,null,{"$f":"'5. Cost Information'!D57+'5. Cost Information'!G57","v":0},{"$f":"SUM(D46:G46)","v":0},{"$f":"SUMIF('6. Reclass Template'!$E:$E,'Form 1 - Direct Medical Cost'!A46,'6. Reclass Template'!$F:$F)-SUMIF('6. Reclass Template'!$H:$H,'Form 1 - Direct Medical Cost'!A46,'6. Reclass Template'!$I:$I)","v":0},{"$f":"H46+I46","v":0},{"$f":"SUMIF('7. Adjustment Template'!D$11:D$28, 'Form 1 - Direct Medical Cost'!A46, '7. Adjustment Template'!F$11:F$28)","v":0},{"$f":"J46+K46","v":0}]
["i.1","Subtotal Other Direct Medical Cost",null,null,null,null,{"$f":"SUM(G31:G46)","v":0},0,0,0,0,0]
[]
["3.","TOTAL DIRECT MEDICAL COST (1.e.4 & 2.i.1)",null,{"$f":"D47+D29","v":0},0,0,0,0,0,0,0,0]

{"sheet":"Form 2 - Direct Dental Cost","index":11,"n_rows":40,"n_cols":12,"rows_kept":40,"cut":false,"hidden":false,"merged":[[7,5,9,5],[1,1,1,4],[2,1,2,4],[3,1,3,4]]}
[]
[null,"Community Health Center Cost Report"]
[null,"Form 2 - Direct Dental Cost"]
[null,{"$f":"'1. Agency Information'!C9","v":0}]
[]
["RECLASSIFICATIONS AND ADJUSTMENTS OF TRIAL BALANCE OF EXPENSES",null,null,null,null,null,null,null,null,null,null,"Form 2 (Direct Dental Care Cost)"]
[]
[null,null,null,null,null,"Compensation"," ",null,"","Reclassified","Adjustments","Net Expenses"]
["COST CENTER",null,null,"Salaried","Fringe",null,"Other",null,"Reclass-","Trial Balance","Increase","w Cost Changes"]
[null,null,null,"Personnel","Benefits",null,"Costs","Total","ifications","(Col 3 & 4)","(Decrease)","(Col 5 + 6)"]
["B.","DIRECT DENTAL CARE COST",null,"IA","IB","I","II","III","IV","V","VI","VII"]
["1.","Staff Cost"]
[200,"Dentist",null,{"$f":"'3. Providers'!C61","v":0},{"$f":"IFERROR((D13/D$20)*E$20, \"0\")","v":"0"},{"$f":"D13+E13","v":0},{"$f":"'3. Providers'!D61","v":0},{"$f":"SUM(F13:G13)","v":0},{"$f":"SUMIF('6. Reclass Template'!$E:$E,A13,'6. Reclass Template'!$F:$F)-SUMIF('6. Reclass Template'!$H:$H,A13,'6. Reclass Template'!$I:$I)","v":0},{"$f":"H13+I13","v":0},{"$f":"SUMIF('7. Adjustment Template'!$D$11:$D$28,'Form 2 - Direct Dental Cost'!A13,'7. Adjustment Template'!$F$11:$F$28)","v":0},{"$f":"J13+K13","v":0}]
[201,"Dental Specialist",null,{"$f":"'3. Providers'!C62","v":0},{"$f":"IFERROR((D14/D$20)*E$20, \"0\")","v":"0"},{"$f":"D14+E14","v":0},{"$f":"'3. Providers'!D62","v":0},{"$f":"SUM(F14:G14)","v":0},{"$f":"SUMIF('6. Reclass Template'!$E:$E,A14,'6. Reclass Template'!$F:$F)-SUMIF('6. Reclass Template'!$H:$H,A14,'6. Reclass Template'!$I:$I)","v":0},{"$f":"H14+I14","v":0},{"$f":"SUMIF('7. Adjustment Template'!$D$11:$D$28,'Form 2 - Direct Dental Cost'!A14,'7. Adjustment Template'!$F$11:$F$28)","v":0},{"$f":"J14+K14","v":0}]
[202,"Dental Hygienist",null,{"$f":"'3. Providers'!C63","v":0},{"$f":"IFERROR((D15/D$20)*E$20, \"0\")","v":"0"},0,{"$f":"'3. Providers'!D63","v":0},0,{"$f":"SUMIF('6. Reclass Template'!$E:$E,A15,'6. Reclass Template'!$F:$F)-SUMIF('6. Reclass Template'!$H:$H,A15,'6. Reclass Template'!$I:$I)","v":0},{"$f":"H15+I15","v":0},{"$f":"SUMIF('7. Adjustment Template'!$D$11:$D$28,'Form 2 - Direct Dental Cost'!A15,'7. Adjustment Template'!$F$11:$F$28)","v":0},0]
[203,"Other NON-BILLABLE Dental Providers",null,{"$f":"'3. Providers'!C64","v":0},{"$f":"IFERROR((D16/D$20)*E$20, \"0\")","v":"0"},{"$f":"D16+E16","v":0},{"$f":"'3. Providers'!D64","v":0},{"$f":"SUM(F16:G16)","v":0},{"$f":"SUMIF('6. Reclass Template'!$E:$E,A16,'6. Reclass Template'!$F:$F)-SUMIF('6. Reclass Template'!$H:$H,A16,'6. Reclass Template'!$I:$I)","v":0},0,{"$f":"SUMIF('7. Adjustment Template'!$D$11:$D$28,'Form 2 - Direct Dental Cost'!A16,'7. Adjustment Template'!$F$11:$F$28)","v":0},0]
["d.1","In-Bundle Direct Dental Staff Costs",null,{"$f":"SUM(D13:D16)","v":0},0,0,0,0,0,0,0,0]
[204,"Other Non-Provider Staff",null,{"$f":"'4. Non-Providers'!C101","v":0},{"$f":"IFERROR((D18/D$20)*E$20, \"0\")","v":"0"},{"$f":"D18+E18","v":0},{"$f":"'4. Non-Providers'!D101","v":0},0,{"$f":"SUMIF('6. Reclass Template'!$E:$E,A18,'6. Reclass Template'!$F:$F)-SUMIF('6. Reclass Template'!$H:$H,A18,'6. Reclass Template'!$I:$I)","v":0},0,{"$f":"SUMIF('7. Adjustment Template'!$D$11:$D$28,'Form 2 - Direct Dental Cost'!A18,'7. Adjustment Template'!$F$11:$F$28)","v":0},0]
["d.2","Non-Provider Direct Dental Staff Costs",null,{"$f":"D18","v":0},{"$f":"E18","v":"0"},{"$f":"F18","v":0},0,0,0,0,0,0]
["d.3","Subtotal Direct Dental Staff Cost",null,{"$f":"SUM(D19,D17)","v":0},{"$f":"'Cost Breakdown'!G12","v":0},{"$f":"SUM(F19,F17)","v":0},0,0,0,0,0,0]
["2.","Other Direct Dental Care Cost"]
[205,"Insurance",null,null,null,null,{"$f":"'5. Cost Information'!F35","v":0},{"$f":"SUM(F22:G22)","v":0},{"$f":"SUMIF('6. Reclass Template'!$E:$E,A22,'6. Reclass Template'!$F:$F)-SUMIF('6. Reclass Template'!$H:$H,A22,'6. Reclass Template'!$I:$I)","v":0},{"$f":"H22+I22","v":0},{"$f":"SUMIF('7. Adjustment Template'!$D$11:$D$28,'Form 2 - Direct Dental Cost'!A22,'7. Adjustment Template'!$F$11:$F$28)","v":0},{"$f":"J22+K22","v":0}]
[206,"Consumable Supplies",null,null,null,null,{"$f":"'5. Cost Information'!F36","v":0},{"$f":"SUM(F23:G23)","v":0},{"$f":"SUMIF('6. Reclass Template'!$E:$E,A23,'6. Reclass Template'!$F:$F)-SUMIF('6. Reclass Template'!$H:$H,A23,'6. Reclass Template'!$I:$I)","v":0},0,{"$f":"SUMIF('7. Adjustment Template'!$D$11:$D$28,'Form 2 - Direct Dental Cost'!A23,'7. Adjustment Template'!$F$11:$F$28)","v":0},0]
[207,"Repairs and Maintenance",null,null,null,null,{"$f":"'5. Cost Information'!F37","v":0},0,{"$f":"SUMIF('6. Reclass Template'!$E:$E,A24,'6. Reclass Template'!$F:$F)-SUMIF('6. Reclass Template'!$H:$H,A24,'6. Reclass Template'!$I:$I)","v":0},0,{"$f":"SUMIF('7. Adjustment Template'!$D$11:$D$28,'Form 2 - Direct Dental Cost'!A24,'7. Adjustment Template'!$F$11:$F$28)","v":0},0]
[208,"Equipment Rental",null,null,null,null,{"$f":"'5. Cost Information'!F56","v":0},0,{"$f":"SUMIF('6. Reclass Template'!$E:$E,A25,'6. Reclass Template'!$F:$F)-SUMIF('6. Reclass Template'!$H:$H,A25,'6. Reclass Template'!$I:$I)","v":0},0,{"$f":"SUMIF('7. Adjustment Template'!$D$11:$D$28,'Form 2 - Direct Dental Cost'!A25,'7. Adjustment Template'!$F$11:$F$28)","v":0},0]
[209,"Travel, Conference and Meeting Expenses",null,null,null,null,{"$f":"'5. Cost Information'!F38","v":0},0,{"$f":"SUMIF('6. Reclass Template'!$E:$E,A26,'6. Reclass Template'!$F:$F)-SUMIF('6. Reclass Template'!$H:$H,A26,'6. Reclass Template'!$I:$I)","v":0},0,{"$f":"SUMIF('7. Adjustment Template'!$D$11:$D$28,'Form 2 - Direct Dental Cost'!A26,'7. Adjustment Template'!$F$11:$F$28)","v":0},0]
[210,"Dues and Subscriptions",null,null,null,null,{"$f":"'5. Cost Information'!F39","v":0},0,{"$f":"SUMIF('6. Reclass Template'!$E:$E,A27,'6. Reclass Template'!$F:$F)-SUMIF('6. Reclass Template'!$H:$H,A27,'6. Reclass Template'!$I:$I)","v":0},0,{"$f":"SUMIF('7. Adjustment Template'!$D$11:$D$28,'Form 2 - Direct Dental Cost'!A27,'7. Adjustment Template'!$F$11:$F$28)","v":0},0]
[211,"Interest Expense (Operating)",null,null,null,null,{"$f":"'5. Cost Information'!F41","v":0},0,{"$f":"SUMIF('6. Reclass Template'!$E:$E,A28,'6. Reclass Template'!$F:$F)-SUMIF('6. Reclass Template'!$H:$H,A28,'6. Reclass Template'!$I:$I)","v":0},0,{"$f":"SUMIF('7. Adjustment Template'!$D$11:$D$28,'Form 2 - Direct Dental Cost'!A28,'7. Adjustment Template'!$F$11:$F$28)","v":0},0]
[212,"Interest Expense (Capital)",null,null,null,null,{"$f":"'5. Cost Information'!F55","v":0},{"$f":"SUM(F29:G29)","v":0},{"$f":"SUMIF('6. Reclass Template'!$E:$E,A29,'6. Reclass Template'!$F:$F)-SUMIF('6. Reclass Template'!$H:$H,A29,'6. Reclass Template'!$I:$I)","v":0},{"$f":"H29+I29","v":0},{"$f":"SUMIF('7. Adjustment Template'!$D$11:$D$28,'Form 2 - Direct Dental Cost'!A29,'7. Adjustment Template'!$F$11:$F$28)","v":0},{"$f":"J29+K29","v":0}]
[213,"Professional Services",null,null,null,null,{"$f":"'5. Cost Information'!F43","v":0},0,{"$f":"SUMIF('6. Reclass Template'!$E:$E,A30,'6. Reclass Template'!$F:$F)-SUMIF('6. Reclass Template'!$H:$H,A30,'6. Reclass Template'!$I:$I)","v":0},0,{"$f":"SUMIF('7. Adjustment Template'!$D$11:$D$28,'Form 2 - Direct Dental Cost'!A30,'7. Adjustment Template'!$F$11:$F$28)","v":0},0]
[214,"Staff Training",null,null,null,null,{"$f":"'5. Cost Information'!F44","v":0},0,{"$f":"SUMIF('6. Reclass Template'!$E:$E,A31,'6. Reclass Template'!$F:$F)-SUMIF('6. Reclass Template'!$H:$H,A31,'6. Reclass Template'!$I:$I)","v":0},0,{"$f":"SUMIF('7. Adjustment Template'!$D$11:$D$28,'Form 2 - Direct Dental Cost'!A31,'7. Adjustment Template'!$F$11:$F$28)","v":0},0]
[215,"Contracted Services",null,null,null,null,{"$f":"'5. Cost Information'!F45","v":0},0,{"$f":"SUMIF('6. Reclass Template'!$E:$E,A32,'6. Reclass Template'!$F:$F)-SUMIF('6. Reclass Template'!$H:$H,A32,'6. Reclass Template'!$I:$I)","v":0},0,{"$f":"SUMIF('7. Adjustment Template'!$D$11:$D$28,'Form 2 - Direct Dental Cost'!A32,'7. Adjustment Template'!$F$11:$F$28)","v":0},0]
[216,"Publishing, Printing and Mailing",null,null,null,null,{"$f":"'5. Cost Information'!F46","v":0},0,{"$f":"SUMIF('6. Reclass Template'!$E:$E,A33,'6. Reclass Template'!$F:$F)-SUMIF('6. Reclass Template'!$H:$H,A33,'6. Reclass Template'!$I:$I)","v":0},0,{"$f":"SUMIF('7. Adjustment Template'!$D$11:$D$28,'Form 2 - Direct Dental Cost'!A33,'7. Adjustment Template'!$F$11:$F$28)","v":0},0]
[217,"Depreciation",null,null,null,null,{"$f":"'5. Cost Information'!F53","v":0},0,{"$f":"SUMIF('6. Reclass Template'!$E:$E,A34,'6. Reclass Template'!$F:$F)-SUMIF('6. Reclass Template'!$H:$H,A34,'6. Reclass Template'!$I:$I)","v":0},0,{"$f":"SUMIF('7. Adjustment Template'!$D$11:$D$28,'Form 2 - Direct Dental Cost'!A34,'7. Adjustment Template'!$F$11:$F$28)","v":0},0]
[218,"Personnel Recruitment",null,null,null,null,{"$f":"'5. Cost Information'!F48","v":0},0,{"$f":"SUMIF('6. Reclass Template'!$E:$E,A35,'6. Reclass Template'!$F:$F)-SUMIF('6. Reclass Template'!$H:$H,A35,'6. Reclass Template'!$I:$I)","v":0},0,{"$f":"SUMIF('7. Adjustment Template'!$D$11:$D$28,'Form 2 - Direct Dental Cost'!A35,'7. Adjustment Template'!$F$11:$F$28)","v":0},0]
[219,"Other Operating Expense ",null,null,null,null,{"$f":"'5. Cost Information'!F50","v":0},0,{"$f":"SUMIF('6. Reclass Template'!$E:$E,A36,'6. Reclass Template'!$F:$F)-SUMIF('6. Reclass Template'!$H:$H,A36,'6. Reclass Template'!$I:$I)","v":0},0,{"$f":"SUMIF('7. Adjustment Template'!$D$11:$D$28,'Form 2 - Direct Dental Cost'!A36,'7. Adjustment Template'!$F$11:$F$28)","v":0},0]
[220,"Other Capital Expense",null,null,null,null,{"$f":"'5. Cost Information'!F57","v":0},{"$f":"SUM(F37:G37)","v":0},{"$f":"SUMIF('6. Reclass Template'!$E:$E,A37,'6. Reclass Template'!$F:$F)-SUMIF('6. Reclass Template'!$H:$H,A37,'6. Reclass Template'!$I:$I)","v":0},{"$f":"H37+I37","v":0},{"$f":"SUMIF('7. Adjustment Template'!$D$11:$D$28,'Form 2 - Direct Dental Cost'!A37,'7. Adjustment Template'!$F$11:$F$28)","v":0},{"$f":"J37+K37","v":0}]
["f.1","Subtotal Other Direct Dental Care Costs",null,null,null,null,{"$f":"SUM(G22:G37)","v":0},0,0,0,0,0]
[]
["3.","TOTAL DIRECT DENTAL CARE COST (1.d.3 & 2.f.1)",null,{"$f":"D38+D20","v":0},{"$f":"E38+E20","v":0},{"$f":"F38+F20","v":0},{"$f":"G38+G20","v":0},0,0,0,0,0]

{"sheet":"Form 3 - Direct BH Cost","index":12,"n_rows":63,"n_cols":12,"rows_kept":63,"cut":false,"hidden":false,"merged":[[7,5,9,5],[1,1,1,4],[2,1,2,4],[3,1,3,4]]}
[]
[null,"Community Health Center Cost Report"]
[null,"Form 3 - Direct BH Cost"]
[null,{"$f":"'1. Agency Information'!C9","v":0}]
[]
["RECLASSIFICATIONS AND ADJUSTMENTS OF TRIAL BALANCE OF EXPENSES",null,null,null,null,null,null,null,null,null,null,"Form 3 (Direct Behavioral Health Care Cost)"]
[]
[null,null,null,null,null,"Compensation"," ",null,"","Reclassified","Adjustments","Net Expenses"]
["COST CENTER",null,null,"Salaried","Fringe",null,"Other",null,"Reclass-","Trial Balance","Increase","w Cost Changes"]
[null,null,null,"Personnel","Benefits",null,"Costs","Total","ifications","(Col 3 & 4)","(Decrease)","(Col 5 + 6)"]
["C.","DIRECT BEHAVIORAL HEALTH CARE COST",null,"IA","IB","I","II","III","IV","V","VI","VII"]
["1.","Staff Cost"]
["Mental Health "]
[300,"Psychiatrists",null,{"$f":"'3. Providers'!C74","v":0},{"$f":"IFERROR((D14/D$41)*E$41, \"0\")","v":"0"},{"$f":"D14+E14","v":0},{"$f":"'3. Providers'!D74","v":0},{"$f":"SUM(F14:G14)","v":0},{"$f":"SUMIF('6. Reclass Template'!$E:$E,A14,'6. Reclass Template'!$F:$F)-SUMIF('6. Reclass Template'!$H:$H,A14,'6. Reclass Template'!$I:$I)","v":0},{"$f":"H14+I14","v":0},{"$f":"SUMIF('7. Adjustment Template'!$D$11:$D$28,'Form 3 - Direct BH Cost'!A14,'7. Adjustment Template'!$F$11:$F$28)","v":0},{"$f":"J14+K14","v":0}]
[301,"Psychologists",null,{"$f":"'3. Providers'!C75","v":0},"0",0,{"$f":"'3. Providers'!D75","v":0},{"$f":"SUM(F15:G15)","v":0},{"$f":"SUMIF('6. Reclass Template'!$E:$E,A15,'6. Reclass Template'!$F:$F)-SUMIF('6. Reclass Template'!$H:$H,A15,'6. Reclass Template'!$I:$I)","v":0},0,{"$f":"SUMIF('7. Adjustment Template'!$D$11:$D$28,'Form 3 - Direct BH Cost'!A15,'7. Adjustment Template'!$F$11:$F$28)","v":0},{"$f":"J15+K15","v":0}]
[302,"Licensed Independent Clinical Social Worker (LISCW)",null,{"$f":"'3. Providers'!C77","v":0},"0",0,{"$f":"'3. Providers'!D77","v":0},{"$f":"SUM(F16:G16)","v":0},{"$f":"SUMIF('6. Reclass Template'!$E:$E,A16,'6. Reclass Template'!$F:$F)-SUMIF('6. Reclass Template'!$H:$H,A16,'6. Reclass Template'!$I:$I)","v":0},{"$f":"H16+I16","v":0},{"$f":"SUMIF('7. Adjustment Template'!$D$11:$D$28,'Form 3 - Direct BH Cost'!A16,'7. Adjustment Template'!$F$11:$F$28)","v":0},0]
[303,"Licensed Clinical Social Worker (LCSW)",null,{"$f":"'3. Providers'!C78","v":0},"0",0,{"$f":"'3. Providers'!D78","v":0},0,{"$f":"SUMIF('6. Reclass Template'!$E:$E,A17,'6. Reclass Template'!$F:$F)-SUMIF('6. Reclass Template'!$H:$H,A17,'6. Reclass Template'!$I:$I)","v":0},0,{"$f":"SUMIF('7. Adjustment Template'!$D$11:$D$28,'Form 3 - Direct BH Cost'!A17,'7. Adjustment Template'!$F$11:$F$28)","v":0},0]
[304,"Unlicensed Master of Social Worker (MSW)",null,{"$f":"'3. Providers'!C79","v":0},"0",0,{"$f":"'3. Providers'!D79","v":0},0,{"$f":"SUMIF('6. Reclass Template'!$E:$E,A18,'6. Reclass Template'!$F:$F)-SUMIF('6. Reclass Template'!$H:$H,A18,'6. Reclass Template'!$I:$I)","v":0},0,{"$f":"SUMIF('7. Adjustment Template'!$D$11:$D$28,'Form 3 - Direct BH Cost'!A18,'7. Adjustment Template'!$F$11:$F$28)","v":0},0]
[305,"Licensed Mental Health Counselor (LMHC)",null,{"$f":"'3. Providers'!C80","v":0},"0",0,{"$f":"'3. Providers'!D80","v":0},0,{"$f":"SUMIF('6. Reclass Template'!$E:$E,A19,'6. Reclass Template'!$F:$F)-SUMIF('6. Reclass Template'!$H:$H,A19,'6. Reclass Template'!$I:$I)","v":0},0,{"$f":"SUMIF('7. Adjustment Template'!$D$11:$D$28,'Form 3 - Direct BH Cost'!A19,'7. Adjustment Template'!$F$11:$F$28)","v":0},0]
[306,"Family Therapists",null,{"$f":"'3. Providers'!C81","v":0},"0",0,{"$f":"'3. Providers'!D81","v":0},0,{"$f":"SUMIF('6. Reclass Template'!$E:$E,A20,'6. Reclass Template'!$F:$F)-SUMIF('6. Reclass Template'!$H:$H,A20,'6. Reclass Template'!$I:$I)","v":0},0,{"$f":"SUMIF('7. Adjustment Template'!$D$11:$D$28,'Form 3 - Direct BH Cost'!A20,'7. Adjustment Template'!$F$11:$F$28)","v":0},0]
[307,"Psychiatric Nurse Practitioner",null,{"$f":"'3. Providers'!C83","v":0},"0",0,{"$f":"'3. Providers'!D83","v":0},0,{"$f":"SUMIF('6. Reclass Template'!$E:$E,A21,'6. Reclass Template'!$F:$F)-SUMIF('6. Reclass Template'!$H:$H,A21,'6. Reclass Template'!$I:$I)","v":0},0,{"$f":"SUMIF('7. Adjustment Template'!$D$11:$D$28,'Form 3 - Direct BH Cost'!A21,'7. Adjustment Template'!$F$11:$F$28)","v":0},0]
[308,"Nurses - Psychiatric and Mental Health",null,{"$f":"'3. Providers'!C84","v":0},"0",0,{"$f":"'3. Providers'!D84","v":0},0,{"$f":"SUMIF('6. Reclass Template'!$E:$E,A22,'6. Reclass Template'!$F:$F)-SUMIF('6. Reclass Template'!$H:$H,A22,'6. Reclass Template'!$I:$I)","v":0},0,{"$f":"SUMIF('7. Adjustment Template'!$D$11:$D$28,'Form 3 - Direct BH Cost'!A22,'7. Adjustment Template'!$F$11:$F$28)","v":0},0]
[309,"RN Nurse Counselors",null,{"$f":"'3. Providers'!C85","v":0},"0",0,{"$f":"'3. Providers'!D85","v":0},0,{"$f":"SUMIF('6. Reclass Template'!$E:$E,A23,'6. Reclass Template'!$F:$F)-SUMIF('6. Reclass Template'!$H:$H,A23,'6. Reclass Template'!$I:$I)","v":0},0,{"$f":"SUMIF('7. Adjustment Template'!$D$11:$D$28,'Form 3 - Direct BH Cost'!A23,'7. Adjustment Template'!$F$11:$F$28)","v":0},0]
[310,"Unlicensed Mental Health Providers, including trainees (interns or residents) and \"Certified\" staff",null,{"$f":"'3. Providers'!C86","v":0},"0",0,{"$f":"'3. Providers'!D86","v":0},0,{"$f":"SUMIF('6. Reclass Template'!$E:$E,A24,'6. Reclass Template'!$F:$F)-SUMIF('6. Reclass Template'!$H:$H,A24,'6. Reclass Template'!$I:$I)","v":0},0,{"$f":"SUMIF('7. Adjustment Template'!$D$11:$D$28,'Form 3 - Direct BH Cost'!A24,'7. Adjustment Template'!$F$11:$F$28)","v":0},0]
["Substance Use Disorder "]
[311,"RN Nurse Counselors",null,{"$f":"'3. Providers'!C89","v":0},{"$f":"IFERROR((D26/D$41)*E$41, \"0\")","v":"0"},{"$f":"D26+E26","v":0},{"$f":"'3. Providers'!D89","v":0},0,{"$f":"SUMIF('6. Reclass Template'!$E:$E,A26,'6. Reclass Template'!$F:$F)-SUMIF('6. Reclass Template'!$H:$H,A26,'6. Reclass Template'!$I:$I)","v":0},0,{"$f":"SUMIF('7. Adjustment Template'!$D$11:$D$28,'Form 3 - Direct BH Cost'!A26,'7. Adjustment Template'!$F$11:$F$28)","v":0},0]
[312,"Licensed Independent Clinical Social Worker (LISCW)",null,{"$f":"'3. Providers'!C91","v":0},"0",{"$f":"D27+E27","v":0},{"$f":"'3. Providers'!D91","v":0},0,{"$f":"SUMIF('6. Reclass Template'!$E:$E,A27,'6. Reclass Template'!$F:$F)-SUMIF('6. Reclass Template'!$H:$H,A27,'6. Reclass Template'!$I:$I)","v":0},0,{"$f":"SUMIF('7. Adjustment Template'!$D$11:$D$28,'Form 3 - Direct BH Cost'!A27,'7. Adjustment Template'!$F$11:$F$28)","v":0},0]
[313,"Licensed Clinical Social Worker (LCSW)",null,{"$f":"'3. Providers'!C92","v":0},"0",0,{"$f":"'3. Providers'!D92","v":0},0,{"$f":"SUMIF('6. Reclass Template'!$E:$E,A28,'6. Reclass Template'!$F:$F)-SUMIF('6. Reclass Template'!$H:$H,A28,'6. Reclass Template'!$I:$I)","v":0},0,{"$f":"SUMIF('7. Adjustment Template'!$D$11:$D$28,'Form 3 - Direct BH Cost'!A28,'7. Adjustment Template'!$F$11:$F$28)","v":0},0]
[314,"Unlicensed Master of Social Worker (MSW)",null,{"$f":"'3. Providers'!C93","v":0},"0",0,{"$f":"'3. Providers'!D93","v":0},0,{"$f":"SUMIF('6. Reclass Template'!$E:$E,A29,'6. Reclass Template'!$F:$F)-SUMIF('6. Reclass Template'!$H:$H,A29,'6. Reclass Template'!$I:$I)","v":0},0,{"$f":"SUMIF('7. Adjustment Template'!$D$11:$D$28,'Form 3 - Direct BH Cost'!A29,'7. Adjustment Template'!$F$11:$F$28)","v":0},0]
[315,"Licensed Mental Health Counselor (LMHC)",null,{"$f":"'3. Providers'!C94","v":0},"0",0,{"$f":"'3. Providers'!D94","v":0},0,{"$f":"SUMIF('6. Reclass Template'!$E:$E,A30,'6. Reclass Template'!$F:$F)-SUMIF('6. Reclass Template'!$H:$H,A30,'6. Reclass Template'!$I:$I)","v":0},0,{"$f":"SUMIF('7. Adjustment Template'!$D$11:$D$28,'Form 3 - Direct BH Cost'!A30,'7. Adjustment Template'!$F$11:$F$28)","v":0},0]
[316,"LADAC/CADAC",null,{"$f":"'3. Providers'!C96","v":0},"0",0,{"$f":"'3. Providers'!D96","v":0},0,{"$f":"SUMIF('6. Reclass Template'!$E:$E,A31,'6. Reclass Template'!$F:$F)-SUMIF('6. Reclass Template'!$H:$H,A31,'6. Reclass Template'!$I:$I)","v":0},0,{"$f":"SUMIF('7. Adjustment Template'!$D$11:$D$28,'Form 3 - Direct BH Cost'!A31,'7. Adjustment Template'!$F$11:$F$28)","v":0},0]
[317,"Family Therapists",null,{"$f":"'3. Providers'!C95","v":0},"0",0,{"$f":"'3. Providers'!D95","v":0},0,{"$f":"SUMIF('6. Reclass Template'!$E:$E,A32,'6. Reclass Template'!$F:$F)-SUMIF('6. Reclass Template'!$H:$H,A32,'6. Reclass Template'!$I:$I)","v":0},0,{"$f":"SUMIF('7. Adjustment Template'!$D$11:$D$28,'Form 3 - Direct BH Cost'!A32,'7. Adjustment Template'!$F$11:$F$28)","v":0},0]
[318,"Recovery Coaches/Peer Support",null,{"$f":"'3. Providers'!C98","v":0},"0",0,{"$f":"'3. Providers'!D98","v":0},0,{"$f":"SUMIF('6. Reclass Template'!$E:$E,A33,'6. Reclass Template'!$F:$F)-SUMIF('6. Reclass Template'!$H:$H,A33,'6. Reclass Template'!$I:$I)","v":0},0,{"$f":"SUMIF('7. Adjustment Template'!$D$11:$D$28,'Form 3 - Direct BH Cost'!A33,'7. Adjustment Template'!$F$11:$F$28)","v":0},0]
["d.1","In-Bundle Direct Behavioral Health Staff Costs",null,{"$f":"SUM(D14:D33)","v":0},{"$f":"SUM(E14:E33)","v":0},{"$f":"SUM(F14:F33)","v":0},0,0,0,0,0,0]
["Substance Use Disorder "]
[319,"Harm Reduction Specialist",null,{"$f":"'3. Providers'!C97","v":0},{"$f":"IFERROR((D36/D$41)*E$41, \"0\")","v":"0"},0,{"$f":"'3. Providers'!D97","v":0},0,{"$f":"SUMIF('6. Reclass Template'!$E:$E,A36,'6. Reclass Template'!$F:$F)-SUMIF('6. Reclass Template'!$H:$H,A36,'6. Reclass Template'!$I:$I)","v":0},0,{"$f":"SUMIF('7. Adjustment Template'!$D$11:$D$28,'Form 3 - Direct BH Cost'!A36,'7. Adjustment Template'!$F$11:$F$28)","v":0},0]
[320,"Other NON-BILLABLE MH/SUD Providers",null,{"$f":"'3. Providers'!C99","v":0},{"$f":"IFERROR((D37/D$41)*E$41, \"0\")","v":"0"},{"$f":"D37+E37","v":0},{"$f":"'3. Providers'!D99","v":0},{"$f":"SUM(F37:G37)","v":0},{"$f":"SUMIF('6. Reclass Template'!$E:$E,A37,'6. Reclass Template'!$F:$F)-SUMIF('6. Reclass Template'!$H:$H,A37,'6. Reclass Template'!$I:$I)","v":0},0,{"$f":"SUMIF('7. Adjustment Template'!$D$11:$D$28,'Form 3 - Direct BH Cost'!A37,'7. Adjustment Template'!$F$11:$F$28)","v":0},0]
["d.2","Out-of-Bundle Direct Behavioral Health Staff Costs",null,{"$f":"SUM(D36:D37)","v":0},0,0,0,0,0,0,0,0]
[321,"Other MH/SUD Non-Provider Staff",null,{"$f":"'4. Non-Providers'!C116","v":0},{"$f":"IFERROR((D39/D$41)*E$41, \"0\")","v":"0"},0,{"$f":"'4. Non-Providers'!D116","v":0},0,{"$f":"SUMIF('6. Reclass Template'!$E:$E,A39,'6. Reclass Template'!$F:$F)-SUMIF('6. Reclass Template'!$H:$H,A39,'6. Reclass Template'!$I:$I)","v":0},0,{"$f":"SUMIF('7. Adjustment Template'!$D$11:$D$28,'Form 3 - Direct BH Cost'!A39,'7. Adjustment Template'!$F$11:$F$28)","v":0},0]
["d.3","Non-Provider Direct Behavioral Health Staff Costs",null,{"$f":"D39","v":0},{"$f":"E39","v":"0"},{"$f":"F39","v":0},0,0,0,0,0,0]
["d.4","Subtotal Direct Behavioral Health Staff Cost",null,{"$f":"SUM(D34,D38,D40)","v":0},{"$f":"'Cost Breakdown'!F12","v":0},{"$f":"SUM(F34,F38,F40)","v":0},0,0,0,0,0,0]
["2.","Other Direct Behavioral Health Care Cost"]
[322,"Insurance",null,null,null,null,{"$f":"'5. Cost Information'!E35","v":0},{"$f":"SUM(D43:G43)","v":0},{"$f":"SUMIF('6. Reclass Template'!$E:$E,A43,'6. Reclass Template'!$F:$F)-SUMIF('6. Reclass Template'!$H:$H,A43,'6. Reclass Template'!$I:$I)","v":0},{"$f":"H43+I43","v":0},{"$f":"SUMIF('7. Adjustment Template'!$D$11:$D$28,'Form 3 - Direct BH Cost'!A43,'7. Adjustment Template'!$F$11:$F$28)","v":0},{"$f":"J43+K43","v":0}]
[323,"Consumable Supplies",null,null,null,null,{"$f":"'5. Cost Information'!E36","v":0},{"$f":"SUM(D44:G44)","v":0},{"$f":"SUMIF('6. Reclass Template'!$E:$E,A44,'6. Reclass Template'!$F:$F)-SUMIF('6. Reclass Template'!$H:$H,A44,'6. Reclass Template'!$I:$I)","v":0},0,{"$f":"SUMIF('7. Adjustment Template'!$D$11:$D$28,'Form 3 - Direct BH Cost'!A44,'7. Adjustment Template'!$F$11:$F$28)","v":0},0]
[324,"Repairs and Maintenance",null,null,null,null,{"$f":"'5. Cost Information'!E37","v":0},0,{"$f":"SUMIF('6. Reclass Template'!$E:$E,A45,'6. Reclass Template'!$F:$F)-SUMIF('6. Reclass Template'!$H:$H,A45,'6. Reclass Template'!$I:$I)","v":0},0,{"$f":"SUMIF('7. Adjustment Template'!$D$11:$D$28,'Form 3 - Direct BH Cost'!A45,'7. Adjustment Template'!$F$11:$F$28)","v":0},0]
[325,"Equipment Rental",null,null,null,null,{"$f":"'5. Cost Information'!E56","v":0},0,{"$f":"SUMIF('6. Reclass Template'!$E:$E,A46,'6. Reclass Template'!$F:$F)-SUMIF('6. Reclass Template'!$H:$H,A46,'6. Reclass Template'!$I:$I)","v":0},0,{"$f":"SUMIF('7. Adjustment Template'!$D$11:$D$28,'Form 3 - Direct BH Cost'!A46,'7. Adjustment Template'!$F$11:$F$28)","v":0},0]
[326,"Travel, Conference and Meeting Expenses",null,null,null,null,{"$f":"'5. Cost Information'!E38","v":0},0,{"$f":"SUMIF('6. Reclass Template'!$E:$E,A47,'6. Reclass Template'!$F:$F)-SUMIF('6. Reclass Template'!$H:$H,A47,'6. Reclass Template'!$I:$I)","v":0},0,{"$f":"SUMIF('7. Adjustment Template'!$D$11:$D$28,'Form 3 - Direct BH Cost'!A47,'7. Adjustment Template'!$F$11:$F$28)","v":0},0]
[327,"Dues and Subscriptions",null,null,null,null,{"$f":"'5. Cost Information'!E39","v":0},0,{"$f":"SUMIF('6. Reclass Template'!$E:$E,A48,'6. Reclass Template'!$F:$F)-SUMIF('6. Reclass Template'!$H:$H,A48,'6. Reclass Template'!$I:$I)","v":0},0,{"$f":"SUMIF('7. Adjustment Template'!$D$11:$D$28,'Form 3 - Direct BH Cost'!A48,'7. Adjustment Template'!$F$11:$F$28)","v":0},0]
[328,"Interest Expense (Operating)",null,null,null,null,{"$f":"'5. Cost Information'!E41","v":0},0,{"$f":"SUMIF('6. Reclass Template'!$E:$E,A49,'6. Reclass Template'!$F:$F)-SUMIF('6. Reclass Template'!$H:$H,A49,'6. Reclass Template'!$I:$I)","v":0},0,{"$f":"SUMIF('7. Adjustment Template'!$D$11:$D$28,'Form 3 - Direct BH Cost'!A49,'7. Adjustment Template'!$F$11:$F$28)","v":0},0]
[329,"Interest Expense (Capital)",null,null,null,null,{"$f":"'5. Cost Information'!E55","v":0},{"$f":"SUM(D50:G50)","v":0},{"$f":"SUMIF('6. Reclass Template'!$E:$E,A50,'6. Reclass Template'!$F:$F)-SUMIF('6. Reclass Template'!$H:$H,A50,'6. Reclass Template'!$I:$I)","v":0},{"$f":"H50+I50","v":0},{"$f":"SUMIF('7. Adjustment Template'!$D$11:$D$28,'Form 3 - Direct BH Cost'!A50,'7. Adjustment Template'!$F$11:$F$28)","v":0},{"$f":"J50+K50","v":0}]
[330,"Professional Services",null,null,null,null,{"$f":"'5. Cost Information'!E43","v":0},0,{"$f":"SUMIF('6. Reclass Template'!$E:$E,A51,'6. Reclass Template'!$F:$F)-SUMIF('6. Reclass Template'!$H:$H,A51,'6. Reclass Template'!$I:$I)","v":0},0,{"$f":"SUMIF('7. Adjustment Template'!$D$11:$D$28,'Form 3 - Direct BH Cost'!A51,'7. Adjustment Template'!$F$11:$F$28)","v":0},0]
[331,"Staff Training",null,null,null,null,{"$f":"'5. Cost Information'!E44","v":0},0,{"$f":"SUMIF('6. Reclass Template'!$E:$E,A52,'6. Reclass Template'!$F:$F)-SUMIF('6. Reclass Template'!$H:$H,A52,'6. Reclass Template'!$I:$I)","v":0},0,{"$f":"SUMIF('7. Adjustment Template'!$D$11:$D$28,'Form 3 - Direct BH Cost'!A52,'7. Adjustment Template'!$F$11:$F$28)","v":0},0]
[332,"Contracted Services",null,null,null,null,{"$f":"'5. Cost Information'!E45","v":0},0,{"$f":"SUMIF('6. Reclass Template'!$E:$E,A53,'6. Reclass Template'!$F:$F)-SUMIF('6. Reclass Template'!$H:$H,A53,'6. Reclass Template'!$I:$I)","v":0},0,{"$f":"SUMIF('7. Adjustment Template'!$D$11:$D$28,'Form 3 - Direct BH Cost'!A53,'7. Adjustment Template'!$F$11:$F$28)","v":0},0]
[333,"Publishing, Printing and Mailing",null,null,null,null,{"$f":"'5. Cost Information'!E46","v":0},0,{"$f":"SUMIF('6. Reclass Template'!$E:$E,A54,'6. Reclass Template'!$F:$F)-SUMIF('6. Reclass Template'!$H:$H,A54,'6. Reclass Template'!$I:$I)","v":0},0,{"$f":"SUMIF('7. Adjustment Template'!$D$11:$D$28,'Form 3 - Direct BH Cost'!A54,'7. Adjustment Template'!$F$11:$F$28)","v":0},0]
[334,"Depreciation",null,null,null,null,{"$f":"'5. Cost Information'!E53","v":0},0,{"$f":"SUMIF('6. Reclass Template'!$E:$E,A55,'6. Reclass Template'!$F:$F)-SUMIF('6. Reclass Template'!$H:$H,A55,'6. Reclass Template'!$I:$I)","v":0},0,{"$f":"SUMIF('7. Adjustment Template'!$D$11:$D$28,'Form 3 - Direct BH Cost'!A55,'7. Adjustment Template'!$F$11:$F$28)","v":0},0]
[335,"Personnel Recruitment",null,null,null,null,{"$f":"'5. Cost Information'!E48","v":0},0,{"$f":"SUMIF('6. Reclass Template'!$E:$E,A56,'6. Reclass Template'!$F:$F)-SUMIF('6. Reclass Template'!$H:$H,A56,'6. Reclass Template'!$I:$I)","v":0},0,{"$f":"SUMIF('7. Adjustment Template'!$D$11:$D$28,'Form 3 - Direct BH Cost'!A56,'7. Adjustment Template'!$F$11:$F$28)","v":0},0]
[336,"Other Operating Expense ",null,null,null,null,{"$f":"'5. Cost Information'!E50","v":0},0,{"$f":"SUMIF('6. Reclass Template'!$E:$E,A57,'6. Reclass Template'!$F:$F)-SUMIF('6. Reclass Template'!$H:$H,A57,'6. Reclass Template'!$I:$I)","v":0},0,{"$f":"SUMIF('7. Adjustment Template'!$D$11:$D$28,'Form 3 - Direct BH Cost'!A57,'7. Adjustment Template'!$F$11:$F$28)","v":0},0]
[337,"Other Capital Expense",null,null,null,null,{"$f":"'5. Cost Information'!E57","v":0},{"$f":"SUM(D58:G58)","v":0},{"$f":"SUMIF('6. Reclass Template'!$E:$E,A58,'6. Reclass Template'!$F:$F)-SUMIF('6. Reclass Template'!$H:$H,A58,'6. Reclass Template'!$I:$I)","v":0},{"$f":"H58+I58","v":0},{"$f":"SUMIF('7. Adjustment Template'!$D$11:$D$28,'Form 3 - Direct BH Cost'!A58,'7. Adjustment Template'!$F$11:$F$28)","v":0},{"$f":"J58+K58","v":0}]
["f.1","Subtotal Other Direct Behavioral Health Care Costs",null,null,null,null,{"$f":"SUM(G43:G58)","v":0},0,0,0,0,0]
[]
["3.","TOTAL DIRECT BEHAVIORAL HEALTH CARE COST (1.d.4 & 2.f.1)",null,{"$f":"D59+D41","v":0},{"$f":"E59+E41","v":0},{"$f":"F59+F41","v":0},{"$f":"G59+G41","v":0},0,0,0,0,0]
[]
["D. ","TOTAL DIRECT COST BEFORE NON-ALLOWABLE SERVICES",null,{"$f":"D61+'Form 2 - Direct Dental Cost'!D40+'Form 1 - Direct Medical Cost'!D49","v":0},{"$f":"E61+'Form 2 - Direct Dental Cost'!E40+'Form 1 - Direct Medical Cost'!E49","v":0},{"$f":"D63+E63","v":0},{"$f":"G61+'Form 2 - Direct Dental Cost'!G40+'Form 1 - Direct Medical Cost'!G49","v":0},{"$f":"H61+'Form 2 - Direct Dental Cost'!H40+'Form 1 - Direct Medical Cost'!H49","v":0},{"$f":"I61+'Form 2 - Direct Dental Cost'!I40+'Form 1 - Direct Medical Cost'!I49","v":0},{"$f":"J61+'Form 2 - Direct Dental Cost'!J40+'Form 1 - Direct Medical Cost'!J49","v":0},{"$f":"K61+'Form 2 - Direct Dental Cost'!K40+'Form 1 - Direct Medical Cost'!K49","v":0},{"$f":"L61+'Form 2 - Direct Dental Cost'!L40+'Form 1 - Direct Medical Cost'!L49","v":0}]

{"sheet":"Form 4 - NonAllowable","index":13,"n_rows":33,"n_cols":12,"rows_kept":33,"cut":false,"hidden":false,"merged":[[1,1,1,4],[2,1,2,4],[3,1,3,4]]}
[]
[null,"Community Health Center Cost Report"]
[null,"Form 4 - NonAllowable"]
[null,{"$f":"'1. Agency Information'!C9","v":0}]
[]
["RECLASSIFICATIONS AND ADJUSTMENTS OF TRIAL BALANCE OF EXPENSES",null,null,null,null,null,null,null,null,null,null,"Form 4 (Non-Allowable Other Direct Service Cost)"]
[]
[null,null,null,null,null,null," ",null,"","Reclassified","Adjustments","Net Expenses"]
["COST CENTER",null,null,"Salaried","Fringe",null,"Other",null,"Reclass-","Trial Balance","Increase","w Cost Changes"]
[null,null,null,"Personnel","Benefits","Compensation","Costs","Total","ifications","(Col 3 & 4)","(Decrease)","(Col 5 + 6)"]
["E.","NON-ALLOWABLE DIRECT OTHER SERVICE COST",null,"IA","IB","I","II","III","IV","V","VI","VII"]
["1.","Service"]
[400,"WIC",null,{"$f":"'4. Non-Providers'!C293","v":0},{"$f":"IFERROR(E$32*(D13/(D$32-D$27-D$26-D$25)), \"0\")","v":"0"},{"$f":"D13+E13","v":0},{"$f":"'4. Non-Providers'!D293+'5. Cost Information'!P58","v":0},{"$f":"SUM(F13:G13)","v":0},{"$f":"SUMIF('6. Reclass Template'!$E:$E,A13,'6. Reclass Template'!$F:$F)-SUMIF('6. Reclass Template'!$H:$H,A13,'6. Reclass Template'!$I:$I)","v":0},{"$f":"H13+I13","v":0},{"$f":"SUMIF('7. Adjustment Template'!$D$11:$D$28,A13,'7. Adjustment Template'!$F$11:$F$28)","v":0},{"$f":"J13+K13","v":0}]
[401,"Head Start",null,{"$f":"'4. Non-Providers'!C294","v":0},"0",{"$f":"D14+E14","v":0},{"$f":"'4. Non-Providers'!D294","v":0},{"$f":"SUM(F14:G14)","v":0},{"$f":"SUMIF('6. Reclass Template'!$E:$E,A14,'6. Reclass Template'!$F:$F)-SUMIF('6. Reclass Template'!$H:$H,A14,'6. Reclass Template'!$I:$I)","v":0},0,{"$f":"SUMIF('7. Adjustment Template'!$D$11:$D$28,A14,'7. Adjustment Template'!$F$11:$F$28)","v":0},{"$f":"J14+K14","v":0}]
[402,"Housing Assistance ",null,{"$f":"'4. Non-Providers'!C295","v":0},"0",0,{"$f":"'4. Non-Providers'!D295","v":0},{"$f":"SUM(F15:G15)","v":0},{"$f":"SUMIF('6. Reclass Template'!$E:$E,A15,'6. Reclass Template'!$F:$F)-SUMIF('6. Reclass Template'!$H:$H,A15,'6. Reclass Template'!$I:$I)","v":0},0,{"$f":"SUMIF('7. Adjustment Template'!$D$11:$D$28,A15,'7. Adjustment Template'!$F$11:$F$28)","v":0},0]
[403,"Child Care Services",null,{"$f":"'4. Non-Providers'!C296","v":0},"0",0,{"$f":"'4. Non-Providers'!D296","v":0},{"$f":"SUM(F16:G16)","v":0},{"$f":"SUMIF('6. Reclass Template'!$E:$E,A16,'6. Reclass Template'!$F:$F)-SUMIF('6. Reclass Template'!$H:$H,A16,'6. Reclass Template'!$I:$I)","v":0},0,{"$f":"SUMIF('7. Adjustment Template'!$D$11:$D$28,A16,'7. Adjustment Template'!$F$11:$F$28)","v":0},0]
[404,"Food Bank/Meal Delivery ",null,{"$f":"'4. Non-Providers'!C297","v":0},"0",0,{"$f":"'4. Non-Providers'!D297","v":0},0,{"$f":"SUMIF('6. Reclass Template'!$E:$E,A17,'6. Reclass Template'!$F:$F)-SUMIF('6. Reclass Template'!$H:$H,A17,'6. Reclass Template'!$I:$I)","v":0},0,{"$f":"SUMIF('7. Adjustment Template'!$D$11:$D$28,A17,'7. Adjustment Template'!$F$11:$F$28)","v":0},0]
[405,"Employment/Educational Services",null,{"$f":"'4. Non-Providers'!C298","v":0},"0",0,{"$f":"'4. Non-Providers'!D298","v":0},0,{"$f":"SUMIF('6. Reclass Template'!$E:$E,A18,'6. Reclass Template'!$F:$F)-SUMIF('6. Reclass Template'!$H:$H,A18,'6. Reclass Template'!$I:$I)","v":0},0,{"$f":"SUMIF('7. Adjustment Template'!$D$11:$D$28,A18,'7. Adjustment Template'!$F$11:$F$28)","v":0},0]
[406,"Exercise Trainers/Fitness Center ",null,{"$f":"'4. Non-Providers'!C299","v":0},"0",0,{"$f":"'4. Non-Providers'!D299","v":0},0,{"$f":"SUMIF('6. Reclass Template'!$E:$E,A19,'6. Reclass Template'!$F:$F)-SUMIF('6. Reclass Template'!$H:$H,A19,'6. Reclass Template'!$I:$I)","v":0},0,{"$f":"SUMIF('7. Adjustment Template'!$D$11:$D$28,A19,'7. Adjustment Template'!$F$11:$F$28)","v":0},0]
[407,"Adult Day Health Care",null,{"$f":"'4. Non-Providers'!C300","v":0},"0",0,{"$f":"'4. Non-Providers'!D300","v":0},0,{"$f":"SUMIF('6. Reclass Template'!$E:$E,A20,'6. Reclass Template'!$F:$F)-SUMIF('6. Reclass Template'!$H:$H,A20,'6. Reclass Template'!$I:$I)","v":0},0,{"$f":"SUMIF('7. Adjustment Template'!$D$11:$D$28,A20,'7. Adjustment Template'!$F$11:$F$28)","v":0},0]
[408,"Fundraising/Development ",null,{"$f":"'4. Non-Providers'!C301","v":0},"0",0,{"$f":"'4. Non-Providers'!D301","v":0},0,{"$f":"SUMIF('6. Reclass Template'!$E:$E,A21,'6. Reclass Template'!$F:$F)-SUMIF('6. Reclass Template'!$H:$H,A21,'6. Reclass Template'!$I:$I)","v":0},0,{"$f":"SUMIF('7. Adjustment Template'!$D$11:$D$28,A21,'7. Adjustment Template'!$F$11:$F$28)","v":0},0]
[409,"PACE ",null,{"$f":"'4. Non-Providers'!C302","v":0},"0",0,{"$f":"'4. Non-Providers'!D302+'5. Cost Information'!R58","v":0},0,{"$f":"SUMIF('6. Reclass Template'!$E:$E,A22,'6. Reclass Template'!$F:$F)-SUMIF('6. Reclass Template'!$H:$H,A22,'6. Reclass Template'!$I:$I)","v":0},0,{"$f":"SUMIF('7. Adjustment Template'!$D$11:$D$28,A22,'7. Adjustment Template'!$F$11:$F$28)","v":0},0]
[410,"SCO ",null,{"$f":"'4. Non-Providers'!C303","v":0},"0",0,{"$f":"'4. Non-Providers'!D303+'5. Cost Information'!S58","v":0},0,{"$f":"SUMIF('6. Reclass Template'!$E:$E,A23,'6. Reclass Template'!$F:$F)-SUMIF('6. Reclass Template'!$H:$H,A23,'6. Reclass Template'!$I:$I)","v":0},0,{"$f":"SUMIF('7. Adjustment Template'!$D$11:$D$28,A23,'7. Adjustment Template'!$F$11:$F$28)","v":0},0]
[411,"Non-FQHC Sites",null,{"$f":"'4. Non-Providers'!C304","v":0},"0",0,{"$f":"'4. Non-Providers'!D304+'5. Cost Information'!Q58","v":0},0,{"$f":"SUMIF('6. Reclass Template'!$E:$E,A24,'6. Reclass Template'!$F:$F)-SUMIF('6. Reclass Template'!$H:$H,A24,'6. Reclass Template'!$I:$I)","v":0},0,{"$f":"SUMIF('7. Adjustment Template'!$D$11:$D$28,A24,'7. Adjustment Template'!$F$11:$F$28)","v":0},0]
[412,"Laboratory ",null,{"$f":"'4. Non-Providers'!C55","v":0},{"$f":"'Cost Breakdown'!H12","v":0},0,{"$f":"'4. Non-Providers'!D55+'5. Cost Information'!H58","v":0},0,{"$f":"SUMIF('6. Reclass Template'!$E:$E,A25,'6. Reclass Template'!$F:$F)-SUMIF('6. Reclass Template'!$H:$H,A25,'6. Reclass Template'!$I:$I)","v":0},0,{"$f":"SUMIF('7. Adjustment Template'!$D$11:$D$28,A25,'7. Adjustment Template'!$F$11:$F$28)","v":0},0]
[413,"Radiology",null,{"$f":"'4. Non-Providers'!C69","v":0},{"$f":"'Cost Breakdown'!I12","v":0},0,{"$f":"'4. Non-Providers'!D69+'5. Cost Information'!I58","v":0},0,{"$f":"SUMIF('6. Reclass Template'!$E:$E,A26,'6. Reclass Template'!$F:$F)-SUMIF('6. Reclass Template'!$H:$H,A26,'6. Reclass Template'!$I:$I)","v":0},0,{"$f":"SUMIF('7. Adjustment Template'!$D$11:$D$28,A26,'7. Adjustment Template'!$F$11:$F$28)","v":0},0]
[414,"Pharmacy",null,{"$f":"'4. Non-Providers'!C84","v":0},{"$f":"'Cost Breakdown'!J12","v":0},0,{"$f":"'4. Non-Providers'!D84+'5. Cost Information'!J58","v":0},0,{"$f":"SUMIF('6. Reclass Template'!$E:$E,A27,'6. Reclass Template'!$F:$F)-SUMIF('6. Reclass Template'!$H:$H,A27,'6. Reclass Template'!$I:$I)","v":0},0,{"$f":"SUMIF('7. Adjustment Template'!$D$11:$D$28,A27,'7. Adjustment Template'!$F$11:$F$28)","v":0},0]
[415,"Other Non-Allowable",null,{"$f":"'4. Non-Providers'!C305","v":0},{"$f":"IFERROR(E$32*(D28/(D$32-D$27-D$26-D$25)), \"0\")","v":"0"},0,{"$f":"'4. Non-Providers'!D305+'5. Cost Information'!T58","v":0},0,{"$f":"SUMIF('6. Reclass Template'!$E:$E,A28,'6. Reclass Template'!$F:$F)-SUMIF('6. Reclass Template'!$H:$H,A28,'6. Reclass Template'!$I:$I)","v":0},0,{"$f":"SUMIF('7. Adjustment Template'!$D$11:$D$28,A28,'7. Adjustment Template'!$F$11:$F$28)","v":0},0]
[]
[]
[]
["e.","Total Non-Allowable Direct Other Service Cost",null,{"$f":"SUM(D13:D31)","v":0},{"$f":"'Cost Breakdown'!N12","v":0},{"$f":"SUM(F13:F31)","v":0},{"$f":"SUM(G13:G31)","v":0},{"$f":"SUM(H13:H31)","v":0},0,0,0,0]
["F.","TOTAL DIRECT COST",null,{"$f":"D32+'Form 3 - Direct BH Cost'!D63","v":0},{"$f":"E32+'Form 3 - Direct BH Cost'!E63","v":0},{"$f":"F32+'Form 3 - Direct BH Cost'!F63","v":0},{"$f":"G32+'Form 3 - Direct BH Cost'!G63","v":0},{"$f":"H32+'Form 3 - Direct BH Cost'!H63","v":0},{"$f":"I32+'Form 3 - Direct BH Cost'!I63","v":0},{"$f":"J32+'Form 3 - Direct BH Cost'!J63","v":0},{"$f":"K32+'Form 3 - Direct BH Cost'!K63","v":0},{"$f":"L32+'Form 3 - Direct BH Cost'!L63","v":0}]

{"sheet":"Form 5 - Overhead & Enabling","index":14,"n_rows":76,"n_cols":12,"rows_kept":76,"cut":false,"hidden":false,"merged":[[7,5,9,5],[1,1,1,4],[2,1,2,4],[3,1,3,4]]}
[]
[null,"Community Health Center Cost Report"]
[null,"Form 5 - Overhead & Enabling"]
[null,{"$f":"'1. Agency Information'!C9","v":0}]
[]
["RECLASSIFICATIONS AND ADJUSTMENTS OF TRIAL BALANCE OF EXPENSES",null,null,null,null,null,null,null,null,null,null,"Form 5 (Overhead & Enabling Cost)"]
[]
[null,null,null,null,null,"Compensation"," ",null,"","Reclassified","Adjustments","Net Expenses"]
["COST CENTER",null,null,"Salaried","Fringe",null,"Other",null,"Reclass-","Trial Balance","Increase","w Cost Changes"]
[null,null,null,"Personnel","Benefits",null,"Costs","Total","ifications","(Col 3 & 4)","(Decrease)","(Col 5 + 6)"]
["G.","OVERHEAD - FACILITY COST",null,"IA","IB","I","II","III","IV","V","VI","VII"]
[500,"Facility Staff",null,{"$f":"'4. Non-Providers'!C288","v":0},{"$f":"IFERROR((D12/D$32)*E$32, \"0\")","v":"0"},{"$f":"D12+E12","v":0},{"$f":"'4. Non-Providers'!D288","v":0},{"$f":"SUM(F12:G12)","v":0},{"$f":"SUMIF('6. Reclass Template'!$E:$E,A12,'6. Reclass Template'!$F:$F)-SUMIF('6. Reclass Template'!$H:$H,A12,'6. Reclass Template'!$I:$I)","v":0},{"$f":"H12+I12","v":0},{"$f":"SUMIF('7. Adjustment Template'!$D$11:$D$28,A12,'7. Adjustment Template'!$F$11:$F$28)","v":0},{"$f":"J12+K12","v":0}]
[501,"Insurance",null,null,null,null,{"$f":"'5. Cost Information'!M35","v":0},{"$f":"SUM(F13:G13)","v":0},{"$f":"SUMIF('6. Reclass Template'!$E:$E,A13,'6. Reclass Template'!$F:$F)-SUMIF('6. Reclass Template'!$H:$H,A13,'6. Reclass Template'!$I:$I)","v":0},0,{"$f":"SUMIF('7. Adjustment Template'!$D$11:$D$28,A13,'7. Adjustment Template'!$F$11:$F$28)","v":0},{"$f":"J13+K13","v":0}]
[502,"Consumable Supplies",null,null,null,null,{"$f":"'5. Cost Information'!M36","v":0},0,{"$f":"SUMIF('6. Reclass Template'!$E:$E,A14,'6. Reclass Template'!$F:$F)-SUMIF('6. Reclass Template'!$H:$H,A14,'6. Reclass Template'!$I:$I)","v":0},0,{"$f":"SUMIF('7. Adjustment Template'!$D$11:$D$28,A14,'7. Adjustment Template'!$F$11:$F$28)","v":0},0]
[503,"Repairs and Maintenance",null,null,null,null,{"$f":"'5. Cost Information'!M37","v":0},0,{"$f":"SUMIF('6. Reclass Template'!$E:$E,A15,'6. Reclass Template'!$F:$F)-SUMIF('6. Reclass Template'!$H:$H,A15,'6. Reclass Template'!$I:$I)","v":0},0,{"$f":"SUMIF('7. Adjustment Template'!$D$11:$D$28,A15,'7. Adjustment Template'!$F$11:$F$28)","v":0},0]
[504,"Equipment Rental",null,null,null,null,{"$f":"'5. Cost Information'!M56","v":0},0,{"$f":"SUMIF('6. Reclass Template'!$E:$E,A16,'6. Reclass Template'!$F:$F)-SUMIF('6. Reclass Template'!$H:$H,A16,'6. Reclass Template'!$I:$I)","v":0},0,{"$f":"SUMIF('7. Adjustment Template'!$D$11:$D$28,A16,'7. Adjustment Template'!$F$11:$F$28)","v":0},0]
[505,"Travel, Conference and Meeting Expenses",null,null,null,null,{"$f":"'5. Cost Information'!M38","v":0},0,{"$f":"SUMIF('6. Reclass Template'!$E:$E,A17,'6. Reclass Template'!$F:$F)-SUMIF('6. Reclass Template'!$H:$H,A17,'6. Reclass Template'!$I:$I)","v":0},0,{"$f":"SUMIF('7. Adjustment Template'!$D$11:$D$28,A17,'7. Adjustment Template'!$F$11:$F$28)","v":0},0]
[506,"Dues and Subscriptions",null,null,null,null,{"$f":"'5. Cost Information'!M39","v":0},0,{"$f":"SUMIF('6. Reclass Template'!$E:$E,A18,'6. Reclass Template'!$F:$F)-SUMIF('6. Reclass Template'!$H:$H,A18,'6. Reclass Template'!$I:$I)","v":0},0,{"$f":"SUMIF('7. Adjustment Template'!$D$11:$D$28,A18,'7. Adjustment Template'!$F$11:$F$28)","v":0},0]
[507,"Utilities",null,null,null,null,{"$f":"'5. Cost Information'!M40","v":0},0,{"$f":"SUMIF('6. Reclass Template'!$E:$E,A19,'6. Reclass Template'!$F:$F)-SUMIF('6. Reclass Template'!$H:$H,A19,'6. Reclass Template'!$I:$I)","v":0},0,{"$f":"SUMIF('7. Adjustment Template'!$D$11:$D$28,A19,'7. Adjustment Template'!$F$11:$F$28)","v":0},0]
[508,"Interest Expense (Operating)",null,null,null,null,{"$f":"'5. Cost Information'!M41","v":0},0,{"$f":"SUMIF('6. Reclass Template'!$E:$E,A20,'6. Reclass Template'!$F:$F)-SUMIF('6. Reclass Template'!$H:$H,A20,'6. Reclass Template'!$I:$I)","v":0},0,{"$f":"SUMIF('7. Adjustment Template'!$D$11:$D$28,A20,'7. Adjustment Template'!$F$11:$F$28)","v":0},0]
[509,"Interest Expense (Capital)",null,null,null,null,{"$f":"'5. Cost Information'!M55","v":0},0,{"$f":"SUMIF('6. Reclass Template'!$E:$E,A21,'6. Reclass Template'!$F:$F)-SUMIF('6. Reclass Template'!$H:$H,A21,'6. Reclass Template'!$I:$I)","v":0},{"$f":"H21+I21","v":0},{"$f":"SUMIF('7. Adjustment Template'!$D$11:$D$28,A21,'7. Adjustment Template'!$F$11:$F$28)","v":0},{"$f":"J21+K21","v":0}]
[510,"Professional Services",null,null,null,null,{"$f":"'5. Cost Information'!M43","v":0},0,{"$f":"SUMIF('6. Reclass Template'!$E:$E,A22,'6. Reclass Template'!$F:$F)-SUMIF('6. Reclass Template'!$H:$H,A22,'6. Reclass Template'!$I:$I)","v":0},0,{"$f":"SUMIF('7. Adjustment Template'!$D$11:$D$28,A22,'7. Adjustment Template'!$F$11:$F$28)","v":0},0]
[511,"Staff Training",null,null,null,null,{"$f":"'5. Cost Information'!M44","v":0},0,{"$f":"SUMIF('6. Reclass Template'!$E:$E,A23,'6. Reclass Template'!$F:$F)-SUMIF('6. Reclass Template'!$H:$H,A23,'6. Reclass Template'!$I:$I)","v":0},0,{"$f":"SUMIF('7. Adjustment Template'!$D$11:$D$28,A23,'7. Adjustment Template'!$F$11:$F$28)","v":0},0]
[512,"Contracted Services",null,null,null,null,{"$f":"'5. Cost Information'!M45","v":0},0,{"$f":"SUMIF('6. Reclass Template'!$E:$E,A24,'6. Reclass Template'!$F:$F)-SUMIF('6. Reclass Template'!$H:$H,A24,'6. Reclass Template'!$I:$I)","v":0},0,{"$f":"SUMIF('7. Adjustment Template'!$D$11:$D$28,A24,'7. Adjustment Template'!$F$11:$F$28)","v":0},0]
[513,"Publishing, Printing and Mailing",null,null,null,null,{"$f":"'5. Cost Information'!M46","v":0},0,{"$f":"SUMIF('6. Reclass Template'!$E:$E,A25,'6. Reclass Template'!$F:$F)-SUMIF('6. Reclass Template'!$H:$H,A25,'6. Reclass Template'!$I:$I)","v":0},0,{"$f":"SUMIF('7. Adjustment Template'!$D$11:$D$28,A25,'7. Adjustment Template'!$F$11:$F$28)","v":0},0]
[514,"Rent",null,null,null,null,{"$f":"'5. Cost Information'!M52","v":0},0,{"$f":"SUMIF('6. Reclass Template'!$E:$E,A26,'6. Reclass Template'!$F:$F)-SUMIF('6. Reclass Template'!$H:$H,A26,'6. Reclass Template'!$I:$I)","v":0},0,{"$f":"SUMIF('7. Adjustment Template'!$D$11:$D$28,A26,'7. Adjustment Template'!$F$11:$F$28)","v":0},0]
[515,"Depreciation",null,null,null,null,{"$f":"'5. Cost Information'!M53","v":0},0,{"$f":"SUMIF('6. Reclass Template'!$E:$E,A27,'6. Reclass Template'!$F:$F)-SUMIF('6. Reclass Template'!$H:$H,A27,'6. Reclass Template'!$I:$I)","v":0},0,{"$f":"SUMIF('7. Adjustment Template'!$D$11:$D$28,A27,'7. Adjustment Template'!$F$11:$F$28)","v":0},0]
[516,"Occupancy Taxes",null,null,null,null,{"$f":"'5. Cost Information'!M54","v":0},0,{"$f":"SUMIF('6. Reclass Template'!$E:$E,A28,'6. Reclass Template'!$F:$F)-SUMIF('6. Reclass Template'!$H:$H,A28,'6. Reclass Template'!$I:$I)","v":0},0,{"$f":"SUMIF('7. Adjustment Template'!$D$11:$D$28,A28,'7. Adjustment Template'!$F$11:$F$28)","v":0},0]
[517,"Personnel Recruitment",null,null,null,null,{"$f":"'5. Cost Information'!M48","v":0},0,{"$f":"SUMIF('6. Reclass Template'!$E:$E,A29,'6. Reclass Template'!$F:$F)-SUMIF('6. Reclass Template'!$H:$H,A29,'6. Reclass Template'!$I:$I)","v":0},0,{"$f":"SUMIF('7. Adjustment Template'!$D$11:$D$28,A29,'7. Adjustment Template'!$F$11:$F$28)","v":0},0]
[518,"Other Operating Expense ",null,null,null,null,{"$f":"'5. Cost Information'!M50","v":0},0,{"$f":"SUMIF('6. Reclass Template'!$E:$E,A30,'6. Reclass Template'!$F:$F)-SUMIF('6. Reclass Template'!$H:$H,A30,'6. Reclass Template'!$I:$I)","v":0},0,{"$f":"SUMIF('7. Adjustment Template'!$D$11:$D$28,A30,'7. Adjustment Template'!$F$11:$F$28)","v":0},0]
[519,"Other Capital Expense",null,null,null,null,{"$f":"'5. Cost Information'!M57","v":0},{"$f":"SUM(F31:G31)","v":0},{"$f":"SUMIF('6. Reclass Template'!$E:$E,A31,'6. Reclass Template'!$F:$F)-SUMIF('6. Reclass Template'!$H:$H,A31,'6. Reclass Template'!$I:$I)","v":0},{"$f":"H31+I31","v":0},{"$f":"SUMIF('7. Adjustment Template'!$D$11:$D$28,A31,'7. Adjustment Template'!$F$11:$F$28)","v":0},{"$f":"J31+K31","v":0}]
["i.","Subtotal Overhead - Facility Cost",null,{"$f":"SUM(D12:D30)","v":0},{"$f":"'Cost Breakdown'!M12","v":0},{"$f":"SUM(F12:F31)","v":0},0,0,0,0,0,0]
["H.","OVERHEAD - ADMINISTRATIVE COST",null,"IA","IB","I","II","III","IV","V","VI","VII"]
[520,"Office/Admin Personnel",null,{"$f":"'4. Non-Providers'!C270","v":0},{"$f":"'Cost Breakdown'!L12","v":0},{"$f":"D34+E34","v":0},{"$f":"'4. Non-Providers'!D270","v":0},{"$f":"SUM(F34:G34)","v":0},{"$f":"SUMIF('6. Reclass Template'!$E:$E,A34,'6. Reclass Template'!$F:$F)-SUMIF('6. Reclass Template'!$H:$H,A34,'6. Reclass Template'!$I:$I)","v":0},{"$f":"H34+I34","v":0},{"$f":"SUMIF('7. Adjustment Template'!$D$11:$D$28,A34,'7. Adjustment Template'!$F$11:$F$28)","v":0},{"$f":"J34+K34","v":0}]
[521,"Insurance",null,null,null,null,{"$f":"'5. Cost Information'!L35","v":0},{"$f":"SUM(D35:G35)","v":0},{"$f":"SUMIF('6. Reclass Template'!$E:$E,A35,'6. Reclass Template'!$F:$F)-SUMIF('6. Reclass Template'!$H:$H,A35,'6. Reclass Template'!$I:$I)","v":0},{"$f":"H35+I35","v":0},{"$f":"SUMIF('7. Adjustment Template'!$D$11:$D$28,A35,'7. Adjustment Template'!$F$11:$F$28)","v":0},0]
[522,"Consumable Supplies",null,null,null,null,{"$f":"'5. Cost Information'!L36","v":0},0,{"$f":"SUMIF('6. Reclass Template'!$E:$E,A36,'6. Reclass Template'!$F:$F)-SUMIF('6. Reclass Template'!$H:$H,A36,'6. Reclass Template'!$I:$I)","v":0},0,{"$f":"SUMIF('7. Adjustment Template'!$D$11:$D$28,A36,'7. Adjustment Template'!$F$11:$F$28)","v":0},0]
[523,"Repairs and Maintenance",null,null,null,null,{"$f":"'5. Cost Information'!L37","v":0},0,{"$f":"SUMIF('6. Reclass Template'!$E:$E,A37,'6. Reclass Template'!$F:$F)-SUMIF('6. Reclass Template'!$H:$H,A37,'6. Reclass Template'!$I:$I)","v":0},0,{"$f":"SUMIF('7. Adjustment Template'!$D$11:$D$28,A37,'7. Adjustment Template'!$F$11:$F$28)","v":0},0]
[524,"Equipment Rental",null,null,null,null,{"$f":"'5. Cost Information'!L56","v":0},0,{"$f":"SUMIF('6. Reclass Template'!$E:$E,A38,'6. Reclass Template'!$F:$F)-SUMIF('6. Reclass Template'!$H:$H,A38,'6. Reclass Template'!$I:$I)","v":0},0,{"$f":"SUMIF('7. Adjustment Template'!$D$11:$D$28,A38,'7. Adjustment Template'!$F$11:$F$28)","v":0},0]
[525,"Travel, Conference and Meeting Expenses",null,null,null,null,{"$f":"'5. Cost Information'!L38","v":0},0,{"$f":"SUMIF('6. Reclass Template'!$E:$E,A39,'6. Reclass Template'!$F:$F)-SUMIF('6. Reclass Template'!$H:$H,A39,'6. Reclass Template'!$I:$I)","v":0},0,{"$f":"SUMIF('7. Adjustment Template'!$D$11:$D$28,A39,'7. Adjustment Template'!$F$11:$F$28)","v":0},0]
[526,"Dues and Subscriptions",null,null,null,null,{"$f":"'5. Cost Information'!L39","v":0},0,{"$f":"SUMIF('6. Reclass Template'!$E:$E,A40,'6. Reclass Template'!$F:$F)-SUMIF('6. Reclass Template'!$H:$H,A40,'6. Reclass Template'!$I:$I)","v":0},0,{"$f":"SUMIF('7. Adjustment Template'!$D$11:$D$28,A40,'7. Adjustment Template'!$F$11:$F$28)","v":0},0]
[527,"Interest Expense (Operating)",null,null,null,null,{"$f":"'5. Cost Information'!L41","v":0},0,{"$f":"SUMIF('6. Reclass Template'!$E:$E,A41,'6. Reclass Template'!$F:$F)-SUMIF('6. Reclass Template'!$H:$H,A41,'6. Reclass Template'!$I:$I)","v":0},0,{"$f":"SUMIF('7. Adjustment Template'!$D$11:$D$28,A41,'7. Adjustment Template'!$F$11:$F$28)","v":0},0]
[528,"Interest Expense (Capital)",null,null,null,null,{"$f":"'5. Cost Information'!L55","v":0},{"$f":"SUM(D42:G42)","v":0},{"$f":"SUMIF('6. Reclass Template'!$E:$E,A42,'6. Reclass Template'!$F:$F)-SUMIF('6. Reclass Template'!$H:$H,A42,'6. Reclass Template'!$I:$I)","v":0},{"$f":"H42+I42","v":0},{"$f":"SUMIF('7. Adjustment Template'!$D$11:$D$28,A42,'7. Adjustment Template'!$F$11:$F$28)","v":0},{"$f":"J42+K42","v":0}]
[529,"Postage & Supplies",null,null,null,null,{"$f":"'5. Cost Information'!L42","v":0},0,{"$f":"SUMIF('6. Reclass Template'!$E:$E,A43,'6. Reclass Template'!$F:$F)-SUMIF('6. Reclass Template'!$H:$H,A43,'6. Reclass Template'!$I:$I)","v":0},0,{"$f":"SUMIF('7. Adjustment Template'!$D$11:$D$28,A43,'7. Adjustment Template'!$F$11:$F$28)","v":0},0]
[530,"Professional Services",null,null,null,null,{"$f":"'5. Cost Information'!L43","v":0},0,{"$f":"SUMIF('6. Reclass Template'!$E:$E,A44,'6. Reclass Template'!$F:$F)-SUMIF('6. Reclass Template'!$H:$H,A44,'6. Reclass Template'!$I:$I)","v":0},0,{"$f":"SUMIF('7. Adjustment Template'!$D$11:$D$28,A44,'7. Adjustment Template'!$F$11:$F$28)","v":0},0]
[531,"Staff Training",null,null,null,null,{"$f":"'5. Cost Information'!L44","v":0},0,{"$f":"SUMIF('6. Reclass Template'!$E:$E,A45,'6. Reclass Template'!$F:$F)-SUMIF('6. Reclass Template'!$H:$H,A45,'6. Reclass Template'!$I:$I)","v":0},0,{"$f":"SUMIF('7. Adjustment Template'!$D$11:$D$28,A45,'7. Adjustment Template'!$F$11:$F$28)","v":0},0]
[532,"Contracted Services",null,null,null,null,{"$f":"'5. Cost Information'!L45","v":0},0,{"$f":"SUMIF('6. Reclass Template'!$E:$E,A46,'6. Reclass Template'!$F:$F)-SUMIF('6. Reclass Template'!$H:$H,A46,'6. Reclass Template'!$I:$I)","v":0},0,{"$f":"SUMIF('7. Adjustment Template'!$D$11:$D$28,A46,'7. Adjustment Template'!$F$11:$F$28)","v":0},0]
[533,"Publishing, Printing and Mailing",null,null,null,null,{"$f":"'5. Cost Information'!L46","v":0},0,{"$f":"SUMIF('6. Reclass Template'!$E:$E,A47,'6. Reclass Template'!$F:$F)-SUMIF('6. Reclass Template'!$H:$H,A47,'6. Reclass Template'!$I:$I)","v":0},0,{"$f":"SUMIF('7. Adjustment Template'!$D$11:$D$28,A47,'7. Adjustment Template'!$F$11:$F$28)","v":0},0]
[534,"Depreciation",null,null,null,null,{"$f":"'5. Cost Information'!L53","v":0},0,{"$f":"SUMIF('6. Reclass Template'!$E:$E,A48,'6. Reclass Template'!$F:$F)-SUMIF('6. Reclass Template'!$H:$H,A48,'6. Reclass Template'!$I:$I)","v":0},0,{"$f":"SUMIF('7. Adjustment Template'!$D$11:$D$28,A48,'7. Adjustment Template'!$F$11:$F$28)","v":0},0]
[535,"Telephone & Pagers/Communications",null,null,null,null,{"$f":"'5. Cost Information'!L47","v":0},0,{"$f":"SUMIF('6. Reclass Template'!$E:$E,A49,'6. Reclass Template'!$F:$F)-SUMIF('6. Reclass Template'!$H:$H,A49,'6. Reclass Template'!$I:$I)","v":0},0,{"$f":"SUMIF('7. Adjustment Template'!$D$11:$D$28,A49,'7. Adjustment Template'!$F$11:$F$28)","v":0},0]
[536,"Personnel Recruitment",null,null,null,null,{"$f":"'5. Cost Information'!L48","v":0},0,{"$f":"SUMIF('6. Reclass Template'!$E:$E,A50,'6. Reclass Template'!$F:$F)-SUMIF('6. Reclass Template'!$H:$H,A50,'6. Reclass Template'!$I:$I)","v":0},0,{"$f":"SUMIF('7. Adjustment Template'!$D$11:$D$28,A50,'7. Adjustment Template'!$F$11:$F$28)","v":0},0]
[537,"Promotion/Advertising",null,null,null,null,{"$f":"'5. Cost Information'!L49","v":0},{"$f":"SUM(D51:G51)","v":0},{"$f":"SUMIF('6. Reclass Template'!$E:$E,A51,'6. Reclass Template'!$F:$F)-SUMIF('6. Reclass Template'!$H:$H,A51,'6. Reclass Template'!$I:$I)","v":0},0,{"$f":"SUMIF('7. Adjustment Template'!$D$11:$D$28,A51,'7. Adjustment Template'!$F$11:$F$28)","v":0},0]
[538,"Other Operating Expense ",null,null,null,null,{"$f":"'5. Cost Information'!L50","v":0},{"$f":"SUM(D52:G52)","v":0},{"$f":"SUMIF('6. Reclass Template'!$E:$E,A52,'6. Reclass Template'!$F:$F)-SUMIF('6. Reclass Template'!$H:$H,A52,'6. Reclass Template'!$I:$I)","v":0},0,{"$f":"SUMIF('7. Adjustment Template'!$D$11:$D$28,A52,'7. Adjustment Template'!$F$11:$F$28)","v":0},0]
[539,"Other Capital Expense",null,null,null,null,{"$f":"'5. Cost Information'!L57","v":0},{"$f":"SUM(D53:G53)","v":0},{"$f":"SUMIF('6. Reclass Template'!$E:$E,A53,'6. Reclass Template'!$F:$F)-SUMIF('6. Reclass Template'!$H:$H,A53,'6. Reclass Template'!$I:$I)","v":0},{"$f":"H53+I53","v":0},{"$f":"SUMIF('7. Adjustment Template'!$D$11:$D$28,A53,'7. Adjustment Template'!$F$11:$F$28)","v":0},{"$f":"J53+K53","v":0}]
["i.","Subtotal Overhead - Administrative Cost",null,{"$f":"SUM(D34:D53)","v":0},0,{"$f":"SUM(F34:F53)","v":0},0,0,0,0,0,0]
["I.","ENABLING COST",null,"IA","IB","I","II","III","IV","V","VI","VII"]
[540,"Enabling Personnel",null,{"$f":"'4. Non-Providers'!C178","v":0},{"$f":"'Cost Breakdown'!K12","v":0},{"$f":"D56+E56","v":0},{"$f":"'4. Non-Providers'!D178","v":0},{"$f":"SUM(F56:G56)","v":0},{"$f":"SUMIF('6. Reclass Template'!$E:$E,A56,'6. Reclass Template'!$F:$F)-SUMIF('6. Reclass Template'!$H:$H,A56,'6. Reclass Template'!$I:$I)","v":0},{"$f":"H56+I56","v":0},{"$f":"SUMIF('7. Adjustment Template'!$D$11:$D$28,A56,'7. Adjustment Template'!$F$11:$F$28)","v":0},{"$f":"J56+K56","v":0}]
[541,"Insurance",null,null,null,null,{"$f":"'5. Cost Information'!K35","v":0},{"$f":"SUM(D57:G57)","v":0},{"$f":"SUMIF('6. Reclass Template'!$E:$E,A57,'6. Reclass Template'!$F:$F)-SUMIF('6. Reclass Template'!$H:$H,A57,'6. Reclass Template'!$I:$I)","v":0},{"$f":"H57+I57","v":0},{"$f":"SUMIF('7. Adjustment Template'!$D$11:$D$28,A57,'7. Adjustment Template'!$F$11:$F$28)","v":0},0]
[542,"Consumable Supplies",null,null,null,null,{"$f":"'5. Cost Information'!K36","v":0},0,{"$f":"SUMIF('6. Reclass Template'!$E:$E,A58,'6. Reclass Template'!$F:$F)-SUMIF('6. Reclass Template'!$H:$H,A58,'6. Reclass Template'!$I:$I)","v":0},0,{"$f":"SUMIF('7. Adjustment Template'!$D$11:$D$28,A58,'7. Adjustment Template'!$F$11:$F$28)","v":0},0]
[543,"Repairs and Maintenance",null,null,null,null,{"$f":"'5. Cost Information'!K37","v":0},0,{"$f":"SUMIF('6. Reclass Template'!$E:$E,A59,'6. Reclass Template'!$F:$F)-SUMIF('6. Reclass Template'!$H:$H,A59,'6. Reclass Template'!$I:$I)","v":0},0,{"$f":"SUMIF('7. Adjustment Template'!$D$11:$D$28,A59,'7. Adjustment Template'!$F$11:$F$28)","v":0},0]
[544,"Equipment Rental",null,null,null,null,{"$f":"'5. Cost Information'!K56","v":0},0,{"$f":"SUMIF('6. Reclass Template'!$E:$E,A60,'6. Reclass Template'!$F:$F)-SUMIF('6. Reclass Template'!$H:$H,A60,'6. Reclass Template'!$I:$I)","v":0},0,{"$f":"SUMIF('7. Adjustment Template'!$D$11:$D$28,A60,'7. Adjustment Template'!$F$11:$F$28)","v":0},0]
[545,"Travel, Conference and Meeting Expenses",null,null,null,null,{"$f":"'5. Cost Information'!K38","v":0},0,{"$f":"SUMIF('6. Reclass Template'!$E:$E,A61,'6. Reclass Template'!$F:$F)-SUMIF('6. Reclass Template'!$H:$H,A61,'6. Reclass Template'!$I:$I)","v":0},0,{"$f":"SUMIF('7. Adjustment Template'!$D$11:$D$28,A61,'7. Adjustment Template'!$F$11:$F$28)","v":0},0]
[546,"Dues and Subscriptions",null,null,null,null,{"$f":"'5. Cost Information'!K39","v":0},0,{"$f":"SUMIF('6. Reclass Template'!$E:$E,A62,'6. Reclass Template'!$F:$F)-SUMIF('6. Reclass Template'!$H:$H,A62,'6. Reclass Template'!$I:$I)","v":0},0,{"$f":"SUMIF('7. Adjustment Template'!$D$11:$D$28,A62,'7. Adjustment Template'!$F$11:$F$28)","v":0},0]
[547,"Interest Expense (Operating)",null,null,null,null,{"$f":"'5. Cost Information'!K41","v":0},0,{"$f":"SUMIF('6. Reclass Template'!$E:$E,A63,'6. Reclass Template'!$F:$F)-SUMIF('6. Reclass Template'!$H:$H,A63,'6. Reclass Template'!$I:$I)","v":0},0,{"$f":"SUMIF('7. Adjustment Template'!$D$11:$D$28,A63,'7. Adjustment Template'!$F$11:$F$28)","v":0},0]
[548,"Interest Expense (Capital)",null,null,null,null,{"$f":"'5. Cost Information'!K55","v":0},{"$f":"SUM(D64:G64)","v":0},{"$f":"SUMIF('6. Reclass Template'!$E:$E,A64,'6. Reclass Template'!$F:$F)-SUMIF('6. Reclass Template'!$H:$H,A64,'6. Reclass Template'!$I:$I)","v":0},{"$f":"H64+I64","v":0},{"$f":"SUMIF('7. Adjustment Template'!$D$11:$D$28,A64,'7. Adjustment Template'!$F$11:$F$28)","v":0},{"$f":"J64+K64","v":0}]
[549,"Professional Services",null,null,null,null,{"$f":"'5. Cost Information'!K43","v":0},0,{"$f":"SUMIF('6. Reclass Template'!$E:$E,A65,'6. Reclass Template'!$F:$F)-SUMIF('6. Reclass Template'!$H:$H,A65,'6. Reclass Template'!$I:$I)","v":0},0,{"$f":"SUMIF('7. Adjustment Template'!$D$11:$D$28,A65,'7. Adjustment Template'!$F$11:$F$28)","v":0},0]
[550,"Staff Training",null,null,null,null,{"$f":"'5. Cost Information'!K44","v":0},0,{"$f":"SUMIF('6. Reclass Template'!$E:$E,A66,'6. Reclass Template'!$F:$F)-SUMIF('6. Reclass Template'!$H:$H,A66,'6. Reclass Template'!$I:$I)","v":0},0,{"$f":"SUMIF('7. Adjustment Template'!$D$11:$D$28,A66,'7. Adjustment Template'!$F$11:$F$28)","v":0},0]
[551,"Contracted Services",null,null,null,null,{"$f":"'5. Cost Information'!K45","v":0},0,{"$f":"SUMIF('6. Reclass Template'!$E:$E,A67,'6. Reclass Template'!$F:$F)-SUMIF('6. Reclass Template'!$H:$H,A67,'6. Reclass Template'!$I:$I)","v":0},0,{"$f":"SUMIF('7. Adjustment Template'!$D$11:$D$28,A67,'7. Adjustment Template'!$F$11:$F$28)","v":0},0]
[552,"Publishing, Printing and Mailing",null,null,null,null,{"$f":"'5. Cost Information'!K46","v":0},0,{"$f":"SUMIF('6. Reclass Template'!$E:$E,A68,'6. Reclass Template'!$F:$F)-SUMIF('6. Reclass Template'!$H:$H,A68,'6. Reclass Template'!$I:$I)","v":0},0,{"$f":"SUMIF('7. Adjustment Template'!$D$11:$D$28,A68,'7. Adjustment Template'!$F$11:$F$28)","v":0},0]
[553,"Depreciation",null,null,null,null,{"$f":"'5. Cost Information'!K53","v":0},0,{"$f":"SUMIF('6. Reclass Template'!$E:$E,A69,'6. Reclass Template'!$F:$F)-SUMIF('6. Reclass Template'!$H:$H,A69,'6. Reclass Template'!$I:$I)","v":0},0,{"$f":"SUMIF('7. Adjustment Template'!$D$11:$D$28,A69,'7. Adjustment Template'!$F$11:$F$28)","v":0},0]
[554,"Personnel Recruitment",null,null,null,null,{"$f":"'5. Cost Information'!K48","v":0},0,{"$f":"SUMIF('6. Reclass Template'!$E:$E,A70,'6. Reclass Template'!$F:$F)-SUMIF('6. Reclass Template'!$H:$H,A70,'6. Reclass Template'!$I:$I)","v":0},0,{"$f":"SUMIF('7. Adjustment Template'!$D$11:$D$28,A70,'7. Adjustment Template'!$F$11:$F$28)","v":0},0]
[555,"Other Operating Expense ",null,null,null,null,{"$f":"'5. Cost Information'!K50","v":0},{"$f":"SUM(D71:G71)","v":0},{"$f":"SUMIF('6. Reclass Template'!$E:$E,A71,'6. Reclass Template'!$F:$F)-SUMIF('6. Reclass Template'!$H:$H,A71,'6. Reclass Template'!$I:$I)","v":0},0,{"$f":"SUMIF('7. Adjustment Template'!$D$11:$D$28,A71,'7. Adjustment Template'!$F$11:$F$28)","v":0},0]
[556,"Other Capital Expense",null,null,null,null,{"$f":"'5. Cost Information'!K57","v":0},{"$f":"SUM(D72:G72)","v":0},{"$f":"SUMIF('6. Reclass Template'!$E:$E,A72,'6. Reclass Template'!$F:$F)-SUMIF('6. Reclass Template'!$H:$H,A72,'6. Reclass Template'!$I:$I)","v":0},{"$f":"H72+I72","v":0},{"$f":"SUMIF('7. Adjustment Template'!$D$11:$D$28,A72,'7. Adjustment Template'!$F$11:$F$28)","v":0},{"$f":"J72+K72","v":0}]
["i.","Subtotal - Enabling Cost",null,{"$f":"SUM(D56:D72)","v":0},{"$f":"SUM(E56:E72)","v":0},{"$f":"SUM(F56:F72)","v":0},{"$f":"SUM(G56:G72)","v":0},{"$f":"SUM(H56:H72)","v":0},{"$f":"SUM(I56:I72)","v":0},{"$f":"SUM(J56:J72)","v":0},0,0]
["l.","TOTAL OVERHEAD AND ENABLING COST (Gi + Hi + Ii)",null,{"$f":"D32+D54+D73","v":0},{"$f":"E32+E54+E73","v":0},0,0,0,0,0,0,0]
[]
[null,"TOTAL EXPENSES",null,null,null,{"$f":"F74+'Form 4 - NonAllowable'!F33","v":0},{"$f":"G74+'Form 4 - NonAllowable'!G33","v":0},{"$f":"H74+'Form 4 - NonAllowable'!H33","v":0},{"$f":"I74+'Form 4 - NonAllowable'!I33","v":0},{"$f":"J74+'Form 4 - NonAllowable'!J33","v":0},{"$f":"K74+'Form 4 - NonAllowable'!K33","v":0},{"$f":"L74+'Form 4 - NonAllowable'!L33","v":0}]

{"sheet":"Form 6A - Reclassification","index":15,"n_rows":59,"n_cols":9,"rows_kept":59,"cut":false,"hidden":false,"merged":[[6,6,6,8],[6,1,7,1],[1,1,1,3],[2,1,2,3],[6,2,7,2],[6,3,6,5],[3,1,3,3]]}
[]
[null,"Community Health Center Cost Report"]
[null,"Form 6A - Reclassification"]
[null,{"$f":"'1. Agency Information'!C9","v":0}]
["RECLASSIFICATION OF TRIAL BALANCE OF EXPENSES",null,null,null,null,null,null,null,"Form 6A (Reclassification)"]
[]
[null,"Description of Reclassification(s)",null,"Increases",null,null,"Decreases"]
["Line",null,null,"Cost Center","Line #","Amount","Cost Center","Line #","Amount"]
[1,{"$f":"IF('6. Reclass Template'!B11 = 0, \"\", '6. Reclass Template'!B11)","v":""},{"$f":"IF('6. Reclass Template'!C11 = 0, \"\", '6. Reclass Template'!C11)","v":""},{"$f":"IF('6. Reclass Template'!D11 = 0, \"\", '6. Reclass Template'!D11)","v":""},{"$f":"IF('6. Reclass Template'!E11 = 0, \"\", '6. Reclass Template'!E11)","v":""},{"$f":"IF('6. Reclass Template'!F11 = 0, \"\", '6. Reclass Template'!F11)","v":""},{"$f":"IF('6. Reclass Template'!G11 = 0, \"\", '6. Reclass Template'!G11)","v":""},{"$f":"IF('6. Reclass Template'!H11 = 0, \"\", '6. Reclass Template'!H11)","v":""},{"$f":"IF('6. Reclass Template'!I11 = 0, \"\", '6. Reclass Template'!I11)","v":""}]
[2,{"$f":"IF('6. Reclass Template'!B12 = 0, \"\", '6. Reclass Template'!B12)","v":""},{"$f":"IF('6. Reclass Template'!C12 = 0, \"\", '6. Reclass Template'!C12)","v":""},{"$f":"IF('6. Reclass Template'!D12 = 0, \"\", '6. Reclass Template'!D12)","v":""},{"$f":"IF('6. Reclass Template'!E12 = 0, \"\", '6. Reclass Template'!E12)","v":""},{"$f":"IF('6. Reclass Template'!F12 = 0, \"\", '6. Reclass Template'!F12)","v":""},{"$f":"IF('6. Reclass Template'!G12 = 0, \"\", '6. Reclass Template'!G12)","v":""},{"$f":"IF('6. Reclass Template'!H12 = 0, \"\", '6. Reclass Template'!H12)","v":""},{"$f":"IF('6. Reclass Template'!I12 = 0, \"\", '6. Reclass Template'!I12)","v":""}]
[3,{"$f":"IF('6. Reclass Template'!B13 = 0, \"\", '6. Reclass Template'!B13)","v":""},{"$f":"IF('6. Reclass Template'!C13 = 0, \"\", '6. Reclass Template'!C13)","v":""},{"$f":"IF('6. Reclass Template'!D13 = 0, \"\", '6. Reclass Template'!D13)","v":""},{"$f":"IF('6. Reclass Template'!E13 = 0, \"\", '6. Reclass Template'!E13)","v":""},{"$f":"IF('6. Reclass Template'!F13 = 0, \"\", '6. Reclass Template'!F13)","v":""},{"$f":"IF('6. Reclass Template'!G13 = 0, \"\", '6. Reclass Template'!G13)","v":""},{"$f":"IF('6. Reclass Template'!H13 = 0, \"\", '6. Reclass Template'!H13)","v":""},{"$f":"IF('6. Reclass Template'!I13 = 0, \"\", '6. Reclass Template'!I13)","v":""}]
[4,{"$f":"IF('6. Reclass Template'!B14 = 0, \"\", '6. Reclass Template'!B14)","v":""},{"$f":"IF('6. Reclass Template'!C14 = 0, \"\", '6. Reclass Template'!C14)","v":""},{"$f":"IF('6. Reclass Template'!D14 = 0, \"\", '6. Reclass Template'!D14)","v":""},{"$f":"IF('6. Reclass Template'!E14 = 0, \"\", '6. Reclass Template'!E14)","v":""},{"$f":"IF('6. Reclass Template'!F14 = 0, \"\", '6. Reclass Template'!F14)","v":""},{"$f":"IF('6. Reclass Template'!G14 = 0, \"\", '6. Reclass Template'!G14)","v":""},{"$f":"IF('6. Reclass Template'!H14 = 0, \"\", '6. Reclass Template'!H14)","v":""},{"$f":"IF('6. Reclass Template'!I14 = 0, \"\", '6. Reclass Template'!I14)","v":""}]
[5,{"$f":"IF('6. Reclass Template'!B15 = 0, \"\", '6. Reclass Template'!B15)","v":""},{"$f":"IF('6. Reclass Template'!C15 = 0, \"\", '6. Reclass Template'!C15)","v":""},{"$f":"IF('6. Reclass Template'!D15 = 0, \"\", '6. Reclass Template'!D15)","v":""},{"$f":"IF('6. Reclass Template'!E15 = 0, \"\", '6. Reclass Template'!E15)","v":""},{"$f":"IF('6. Reclass Template'!F15 = 0, \"\", '6. Reclass Template'!F15)","v":""},{"$f":"IF('6. Reclass Template'!G15 = 0, \"\", '6. Reclass Template'!G15)","v":""},{"$f":"IF('6. Reclass Template'!H15 = 0, \"\", '6. Reclass Template'!H15)","v":""},{"$f":"IF('6. Reclass Template'!I15 = 0, \"\", '6. Reclass Template'!I15)","v":""}]
[6,{"$f":"IF('6. Reclass Template'!B16 = 0, \"\", '6. Reclass Template'!B16)","v":""},{"$f":"IF('6. Reclass Template'!C16 = 0, \"\", '6. Reclass Template'!C16)","v":""},{"$f":"IF('6. Reclass Template'!D16 = 0, \"\", '6. Reclass Template'!D16)","v":""},{"$f":"IF('6. Reclass Template'!E16 = 0, \"\", '6. Reclass Template'!E16)","v":""},{"$f":"IF('6. Reclass Template'!F16 = 0, \"\", '6. Reclass Template'!F16)","v":""},{"$f":"IF('6. Reclass Template'!G16 = 0, \"\", '6. Reclass Template'!G16)","v":""},{"$f":"IF('6. Reclass Template'!H16 = 0, \"\", '6. Reclass Template'!H16)","v":""},{"$f":"IF('6. Reclass Template'!I16 = 0, \"\", '6. Reclass Template'!I16)","v":""}]
[7,{"$f":"IF('6. Reclass Template'!B17 = 0, \"\", '6. Reclass Template'!B17)","v":""},{"$f":"IF('6. Reclass Template'!C17 = 0, \"\", '6. Reclass Template'!C17)","v":""},{"$f":"IF('6. Reclass Template'!D17 = 0, \"\", '6. Reclass Template'!D17)","v":""},{"$f":"IF('6. Reclass Template'!E17 = 0, \"\", '6. Reclass Template'!E17)","v":""},{"$f":"IF('6. Reclass Template'!F17 = 0, \"\", '6. Reclass Template'!F17)","v":""},{"$f":"IF('6. Reclass Template'!G17 = 0, \"\", '6. Reclass Template'!G17)","v":""},{"$f":"IF('6. Reclass Template'!H17 = 0, \"\", '6. Reclass Template'!H17)","v":""},{"$f":"IF('6. Reclass Template'!I17 = 0, \"\", '6. Reclass Template'!I17)","v":""}]
[8,{"$f":"IF('6. Reclass Template'!B18 = 0, \"\", '6. Reclass Template'!B18)","v":""},{"$f":"IF('6. Reclass Template'!C18 = 0, \"\", '6. Reclass Template'!C18)","v":""},{"$f":"IF('6. Reclass Template'!D18 = 0, \"\", '6. Reclass Template'!D18)","v":""},{"$f":"IF('6. Reclass Template'!E18 = 0, \"\", '6. Reclass Template'!E18)","v":""},{"$f":"IF('6. Reclass Template'!F18 = 0, \"\", '6. Reclass Template'!F18)","v":""},{"$f":"IF('6. Reclass Template'!G18 = 0, \"\", '6. Reclass Template'!G18)","v":""},{"$f":"IF('6. Reclass Template'!H18 = 0, \"\", '6. Reclass Template'!H18)","v":""},{"$f":"IF('6. Reclass Template'!I18 = 0, \"\", '6. Reclass Template'!I18)","v":""}]
[9,{"$f":"IF('6. Reclass Template'!B19 = 0, \"\", '6. Reclass Template'!B19)","v":""},{"$f":"IF('6. Reclass Template'!C19 = 0, \"\", '6. Reclass Template'!C19)","v":""},{"$f":"IF('6. Reclass Template'!D19 = 0, \"\", '6. Reclass Template'!D19)","v":""},{"$f":"IF('6. Reclass Template'!E19 = 0, \"\", '6. Reclass Template'!E19)","v":""},{"$f":"IF('6. Reclass Template'!F19 = 0, \"\", '6. Reclass Template'!F19)","v":""},{"$f":"IF('6. Reclass Template'!G19 = 0, \"\", '6. Reclass Template'!G19)","v":""},{"$f":"IF('6. Reclass Template'!H19 = 0, \"\", '6. Reclass Template'!H19)","v":""},{"$f":"IF('6. Reclass Template'!I19 = 0, \"\", '6. Reclass Template'!I19)","v":""}]
[10,{"$f":"IF('6. Reclass Template'!B20 = 0, \"\", '6. Reclass Template'!B20)","v":""},{"$f":"IF('6. Reclass Template'!C20 = 0, \"\", '6. Reclass Template'!C20)","v":""},{"$f":"IF('6. Reclass Template'!D20 = 0, \"\", '6. Reclass Template'!D20)","v":""},{"$f":"IF('6. Reclass Template'!E20 = 0, \"\", '6. Reclass Template'!E20)","v":""},{"$f":"IF('6. Reclass Template'!F20 = 0, \"\", '6. Reclass Template'!F20)","v":""},{"$f":"IF('6. Reclass Template'!G20 = 0, \"\", '6. Reclass Template'!G20)","v":""},{"$f":"IF('6. Reclass Template'!H20 = 0, \"\", '6. Reclass Template'!H20)","v":""},{"$f":"IF('6. Reclass Template'!I20 = 0, \"\", '6. Reclass Template'!I20)","v":""}]
[11,{"$f":"IF('6. Reclass Template'!B21 = 0, \"\", '6. Reclass Template'!B21)","v":""},{"$f":"IF('6. Reclass Template'!C21 = 0, \"\", '6. Reclass Template'!C21)","v":""},{"$f":"IF('6. Reclass Template'!D21 = 0, \"\", '6. Reclass Template'!D21)","v":""},{"$f":"IF('6. Reclass Template'!E21 = 0, \"\", '6. Reclass Template'!E21)","v":""},{"$f":"IF('6. Reclass Template'!F21 = 0, \"\", '6. Reclass Template'!F21)","v":""},{"$f":"IF('6. Reclass Template'!G21 = 0, \"\", '6. Reclass Template'!G21)","v":""},{"$f":"IF('6. Reclass Template'!H21 = 0, \"\", '6. Reclass Template'!H21)","v":""},{"$f":"IF('6. Reclass Template'!I21 = 0, \"\", '6. Reclass Template'!I21)","v":""}]
[12,{"$f":"IF('6. Reclass Template'!B22 = 0, \"\", '6. Reclass Template'!B22)","v":""},{"$f":"IF('6. Reclass Template'!C22 = 0, \"\", '6. Reclass Template'!C22)","v":""},{"$f":"IF('6. Reclass Template'!D22 = 0, \"\", '6. Reclass Template'!D22)","v":""},null,{"$f":"IF('6. Reclass Template'!F22 = 0, \"\", '6. Reclass Template'!F22)","v":""},{"$f":"IF('6. Reclass Template'!G22 = 0, \"\", '6. Reclass Template'!G22)","v":""},{"$f":"IF('6. Reclass Template'!H22 = 0, \"\", '6. Reclass Template'!H22)","v":""},{"$f":"IF('6. Reclass Template'!I22 = 0, \"\", '6. Reclass Template'!I22)","v":""}]
[13,{"$f":"IF('6. Reclass Template'!B23 = 0, \"\", '6. Reclass Template'!B23)","v":""},{"$f":"IF('6. Reclass Template'!C23 = 0, \"\", '6. Reclass Template'!C23)","v":""},{"$f":"IF('6. Reclass Template'!D23 = 0, \"\", '6. Reclass Template'!D23)","v":""},{"$f":"IF('6. Reclass Template'!E23 = 0, \"\", '6. Reclass Template'!E23)","v":""},{"$f":"IF('6. Reclass Template'!F23 = 0, \"\", '6. Reclass Template'!F23)","v":""},{"$f":"IF('6. Reclass Template'!G23 = 0, \"\", '6. Reclass Template'!G23)","v":""},{"$f":"IF('6. Reclass Template'!H23 = 0, \"\", '6. Reclass Template'!H23)","v":""},{"$f":"IF('6. Reclass Template'!I23 = 0, \"\", '6. Reclass Template'!I23)","v":""}]
[14,{"$f":"IF('6. Reclass Template'!B24 = 0, \"\", '6. Reclass Template'!B24)","v":""},{"$f":"IF('6. Reclass Template'!C24 = 0, \"\", '6. Reclass Template'!C24)","v":""},{"$f":"IF('6. Reclass Template'!D24 = 0, \"\", '6. Reclass Template'!D24)","v":""},{"$f":"IF('6. Reclass Template'!E24 = 0, \"\", '6. Reclass Template'!E24)","v":""},{"$f":"IF('6. Reclass Template'!F24 = 0, \"\", '6. Reclass Template'!F24)","v":""},{"$f":"IF('6. Reclass Template'!G24 = 0, \"\", '6. Reclass Template'!G24)","v":""},{"$f":"IF('6. Reclass Template'!H24 = 0, \"\", '6. Reclass Template'!H24)","v":""},{"$f":"IF('6. Reclass Template'!I24 = 0, \"\", '6. Reclass Template'!I24)","v":""}]
[15,{"$f":"IF('6. Reclass Template'!B25 = 0, \"\", '6. Reclass Template'!B25)","v":""},{"$f":"IF('6. Reclass Template'!C25 = 0, \"\", '6. Reclass Template'!C25)","v":""},{"$f":"IF('6. Reclass Template'!D25 = 0, \"\", '6. Reclass Template'!D25)","v":""},{"$f":"IF('6. Reclass Template'!E25 = 0, \"\", '6. Reclass Template'!E25)","v":""},{"$f":"IF('6. Reclass Template'!F25 = 0, \"\", '6. Reclass Template'!F25)","v":""},{"$f":"IF('6. Reclass Template'!G25 = 0, \"\", '6. Reclass Template'!G25)","v":""},{"$f":"IF('6. Reclass Template'!H25 = 0, \"\", '6. Reclass Template'!H25)","v":""},{"$f":"IF('6. Reclass Template'!I25 = 0, \"\", '6. Reclass Template'!I25)","v":""}]
[16,{"$f":"IF('6. Reclass Template'!B26 = 0, \"\", '6. Reclass Template'!B26)","v":""},{"$f":"IF('6. Reclass Template'!C26 = 0, \"\", '6. Reclass Template'!C26)","v":""},{"$f":"IF('6. Reclass Template'!D26 = 0, \"\", '6. Reclass Template'!D26)","v":""},{"$f":"IF('6. Reclass Template'!E26 = 0, \"\", '6. Reclass Template'!E26)","v":""},{"$f":"IF('6. Reclass Template'!F26 = 0, \"\", '6. Reclass Template'!F26)","v":""},{"$f":"IF('6. Reclass Template'!G26 = 0, \"\", '6. Reclass Template'!G26)","v":""},{"$f":"IF('6. Reclass Template'!H26 = 0, \"\", '6. Reclass Template'!H26)","v":""},{"$f":"IF('6. Reclass Template'!I26 = 0, \"\", '6. Reclass Template'!I26)","v":""}]
[17,{"$f":"IF('6. Reclass Template'!B27 = 0, \"\", '6. Reclass Template'!B27)","v":""},{"$f":"IF('6. Reclass Template'!C27 = 0, \"\", '6. Reclass Template'!C27)","v":""},{"$f":"IF('6. Reclass Template'!D27 = 0, \"\", '6. Reclass Template'!D27)","v":""},{"$f":"IF('6. Reclass Template'!E27 = 0, \"\", '6. Reclass Template'!E27)","v":""},{"$f":"IF('6. Reclass Template'!F27 = 0, \"\", '6. Reclass Template'!F27)","v":""},{"$f":"IF('6. Reclass Template'!G27 = 0, \"\", '6. Reclass Template'!G27)","v":""},{"$f":"IF('6. Reclass Template'!H27 = 0, \"\", '6. Reclass Template'!H27)","v":""},{"$f":"IF('6. Reclass Template'!I27 = 0, \"\", '6. Reclass Template'!I27)","v":""}]
[18,{"$f":"IF('6. Reclass Template'!B28 = 0, \"\", '6. Reclass Template'!B28)","v":""},{"$f":"IF('6. Reclass Template'!C28 = 0, \"\", '6. Reclass Template'!C28)","v":""},{"$f":"IF('6. Reclass Template'!D28 = 0, \"\", '6. Reclass Template'!D28)","v":""},{"$f":"IF('6. Reclass Template'!E28 = 0, \"\", '6. Reclass Template'!E28)","v":""},{"$f":"IF('6. Reclass Template'!F28 = 0, \"\", '6. Reclass Template'!F28)","v":""},{"$f":"IF('6. Reclass Template'!G28 = 0, \"\", '6. Reclass Template'!G28)","v":""},{"$f":"IF('6. Reclass Template'!H28 = 0, \"\", '6. Reclass Template'!H28)","v":""},{"$f":"IF('6. Reclass Template'!I28 = 0, \"\", '6. Reclass Template'!I28)","v":""}]
[19,{"$f":"IF('6. Reclass Template'!B29 = 0, \"\", '6. Reclass Template'!B29)","v":""},{"$f":"IF('6. Reclass Template'!C29 = 0, \"\", '6. Reclass Template'!C29)","v":""},{"$f":"IF('6. Reclass Template'!D29 = 0, \"\", '6. Reclass Template'!D29)","v":""},{"$f":"IF('6. Reclass Template'!E29 = 0, \"\", '6. Reclass Template'!E29)","v":""},{"$f":"IF('6. Reclass Template'!F29 = 0, \"\", '6. Reclass Template'!F29)","v":""},{"$f":"IF('6. Reclass Template'!G29 = 0, \"\", '6. Reclass Template'!G29)","v":""},{"$f":"IF('6. Reclass Template'!H29 = 0, \"\", '6. Reclass Template'!H29)","v":""},{"$f":"IF('6. Reclass Template'!I29 = 0, \"\", '6. Reclass Template'!I29)","v":""}]
[20,{"$f":"IF('6. Reclass Template'!B30 = 0, \"\", '6. Reclass Template'!B30)","v":""},{"$f":"IF('6. Reclass Template'!C30 = 0, \"\", '6. Reclass Template'!C30)","v":""},{"$f":"IF('6. Reclass Template'!D30 = 0, \"\", '6. Reclass Template'!D30)","v":""},{"$f":"IF('6. Reclass Template'!E30 = 0, \"\", '6. Reclass Template'!E30)","v":""},{"$f":"IF('6. Reclass Template'!F30 = 0, \"\", '6. Reclass Template'!F30)","v":""},{"$f":"IF('6. Reclass Template'!G30 = 0, \"\", '6. Reclass Template'!G30)","v":""},{"$f":"IF('6. Reclass Template'!H30 = 0, \"\", '6. Reclass Template'!H30)","v":""},{"$f":"IF('6. Reclass Template'!I30 = 0, \"\", '6. Reclass Template'!I30)","v":""}]
[21,{"$f":"IF('6. Reclass Template'!B31 = 0, \"\", '6. Reclass Template'!B31)","v":""},{"$f":"IF('6. Reclass Template'!C31 = 0, \"\", '6. Reclass Template'!C31)","v":""},{"$f":"IF('6. Reclass Template'!D31 = 0, \"\", '6. Reclass Template'!D31)","v":""},{"$f":"IF('6. Reclass Template'!E31 = 0, \"\", '6. Reclass Template'!E31)","v":""},{"$f":"IF('6. Reclass Template'!F31 = 0, \"\", '6. Reclass Template'!F31)","v":""},{"$f":"IF('6. Reclass Template'!G31 = 0, \"\", '6. Reclass Template'!G31)","v":""},{"$f":"IF('6. Reclass Template'!H31 = 0, \"\", '6. Reclass Template'!H31)","v":""},{"$f":"IF('6. Reclass Template'!I31 = 0, \"\", '6. Reclass Template'!I31)","v":""}]
[22,{"$f":"IF('6. Reclass Template'!B32 = 0, \"\", '6. Reclass Template'!B32)","v":""},{"$f":"IF('6. Reclass Template'!C32 = 0, \"\", '6. Reclass Template'!C32)","v":""},{"$f":"IF('6. Reclass Template'!D32 = 0, \"\", '6. Reclass Template'!D32)","v":""},{"$f":"IF('6. Reclass Template'!E32 = 0, \"\", '6. Reclass Template'!E32)","v":""},{"$f":"IF('6. Reclass Template'!F32 = 0, \"\", '6. Reclass Template'!F32)","v":""},{"$f":"IF('6. Reclass Template'!G32 = 0, \"\", '6. Reclass Template'!G32)","v":""},{"$f":"IF('6. Reclass Template'!H32 = 0, \"\", '6. Reclass Template'!H32)","v":""},{"$f":"IF('6. Reclass Template'!I32 = 0, \"\", '6. Reclass Template'!I32)","v":""}]
[23,{"$f":"IF('6. Reclass Template'!B33 = 0, \"\", '6. Reclass Template'!B33)","v":""},{"$f":"IF('6. Reclass Template'!C33 = 0, \"\", '6. Reclass Template'!C33)","v":""},{"$f":"IF('6. Reclass Template'!D33 = 0, \"\", '6. Reclass Template'!D33)","v":""},{"$f":"IF('6. Reclass Template'!E33 = 0, \"\", '6. Reclass Template'!E33)","v":""},{"$f":"IF('6. Reclass Template'!F33 = 0, \"\", '6. Reclass Template'!F33)","v":""},{"$f":"IF('6. Reclass Template'!G33 = 0, \"\", '6. Reclass Template'!G33)","v":""},{"$f":"IF('6. Reclass Template'!H33 = 0, \"\", '6. Reclass Template'!H33)","v":""},{"$f":"IF('6. Reclass Template'!I33 = 0, \"\", '6. Reclass Template'!I33)","v":""}]
[24,{"$f":"IF('6. Reclass Template'!B34 = 0, \"\", '6. Reclass Template'!B34)","v":""},{"$f":"IF('6. Reclass Template'!C34 = 0, \"\", '6. Reclass Template'!C34)","v":""},{"$f":"IF('6. Reclass Template'!D34 = 0, \"\", '6. Reclass Template'!D34)","v":""},{"$f":"IF('6. Reclass Template'!E34 = 0, \"\", '6. Reclass Template'!E34)","v":""},{"$f":"IF('6. Reclass Template'!F34 = 0, \"\", '6. Reclass Template'!F34)","v":""},{"$f":"IF('6. Reclass Template'!G34 = 0, \"\", '6. Reclass Template'!G34)","v":""},{"$f":"IF('6. Reclass Template'!H34 = 0, \"\", '6. Reclass Template'!H34)","v":""},{"$f":"IF('6. Reclass Template'!I34 = 0, \"\", '6. Reclass Template'!I34)","v":""}]
[25,{"$f":"IF('6. Reclass Template'!B35 = 0, \"\", '6. Reclass Template'!B35)","v":""},{"$f":"IF('6. Reclass Template'!C35 = 0, \"\", '6. Reclass Template'!C35)","v":""},{"$f":"IF('6. Reclass Template'!D35 = 0, \"\", '6. Reclass Template'!D35)","v":""},{"$f":"IF('6. Reclass Template'!E35 = 0, \"\", '6. Reclass Template'!E35)","v":""},{"$f":"IF('6. Reclass Template'!F35 = 0, \"\", '6. Reclass Template'!F35)","v":""},{"$f":"IF('6. Reclass Template'!G35 = 0, \"\", '6. Reclass Template'!G35)","v":""},{"$f":"IF('6. Reclass Template'!H35 = 0, \"\", '6. Reclass Template'!H35)","v":""},{"$f":"IF('6. Reclass Template'!I35 = 0, \"\", '6. Reclass Template'!I35)","v":""}]
[26,{"$f":"IF('6. Reclass Template'!B36 = 0, \"\", '6. Reclass Template'!B36)","v":""},{"$f":"IF('6. Reclass Template'!C36 = 0, \"\", '6. Reclass Template'!C36)","v":""},{"$f":"IF('6. Reclass Template'!D36 = 0, \"\", '6. Reclass Template'!D36)","v":""},{"$f":"IF('6. Reclass Template'!E36 = 0, \"\", '6. Reclass Template'!E36)","v":""},{"$f":"IF('6. Reclass Template'!F36 = 0, \"\", '6. Reclass Template'!F36)","v":""},{"$f":"IF('6. Reclass Template'!G36 = 0, \"\", '6. Reclass Template'!G36)","v":""},{"$f":"IF('6. Reclass Template'!H36 = 0, \"\", '6. Reclass Template'!H36)","v":""},{"$f":"IF('6. Reclass Template'!I36 = 0, \"\", '6. Reclass Template'!I36)","v":""}]
[27,{"$f":"IF('6. Reclass Template'!B37 = 0, \"\", '6. Reclass Template'!B37)","v":""},{"$f":"IF('6. Reclass Template'!C37 = 0, \"\", '6. Reclass Template'!C37)","v":""},{"$f":"IF('6. Reclass Template'!D37 = 0, \"\", '6. Reclass Template'!D37)","v":""},{"$f":"IF('6. Reclass Template'!E37 = 0, \"\", '6. Reclass Template'!E37)","v":""},{"$f":"IF('6. Reclass Template'!F37 = 0, \"\", '6. Reclass Template'!F37)","v":""},{"$f":"IF('6. Reclass Template'!G37 = 0, \"\", '6. Reclass Template'!G37)","v":""},{"$f":"IF('6. Reclass Template'!H37 = 0, \"\", '6. Reclass Template'!H37)","v":""},{"$f":"IF('6. Reclass Template'!I37 = 0, \"\", '6. Reclass Template'!I37)","v":""}]
[28,{"$f":"IF('6. Reclass Template'!B38 = 0, \"\", '6. Reclass Template'!B38)","v":""},{"$f":"IF('6. Reclass Template'!C38 = 0, \"\", '6. Reclass Template'!C38)","v":""},{"$f":"IF('6. Reclass Template'!D38 = 0, \"\", '6. Reclass Template'!D38)","v":""},{"$f":"IF('6. Reclass Template'!E38 = 0, \"\", '6. Reclass Template'!E38)","v":""},{"$f":"IF('6. Reclass Template'!F38 = 0, \"\", '6. Reclass Template'!F38)","v":""},{"$f":"IF('6. Reclass Template'!G38 = 0, \"\", '6. Reclass Template'!G38)","v":""},{"$f":"IF('6. Reclass Template'!H38 = 0, \"\", '6. Reclass Template'!H38)","v":""},{"$f":"IF('6. Reclass Template'!I38 = 0, \"\", '6. Reclass Template'!I38)","v":""}]
[29,{"$f":"IF('6. Reclass Template'!B39 = 0, \"\", '6. Reclass Template'!B39)","v":""},{"$f":"IF('6. Reclass Template'!C39 = 0, \"\", '6. Reclass Template'!C39)","v":""},{"$f":"IF('6. Reclass Template'!D39 = 0, \"\", '6. Reclass Template'!D39)","v":""},{"$f":"IF('6. Reclass Template'!E39 = 0, \"\", '6. Reclass Template'!E39)","v":""},{"$f":"IF('6. Reclass Template'!F39 = 0, \"\", '6. Reclass Template'!F39)","v":""},{"$f":"IF('6. Reclass Template'!G39 = 0, \"\", '6. Reclass Template'!G39)","v":""},{"$f":"IF('6. Reclass Template'!H39 = 0, \"\", '6. Reclass Template'!H39)","v":""},{"$f":"IF('6. Reclass Template'!I39 = 0, \"\", '6. Reclass Template'!I39)","v":""}]
[30,{"$f":"IF('6. Reclass Template'!B40 = 0, \"\", '6. Reclass Template'!B40)","v":""},{"$f":"IF('6. Reclass Template'!C40 = 0, \"\", '6. Reclass Template'!C40)","v":""},{"$f":"IF('6. Reclass Template'!D40 = 0, \"\", '6. Reclass Template'!D40)","v":""},{"$f":"IF('6. Reclass Template'!E40 = 0, \"\", '6. Reclass Template'!E40)","v":""},{"$f":"IF('6. Reclass Template'!F40 = 0, \"\", '6. Reclass Template'!F40)","v":""},{"$f":"IF('6. Reclass Template'!G40 = 0, \"\", '6. Reclass Template'!G40)","v":""},{"$f":"IF('6. Reclass Template'!H40 = 0, \"\", '6. Reclass Template'!H40)","v":""},{"$f":"IF('6. Reclass Template'!I40 = 0, \"\", '6. Reclass Template'!I40)","v":""}]
[31,{"$f":"IF('6. Reclass Template'!B41 = 0, \"\", '6. Reclass Template'!B41)","v":""},{"$f":"IF('6. Reclass Template'!C41 = 0, \"\", '6. Reclass Template'!C41)","v":""},{"$f":"IF('6. Reclass Template'!D41 = 0, \"\", '6. Reclass Template'!D41)","v":""},{"$f":"IF('6. Reclass Template'!E41 = 0, \"\", '6. Reclass Template'!E41)","v":""},{"$f":"IF('6. Reclass Template'!F41 = 0, \"\", '6. Reclass Template'!F41)","v":""},{"$f":"IF('6. Reclass Template'!G41 = 0, \"\", '6. Reclass Template'!G41)","v":""},{"$f":"IF('6. Reclass Template'!H41 = 0, \"\", '6. Reclass Template'!H41)","v":""},{"$f":"IF('6. Reclass Template'!I41 = 0, \"\", '6. Reclass Template'!I41)","v":""}]
[32,{"$f":"IF('6. Reclass Template'!B42 = 0, \"\", '6. Reclass Template'!B42)","v":""},{"$f":"IF('6. Reclass Template'!C42 = 0, \"\", '6. Reclass Template'!C42)","v":""},{"$f":"IF('6. Reclass Template'!D42 = 0, \"\", '6. Reclass Template'!D42)","v":""},{"$f":"IF('6. Reclass Template'!E42 = 0, \"\", '6. Reclass Template'!E42)","v":""},{"$f":"IF('6. Reclass Template'!F42 = 0, \"\", '6. Reclass Template'!F42)","v":""},{"$f":"IF('6. Reclass Template'!G42 = 0, \"\", '6. Reclass Template'!G42)","v":""},{"$f":"IF('6. Reclass Template'!H42 = 0, \"\", '6. Reclass Template'!H42)","v":""},{"$f":"IF('6. Reclass Template'!I42 = 0, \"\", '6. Reclass Template'!I42)","v":""}]
[33,{"$f":"IF('6. Reclass Template'!B43 = 0, \"\", '6. Reclass Template'!B43)","v":""},{"$f":"IF('6. Reclass Template'!C43 = 0, \"\", '6. Reclass Template'!C43)","v":""},{"$f":"IF('6. Reclass Template'!D43 = 0, \"\", '6. Reclass Template'!D43)","v":""},{"$f":"IF('6. Reclass Template'!E43 = 0, \"\", '6. Reclass Template'!E43)","v":""},{"$f":"IF('6. Reclass Template'!F43 = 0, \"\", '6. Reclass Template'!F43)","v":""},{"$f":"IF('6. Reclass Template'!G43 = 0, \"\", '6. Reclass Template'!G43)","v":""},{"$f":"IF('6. Reclass Template'!H43 = 0, \"\", '6. Reclass Template'!H43)","v":""},{"$f":"IF('6. Reclass Template'!I43 = 0, \"\", '6. Reclass Template'!I43)","v":""}]
[34,{"$f":"IF('6. Reclass Template'!B44 = 0, \"\", '6. Reclass Template'!B44)","v":""},{"$f":"IF('6. Reclass Template'!C44 = 0, \"\", '6. Reclass Template'!C44)","v":""},{"$f":"IF('6. Reclass Template'!D44 = 0, \"\", '6. Reclass Template'!D44)","v":""},{"$f":"IF('6. Reclass Template'!E44 = 0, \"\", '6. Reclass Template'!E44)","v":""},{"$f":"IF('6. Reclass Template'!F44 = 0, \"\", '6. Reclass Template'!F44)","v":""},{"$f":"IF('6. Reclass Template'!G44 = 0, \"\", '6. Reclass Template'!G44)","v":""},{"$f":"IF('6. Reclass Template'!H44 = 0, \"\", '6. Reclass Template'!H44)","v":""},{"$f":"IF('6. Reclass Template'!I44 = 0, \"\", '6. Reclass Template'!I44)","v":""}]
[35,{"$f":"IF('6. Reclass Template'!B45 = 0, \"\", '6. Reclass Template'!B45)","v":""},{"$f":"IF('6. Reclass Template'!C45 = 0, \"\", '6. Reclass Template'!C45)","v":""},{"$f":"IF('6. Reclass Template'!D45 = 0, \"\", '6. Reclass Template'!D45)","v":""},{"$f":"IF('6. Reclass Template'!E45 = 0, \"\", '6. Reclass Template'!E45)","v":""},{"$f":"IF('6. Reclass Template'!F45 = 0, \"\", '6. Reclass Template'!F45)","v":""},{"$f":"IF('6. Reclass Template'!G45 = 0, \"\", '6. Reclass Template'!G45)","v":""},{"$f":"IF('6. Reclass Template'!H45 = 0, \"\", '6. Reclass Template'!H45)","v":""},{"$f":"IF('6. Reclass Template'!I45 = 0, \"\", '6. Reclass Template'!I45)","v":""}]
[36,{"$f":"IF('6. Reclass Template'!B46 = 0, \"\", '6. Reclass Template'!B46)","v":""},{"$f":"IF('6. Reclass Template'!C46 = 0, \"\", '6. Reclass Template'!C46)","v":""},{"$f":"IF('6. Reclass Template'!D46 = 0, \"\", '6. Reclass Template'!D46)","v":""},{"$f":"IF('6. Reclass Template'!E46 = 0, \"\", '6. Reclass Template'!E46)","v":""},{"$f":"IF('6. Reclass Template'!F46 = 0, \"\", '6. Reclass Template'!F46)","v":""},{"$f":"IF('6. Reclass Template'!G46 = 0, \"\", '6. Reclass Template'!G46)","v":""},{"$f":"IF('6. Reclass Template'!H46 = 0, \"\", '6. Reclass Template'!H46)","v":""},{"$f":"IF('6. Reclass Template'!I46 = 0, \"\", '6. Reclass Template'!I46)","v":""}]
[37,{"$f":"IF('6. Reclass Template'!B47 = 0, \"\", '6. Reclass Template'!B47)","v":""},{"$f":"IF('6. Reclass Template'!C47 = 0, \"\", '6. Reclass Template'!C47)","v":""},{"$f":"IF('6. Reclass Template'!D47 = 0, \"\", '6. Reclass Template'!D47)","v":""},{"$f":"IF('6. Reclass Template'!E47 = 0, \"\", '6. Reclass Template'!E47)","v":""},{"$f":"IF('6. Reclass Template'!F47 = 0, \"\", '6. Reclass Template'!F47)","v":""},{"$f":"IF('6. Reclass Template'!G47 = 0, \"\", '6. Reclass Template'!G47)","v":""},{"$f":"IF('6. Reclass Template'!H47 = 0, \"\", '6. Reclass Template'!H47)","v":""},{"$f":"IF('6. Reclass Template'!I47 = 0, \"\", '6. Reclass Template'!I47)","v":""}]
[38,{"$f":"IF('6. Reclass Template'!B48 = 0, \"\", '6. Reclass Template'!B48)","v":""},{"$f":"IF('6. Reclass Template'!C48 = 0, \"\", '6. Reclass Template'!C48)","v":""},{"$f":"IF('6. Reclass Template'!D48 = 0, \"\", '6. Reclass Template'!D48)","v":""},{"$f":"IF('6. Reclass Template'!E48 = 0, \"\", '6. Reclass Template'!E48)","v":""},{"$f":"IF('6. Reclass Template'!F48 = 0, \"\", '6. Reclass Template'!F48)","v":""},{"$f":"IF('6. Reclass Template'!G48 = 0, \"\", '6. Reclass Template'!G48)","v":""},{"$f":"IF('6. Reclass Template'!H48 = 0, \"\", '6. Reclass Template'!H48)","v":""},{"$f":"IF('6. Reclass Template'!I48 = 0, \"\", '6. Reclass Template'!I48)","v":""}]
[39,{"$f":"IF('6. Reclass Template'!B49 = 0, \"\", '6. Reclass Template'!B49)","v":""},{"$f":"IF('6. Reclass Template'!C49 = 0, \"\", '6. Reclass Template'!C49)","v":""},{"$f":"IF('6. Reclass Template'!D49 = 0, \"\", '6. Reclass Template'!D49)","v":""},{"$f":"IF('6. Reclass Template'!E49 = 0, \"\", '6. Reclass Template'!E49)","v":""},{"$f":"IF('6. Reclass Template'!F49 = 0, \"\", '6. Reclass Template'!F49)","v":""},{"$f":"IF('6. Reclass Template'!G49 = 0, \"\", '6. Reclass Template'!G49)","v":""},{"$f":"IF('6. Reclass Template'!H49 = 0, \"\", '6. Reclass Template'!H49)","v":""},{"$f":"IF('6. Reclass Template'!I49 = 0, \"\", '6. Reclass Template'!I49)","v":""}]
[40,{"$f":"IF('6. Reclass Template'!B50 = 0, \"\", '6. Reclass Template'!B50)","v":""},{"$f":"IF('6. Reclass Template'!C50 = 0, \"\", '6. Reclass Template'!C50)","v":""},{"$f":"IF('6. Reclass Template'!D50 = 0, \"\", '6. Reclass Template'!D50)","v":""},{"$f":"IF('6. Reclass Template'!E50 = 0, \"\", '6. Reclass Template'!E50)","v":""},{"$f":"IF('6. Reclass Template'!F50 = 0, \"\", '6. Reclass Template'!F50)","v":""},{"$f":"IF('6. Reclass Template'!G50 = 0, \"\", '6. Reclass Template'!G50)","v":""},{"$f":"IF('6. Reclass Template'!H50 = 0, \"\", '6. Reclass Template'!H50)","v":""},{"$f":"IF('6. Reclass Template'!I50 = 0, \"\", '6. Reclass Template'!I50)","v":""}]
[41,{"$f":"IF('6. Reclass Template'!B51 = 0, \"\", '6. Reclass Template'!B51)","v":""},{"$f":"IF('6. Reclass Template'!C51 = 0, \"\", '6. Reclass Template'!C51)","v":""},{"$f":"IF('6. Reclass Template'!D51 = 0, \"\", '6. Reclass Template'!D51)","v":""},{"$f":"IF('6. Reclass Template'!E51 = 0, \"\", '6. Reclass Template'!E51)","v":""},{"$f":"IF('6. Reclass Template'!F51 = 0, \"\", '6. Reclass Template'!F51)","v":""},{"$f":"IF('6. Reclass Template'!G51 = 0, \"\", '6. Reclass Template'!G51)","v":""},{"$f":"IF('6. Reclass Template'!H51 = 0, \"\", '6. Reclass Template'!H51)","v":""},{"$f":"IF('6. Reclass Template'!I51 = 0, \"\", '6. Reclass Template'!I51)","v":""}]
[42,{"$f":"IF('6. Reclass Template'!B52 = 0, \"\", '6. Reclass Template'!B52)","v":""},{"$f":"IF('6. Reclass Template'!C52 = 0, \"\", '6. Reclass Template'!C52)","v":""},{"$f":"IF('6. Reclass Template'!D52 = 0, \"\", '6. Reclass Template'!D52)","v":""},{"$f":"IF('6. Reclass Template'!E52 = 0, \"\", '6. Reclass Template'!E52)","v":""},{"$f":"IF('6. Reclass Template'!F52 = 0, \"\", '6. Reclass Template'!F52)","v":""},{"$f":"IF('6. Reclass Template'!G52 = 0, \"\", '6. Reclass Template'!G52)","v":""},{"$f":"IF('6. Reclass Template'!H52 = 0, \"\", '6. Reclass Template'!H52)","v":""},{"$f":"IF('6. Reclass Template'!I52 = 0, \"\", '6. Reclass Template'!I52)","v":""}]
[43,{"$f":"IF('6. Reclass Template'!B53 = 0, \"\", '6. Reclass Template'!B53)","v":""},{"$f":"IF('6. Reclass Template'!C53 = 0, \"\", '6. Reclass Template'!C53)","v":""},{"$f":"IF('6. Reclass Template'!D53 = 0, \"\", '6. Reclass Template'!D53)","v":""},{"$f":"IF('6. Reclass Template'!E53 = 0, \"\", '6. Reclass Template'!E53)","v":""},{"$f":"IF('6. Reclass Template'!F53 = 0, \"\", '6. Reclass Template'!F53)","v":""},{"$f":"IF('6. Reclass Template'!G53 = 0, \"\", '6. Reclass Template'!G53)","v":""},{"$f":"IF('6. Reclass Template'!H53 = 0, \"\", '6. Reclass Template'!H53)","v":""},{"$f":"IF('6. Reclass Template'!I53 = 0, \"\", '6. Reclass Template'!I53)","v":""}]
[44,{"$f":"IF('6. Reclass Template'!B54 = 0, \"\", '6. Reclass Template'!B54)","v":""},{"$f":"IF('6. Reclass Template'!C54 = 0, \"\", '6. Reclass Template'!C54)","v":""},{"$f":"IF('6. Reclass Template'!D54 = 0, \"\", '6. Reclass Template'!D54)","v":""},{"$f":"IF('6. Reclass Template'!E54 = 0, \"\", '6. Reclass Template'!E54)","v":""},{"$f":"IF('6. Reclass Template'!F54 = 0, \"\", '6. Reclass Template'!F54)","v":""},{"$f":"IF('6. Reclass Template'!G54 = 0, \"\", '6. Reclass Template'!G54)","v":""},{"$f":"IF('6. Reclass Template'!H54 = 0, \"\", '6. Reclass Template'!H54)","v":""},{"$f":"IF('6. Reclass Template'!I54 = 0, \"\", '6. Reclass Template'!I54)","v":""}]
[45,{"$f":"IF('6. Reclass Template'!B55 = 0, \"\", '6. Reclass Template'!B55)","v":""},{"$f":"IF('6. Reclass Template'!C55 = 0, \"\", '6. Reclass Template'!C55)","v":""},{"$f":"IF('6. Reclass Template'!D55 = 0, \"\", '6. Reclass Template'!D55)","v":""},{"$f":"IF('6. Reclass Template'!E55 = 0, \"\", '6. Reclass Template'!E55)","v":""},{"$f":"IF('6. Reclass Template'!F55 = 0, \"\", '6. Reclass Template'!F55)","v":""},{"$f":"IF('6. Reclass Template'!G55 = 0, \"\", '6. Reclass Template'!G55)","v":""},{"$f":"IF('6. Reclass Template'!H55 = 0, \"\", '6. Reclass Template'!H55)","v":""},{"$f":"IF('6. Reclass Template'!I55 = 0, \"\", '6. Reclass Template'!I55)","v":""}]
[46,{"$f":"IF('6. Reclass Template'!B56 = 0, \"\", '6. Reclass Template'!B56)","v":""},{"$f":"IF('6. Reclass Template'!C56 = 0, \"\", '6. Reclass Template'!C56)","v":""},{"$f":"IF('6. Reclass Template'!D56 = 0, \"\", '6. Reclass Template'!D56)","v":""},{"$f":"IF('6. Reclass Template'!E56 = 0, \"\", '6. Reclass Template'!E56)","v":""},{"$f":"IF('6. Reclass Template'!F56 = 0, \"\", '6. Reclass Template'!F56)","v":""},{"$f":"IF('6. Reclass Template'!G56 = 0, \"\", '6. Reclass Template'!G56)","v":""},{"$f":"IF('6. Reclass Template'!H56 = 0, \"\", '6. Reclass Template'!H56)","v":""},{"$f":"IF('6. Reclass Template'!I56 = 0, \"\", '6. Reclass Template'!I56)","v":""}]
[47,{"$f":"IF('6. Reclass Template'!B57 = 0, \"\", '6. Reclass Template'!B57)","v":""},{"$f":"IF('6. Reclass Template'!C57 = 0, \"\", '6. Reclass Template'!C57)","v":""},{"$f":"IF('6. Reclass Template'!D57 = 0, \"\", '6. Reclass Template'!D57)","v":""},{"$f":"IF('6. Reclass Template'!E57 = 0, \"\", '6. Reclass Template'!E57)","v":""},{"$f":"IF('6. Reclass Template'!F57 = 0, \"\", '6. Reclass Template'!F57)","v":""},{"$f":"IF('6. Reclass Template'!G57 = 0, \"\", '6. Reclass Template'!G57)","v":""},{"$f":"IF('6. Reclass Template'!H57 = 0, \"\", '6. Reclass Template'!H57)","v":""},{"$f":"IF('6. Reclass Template'!I57 = 0, \"\", '6. Reclass Template'!I57)","v":""}]
[48,{"$f":"IF('6. Reclass Template'!B58 = 0, \"\", '6. Reclass Template'!B58)","v":""},{"$f":"IF('6. Reclass Template'!C58 = 0, \"\", '6. Reclass Template'!C58)","v":""},{"$f":"IF('6. Reclass Template'!D58 = 0, \"\", '6. Reclass Template'!D58)","v":""},{"$f":"IF('6. Reclass Template'!E58 = 0, \"\", '6. Reclass Template'!E58)","v":""},{"$f":"IF('6. Reclass Template'!F58 = 0, \"\", '6. Reclass Template'!F58)","v":""},{"$f":"IF('6. Reclass Template'!G58 = 0, \"\", '6. Reclass Template'!G58)","v":""},{"$f":"IF('6. Reclass Template'!H58 = 0, \"\", '6. Reclass Template'!H58)","v":""},{"$f":"IF('6. Reclass Template'!I58 = 0, \"\", '6. Reclass Template'!I58)","v":""}]
[49,{"$f":"IF('6. Reclass Template'!B59 = 0, \"\", '6. Reclass Template'!B59)","v":""},{"$f":"IF('6. Reclass Template'!C59 = 0, \"\", '6. Reclass Template'!C59)","v":""},{"$f":"IF('6. Reclass Template'!D59 = 0, \"\", '6. Reclass Template'!D59)","v":""},{"$f":"IF('6. Reclass Template'!E59 = 0, \"\", '6. Reclass Template'!E59)","v":""},{"$f":"IF('6. Reclass Template'!F59 = 0, \"\", '6. Reclass Template'!F59)","v":""},{"$f":"IF('6. Reclass Template'!G59 = 0, \"\", '6. Reclass Template'!G59)","v":""},{"$f":"IF('6. Reclass Template'!H59 = 0, \"\", '6. Reclass Template'!H59)","v":""},{"$f":"IF('6. Reclass Template'!I59 = 0, \"\", '6. Reclass Template'!I59)","v":""}]
[50,{"$f":"IF('6. Reclass Template'!B60 = 0, \"\", '6. Reclass Template'!B60)","v":""},{"$f":"IF('6. Reclass Template'!C60 = 0, \"\", '6. Reclass Template'!C60)","v":""},{"$f":"IF('6. Reclass Template'!D60 = 0, \"\", '6. Reclass Template'!D60)","v":""},{"$f":"IF('6. Reclass Template'!E60 = 0, \"\", '6. Reclass Template'!E60)","v":""},{"$f":"IF('6. Reclass Template'!F60 = 0, \"\", '6. Reclass Template'!F60)","v":""},{"$f":"IF('6. Reclass Template'!G60 = 0, \"\", '6. Reclass Template'!G60)","v":""},{"$f":"IF('6. Reclass Template'!H60 = 0, \"\", '6. Reclass Template'!H60)","v":""},{"$f":"IF('6. Reclass Template'!I60 = 0, \"\", '6. Reclass Template'!I60)","v":""}]
[51,{"$f":"IF('6. Reclass Template'!B37 = 0, \"\", '6. Reclass Template'!B37)","v":""},null,null,null,{"$f":"SUM(F9:F58)","v":0},null,null,{"$f":"SUM(I9:I58)","v":0}]

{"sheet":"Form 6B - Adjustments","index":16,"n_rows":27,"n_cols":9,"rows_kept":27,"cut":false,"hidden":false,"merged":[[6,1,6,5],[1,1,1,2],[2,1,2,2],[3,1,3,2]]}
[]
[null,"Community Health Center Cost Report"]
[null,"Form 6B - Adjustments"]
[null,{"$f":"'1. Agency Information'!C9","v":0}]
["ADJUSTMENT OF TRIAL BALANCE OF EXPENSES",null,null,null,null,"Form 6B (Adjustment)"]
[]
[null,"Adjustments to Expenses"]
["Line","Description of Adjustment to Expenses","Basis for Adjustment","Worksheet Line Number","Cost Center","Amount"]
[1,{"$f":"IF('7. Adjustment Template'!B11 = 0, \"\", '7. Adjustment Template'!B11)","v":"Bad Debt"},{"$f":"IF('7. Adjustment Template'!C11 = 0, \"\", '7. Adjustment Template'!C11)","v":""},{"$f":"IF('7. Adjustment Template'!D11 = 0, \"\", '7. Adjustment Template'!D11)","v":""},{"$f":"IF('7. Adjustment Template'!E11 = 0, \"\", '7. Adjustment Template'!E11)","v":""},{"$f":"IF('7. Adjustment Template'!F11 = 0, \"\", '7. Adjustment Template'!F11)","v":""},null,null,"Cost Center"]
[2,{"$f":"IF('7. Adjustment Template'!B12 = 0, \"\", '7. Adjustment Template'!B12)","v":""},{"$f":"IF('7. Adjustment Template'!C12 = 0, \"\", '7. Adjustment Template'!C12)","v":""},{"$f":"IF('7. Adjustment Template'!D12 = 0, \"\", '7. Adjustment Template'!D12)","v":""},{"$f":"IF('7. Adjustment Template'!E12 = 0, \"\", '7. Adjustment Template'!E12)","v":""},{"$f":"IF('7. Adjustment Template'!F12 = 0, \"\", '7. Adjustment Template'!F12)","v":""},null,"A","Medical"]
[3,{"$f":"IF('7. Adjustment Template'!B13 = 0, \"\", '7. Adjustment Template'!B13)","v":""},{"$f":"IF('7. Adjustment Template'!C13 = 0, \"\", '7. Adjustment Template'!C13)","v":""},{"$f":"IF('7. Adjustment Template'!D13 = 0, \"\", '7. Adjustment Template'!D13)","v":""},{"$f":"IF('7. Adjustment Template'!E13 = 0, \"\", '7. Adjustment Template'!E13)","v":""},{"$f":"IF('7. Adjustment Template'!F13 = 0, \"\", '7. Adjustment Template'!F13)","v":""},null,"B","Dental "]
[4,{"$f":"IF('7. Adjustment Template'!B14 = 0, \"\", '7. Adjustment Template'!B14)","v":""},{"$f":"IF('7. Adjustment Template'!C14 = 0, \"\", '7. Adjustment Template'!C14)","v":""},{"$f":"IF('7. Adjustment Template'!D14 = 0, \"\", '7. Adjustment Template'!D14)","v":""},{"$f":"IF('7. Adjustment Template'!E14 = 0, \"\", '7. Adjustment Template'!E14)","v":""},{"$f":"IF('7. Adjustment Template'!F14 = 0, \"\", '7. Adjustment Template'!F14)","v":""},null,"C","Behavioral Health"]
[5,{"$f":"IF('7. Adjustment Template'!B15 = 0, \"\", '7. Adjustment Template'!B15)","v":""},{"$f":"IF('7. Adjustment Template'!C15 = 0, \"\", '7. Adjustment Template'!C15)","v":""},{"$f":"IF('7. Adjustment Template'!D15 = 0, \"\", '7. Adjustment Template'!D15)","v":""},{"$f":"IF('7. Adjustment Template'!E15 = 0, \"\", '7. Adjustment Template'!E15)","v":""},{"$f":"IF('7. Adjustment Template'!F15 = 0, \"\", '7. Adjustment Template'!F15)","v":""},null,"D","Non-Allowable Cost"]
[6,{"$f":"IF('7. Adjustment Template'!B16 = 0, \"\", '7. Adjustment Template'!B16)","v":""},{"$f":"IF('7. Adjustment Template'!C16 = 0, \"\", '7. Adjustment Template'!C16)","v":""},{"$f":"IF('7. Adjustment Template'!D16 = 0, \"\", '7. Adjustment Template'!D16)","v":""},{"$f":"IF('7. Adjustment Template'!E16 = 0, \"\", '7. Adjustment Template'!E16)","v":""},{"$f":"IF('7. Adjustment Template'!F16 = 0, \"\", '7. Adjustment Template'!F16)","v":""},null,"E","Overhead - Facility "]
[7,{"$f":"IF('7. Adjustment Template'!B17 = 0, \"\", '7. Adjustment Template'!B17)","v":""},{"$f":"IF('7. Adjustment Template'!C17 = 0, \"\", '7. Adjustment Template'!C17)","v":""},{"$f":"IF('7. Adjustment Template'!D17 = 0, \"\", '7. Adjustment Template'!D17)","v":""},{"$f":"IF('7. Adjustment Template'!E17 = 0, \"\", '7. Adjustment Template'!E17)","v":""},{"$f":"IF('7. Adjustment Template'!F17 = 0, \"\", '7. Adjustment Template'!F17)","v":""},null,"F","Overhead - Administrative"]
[8,{"$f":"IF('7. Adjustment Template'!B18 = 0, \"\", '7. Adjustment Template'!B18)","v":""},{"$f":"IF('7. Adjustment Template'!C18 = 0, \"\", '7. Adjustment Template'!C18)","v":""},{"$f":"IF('7. Adjustment Template'!D18 = 0, \"\", '7. Adjustment Template'!D18)","v":""},{"$f":"IF('7. Adjustment Template'!E18 = 0, \"\", '7. Adjustment Template'!E18)","v":""},{"$f":"IF('7. Adjustment Template'!F18 = 0, \"\", '7. Adjustment Template'!F18)","v":""},null,"G","Enabling "]
[9,{"$f":"IF('7. Adjustment Template'!B19 = 0, \"\", '7. Adjustment Template'!B19)","v":""},{"$f":"IF('7. Adjustment Template'!C19 = 0, \"\", '7. Adjustment Template'!C19)","v":""},{"$f":"IF('7. Adjustment Template'!D19 = 0, \"\", '7. Adjustment Template'!D19)","v":""},{"$f":"IF('7. Adjustment Template'!E19 = 0, \"\", '7. Adjustment Template'!E19)","v":""},{"$f":"IF('7. Adjustment Template'!F19 = 0, \"\", '7. Adjustment Template'!F19)","v":""}]
[10,{"$f":"IF('7. Adjustment Template'!B20 = 0, \"\", '7. Adjustment Template'!B20)","v":""},{"$f":"IF('7. Adjustment Template'!C20 = 0, \"\", '7. Adjustment Template'!C20)","v":""},{"$f":"IF('7. Adjustment Template'!D20 = 0, \"\", '7. Adjustment Template'!D20)","v":""},{"$f":"IF('7. Adjustment Template'!E20 = 0, \"\", '7. Adjustment Template'!E20)","v":""},{"$f":"IF('7. Adjustment Template'!F20 = 0, \"\", '7. Adjustment Template'!F20)","v":""}]
[11,{"$f":"IF('7. Adjustment Template'!B21 = 0, \"\", '7. Adjustment Template'!B21)","v":""},{"$f":"IF('7. Adjustment Template'!C21 = 0, \"\", '7. Adjustment Template'!C21)","v":""},{"$f":"IF('7. Adjustment Template'!D21 = 0, \"\", '7. Adjustment Template'!D21)","v":""},{"$f":"IF('7. Adjustment Template'!E21 = 0, \"\", '7. Adjustment Template'!E21)","v":""},{"$f":"IF('7. Adjustment Template'!F21 = 0, \"\", '7. Adjustment Template'!F21)","v":""}]
[12,{"$f":"IF('7. Adjustment Template'!B22 = 0, \"\", '7. Adjustment Template'!B22)","v":""},{"$f":"IF('7. Adjustment Template'!C22 = 0, \"\", '7. Adjustment Template'!C22)","v":""},{"$f":"IF('7. Adjustment Template'!D22 = 0, \"\", '7. Adjustment Template'!D22)","v":""},{"$f":"IF('7. Adjustment Template'!E22 = 0, \"\", '7. Adjustment Template'!E22)","v":""},{"$f":"IF('7. Adjustment Template'!F22 = 0, \"\", '7. Adjustment Template'!F22)","v":""}]
[13,{"$f":"IF('7. Adjustment Template'!B23 = 0, \"\", '7. Adjustment Template'!B23)","v":""},{"$f":"IF('7. Adjustment Template'!C23 = 0, \"\", '7. Adjustment Template'!C23)","v":""},{"$f":"IF('7. Adjustment Template'!D23 = 0, \"\", '7. Adjustment Template'!D23)","v":""},{"$f":"IF('7. Adjustment Template'!E23 = 0, \"\", '7. Adjustment Template'!E23)","v":""},{"$f":"IF('7. Adjustment Template'!F23 = 0, \"\", '7. Adjustment Template'!F23)","v":""}]
[14,{"$f":"IF('7. Adjustment Template'!B24 = 0, \"\", '7. Adjustment Template'!B24)","v":""},{"$f":"IF('7. Adjustment Template'!C24 = 0, \"\", '7. Adjustment Template'!C24)","v":""},{"$f":"IF('7. Adjustment Template'!D24 = 0, \"\", '7. Adjustment Template'!D24)","v":""},{"$f":"IF('7. Adjustment Template'!E24 = 0, \"\", '7. Adjustment Template'!E24)","v":""},{"$f":"IF('7. Adjustment Template'!F24 = 0, \"\", '7. Adjustment Template'!F24)","v":""}]
[15,{"$f":"IF('7. Adjustment Template'!B25 = 0, \"\", '7. Adjustment Template'!B25)","v":""},{"$f":"IF('7. Adjustment Template'!C25 = 0, \"\", '7. Adjustment Template'!C25)","v":""},{"$f":"IF('7. Adjustment Template'!D25 = 0, \"\", '7. Adjustment Template'!D25)","v":""},{"$f":"IF('7. Adjustment Template'!E25 = 0, \"\", '7. Adjustment Template'!E25)","v":""},{"$f":"IF('7. Adjustment Template'!F25 = 0, \"\", '7. Adjustment Template'!F25)","v":""}]
[16,{"$f":"IF('7. Adjustment Template'!B26 = 0, \"\", '7. Adjustment Template'!B26)","v":""},{"$f":"IF('7. Adjustment Template'!C26 = 0, \"\", '7. Adjustment Template'!C26)","v":""},{"$f":"IF('7. Adjustment Template'!D26 = 0, \"\", '7. Adjustment Template'!D26)","v":""},{"$f":"IF('7. Adjustment Template'!E26 = 0, \"\", '7. Adjustment Template'!E26)","v":""},{"$f":"IF('7. Adjustment Template'!F26 = 0, \"\", '7. Adjustment Template'!F26)","v":""}]
[17,{"$f":"IF('7. Adjustment Template'!B27 = 0, \"\", '7. Adjustment Template'!B27)","v":""},{"$f":"IF('7. Adjustment Template'!C27 = 0, \"\", '7. Adjustment Template'!C27)","v":""},{"$f":"IF('7. Adjustment Template'!D27 = 0, \"\", '7. Adjustment Template'!D27)","v":""},{"$f":"IF('7. Adjustment Template'!E27 = 0, \"\", '7. Adjustment Template'!E27)","v":""},{"$f":"IF('7. Adjustment Template'!F27 = 0, \"\", '7. Adjustment Template'!F27)","v":""}]
[18,{"$f":"IF('7. Adjustment Template'!B28 = 0, \"\", '7. Adjustment Template'!B28)","v":""},{"$f":"IF('7. Adjustment Template'!C28 = 0, \"\", '7. Adjustment Template'!C28)","v":""},{"$f":"IF('7. Adjustment Template'!D28 = 0, \"\", '7. Adjustment Template'!D28)","v":""},{"$f":"IF('7. Adjustment Template'!E28 = 0, \"\", '7. Adjustment Template'!E28)","v":""},{"$f":"IF('7. Adjustment Template'!F28 = 0, \"\", '7. Adjustment Template'!F28)","v":""}]
[19,{"$f":"IF('7. Adjustment Template'!B29 = 0, \"\", '7. Adjustment Template'!B29)","v":"TOTAL"},null,null,null,{"$f":"SUM(F9:F26)","v":0}]

{"sheet":"Form 7 - Visits by FTE","index":17,"n_rows":48,"n_cols":7,"rows_kept":48,"cut":false,"hidden":false,"merged":[[3,1,3,4],[8,0,9,2],[1,1,1,4],[2,1,2,4]]}
[]
[null,"Community Health Center Cost Report"]
[null,"Form 7 - Visits by FTE"]
[null,{"$f":"'1. Agency Information'!C9","v":0}]
[]
["HEALTH CARE VISITS AND FTEs BY PRACTITIONER",null,null,null,null,null,"Form 7 (Visits by FTE)"]
[]
[]
["HEALTH CARE VISITS AND FTEs",null,null,"Visits","Total"]
[null,null,null,null,"FTEs"]
["A","MEDICAL PROVIDERS",null,"I","II"]
[1,"Physician (Note - includes OBAT per keeping in Med)",null,{"$f":"'3. Providers'!G21","v":0},{"$f":"'3. Providers'!E21+'3. Providers'!F21","v":0}]
[2,"Nurse Practitioners",null,{"$f":"'3. Providers'!G22","v":0},{"$f":"'3. Providers'!E22+'3. Providers'!F22","v":0}]
[3,"Physician Assistants",null,{"$f":"'3. Providers'!G23","v":0},{"$f":"'3. Providers'!E23+'3. Providers'!F23","v":0}]
[4,"Certified Nurse Midwives",null,{"$f":"'3. Providers'!G24","v":0},{"$f":"'3. Providers'!E24+'3. Providers'!F24","v":0}]
[5,"Registered Nurses (Note - includes OBAT as keeping in Med)",null,{"$f":"'3. Providers'!G27+'3. Providers'!G28","v":0},{"$f":"'3. Providers'!E27+'3. Providers'!F27+'3. Providers'!E28+'3. Providers'!F28","v":0}]
[6,"Licensed Practical Nurses",null,{"$f":"'3. Providers'!G29","v":0},{"$f":"'3. Providers'!E28+'3. Providers'!F28+'3. Providers'!E29+'3. Providers'!F29","v":0}]
[7,"Ophthalmologists",null,{"$f":"'3. Providers'!G32","v":0},{"$f":"'3. Providers'!E32+'3. Providers'!F32","v":0}]
[null,"Total Medical Visits and FTEs",null,{"$f":"SUM(D12:D18)","v":0},{"$f":"SUM(E12:E18)","v":0}]
["B","DENTAL PROVIDERS",null,"I","II"]
[1,"General Dentists",null,{"$f":"'3. Providers'!G61","v":0},{"$f":"'3. Providers'!E61+'3. Providers'!F61","v":0}]
[2,"Dental Specialist (DMD-DDS)",null,{"$f":"'3. Providers'!G62","v":0},{"$f":"'3. Providers'!E62+'3. Providers'!F62","v":0}]
[3,"Dental Hygienists",null,{"$f":"'3. Providers'!G63","v":0},{"$f":"'3. Providers'!E63+'3. Providers'!F63","v":0}]
[null,"Total Dental Visits and FTEs",null,{"$f":"SUM(D21:D23)","v":0},{"$f":"SUM(E21:E23)","v":0}]
["C","BEHAVIORAL HEALTH PROVIDERS",null,"I","II"]
["Mental Health Providers"]
[1,"Psychiatrists",null,{"$f":"'3. Providers'!G74","v":0},{"$f":"'3. Providers'!E74+'3. Providers'!F74","v":0}]
[2,"Psychologists",null,{"$f":"'3. Providers'!G75","v":0},{"$f":"'3. Providers'!E75+'3. Providers'!F75","v":0}]
[3,"Licensed Independent Clinical Social Worker (LISCW)",null,{"$f":"'3. Providers'!G77","v":0},{"$f":"'3. Providers'!E77+'3. Providers'!F77","v":0}]
[4,"Licensed Clinical Social Worker (LCSW)",null,{"$f":"'3. Providers'!G78","v":0},{"$f":"'3. Providers'!E78+'3. Providers'!F78","v":0}]
[5,"Unlicensed Master of Social Worker (MSW)",null,{"$f":"'3. Providers'!G79","v":0},{"$f":"'3. Providers'!E79+'3. Providers'!F79","v":0}]
[6,"Licensed Mental Health Counselor (LMHC)",null,{"$f":"'3. Providers'!G80","v":0},{"$f":"'3. Providers'!E80+'3. Providers'!F80","v":0}]
[7,"Family Therapists",null,{"$f":"'3. Providers'!G81","v":0},{"$f":"'3. Providers'!E81+'3. Providers'!F81","v":0}]
[8,"Psychiatric Nurse Practitioner",null,{"$f":"'3. Providers'!G83","v":0},{"$f":"'3. Providers'!E83+'3. Providers'!F83","v":0}]
[9,"Nurses - Psychiatric and Mental Health",null,{"$f":"'3. Providers'!G84","v":0},{"$f":"'3. Providers'!E84+'3. Providers'!F84","v":0}]
[10,"RN Nurse Counselors",null,{"$f":"'3. Providers'!G85","v":0},{"$f":"'3. Providers'!E85+'3. Providers'!F85","v":0}]
[11,"Unlicensed Mental Health Providers, including trainees (interns or residents) and \"Certified\" staff",null,{"$f":"'3. Providers'!G86","v":0},{"$f":"'3. Providers'!E86+'3. Providers'!F86","v":0}]
["Substance Use Providers"]
[12,"RN Nurse Counselors",null,{"$f":"'3. Providers'!G89","v":0},{"$f":"'3. Providers'!E89+'3. Providers'!F89","v":0}]
[13,"Licensed Independent Clinical Social Worker (LISCW)",null,{"$f":"'3. Providers'!G91","v":0},{"$f":"'3. Providers'!E91+'3. Providers'!F91","v":0}]
[14,"Licensed Clinical Social Worker (LCSW)",null,{"$f":"'3. Providers'!G92","v":0},{"$f":"'3. Providers'!E92+'3. Providers'!F92","v":0}]
[15,"Unlicensed Master of Social Worker (MSW)",null,{"$f":"'3. Providers'!G93","v":0},{"$f":"'3. Providers'!E93+'3. Providers'!F93","v":0}]
[16,"Licensed Mental Health Counselor (LMHC)",null,{"$f":"'3. Providers'!G94","v":0},{"$f":"'3. Providers'!E94+'3. Providers'!F94","v":0}]
[17,"LADAC/CADAC ",null,{"$f":"'3. Providers'!G96","v":0},{"$f":"'3. Providers'!E96+'3. Providers'!F96","v":0}]
[18,"Family Therapists",null,{"$f":"'3. Providers'!G95","v":0},{"$f":"'3. Providers'!E95+'3. Providers'!F95","v":0}]
[19,"Recovery Coaches/Peer Support",null,{"$f":"'3. Providers'!G98","v":0},{"$f":"'3. Providers'!E98+'3. Providers'!F98","v":0}]
[null,"Total Behavioral Health Visits and FTEs",null,{"$f":"SUM(D27:D46)","v":0},{"$f":"SUM(E27:E46)","v":0}]
["l.","TOTAL VISITS AND FTEs",null,{"$f":"D47+D24+D19","v":0},{"$f":"E47+E24+E19","v":0}]

{"sheet":"Form A - Allocations","index":18,"n_rows":33,"n_cols":20,"rows_kept":33,"cut":false,"hidden":false,"merged":[[1,1,1,4],[2,1,2,4],[3,1,3,4],[27,1,27,2],[29,1,29,2],[10,1,10,2],[16,1,16,2],[22,1,22,2],[23,1,23,2]]}
[]
[null,"Community Health Center Cost Report"]
[null,"Form A - Allocations"]
[null,{"$f":"'1. Agency Information'!C9","v":0}]
[]
[null,null,null,null,null,null,null,null,null,null,null,null,null,null,null,null,null,null,null,"Form A (Statistical Basis/Allocations)"]
[]
["BASIS FOR ALLOCATIONS"]
[]
["Costs"]
["Line","Allocation Basis",null,"Total","Medical\n(In-Bundle)","Behavioral Health\n(In-Bundle)","Dental\n(100% In-Bundle)","Laboratory","X-Ray","Pharmacy","Medical\n(Out-of-Bundle)","Behavioral Health\n(Out-of-Bundle)","Medical Non-Providers Staff Costs","Behavrioral Health Non-Providers Staff Costs","Medical Other Direct Costs","Behavioral Health Other Direct Costs","Facility","Enabling","Admin","Non-Allowable"]
[1,"In-Bundle & Out-of-Bundle FTEs (Tab 3)","Non-Provider & Other Direct Costs",{"$f":"SUM(E12:T12)","v":0},{"$f":"('3. Providers'!E21+'3. Providers'!F21)+('3. Providers'!E22+'3. Providers'!F22)+('3. Providers'!E23+'3. Providers'!F23)+('3. Providers'!E24+'3. Providers'!F24)+('3. Providers'!E27+'3. Providers'!F27)+('3. Providers'!E28+'3. Providers'!F28)+('3. Providers'!E29+'3. Providers'!F29)+('3. Providers'!E32+'3. Providers'!F32)","v":0},{"$f":"('3. Providers'!E74+'3. Providers'!F74)+('3. Providers'!E75+'3. Providers'!F75)+('3. Providers'!E77+'3. Providers'!F77)+('3. Providers'!E78+'3. Providers'!F78)+('3. Providers'!E79+'3. Providers'!F79)+('3. Providers'!E80+'3. Providers'!F80)+('3. Providers'!E81+'3. Providers'!F81)+('3. Providers'!E83+'3. Providers'!F83)+('3. Providers'!E84+'3. Providers'!F84)+('3. Providers'!E85+'3. Providers'!F85)+('3. Providers'!E86+'3. Providers'!F86)+('3. Providers'!E89+'3. Providers'!F89)+('3. Providers'!E91+'3. Providers'!F91)+('3. Providers'!E92+'3. Providers'!F92)+('3. Providers'!E93+'3. Providers'!F93)+('3. Providers'!E94+'3. Providers'!F94)+('3. Providers'!E95+'3. Providers'!F95)+('3. Providers'!E96+'3. Providers'!F96)+('3. Providers'!E98+'3. Providers'!F98)","v":0},{"$f":"('3. Providers'!E61+'3. Providers'!F61)+('3. Providers'!E62+'3. Providers'!F62)+('3. Providers'!E63+'3. Providers'!F63)+('3. Providers'!E64+'3. Providers'!F64)","v":0},null,null,null,{"$f":"('3. Providers'!E33+'3. Providers'!F33)+('3. Providers'!E34+'3. Providers'!F34)+('3. Providers'!E57+'3. Providers'!F57)","v":0},{"$f":"('3. Providers'!E97+'3. Providers'!F97)+('3. Providers'!E99+'3. Providers'!F99)","v":0}]
[2,"Square Footage","Facility",{"$f":"SUM(E13:T13)","v":0},{"$f":"('8. Other Information'!C9+'8. Other Information'!C10)*E18","v":0},{"$f":"('8. Other Information'!C17)*F18","v":0},{"$f":"('8. Other Information'!C11)*G18","v":0},{"$f":"'8. Other Information'!C12","v":0},{"$f":"'8. Other Information'!C13","v":0},{"$f":"'8. Other Information'!C14","v":0},{"$f":"('8. Other Information'!C9+'8. Other Information'!C10)*K18","v":0},{"$f":"('8. Other Information'!C17)*L18","v":0},null,null,null,null,null,{"$f":"'8. Other Information'!C16","v":0},{"$f":"'8. Other Information'!C15","v":0},{"$f":"'8. Other Information'!C18","v":0}]
[3,"Total Visits (Form 7 & Tab 3)","Enabling",{"$f":"SUM(E14:T14)","v":0},{"$f":"'Form 7 - Visits by FTE'!D19","v":0},{"$f":"'Form 7 - Visits by FTE'!D47","v":0},{"$f":"'Form 7 - Visits by FTE'!D24","v":0},null,null,null,{"$f":"'3. Providers'!G33+'3. Providers'!G34+'3. Providers'!G57","v":0},{"$f":"'3. Providers'!G97+'3. Providers'!G99","v":0}]
[4,"Accumulated Cost (Line 16)","Admin",{"$f":"SUM(E15:T15)","v":0},{"$f":"E31","v":0},{"$f":"F31","v":0},0,0,0,0,0,0,null,null,null,null,null,null,null,{"$f":"T31","v":0}]
[]
["Line","% Allocated",null,"Total","Medical\n(In-Bundle)","Behavioral Health\n(In-Bundle)","Dental\n(100% In-Bundle)","Laboratory","X-Ray","Pharmacy","Medical\n(Out-of-bundle)","Behavioral Health\n(Out-of-bundle)","Medical Non-Providers Staff Costs","Behavrioral Health Non-Providers Staff Costs","Medical Other Direct Costs","Behavioral Health Other Direct Costs","Facility","Enabling","Admin","Non-Allowable"]
[5,"In-Bundle & Out-of-Bundle FTEs","Non-Provider & Other Direct Costs",null,{"$f":"IFERROR(E12/(E12+K12),0)","v":0},{"$f":"IFERROR(F12/(F12+L12),0)","v":0},{"$f":"IFERROR(G12/G12,0)","v":0},null,null,null,{"$f":"IFERROR(K12/(E12+K12),0)","v":0},{"$f":"IFERROR(L12/(F12+L12),0)","v":0}]
[6,"Square Footage","Facility",{"$f":"SUM(E19:T19)","v":0},{"$f":"IFERROR(E13/$D13,0)","v":0},0,0,0,0,0,{"$f":"IFERROR(K13/$D13,0)","v":0},0,null,null,null,null,null,{"$f":"IFERROR(R13/$D13,0)","v":0},{"$f":"IFERROR(S13/$D13,0)","v":0},{"$f":"IFERROR(T13/$D13,0)","v":0}]
[7,"Total Visits","Enabling",{"$f":"SUM(E20:T20)","v":0},{"$f":"IFERROR(E14/$D14,0)","v":0},{"$f":"IFERROR(F14/$D14,0)","v":0},{"$f":"IFERROR(G14/$D14,0)","v":0},null,null,null,{"$f":"IFERROR(K14/$D14,0)","v":0},{"$f":"IFERROR(L14/$D14,0)","v":0}]
[8,"Accumulated Cost","Admin",{"$f":"SUM(E21:T21)","v":0},{"$f":"IFERROR(E15/$D15, \"0\")","v":"0"},"0","0","0","0","0","0","0",null,null,null,null,null,null,null,{"$f":"IFERROR(T15/$D15, \"0\")","v":"0"}]
[]
["Line","Cost Allocations",null,"Total","Medical\n(In-Bundle)","Behavioral Health\n(In-Bundle)","Dental\n(100% In-Bundle)","Laboratory","X-Ray","Pharmacy","Medical\n(Out-of-bundle)","Behavioral Health\n(Out-of-bundle)","Medical Non-Providers Staff Costs","Behavrioral Health Non-Providers Staff Costs","Medical Other Direct Costs","Behavioral Health Other Direct Costs","Facility","Enabling","Admin","Non-Allowable"]
[9,"Net Direct Expenses (Forms 1-5)",null,{"$f":"SUM(E24:T24)","v":0},{"$f":"'Form 1 - Direct Medical Cost'!L21","v":0},{"$f":"'Form 3 - Direct BH Cost'!L34","v":0},{"$f":"'Form 2 - Direct Dental Cost'!L40","v":0},{"$f":"'Form 4 - NonAllowable'!L25","v":0},{"$f":"'Form 4 - NonAllowable'!L26","v":0},{"$f":"'Form 4 - NonAllowable'!L27","v":0},{"$f":"'Form 1 - Direct Medical Cost'!L26","v":0},{"$f":"'Form 3 - Direct BH Cost'!L38","v":0},{"$f":"'Form 1 - Direct Medical Cost'!L28","v":0},{"$f":"'Form 3 - Direct BH Cost'!L40","v":0},{"$f":"'Form 1 - Direct Medical Cost'!L47","v":0},{"$f":"'Form 3 - Direct BH Cost'!L59","v":0},{"$f":"'Form 5 - Overhead & Enabling'!L32","v":0},{"$f":"'Form 5 - Overhead & Enabling'!L73","v":0},{"$f":"'Form 5 - Overhead & Enabling'!L54","v":0},{"$f":"'Form 4 - NonAllowable'!L32-'Form 4 - NonAllowable'!L27-'Form 4 - NonAllowable'!L26-'Form 4 - NonAllowable'!L25","v":0}]
[10,"Allocation of Medical and Behavioral Health Non-Provider Staff Costs (by FTEs)",null,0,{"$f":"E$18*$M$24","v":0},{"$f":"F$18*$N$24","v":0},null,null,null,null,{"$f":"K$18*$M$24","v":0},{"$f":"L$18*$N$24","v":0},{"$f":"-M24","v":0},{"$f":"-N24","v":0}]
[11,"Allocation of Medical and Behavioral Health Other Direct Costs (by FTEs)",null,0,{"$f":"E$18*$O$24","v":0},{"$f":"F$18*$P$24","v":0},null,null,null,null,{"$f":"K$18*$O$24","v":0},{"$f":"L$18*$P$24","v":0},null,null,{"$f":"-O24","v":0},{"$f":"-P24","v":0}]
[12,"Direct Expenses, After Non-Provider Staff Cost and Other Direct Cost Allocation (Line 9+10+11)",null,0,{"$f":"SUM(E24:E26)","v":0},0,0,0,0,0,0,0,0,{"$f":"SUM(N24:N26)","v":0},0,{"$f":"SUM(P24:P26)","v":0},0,0,0,0]
[13,"Allocation of Facility Costs (by Square Footage)","Enabling",0,{"$f":"$Q24*E19","v":0},0,0,0,0,0,0,0,null,null,null,null,{"$f":"-Q24","v":0},{"$f":"$Q24*R19","v":0},{"$f":"$Q24*S19","v":0},{"$f":"$Q24*T19","v":0}]
[14,"Direct Expenses, After Facility Allocation (Line 12+13)",null,0,{"$f":"E27+E28","v":0},{"$f":"F27+F28","v":0},0,0,0,0,0,0,null,null,null,null,{"$f":"Q24+Q28","v":0},{"$f":"R24+R28","v":0},{"$f":"S24+S28","v":0},{"$f":"T24+T28","v":0}]
[15,"Allocation of Enabling Services Costs (by Visits)","Enabling",0,{"$f":"$R$29*E20","v":0},{"$f":"$R$29*F20","v":0},{"$f":"$R$29*G20","v":0},null,null,null,{"$f":"$R$29*K20","v":0},{"$f":"$R$29*L20","v":0},null,null,null,null,null,{"$f":"-R29","v":0}]
[16,"Direct Expenses, After Allocation of Facility and Enabling (Line 14+15)",null,0,{"$f":"E29+E30","v":0},{"$f":"F29+F30","v":0},{"$f":"G29+G30","v":0},0,0,0,0,0,null,null,null,null,null,{"$f":"R29+R30","v":0},{"$f":"S29+S30","v":0},{"$f":"T29+T30","v":0}]
[17,"Allocation of Administrative Expenses (by Accumulated Cost)",null,0,{"$f":"$S31*E21","v":0},0,{"$f":"$S31*G21","v":0},0,{"$f":"$S31*I21","v":0},0,{"$f":"$S31*K21","v":0},{"$f":"$S31*L21","v":0},null,null,null,null,null,null,{"$f":"-S31","v":0},{"$f":"$S31*T21","v":0}]
[18,"Total Adjusted Net Expenses (Line 16+17)",null,{"$f":"SUM(E33:T33)","v":0},{"$f":"E31+E32","v":0},{"$f":"F31+F32","v":0},0,0,0,0,0,0,null,null,null,null,null,null,{"$f":"S31+S32","v":0},{"$f":"T31+T32","v":0}]

{"sheet":"Form B - Cost per Visit","index":19,"n_rows":20,"n_cols":4,"rows_kept":20,"cut":false,"hidden":false,"merged":[[11,1,11,2],[1,1,1,3],[2,1,2,3],[3,1,3,3]]}
[]
[null,"Community Health Center Cost Report"]
[null,"Form B - Cost per Visit"]
[null,{"$f":"'1. Agency Information'!C9","v":0}]
[]
[null,null,null,"Form B (Allowable Cost per Visit)"]
[]
["COST ADJUSTMENT AND ALLOCATION"]
[]
[]
[]
[null,null,null,"Costs"]
["I","Medical + Behavioral Health (Dental Carved Out)"]
["A.","Total Adjusted Allowable Costs (Form A, Line 18)",null,{"$f":"'Form A - Allocations'!E33+'Form A - Allocations'!F33","v":0}]
["B.","Visits (Form 7)",null,{"$f":"'Form 7 - Visits by FTE'!D19+'Form 7 - Visits by FTE'!D47","v":0}]
["C.","Allowable Medical + BH Cost per Visit (A/B)",null,{"$f":"IFERROR(D14/D15, \"\")","v":""}]
["II","Dental Costs"]
["A.","Total Adjusted Allowable Costs (Form A, Line 18)",null,{"$f":"'Form A - Allocations'!G33","v":0}]
["B.","Visits (Form 7)",null,{"$f":"'Form 7 - Visits by FTE'!D24","v":0}]
["C.","Allowable Dental Cost per Visit (A/B)",null,{"$f":"IFERROR(D18/D19, \"\")","v":""}]

{"sheet":"Tab 9. Reconciliation","index":20,"n_rows":37,"n_cols":4,"rows_kept":37,"cut":false,"hidden":false,"merged":[[32,1,32,2],[36,1,36,2],[1,1,1,5],[2,1,2,5],[3,1,3,5],[7,1,7,2],[5,1,5,3],[13,1,13,2],[18,1,18,2],[23,1,23,2]]}
[]
[null,"Community Health Center Cost Report"]
[null,"Tab 9 - Reconciliation"]
[null,{"$f":"'1. Agency Information'!C9","v":0}]
[]
[null,"RECONCILIATION OF COST REPORT NET INCOME TO FINANCIAL STATEMENT (BOOK) NET INCOME"]
[]
["Line #","Cost Report Net Income"]
[1,"Total Cost Report Revenue (Tab 2, line 45)",{"$f":"ROUND('2. Revenue'!F57,0)","v":0}]
[2,"Total Cost Report Expenses (Form A, Line 18 plus Tab 7, Line 19)",{"$f":"ROUND(SUM('Form A - Allocations'!$D$33,'7. Adjustment Template'!$F$11),0)","v":0}]
[3,"Net Income (Loss) Cost Report",{"$f":"C9-C10","v":0}]
[4,"Profitability",{"$f":"IFERROR(((C9-C10)/C9),\"0\")","v":"0"}]
[]
[null,"Financial Statement Net Income"]
[5,"Total Financial Statement Revenue"]
[6,"Total Financial Statement Expenses"]
[7,"Net Income (Loss) Financial Statement",{"$f":"C15-C16","v":0}]
[]
[null,"Variance"]
[8,"Variance Between Cost Report and Financial Statements: Revenue",{"$f":"C9-C15","v":0}]
[9,"Variance Between Cost Report and Financial Statements: Expenses",{"$f":"C10-C16","v":0}]
[10,"Variance Between Cost Report and Financial Statements: Net Income",{"$f":"C11-C17","v":0}]
[]
[null,"Reconciling Items"]
[null,null,"Description","Amount ($)"]
[11,"Reconciling Item #1"]
[12,"Reconciling Item #2"]
[13,"Reconciling Item #3"]
[14,"Reconciling Item #4"]
[15,"Reconciling Item #5"]
[null,null,"Total Reconciling Items",{"$f":"SUM(D26:D30)","v":0}]
[]
[null,"Reconciliation"]
[16,"Difference Between Total Reconciling Items and Variance Between Cost Report and Financial Statements: Net Income *",{"$f":"C22-D31","v":0}]
[]
[null,"Footnote Legend"]
[null,"* This should be zero. The variance in the net income should be accounted for by the reconciling items. "]

{"sheet":"Tab 10. Accuracy of Report","index":21,"n_rows":42,"n_cols":6,"rows_kept":42,"cut":false,"hidden":false,"merged":[[33,2,33,3],[35,2,35,3],[41,2,41,3],[28,2,28,3],[29,2,29,3],[37,2,37,3],[40,2,40,3],[38,2,38,3],[39,2,39,3],[34,2,34,3],[36,2,36,3],[31,2,31,3],[32,2,32,3],[22,2,22,6],[23,2,23,3],[24,2,24,3],[26,2,26,3],[27,2,27,3],[25,2,25,3],[1,1,1,5],[2,1,2,5],[3,2,3,4],[4,1,4,5],[5,2,5,5],[11,1,11,5],[6,2,6,5],[7,1,7,5],[8,2,8,5],[9,1,9,5],[10,1,10,5]]}
[]
[null,"Community Health Center Cost Report"]
[null,"Tab 10 - Accuracy of Report"]
[null,null,null,null,null,"R.5-0 Industries Inc."]
[null,{"$f":"'1. Agency Information'!B4","v":0}]
[]
[]
[null,"CERTIFICATION BY PROVIDER"]
[]
[null,"I declare and affirm under the penalties of perjury that this report thas been examined by me, and to the best of my knowledge and belief, is true and correct statement."]
[null,"This payment reporting form is subject to audit and verification by the Center for Health Informtion and Analysis."]
[null,"By filling out the boxes below I hereby certify that I am authorized by the provider to submit this information."]
[]
[null,null,null,"Total Revenue",{"$f":"'2. Revenue'!F57","v":0}]
[null,null,null,"Total Expense",{"$f":"'Tab 9. Reconciliation'!C10","v":0}]
[null,null,null,"Profit/Loss",{"$f":"E14-E15","v":0}]
[null,null,null,"Profitability ",{"$f":"IFERROR(((E14-E15)/E14), \"0\")","v":"0"}]
[]
[null,null,null,"Signature of Authorized Submitter\n(Type electronic signature):"]
[null,null,null,"Date of Submission (mm/dd/yyyy):"]
[null,null,null,"Submitter's Acknowledgement:"]
[]
[null,null,"You may submit when each line says \"No Action Required\". You will not be able to successfully submit if you see an \"Error\" message below. "]
[null,null,"Provider name is chosen (Tab 1)",null,{"$f":"IF(ProviderName=\"\",\"ERROR\",\"No Action Required\")","v":"ERROR"}]
[null,null,"MassHealth ID is entered (Tab 1)",null,{"$f":"IF(MassHealthProviderID=\"\",\"ERROR\",\"No Action Required\")","v":"ERROR"}]
[null,null,"Medicare Provider Number (Tab 1)",null,{"$f":"IF('1. Agency Information'!C12=\"\",\"ERROR\",\"No Action Required\")","v":"ERROR"}]
[null,null,"Fiscal year ending date is selected (Tab 1)",null,{"$f":"IF('1. Agency Information'!C18=\"\",\"ERROR\",\"No Action Required\")","v":"ERROR"}]
[null,null,"Contact Information is complete (Name, Phone Number, and Email Address) (Tab 1)",null,{"$f":"IF(OR('1. Agency Information'!C21=\"\",'1. Agency Information'!C23=\"\",'1. Agency Information'!C25=\"\"),\"ERROR\",\"No Action Required\")","v":"ERROR"}]
[null,null,"Total Revenue amount is entered (Tab 2)",null,{"$f":"IF('2. Revenue'!F57=0,\"ERROR\",\"No Action Required\")","v":"ERROR"}]
[null,null,"Total Benefit amount is entered (Tab 5)",null,{"$f":"IF('5. Cost Information'!D22<=0,\"ERROR\",\"No Action Required\")","v":"ERROR"}]
[null,null,"Medical Expense amount is entered",null,{"$f":"IF('Cost Breakdown'!E18<=0,\"ERROR\",\"No Action Required\")","v":"ERROR"}]
[null,null,"Total Other Than Personnel Services (OTPS) Expense is entered (Tab 5)",null,{"$f":"IF('5. Cost Information'!W60<=0,\"ERROR\",\"No Action Required\")","v":"ERROR"}]
[null,null,"Provider Salary Expense is entered if Provider Salary FTE is Entered (Tab 3)",null,{"$f":"IF(AND('3. Providers'!C108>0,'3. Providers'!E108<=0), \"ERROR\", \"No Action Required\")","v":"No Action Required"}]
[null,null,"Provider Contractor Expense is entered if Provider Contractor FTE is Entered (Tab 3)",null,{"$f":"IF(AND('3. Providers'!D108>0,'3. Providers'!F108<=0), \"ERROR\", \"No Action Required\")","v":"No Action Required"}]
[null,null,"Non-Provider Salary Expense is entered if Non-Provider Salary FTE is Entered (Tab 4)",null,{"$f":"IF(AND(('4. Non-Providers'!C312+'4. Non-Providers'!C289)>0,('4. Non-Providers'!E312+'4. Non-Providers'!E289)<=0), \"ERROR\", \"No Action Required\")","v":"No Action Required"}]
[null,null,"Non-Provider Contractor Expense is entered if Non-Provider Contractor FTE is Entered (Tab 4)",null,{"$f":"IF(AND(('4. Non-Providers'!D312+'4. Non-Providers'!D289)>0,('4. Non-Providers'!F312+'4. Non-Providers'!F289)<=0), \"ERROR\", \"No Action Required\")","v":"No Action Required"}]
[null,null,"Non-Provider Salary/Contractor Expense and/or Non-Provider Salary/Contractor FTEs are entered (Tab 4)",null,{"$f":"IF(AND(('4. Non-Providers'!C312+'4. Non-Providers'!C289)<=0,('4. Non-Providers'!D312+'4. Non-Providers'!D289)<=0,('4. Non-Providers'!E312+'4. Non-Providers'!E289)<=0,('4. Non-Providers'!F312+'4. Non-Providers'!F289)<=0),\"ERROR\",\"No Action Required\")","v":"ERROR"}]
[null,null,"Total Expense amount is entered (Cost Breakdown Tab)",null,{"$f":"IF('Cost Breakdown'!D18<=0,\"ERROR\",\"No Action Required\")","v":"ERROR"}]
[null,null,"Square Footage is entered (Tab 8)",null,{"$f":"IF('8. Other Information'!C19<=0,\"ERROR\",\"No Action Required\")","v":"ERROR"}]
[null,null,"Total Billable Vist amount is entered (Tab 3)",null,{"$f":"IF('3. Providers'!G108<=0,\"ERROR\",\"No Action Required\")","v":"ERROR"}]
[null,null,"The reported differences between your cost report and financial statement must equal the sum of the variances reported in the Reconcilliation tab.",null,{"$f":"IF('Tab 9. Reconciliation'!C34=0,\"No Action Required\",\"ERROR\")","v":"No Action Required"}]
[null,null,"Above Certification by Provider is complete.",null,{"$f":"IF(OR(E19=0,E20=0,E21=0),\"ERROR\",\"No Action Required\")","v":"ERROR"}]

{"sheet":"Provider List","index":22,"n_rows":38,"n_cols":3,"rows_kept":38,"cut":false,"hidden":true,"merged":[]}
[]
[]
[null,"CMS2 ID","Provider Name"]
[null,"-"]
[null,15,"Boston Health Care for the Homeless Program"]
[null,26,"Brockton Neighborhood Health Center"]
[null,125,"Caring Health Center, Inc."]
[null,80,"Charles River Community Health"]
[null,6798,"Community Health Center of Cape Cod"]
[null,3104,"Community Health Center of Franklin County"]
[null,4051,"Community Health Connections Family Health Center (Fitchburg CHC)"]
[null,9416,"Community Health Programs Health Center"]
[null,11086,"Community HealthLink"]
[null,55,"Dimock Community Health Center"]
[null,1472,"Duffy Health Center"]
[null,63,"Edward M. Kennedy Community Health Center Inc."]
[null,58,"Family Health Center of Worcester"]
[null,60,"Fenway Community Health Center"]
[null,64,"Greater Lawrence Family Health Center"]
[null,65,"Greater New Bedford Community Health Center, Inc."]
[null,4461,"Harbor Health Services, Inc. "]
[null,69,"Harvard Street Neighborhood Health Center"]
[null,72,"HealthFirst Family Care Center, Inc"]
[null,74,"Hilltown Community Health Centers, Inc."]
[null,76,"Holyoke Health Center"]
[null,7972,"Island Health Care"]
[null,84,"Lowell Community Health Center"]
[null,86,"Lynn Community Health Center"]
[null,87,"Manet Community Health Center, Inc. at North Quincy"]
[null,90,"Mattapan Community Health Center"]
[null,108,"North End Waterfront Health (formerly North End CHC)"]
[null,1456,"North Shore Community Health, Inc."]
[null,111,"Outer Cape Health Services"]
[null,120,"South Cove Community Health Center"]
[null,3874,"Springfield Health Services for the Homeless"]
[null,128,"Stanley Street Treatment and Resources (SSTAR)"]
[null,134,"Upham's Corner Health Center"]
[null,137,"Whittier Street Health Center"]

{"sheet":"Flat Data Tab","index":23,"n_rows":5,"n_cols":4705,"rows_kept":5,"cut":false,"hidden":true,"merged":[]}
[null,null,null,1,{"$f":"D1+1","v":2},{"$f":"E1+1","v":3},{"$f":"F1+1","v":4},5,6,7,8,9,10,11,12,13,14,15,16,17,18,19,20,21,22,23,24,25,26,27,28,29,30,31,32,33,34,35,36,37,38,39,40,41,42,43,44,45,46,47,48,49,50,51,52,53,54,55,56,57,58,59,60,61,62,63,64,65,66,{"$f":"BQ1+1","v":67},{"$f":"BR1+1","v":68},{"$f":"BS1+1","v":69},{"$f":"BT1+1","v":70},{"$f":"BU1+1","v":71},{"$f":"BV1+1","v":72},73,74,75,76,77,78,79,80,81,82,83,84,85,86,87,88,89,90,91,92,{"$f":"CQ1+1","v":93},{"$f":"CR1+1","v":94},{"$f":"CS1+1","v":95},{"$f":"CT1+1","v":96},{"$f":"CU1+1","v":97},{"$f":"CV1+1","v":98},{"$f":"CW1+1","v":99},{"$f":"CX1+1","v":100},{"$f":"CY1+1","v":101},{"$f":"CZ1+1","v":102},{"$f":"DA1+1","v":103},{"$f":"DB1+1","v":104},{"$f":"DC1+1","v":105},{"$f":"DD1+1","v":106},{"$f":"DE1+1","v":107},{"$f":"DF1+1","v":108},{"$f":"DG1+1","v":109},{"$f":"DH1+1","v":110},{"$f":"DI1+1","v":111},{"$f":"DJ1+1","v":112},{"$f":"DK1+1","v":113},{"$f":"DL1+1","v":114},{"$f":"DM1+1","v":115},{"$f":"DN1+1","v":116},{"$f":"DO1+1","v":117},{"$f":"DP1+1","v":118},{"$f":"DQ1+1","v":119},{"$f":"DR1+1","v":120},{"$f":"DS1+1","v":121},{"$f":"DT1+1","v":122},{"$f":"DU1+1","v":123},{"$f":"DV1+1","v":124},{"$f":"DW1+1","v":125},{"$f":"DX1+1","v":126},{"$f":"DY1+1","v":127},{"$f":"DZ1+1","v":128},{"$f":"EA1+1","v":129},{"$f":"EB1+1","v":130},{"$f":"EC1+1","v":131},{"$f":"ED1+1","v":132},{"$f":"EE1+1","v":133},{"$f":"EF1+1","v":134},{"$f":"EG1+1","v":135},{"$f":"EH1+1","v":136},{"$f":"EI1+1","v":137},{"$f":"EJ1+1","v":138},{"$f":"EK1+1","v":139},{"$f":"EL1+1","v":140},{"$f":"EM1+1","v":141},{"$f":"EN1+1","v":142},{"$f":"EO1+1","v":143},{"$f":"EP1+1","v":144},{"$f":"EQ1+1","v":145},{"$f":"ER1+1","v":146},{"$f":"ES1+1","v":147},{"$f":"ET1+1","v":148},{"$f":"EU1+1","v":149},{"$f":"EV1+1","v":150},{"$f":"EW1+1","v":151},{"$f":"EX1+1","v":152},{"$f":"EY1+1","v":153},{"$f":"EZ1+1","v":154},{"$f":"FA1+1","v":155},{"$f":"FB1+1","v":156},{"$f":"FC1+1","v":157},158,{"$f":"FE1+1","v":159},{"$f":"FF1+1","v":160},{"$f":"FG1+1","v":161},{"$f":"FH1+1","v":162},{"$f":"FI1+1","v":163},{"$f":"FJ1+1","v":164},{"$f":"FK1+1","v":165},{"$f":"FL1+1","v":166},{"$f":"FM1+1","v":167},{"$f":"FN1+1","v":168},{"$f":"FO1+1","v":169},{"$f":"FP1+1","v":170},{"$f":"FQ1+1","v":171},{"$f":"FR1+1","v":172},{"$f":"FS1+1","v":173},{"$f":"FT1+1","v":174},175,{"$f":"FV1+1","v":176},{"$f":"FW1+1","v":177},{"$f":"FX1+1","v":178},{"$f":"FY1+1","v":179},{"$f":"FZ1+1","v":180},{"$f":"GA1+1","v":181},{"$f":"GB1+1","v":182},{"$f":"GC1+1","v":183},{"$f":"GD1+1","v":184},{"$f":"GE1+1","v":185},{"$f":"GF1+1","v":186},{"$f":"GG1+1","v":187},{"$f":"GH1+1","v":188},{"$f":"GI1+1","v":189},{"$f":"GJ1+1","v":190},{"$f":"GK1+1","v":191},{"$f":"GL1+1","v":192},{"$f":"GM1+1","v":193},{"$f":"GN1+1","v":194},{"$f":"GO1+1","v":195},{"$f":"GP1+1","v":196},{"$f":"GQ1+1","v":197},{"$f":"GR1+1","v":198},{"$f":"GS1+1","v":199},{"$f":"GT1+1","v":200},{"$f":"GU1+1","v":201},{"$f":"GV1+1","v":202},{"$f":"GW1+1","v":203},{"$f":"GX1+1","v":204},{"$f":"GY1+1","v":205},{"$f":"GZ1+1","v":206},{"$f":"HA1+1","v":207},{"$f":"HB1+1","v":208},{"$f":"HC1+1","v":209},{"$f":"HD1+1","v":210},{"$f":"HE1+1","v":211},{"$f":"HF1+1","v":212},{"$f":"HG1+1","v":213},{"$f":"HH1+1","v":214},{"$f":"HI1+1","v":215},{"$f":"HJ1+1","v":216},{"$f":"HK1+1","v":217},{"$f":"HL1+1","v":218},{"$f":"HM1+1","v":219},{"$f":"HN1+1","v":220},{"$f":"HO1+1","v":221},{"$f":"HP1+1","v":222},{"$f":"HQ1+1","v":223},{"$f":"HR1+1","v":224},{"$f":"HS1+1","v":225},{"$f":"HT1+1","v":226},{"$f":"HU1+1","v":227},{"$f":"HV1+1","v":228},{"$f":"HW1+1","v":229},{"$f":"HX1+1","v":230},{"$f":"HY1+1","v":231},{"$f":"HZ1+1","v":232},{"$f":"IA1+1","v":233},{"$f":"IB1+1","v":234},{"$f":"IC1+1","v":235},{"$f":"ID1+1","v":236},{"$f":"IE1+1","v":237},{"$f":"IF1+1","v":238},{"$f":"IG1+1","v":239},{"$f":"IH1+1","v":240},{"$f":"II1+1","v":241},{"$f":"IJ1+1","v":242},{"$f":"IK1+1","v":243},{"$f":"IL1+1","v":244},{"$f":"IM1+1","v":245},{"$f":"IN1+1","v":246},{"$f":"IO1+1","v":247},{"$f":"IP1+1","v":248},{"$f":"IQ1+1","v":249},{"$f":"IR1+1","v":250},{"$f":"IS1+1","v":251},{"$f":"IT1+1","v":252},{"$f":"IU1+1","v":253},{"$f":"IV1+1","v":254},{"$f":"IW1+1","v":255},{"$f":"IX1+1","v":256},{"$f":"IY1+1","v":257},{"$f":"IZ1+1","v":258},{"$f":"JA1+1","v":259},{"$f":"JB1+1","v":260},{"$f":"JC1+1","v":261},{"$f":"JD1+1","v":262},{"$f":"JE1+1","v":263},{"$f":"JF1+1","v":264},{"$f":"JG1+1","v":265},{"$f":"JH1+1","v":266},{"$f":"JI1+1","v":267},{"$f":"JJ1+1","v":268},{"$f":"JK1+1","v":269},{"$f":"JL1+1","v":270},{"$f":"JM1+1","v":271},{"$f":"JN1+1","v":272},{"$f":"JO1+1","v":273},{"$f":"JP1+1","v":274},{"$f":"JQ1+1","v":275},{"$f":"JR1+1","v":276},{"$f":"JS1+1","v":277},{"$f":"JT1+1","v":278},{"$f":"JU1+1","v":279},{"$f":"JV1+1","v":280},{"$f":"JW1+1","v":281},{"$f":"JX1+1","v":282},{"$f":"JY1+1","v":283},{"$f":"JZ1+1","v":284},{"$f":"KA1+1","v":285},{"$f":"KB1+1","v":286},{"$f":"KC1+1","v":287},{"$f":"KD1+1","v":288},{"$f":"KE1+1","v":289},{"$f":"KF1+1","v":290},{"$f":"KG1+1","v":291},{"$f":"KH1+1","v":292},{"$f":"KI1+1","v":293},{"$f":"KJ1+1","v":294},{"$f":"KK1+1","v":295},{"$f":"KL1+1","v":296},{"$f":"KM1+1","v":297},{"$f":"KN1+1","v":298},{"$f":"KO1+1","v":299},{"$f":"KP1+1","v":300},{"$f":"KQ1+1","v":301},{"$f":"KR1+1","v":302},{"$f":"KS1+1","v":303},{"$f":"KT1+1","v":304},{"$f":"KU1+1","v":305},{"$f":"KV1+1","v":306},{"$f":"KW1+1","v":307},{"$f":"KX1+1","v":308},{"$f":"KY1+1","v":309},{"$f":"KZ1+1","v":310},{"$f":"LA1+1","v":311},{"$f":"LB1+1","v":312},{"$f":"LC1+1","v":313},{"$f":"LD1+1","v":314},{"$f":"LE1+1","v":315},{"$f":"LF1+1","v":316},{"$f":"LG1+1","v":317},{"$f":"LH1+1","v":318},{"$f":"LI1+1","v":319},{"$f":"LJ1+1","v":320},{"$f":"LK1+1","v":321},{"$f":"LL1+1","v":322},{"$f":"LM1+1","v":323},{"$f":"LN1+1","v":324},{"$f":"LO1+1","v":325},{"$f":"LP1+1","v":326},{"$f":"LQ1+1","v":327},{"$f":"LR1+1","v":328},{"$f":"LS1+1","v":329},{"$f":"LT1+1","v":330},{"$f":"LU1+1","v":331},{"$f":"LV1+1","v":332},{"$f":"LW1+1","v":333},{"$f":"LX1+1","v":334},{"$f":"LY1+1","v":335},{"$f":"LZ1+1","v":336},{"$f":"MA1+1","v":337},{"$f":"MB1+1","v":338},{"$f":"MC1+1","v":339},{"$f":"MD1+1","v":340},{"$f":"ME1+1","v":341},{"$f":"MF1+1","v":342},{"$f":"MG1+1","v":343},{"$f":"MH1+1","v":344},{"$f":"MI1+1","v":345},{"$f":"MJ1+1","v":346},{"$f":"MK1+1","v":347},{"$f":"ML1+1","v":348},{"$f":"MM1+1","v":349},{"$f":"MN1+1","v":350},{"$f":"MO1+1","v":351},{"$f":"MP1+1","v":352},{"$f":"MQ1+1","v":353},{"$f":"MR1+1","v":354},{"$f":"MS1+1","v":355},{"$f":"MT1+1","v":356},{"$f":"MU1+1","v":357},{"$f":"MV1+1","v":358},{"$f":"MW1+1","v":359},{"$f":"MX1+1","v":360},{"$f":"MY1+1","v":361},{"$f":"MZ1+1","v":362},{"$f":"NA1+1","v":363},{"$f":"NB1+1","v":364},{"$f":"NC1+1","v":365},{"$f":"ND1+1","v":366},{"$f":"NE1+1","v":367},{"$f":"NF1+1","v":368},{"$f":"NG1+1","v":369},{"$f":"NH1+1","v":370},{"$f":"NI1+1","v":371},{"$f":"NJ1+1","v":372},{"$f":"NK1+1","v":373},{"$f":"NL1+1","v":374},{"$f":"NM1+1","v":375},{"$f":"NN1+1","v":376},{"$f":"NO1+1","v":377},{"$f":"NP1+1","v":378},{"$f":"NQ1+1","v":379},{"$f":"NR1+1","v":380},{"$f":"NS1+1","v":381},{"$f":"NT1+1","v":382},{"$f":"NU1+1","v":383},{"$f":"NV1+1","v":384},{"$f":"NW1+1","v":385},{"$f":"NX1+1","v":386},{"$f":"NY1+1","v":387},{"$f":"NZ1+1","v":388},{"$f":"OA1+1","v":389},{"$f":"OB1+1","v":390},{"$f":"OC1+1","v":391},{"$f":"OD1+1","v":392},{"$f":"OE1+1","v":393},{"$f":"OF1+1","v":394},{"$f":"OG1+1","v":395},{"$f":"OH1+1","v":396},{"$f":"OI1+1","v":397},{"$f":"OJ1+1","v":398},{"$f":"OK1+1","v":399},{"$f":"OL1+1","v":400},{"$f":"OM1+1","v":401},{"$f":"ON1+1","v":402},{"$f":"OO1+1","v":403},{"$f":"OP1+1","v":404},{"$f":"OQ1+1","v":405},{"$f":"OR1+1","v":406},{"$f":"OS1+1","v":407},{"$f":"OT1+1","v":408},{"$f":"OU1+1","v":409},{"$f":"OV1+1","v":410},{"$f":"OW1+1","v":411},{"$f":"OX1+1","v":412},{"$f":"OY1+1","v":413},{"$f":"OZ1+1","v":414},{"$f":"PA1+1","v":415},{"$f":"PB1+1","v":416},{"$f":"PC1+1","v":417},{"$f":"PD1+1","v":418},{"$f":"PE1+1","v":419},{"$f":"PF1+1","v":420},{"$f":"PG1+1","v":421},{"$f":"PH1+1","v":422},{"$f":"PI1+1","v":423},{"$f":"PJ1+1","v":424},{"$f":"PK1+1","v":425},{"$f":"PL1+1","v":426},{"$f":"PM1+1","v":427},{"$f":"PN1+1","v":428},{"$f":"PO1+1","v":429},{"$f":"PP1+1","v":430},{"$f":"PQ1+1","v":431},{"$f":"PR1+1","v":432},{"$f":"PS1+1","v":433},{"$f":"PT1+1","v":434},{"$f":"PU1+1","v":435},{"$f":"PV1+1","v":436},{"$f":"PW1+1","v":437},{"$f":"PX1+1","v":438},{"$f":"PY1+1","v":439},{"$f":"PZ1+1","v":440},{"$f":"QA1+1","v":441},{"$f":"QB1+1","v":442},{"$f":"QC1+1","v":443},{"$f":"QD1+1","v":444},{"$f":"QE1+1","v":445},{"$f":"QF1+1","v":446},{"$f":"QG1+1","v":447},{"$f":"QH1+1","v":448},{"$f":"QI1+1","v":449},{"$f":"QJ1+1","v":450},{"$f":"QK1+1","v":451},{"$f":"QL1+1","v":452},{"$f":"QM1+1","v":453},{"$f":"QN1+1","v":454},{"$f":"QO1+1","v":455},{"$f":"QP1+1","v":456},{"$f":"QQ1+1","v":457},{"$f":"QR1+1","v":458},{"$f":"QS1+1","v":459},{"$f":"QT1+1","v":460},{"$f":"QU1+1","v":461},{"$f":"QV1+1","v":462},{"$f":"QW1+1","v":463},{"$f":"QX1+1","v":464},{"$f":"QY1+1","v":465},{"$f":"QZ1+1","v":466},{"$f":"RA1+1","v":467},{"$f":"RB1+1","v":468},{"$f":"RC1+1","v":469},{"$f":"RD1+1","v":470},{"$f":"RE1+1","v":471},{"$f":"RF1+1","v":472},{"$f":"RG1+1","v":473},{"$f":"RH1+1","v":474},{"$f":"RI1+1","v":475},{"$f":"RJ1+1","v":476},{"$f":"RK1+1","v":477},{"$f":"RL1+1","v":478},{"$f":"RM1+1","v":479},{"$f":"RN1+1","v":480},{"$f":"RO1+1","v":481},{"$f":"RP1+1","v":482},{"$f":"RQ1+1","v":483},{"$f":"RR1+1","v":484},{"$f":"RS1+1","v":485},{"$f":"RT1+1","v":486},{"$f":"RU1+1","v":487},{"$f":"RV1+1","v":488},{"$f":"RW1+1","v":489},{"$f":"RX1+1","v":490},491,{"$f":"RZ1+1","v":492},{"$f":"SA1+1","v":493},{"$f":"SB1+1","v":494},{"$f":"SC1+1","v":495},{"$f":"SD1+1","v":496},{"$f":"SE1+1","v":497},{"$f":"SF1+1","v":498},{"$f":"SG1+1","v":499},{"$f":"SH1+1","v":500},{"$f":"SI1+1","v":501},{"$f":"SJ1+1","v":502},{"$f":"SK1+1","v":503},{"$f":"SL1+1","v":504},{"$f":"SM1+1","v":505},{"$f":"SN1+1","v":506},{"$f":"SO1+1","v":507},{"$f":"SP1+1","v":508},{"$f":"SQ1+1","v":509},{"$f":"SR1+1","v":510},{"$f":"SS1+1","v":511},{"$f":"ST1+1","v":512},{"$f":"SU1+1","v":513},{"$f":"SV1+1","v":514},515,{"$f":"SX1+1","v":516},{"$f":"SY1+1","v":517},{"$f":"SZ1+1","v":518},{"$f":"TA1+1","v":519},{"$f":"TB1+1","v":520},{"$f":"TC1+1","v":521},{"$f":"TD1+1","v":522},{"$f":"TE1+1","v":523},{"$f":"TF1+1","v":524},{"$f":"TG1+1","v":525},{"$f":"TH1+1","v":526},{"$f":"TI1+1","v":527},{"$f":"TJ1+1","v":528},{"$f":"TK1+1","v":529},{"$f":"TL1+1","v":530},{"$f":"TM1+1","v":531},{"$f":"TN1+1","v":532},{"$f":"TO1+1","v":533},{"$f":"TP1+1","v":534},{"$f":"TQ1+1","v":535},{"$f":"TR1+1","v":536},{"$f":"TS1+1","v":537},{"$f":"TT1+1","v":538},{"$f":"TU1+1","v":539},{"$f":"TV1+1","v":540},{"$f":"TW1+1","v":541},{"$f":"TX1+1","v":542},{"$f":"TY1+1","v":543},{"$f":"TZ1+1","v":544},{"$f":"UA1+1","v":545},{"$f":"UB1+1","v":546},{"$f":"UC1+1","v":547},{"$f":"UD1+1","v":548},{"$f":"UE1+1","v":549},{"$f":"UF1+1","v":550},{"$f":"UG1+1","v":551},{"$f":"UH1+1","v":552},{"$f":"UI1+1","v":553},{"$f":"UJ1+1","v":554},{"$f":"UK1+1","v":555},{"$f":"UL1+1","v":556},{"$f":"UM1+1","v":557},{"$f":"UN1+1","v":558},{"$f":"UO1+1","v":559},{"$f":"UP1+1","v":560},{"$f":"UQ1+1","v":561},{"$f":"UR1+1","v":562},{"$f":"US1+1","v":563},{"$f":"UT1+1","v":564},{"$f":"UU1+1","v":565},{"$f":"UV1+1","v":566},{"$f":"UW1+1","v":567},{"$f":"UX1+1","v":568},{"$f":"UY1+1","v":569},{"$f":"UZ1+1","v":570},{"$f":"VA1+1","v":571},{"$f":"VB1+1","v":572},{"$f":"VC1+1","v":573},{"$f":"VD1+1","v":574},{"$f":"VE1+1","v":575},{"$f":"VF1+1","v":576},{"$f":"VG1+1","v":577},{"$f":"VH1+1","v":578},{"$f":"VI1+1","v":579},{"$f":"VJ1+1","v":580},{"$f":"VK1+1","v":581},{"$f":"VL1+1","v":582},{"$f":"VM1+1","v":583},{"$f":"VN1+1","v":584},{"$f":"VO1+1","v":585},{"$f":"VP1+1","v":586},{"$f":"VQ1+1","v":587},{"$f":"VR1+1","v":588},{"$f":"VS1+1","v":589},{"$f":"VT1+1","v":590},{"$f":"VU1+1","v":591},{"$f":"VV1+1","v":592},{"$f":"VW1+1","v":593},{"$f":"VX1+1","v":594},{"$f":"VY1+1","v":595},596,597,{"$f":"WB1+1","v":598},{"$f":"WC1+1","v":599},{"$f":"WD1+1","v":600},{"$f":"WE1+1","v":601},{"$f":"WF1+1","v":602},{"$f":"WG1+1","v":603},{"$f":"WH1+1","v":604},{"$f":"WI1+1","v":605},{"$f":"WJ1+1","v":606},{"$f":"WK1+1","v":607},{"$f":"WL1+1","v":608},{"$f":"WM1+1","v":609},{"$f":"WN1+1","v":610},{"$f":"WO1+1","v":611},{"$f":"WP1+1","v":612},{"$f":"WQ1+1","v":613},{"$f":"WR1+1","v":614},{"$f":"WS1+1","v":615},{"$f":"WT1+1","v":616},{"$f":"WU1+1","v":617},{"$f":"WV1+1","v":618},{"$f":"WW1+1","v":619},{"$f":"WX1+1","v":620},{"$f":"WY1+1","v":621},{"$f":"WZ1+1","v":622},{"$f":"XA1+1","v":623},{"$f":"XB1+1","v":624},{"$f":"XC1+1","v":625},{"$f":"XD1+1","v":626},{"$f":"XE1+1","v":627},{"$f":"XF1+1","v":628},{"$f":"XG1+1","v":629},{"$f":"XH1+1","v":630},{"$f":"XI1+1","v":631},{"$f":"XJ1+1","v":632},{"$f":"XK1+1","v":633},{"$f":"XL1+1","v":634},{"$f":"XM1+1","v":635},{"$f":"XN1+1","v":636},{"$f":"XO1+1","v":637},{"$f":"XP1+1","v":638},{"$f":"XQ1+1","v":639},{"$f":"XR1+1","v":640},{"$f":"XS1+1","v":641},{"$f":"XT1+1","v":642},{"$f":"XU1+1","v":643},{"$f":"XV1+1","v":644},{"$f":"XW1+1","v":645},{"$f":"XX1+1","v":646},{"$f":"XY1+1","v":647},{"$f":"XZ1+1","v":648},{"$f":"YA1+1","v":649},{"$f":"YB1+1","v":650},{"$f":"YC1+1","v":651},{"$f":"YD1+1","v":652},{"$f":"YE1+1","v":653},{"$f":"YF1+1","v":654},{"$f":"YG1+1","v":655},{"$f":"YH1+1","v":656},{"$f":"YI1+1","v":657},{"$f":"YJ1+1","v":658},{"$f":"YK1+1","v":659},{"$f":"YL1+1","v":660},{"$f":"YM1+1","v":661},{"$f":"YN1+1","v":662},{"$f":"YO1+1","v":663},{"$f":"YP1+1","v":664},{"$f":"YQ1+1","v":665},{"$f":"YR1+1","v":666},{"$f":"YS1+1","v":667},{"$f":"YT1+1","v":668},{"$f":"YU1+1","v":669},{"$f":"YV1+1","v":670},{"$f":"YW1+1","v":671},{"$f":"YX1+1","v":672},{"$f":"YY1+1","v":673},{"$f":"YZ1+1","v":674},{"$f":"ZA1+1","v":675},{"$f":"ZB1+1","v":676},{"$f":"ZC1+1","v":677},{"$f":"ZD1+1","v":678},{"$f":"ZE1+1","v":679},{"$f":"ZF1+1","v":680},{"$f":"ZG1+1","v":681},{"$f":"ZH1+1","v":682},{"$f":"ZI1+1","v":683},{"$f":"ZJ1+1","v":684},{"$f":"ZK1+1","v":685},{"$f":"ZL1+1","v":686},{"$f":"ZM1+1","v":687},{"$f":"ZN1+1","v":688},{"$f":"ZO1+1","v":689},{"$f":"ZP1+1","v":690},{"$f":"ZQ1+1","v":691},{"$f":"ZR1+1","v":692},{"$f":"ZS1+1","v":693},{"$f":"ZT1+1","v":694},{"$f":"ZU1+1","v":695},{"$f":"ZV1+1","v":696},{"$f":"ZW1+1","v":697},{"$f":"ZX1+1","v":698},{"$f":"ZY1+1","v":699},{"$f":"ZZ1+1","v":700},{"$f":"AAA1+1","v":701},{"$f":"AAB1+1","v":702},{"$f":"AAC1+1","v":703},{"$f":"AAD1+1","v":704},{"$f":"AAE1+1","v":705},{"$f":"AAF1+1","v":706},{"$f":"AAG1+1","v":707},{"$f":"AAH1+1","v":708},{"$f":"AAI1+1","v":709},{"$f":"AAJ1+1","v":710},{"$f":"AAK1+1","v":711},{"$f":"AAL1+1","v":712},{"$f":"AAM1+1","v":713},{"$f":"AAN1+1","v":714},{"$f":"AAO1+1","v":715},{"$f":"AAP1+1","v":716},{"$f":"AAQ1+1","v":717},{"$f":"AAR1+1","v":718},{"$f":"AAS1+1","v":719},{"$f":"AAT1+1","v":720},{"$f":"AAU1+1","v":721},{"$f":"AAV1+1","v":722},{"$f":"AAW1+1","v":723},{"$f":"AAX1+1","v":724},{"$f":"AAY1+1","v":725},{"$f":"AAZ1+1","v":726},{"$f":"ABA1+1","v":727},{"$f":"ABB1+1","v":728},{"$f":"ABC1+1","v":729},{"$f":"ABD1+1","v":730},{"$f":"ABE1+1","v":731},{"$f":"ABF1+1","v":732},{"$f":"ABG1+1","v":733},{"$f":"ABH1+1","v":734},{"$f":"ABI1+1","v":735},{"$f":"ABJ1+1","v":736},{"$f":"ABK1+1","v":737},{"$f":"ABL1+1","v":738},{"$f":"ABM1+1","v":739},{"$f":"ABN1+1","v":740},{"$f":"ABO1+1","v":741},{"$f":"ABP1+1","v":742},{"$f":"ABQ1+1","v":743},{"$f":"ABR1+1","v":744},{"$f":"ABS1+1","v":745},{"$f":"ABT1+1","v":746},{"$f":"ABU1+1","v":747},{"$f":"ABV1+1","v":748},{"$f":"ABW1+1","v":749},{"$f":"ABX1+1","v":750},{"$f":"ABY1+1","v":751},{"$f":"ABZ1+1","v":752},{"$f":"ACA1+1","v":753},{"$f":"ACB1+1","v":754},{"$f":"ACC1+1","v":755},{"$f":"ACD1+1","v":756},{"$f":"ACE1+1","v":757},{"$f":"ACF1+1","v":758},{"$f":"ACG1+1","v":759},{"$f":"ACH1+1","v":760},{"$f":"ACI1+1","v":761},{"$f":"ACJ1+1","v":762},{"$f":"ACK1+1","v":763},{"$f":"ACL1+1","v":764},{"$f":"ACM1+1","v":765},{"$f":"ACN1+1","v":766},{"$f":"ACO1+1","v":767},{"$f":"ACP1+1","v":768},{"$f":"ACQ1+1","v":769},{"$f":"ACR1+1","v":770},{"$f":"ACS1+1","v":771},{"$f":"ACT1+1","v":772},{"$f":"ACU1+1","v":773},{"$f":"ACV1+1","v":774},{"$f":"ACW1+1","v":775},{"$f":"ACX1+1","v":776},{"$f":"ACY1+1","v":777},{"$f":"ACZ1+1","v":778},{"$f":"ADA1+1","v":779},{"$f":"ADB1+1","v":780},{"$f":"ADC1+1","v":781},{"$f":"ADD1+1","v":782},{"$f":"ADE1+1","v":783},{"$f":"ADF1+1","v":784},{"$f":"ADG1+1","v":785},{"$f":"ADH1+1","v":786},{"$f":"ADI1+1","v":787},{"$f":"ADJ1+1","v":788},{"$f":"ADK1+1","v":789},{"$f":"ADL1+1","v":790},{"$f":"ADM1+1","v":791},{"$f":"ADN1+1","v":792},{"$f":"ADO1+1","v":793},{"$f":"ADP1+1","v":794},{"$f":"ADQ1+1","v":795},{"$f":"ADR1+1","v":796},{"$f":"ADS1+1","v":797},{"$f":"ADT1+1","v":798},{"$f":"ADU1+1","v":799},{"$f":"ADV1+1","v":800},{"$f":"ADW1+1","v":801},{"$f":"ADX1+1","v":802},{"$f":"ADY1+1","v":803},{"$f":"ADZ1+1","v":804},{"$f":"AEA1+1","v":805},{"$f":"AEB1+1","v":806},{"$f":"AEC1+1","v":807},{"$f":"AED1+1","v":808},{"$f":"AEE1+1","v":809},{"$f":"AEF1+1","v":810},{"$f":"AEG1+1","v":811},{"$f":"AEH1+1","v":812},{"$f":"AEI1+1","v":813},{"$f":"AEJ1+1","v":814},{"$f":"AEK1+1","v":815},{"$f":"AEL1+1","v":816},{"$f":"AEM1+1","v":817},{"$f":"AEN1+1","v":818},{"$f":"AEO1+1","v":819},{"$f":"AEP1+1","v":820},{"$f":"AEQ1+1","v":821},{"$f":"AER1+1","v":822},{"$f":"AES1+1","v":823},{"$f":"AET1+1","v":824},{"$f":"AEU1+1","v":825},{"$f":"AEV1+1","v":826},{"$f":"AEW1+1","v":827},{"$f":"AEX1+1","v":828},{"$f":"AEY1+1","v":829},{"$f":"AEZ1+1","v":830},{"$f":"AFA1+1","v":831},{"$f":"AFB1+1","v":832},{"$f":"AFC1+1","v":833},{"$f":"AFD1+1","v":834},{"$f":"AFE1+1","v":835},{"$f":"AFF1+1","v":836},{"$f":"AFG1+1","v":837},{"$f":"AFH1+1","v":838},{"$f":"AFI1+1","v":839},{"$f":"AFJ1+1","v":840},{"$f":"AFK1+1","v":841},{"$f":"AFL1+1","v":842},{"$f":"AFM1+1","v":843},{"$f":"AFN1+1","v":844},{"$f":"AFO1+1","v":845},{"$f":"AFP1+1","v":846},{"$f":"AFQ1+1","v":847},{"$f":"AFR1+1","v":848},{"$f":"AFS1+1","v":849},{"$f":"AFT1+1","v":850},{"$f":"AFU1+1","v":851},{"$f":"AFV1+1","v":852},{"$f":"AFW1+1","v":853},{"$f":"AFX1+1","v":854},{"$f":"AFY1+1","v":855},{"$f":"AFZ1+1","v":856},{"$f":"AGA1+1","v":857},{"$f":"AGB1+1","v":858},{"$f":"AGC1+1","v":859},{"$f":"AGD1+1","v":860},{"$f":"AGE1+1","v":861},{"$f":"AGF1+1","v":862},{"$f":"AGG1+1","v":863},{"$f":"AGH1+1","v":864},{"$f":"AGI1+1","v":865},{"$f":"AGJ1+1","v":866},{"$f":"AGK1+1","v":867},{"$f":"AGL1+1","v":868},{"$f":"AGM1+1","v":869},{"$f":"AGN1+1","v":870},{"$f":"AGO1+1","v":871},{"$f":"AGP1+1","v":872},{"$f":"AGQ1+1","v":873},{"$f":"AGR1+1","v":874},{"$f":"AGS1+1","v":875},{"$f":"AGT1+1","v":876},{"$f":"AGU1+1","v":877},{"$f":"AGV1+1","v":878},{"$f":"AGW1+1","v":879},{"$f":"AGX1+1","v":880},{"$f":"AGY1+1","v":881},{"$f":"AGZ1+1","v":882},{"$f":"AHA1+1","v":883},{"$f":"AHB1+1","v":884},{"$f":"AHC1+1","v":885},{"$f":"AHD1+1","v":886},{"$f":"AHE1+1","v":887},{"$f":"AHF1+1","v":888},{"$f":"AHG1+1","v":889},{"$f":"AHH1+1","v":890},{"$f":"AHI1+1","v":891},{"$f":"AHJ1+1","v":892},{"$f":"AHK1+1","v":893},{"$f":"AHL1+1","v":894},{"$f":"AHM1+1","v":895},{"$f":"AHN1+1","v":896},{"$f":"AHO1+1","v":897},{"$f":"AHP1+1","v":898},{"$f":"AHQ1+1","v":899},{"$f":"AHR1+1","v":900},{"$f":"AHS1+1","v":901},{"$f":"AHT1+1","v":902},{"$f":"AHU1+1","v":903},{"$f":"AHV1+1","v":904},{"$f":"AHW1+1","v":905},{"$f":"AHX1+1","v":906},{"$f":"AHY1+1","v":907},{"$f":"AHZ1+1","v":908},{"$f":"AIA1+1","v":909},{"$f":"AIB1+1","v":910},{"$f":"AIC1+1","v":911},{"$f":"AID1+1","v":912},{"$f":"AIE1+1","v":913},{"$f":"AIF1+1","v":914},{"$f":"AIG1+1","v":915},{"$f":"AIH1+1","v":916},{"$f":"AII1+1","v":917},{"$f":"AIJ1+1","v":918},{"$f":"AIK1+1","v":919},{"$f":"AIL1+1","v":920},{"$f":"AIM1+1","v":921},{"$f":"AIN1+1","v":922},{"$f":"AIO1+1","v":923},{"$f":"AIP1+1","v":924},{"$f":"AIQ1+1","v":925},{"$f":"AIR1+1","v":926},{"$f":"AIS1+1","v":927},{"$f":"AIT1+1","v":928},{"$f":"AIU1+1","v":929},{"$f":"AIV1+1","v":930},{"$f":"AIW1+1","v":931},{"$f":"AIX1+1","v":932},{"$f":"AIY1+1","v":933},{"$f":"AIZ1+1","v":934},{"$f":"AJA1+1","v":935},{"$f":"AJB1+1","v":936},{"$f":"AJC1+1","v":937},{"$f":"AJD1+1","v":938},{"$f":"AJE1+1","v":939},{"$f":"AJF1+1","v":940},{"$f":"AJG1+1","v":941},{"$f":"AJH1+1","v":942},{"$f":"AJI1+1","v":943},{"$f":"AJJ1+1","v":944},{"$f":"AJK1+1","v":945},{"$f":"AJL1+1","v":946},{"$f":"AJM1+1","v":947},{"$f":"AJN1+1","v":948},{"$f":"AJO1+1","v":949},{"$f":"AJP1+1","v":950},{"$f":"AJQ1+1","v":951},{"$f":"AJR1+1","v":952},{"$f":"AJS1+1","v":953},{"$f":"AJT1+1","v":954},{"$f":"AJU1+1","v":955},{"$f":"AJV1+1","v":956},{"$f":"AJW1+1","v":957},{"$f":"AJX1+1","v":958},{"$f":"AJY1+1","v":959},{"$f":"AJZ1+1","v":960},{"$f":"AKA1+1","v":961},{"$f":"AKB1+1","v":962},{"$f":"AKC1+1","v":963},{"$f":"AKD1+1","v":964},{"$f":"AKE1+1","v":965},{"$f":"AKF1+1","v":966},{"$f":"AKG1+1","v":967},{"$f":"AKH1+1","v":968},{"$f":"AKI1+1","v":969},{"$f":"AKJ1+1","v":970},{"$f":"AKK1+1","v":971},{"$f":"AKL1+1","v":972},{"$f":"AKM1+1","v":973},{"$f":"AKN1+1","v":974},{"$f":"AKO1+1","v":975},{"$f":"AKP1+1","v":976},{"$f":"AKQ1+1","v":977},{"$f":"AKR1+1","v":978},{"$f":"AKS1+1","v":979},{"$f":"AKT1+1","v":980},{"$f":"AKU1+1","v":981},{"$f":"AKV1+1","v":982},{"$f":"AKW1+1","v":983},{"$f":"AKX1+1","v":984},{"$f":"AKY1+1","v":985},{"$f":"AKZ1+1","v":986},{"$f":"ALA1+1","v":987},{"$f":"ALB1+1","v":988},{"$f":"ALC1+1","v":989},{"$f":"ALD1+1","v":990},{"$f":"ALE1+1","v":991},{"$f":"ALF1+1","v":992},{"$f":"ALG1+1","v":993},{"$f":"ALH1+1","v":994},{"$f":"ALI1+1","v":995},{"$f":"ALJ1+1","v":996},{"$f":"ALK1+1","v":997},{"$f":"ALL1+1","v":998},{"$f":"ALM1+1","v":999},{"$f":"ALN1+1","v":1000},{"$f":"ALO1+1","v":1001},{"$f":"ALP1+1","v":1002},{"$f":"ALQ1+1","v":1003},{"$f":"ALR1+1","v":1004},{"$f":"ALS1+1","v":1005},{"$f":"ALT1+1","v":1006},{"$f":"ALU1+1","v":1007},{"$f":"ALV1+1","v":1008},{"$f":"ALW1+1","v":1009},{"$f":"ALX1+1","v":1010},{"$f":"ALY1+1","v":1011},{"$f":"ALZ1+1","v":1012},{"$f":"AMA1+1","v":1013},{"$f":"AMB1+1","v":1014},{"$f":"AMC1+1","v":1015},{"$f":"AMD1+1","v":1016},{"$f":"AME1+1","v":1017},{"$f":"AMF1+1","v":1018},{"$f":"AMG1+1","v":1019},{"$f":"AMH1+1","v":1020},{"$f":"AMI1+1","v":1021},{"$f":"AMJ1+1","v":1022},{"$f":"AMK1+1","v":1023},{"$f":"AML1+1","v":1024},{"$f":"AMM1+1","v":1025},{"$f":"AMN1+1","v":1026},{"$f":"AMO1+1","v":1027},{"$f":"AMP1+1","v":1028},{"$f":"AMQ1+1","v":1029},{"$f":"AMR1+1","v":1030},{"$f":"AMS1+1","v":1031},{"$f":"AMT1+1","v":1032},{"$f":"AMU1+1","v":1033},{"$f":"AMV1+1","v":1034},{"$f":"AMW1+1","v":1035},{"$f":"AMX1+1","v":1036},{"$f":"AMY1+1","v":1037},{"$f":"AMZ1+1","v":1038},{"$f":"ANA1+1","v":1039},{"$f":"ANB1+1","v":1040},{"$f":"ANC1+1","v":1041},{"$f":"AND1+1","v":1042},{"$f":"ANE1+1","v":1043},{"$f":"ANF1+1","v":1044},{"$f":"ANG1+1","v":1045},{"$f":"ANH1+1","v":1046},{"$f":"ANI1+1","v":1047},{"$f":"ANJ1+1","v":1048},{"$f":"ANK1+1","v":1049},{"$f":"ANL1+1","v":1050},{"$f":"ANM1+1","v":1051},{"$f":"ANN1+1","v":1052},{"$f":"ANO1+1","v":1053},{"$f":"ANP1+1","v":1054},{"$f":"ANQ1+1","v":1055},{"$f":"ANR1+1","v":1056},{"$f":"ANS1+1","v":1057},{"$f":"ANT1+1","v":1058},{"$f":"ANU1+1","v":1059},{"$f":"ANV1+1","v":1060},{"$f":"ANW1+1","v":1061},{"$f":"ANX1+1","v":1062},{"$f":"ANY1+1","v":1063},{"$f":"ANZ1+1","v":1064},{"$f":"AOA1+1","v":1065},{"$f":"AOB1+1","v":1066},{"$f":"AOC1+1","v":1067},{"$f":"AOD1+1","v":1068},{"$f":"AOE1+1","v":1069},{"$f":"AOF1+1","v":1070},{"$f":"AOG1+1","v":1071},{"$f":"AOH1+1","v":1072},{"$f":"AOI1+1","v":1073},{"$f":"AOJ1+1","v":1074},{"$f":"AOK1+1","v":1075},{"$f":"AOL1+1","v":1076},{"$f":"AOM1+1","v":1077},{"$f":"AON1+1","v":1078},{"$f":"AOO1+1","v":1079},{"$f":"AOP1+1","v":1080},{"$f":"AOQ1+1","v":1081},{"$f":"AOR1+1","v":1082},{"$f":"AOS1+1","v":1083},{"$f":"AOT1+1","v":1084},{"$f":"AOU1+1","v":1085},{"$f":"AOV1+1","v":1086},{"$f":"AOW1+1","v":1087},{"$f":"AOX1+1","v":1088},{"$f":"AOY1+1","v":1089},{"$f":"AOZ1+1","v":1090},{"$f":"APA1+1","v":1091},{"$f":"APB1+1","v":1092},{"$f":"APC1+1","v":1093},{"$f":"APD1+1","v":1094},{"$f":"APE1+1","v":1095},{"$f":"APF1+1","v":1096},{"$f":"APG1+1","v":1097},{"$f":"APH1+1","v":1098},{"$f":"API1+1","v":1099},{"$f":"APJ1+1","v":1100},{"$f":"APK1+1","v":1101},{"$f":"APL1+1","v":1102},{"$f":"APM1+1","v":1103},{"$f":"APN1+1","v":1104},{"$f":"APO1+1","v":1105},{"$f":"APP1+1","v":1106},{"$f":"APQ1+1","v":1107},{"$f":"APR1+1","v":1108},{"$f":"APS1+1","v":1109},{"$f":"APT1+1","v":1110},{"$f":"APU1+1","v":1111},{"$f":"APV1+1","v":1112},{"$f":"APW1+1","v":1113},{"$f":"APX1+1","v":1114},{"$f":"APY1+1","v":1115},{"$f":"APZ1+1","v":1116},{"$f":"AQA1+1","v":1117},{"$f":"AQB1+1","v":1118},{"$f":"AQC1+1","v":1119},{"$f":"AQD1+1","v":1120},{"$f":"AQE1+1","v":1121},{"$f":"AQF1+1","v":1122},{"$f":"AQG1+1","v":1123},{"$f":"AQH1+1","v":1124},{"$f":"AQI1+1","v":1125},{"$f":"AQJ1+1","v":1126},{"$f":"AQK1+1","v":1127},{"$f":"AQL1+1","v":1128},{"$f":"AQM1+1","v":1129},{"$f":"AQN1+1","v":1130},{"$f":"AQO1+1","v":1131},{"$f":"AQP1+1","v":1132},{"$f":"AQQ1+1","v":1133},{"$f":"AQR1+1","v":1134},{"$f":"AQS1+1","v":1135},{"$f":"AQT1+1","v":1136},{"$f":"AQU1+1","v":1137},{"$f":"AQV1+1","v":1138},{"$f":"AQW1+1","v":1139},{"$f":"AQX1+1","v":1140},{"$f":"AQY1+1","v":1141},{"$f":"AQZ1+1","v":1142},{"$f":"ARA1+1","v":1143},{"$f":"ARB1+1","v":1144},{"$f":"ARC1+1","v":1145},{"$f":"ARD1+1","v":1146},{"$f":"ARE1+1","v":1147},{"$f":"ARF1+1","v":1148},{"$f":"ARG1+1","v":1149},{"$f":"ARH1+1","v":1150},{"$f":"ARI1+1","v":1151},{"$f":"ARJ1+1","v":1152},{"$f":"ARK1+1","v":1153},{"$f":"ARL1+1","v":1154},{"$f":"ARM1+1","v":1155},{"$f":"ARN1+1","v":1156},{"$f":"ARO1+1","v":1157},{"$f":"ARP1+1","v":1158},{"$f":"ARQ1+1","v":1159},{"$f":"ARR1+1","v":1160},{"$f":"ARS1+1","v":1161},{"$f":"ART1+1","v":1162},{"$f":"ARU1+1","v":1163},{"$f":"ARV1+1","v":1164},{"$f":"ARW1+1","v":1165},{"$f":"ARX1+1","v":1166},{"$f":"ARY1+1","v":1167},{"$f":"ARZ1+1","v":1168},{"$f":"ASA1+1","v":1169},{"$f":"ASB1+1","v":1170},{"$f":"ASC1+1","v":1171},{"$f":"ASD1+1","v":1172},{"$f":"ASE1+1","v":1173},{"$f":"ASF1+1","v":1174},{"$f":"ASG1+1","v":1175},{"$f":"ASH1+1","v":1176},{"$f":"ASI1+1","v":1177},{"$f":"ASJ1+1","v":1178},{"$f":"ASK1+1","v":1179},{"$f":"ASL1+1","v":1180},{"$f":"ASM1+1","v":1181},{"$f":"ASN1+1","v":1182},{"$f":"ASO1+1","v":1183},{"$f":"ASP1+1","v":1184},{"$f":"ASQ1+1","v":1185},{"$f":"ASR1+1","v":1186},{"$f":"ASS1+1","v":1187},{"$f":"AST1+1","v":1188},{"$f":"ASU1+1","v":1189},{"$f":"ASV1+1","v":1190},{"$f":"ASW1+1","v":1191},{"$f":"ASX1+1","v":1192},{"$f":"ASY1+1","v":1193},{"$f":"ASZ1+1","v":1194},{"$f":"ATA1+1","v":1195},{"$f":"ATB1+1","v":1196},{"$f":"ATC1+1","v":1197},{"$f":"ATD1+1","v":1198},{"$f":"ATE1+1","v":1199},{"$f":"ATF1+1","v":1200},{"$f":"ATG1+1","v":1201},{"$f":"ATH1+1","v":1202},{"$f":"ATI1+1","v":1203},{"$f":"ATJ1+1","v":1204},{"$f":"ATK1+1","v":1205},{"$f":"ATL1+1","v":1206},{"$f":"ATM1+1","v":1207},{"$f":"ATN1+1","v":1208},{"$f":"ATO1+1","v":1209},{"$f":"ATP1+1","v":1210},{"$f":"ATQ1+1","v":1211},{"$f":"ATR1+1","v":1212},{"$f":"ATS1+1","v":1213},{"$f":"ATT1+1","v":1214},{"$f":"ATU1+1","v":1215},{"$f":"ATV1+1","v":1216},{"$f":"ATW1+1","v":1217},{"$f":"ATX1+1","v":1218},{"$f":"ATY1+1","v":1219},{"$f":"ATZ1+1","v":1220},{"$f":"AUA1+1","v":1221},{"$f":"AUB1+1","v":1222},{"$f":"AUC1+1","v":1223},{"$f":"AUD1+1","v":1224},{"$f":"AUE1+1","v":1225},{"$f":"AUF1+1","v":1226},{"$f":"AUG1+1","v":1227},{"$f":"AUH1+1","v":1228},{"$f":"AUI1+1","v":1229},{"$f":"AUJ1+1","v":1230},{"$f":"AUK1+1","v":1231},{"$f":"AUL1+1","v":1232},{"$f":"AUM1+1","v":1233},{"$f":"AUN1+1","v":1234},{"$f":"AUO1+1","v":1235},{"$f":"AUP1+1","v":1236},{"$f":"AUQ1+1","v":1237},{"$f":"AUR1+1","v":1238},{"$f":"AUS1+1","v":1239},{"$f":"AUT1+1","v":1240},{"$f":"AUU1+1","v":1241},{"$f":"AUV1+1","v":1242},{"$f":"AUW1+1","v":1243},{"$f":"AUX1+1","v":1244},{"$f":"AUY1+1","v":1245},{"$f":"AUZ1+1","v":1246},{"$f":"AVA1+1","v":1247},{"$f":"AVB1+1","v":1248},{"$f":"AVC1+1","v":1249},{"$f":"AVD1+1","v":1250},{"$f":"AVE1+1","v":1251},{"$f":"AVF1+1","v":1252},{"$f":"AVG1+1","v":1253},{"$f":"AVH1+1","v":1254},{"$f":"AVI1+1","v":1255},{"$f":"AVJ1+1","v":1256},{"$f":"AVK1+1","v":1257},{"$f":"AVL1+1","v":1258},{"$f":"AVM1+1","v":1259},{"$f":"AVN1+1","v":1260},{"$f":"AVO1+1","v":1261},{"$f":"AVP1+1","v":1262},{"$f":"AVQ1+1","v":1263},{"$f":"AVR1+1","v":1264},{"$f":"AVS1+1","v":1265},{"$f":"AVT1+1","v":1266},{"$f":"AVU1+1","v":1267},{"$f":"AVV1+1","v":1268},{"$f":"AVW1+1","v":1269},{"$f":"AVX1+1","v":1270},{"$f":"AVY1+1","v":1271},{"$f":"AVZ1+1","v":1272},{"$f":"AWA1+1","v":1273},{"$f":"AWB1+1","v":1274},{"$f":"AWC1+1","v":1275},{"$f":"AWD1+1","v":1276},{"$f":"AWE1+1","v":1277},{"$f":"AWF1+1","v":1278},{"$f":"AWG1+1","v":1279},{"$f":"AWH1+1","v":1280},{"$f":"AWI1+1","v":1281},{"$f":"AWJ1+1","v":1282},{"$f":"AWK1+1","v":1283},{"$f":"AWL1+1","v":1284},{"$f":"AWM1+1","v":1285},{"$f":"AWN1+1","v":1286},{"$f":"AWO1+1","v":1287},{"$f":"AWP1+1","v":1288},{"$f":"AWQ1+1","v":1289},{"$f":"AWR1+1","v":1290},{"$f":"AWS1+1","v":1291},{"$f":"AWT1+1","v":1292},{"$f":"AWU1+1","v":1293},{"$f":"AWV1+1","v":1294},{"$f":"AWW1+1","v":1295},{"$f":"AWX1+1","v":1296},{"$f":"AWY1+1","v":1297},{"$f":"AWZ1+1","v":1298},{"$f":"AXA1+1","v":1299},{"$f":"AXB1+1","v":1300},{"$f":"AXC1+1","v":1301},{"$f":"AXD1+1","v":1302},{"$f":"AXE1+1","v":1303},{"$f":"AXF1+1","v":1304},{"$f":"AXG1+1","v":1305},{"$f":"AXH1+1","v":1306},{"$f":"AXI1+1","v":1307},{"$f":"AXJ1+1","v":1308},{"$f":"AXK1+1","v":1309},{"$f":"AXL1+1","v":1310},{"$f":"AXM1+1","v":1311},{"$f":"AXN1+1","v":1312},{"$f":"AXO1+1","v":1313},{"$f":"AXP1+1","v":1314},{"$f":"AXQ1+1","v":1315},{"$f":"AXR1+1","v":1316},{"$f":"AXS1+1","v":1317},{"$f":"AXT1+1","v":1318},{"$f":"AXU1+1","v":1319},{"$f":"AXV1+1","v":1320},{"$f":"AXW1+1","v":1321},{"$f":"AXX1+1","v":1322},{"$f":"AXY1+1","v":1323},{"$f":"AXZ1+1","v":1324},{"$f":"AYA1+1","v":1325},{"$f":"AYB1+1","v":1326},{"$f":"AYC1+1","v":1327},{"$f":"AYD1+1","v":1328},{"$f":"AYE1+1","v":1329},{"$f":"AYF1+1","v":1330},{"$f":"AYG1+1","v":1331},{"$f":"AYH1+1","v":1332},{"$f":"AYI1+1","v":1333},{"$f":"AYJ1+1","v":1334},{"$f":"AYK1+1","v":1335},{"$f":"AYL1+1","v":1336},{"$f":"AYM1+1","v":1337},{"$f":"AYN1+1","v":1338},{"$f":"AYO1+1","v":1339},{"$f":"AYP1+1","v":1340},{"$f":"AYQ1+1","v":1341},{"$f":"AYR1+1","v":1342},{"$f":"AYS1+1","v":1343},{"$f":"AYT1+1","v":1344},{"$f":"AYU1+1","v":1345},{"$f":"AYV1+1","v":1346},{"$f":"AYW1+1","v":1347},{"$f":"AYX1+1","v":1348},{"$f":"AYY1+1","v":1349},{"$f":"AYZ1+1","v":1350},{"$f":"AZA1+1","v":1351},{"$f":"AZB1+1","v":1352},{"$f":"AZC1+1","v":1353},{"$f":"AZD1+1","v":1354},{"$f":"AZE1+1","v":1355},{"$f":"AZF1+1","v":1356},{"$f":"AZG1+1","v":1357},{"$f":"AZH1+1","v":1358},{"$f":"AZI1+1","v":1359},{"$f":"AZJ1+1","v":1360},{"$f":"AZK1+1","v":1361},{"$f":"AZL1+1","v":1362},{"$f":"AZM1+1","v":1363},{"$f":"AZN1+1","v":1364},{"$f":"AZO1+1","v":1365},{"$f":"AZP1+1","v":1366},{"$f":"AZQ1+1","v":1367},{"$f":"AZR1+1","v":1368},{"$f":"AZS1+1","v":1369},{"$f":"AZT1+1","v":1370},{"$f":"AZU1+1","v":1371},{"$f":"AZV1+1","v":1372},{"$f":"AZW1+1","v":1373},{"$f":"AZX1+1","v":1374},{"$f":"AZY1+1","v":1375},{"$f":"AZZ1+1","v":1376},{"$f":"BAA1+1","v":1377},{"$f":"BAB1+1","v":1378},{"$f":"BAC1+1","v":1379},{"$f":"BAD1+1","v":1380},{"$f":"BAE1+1","v":1381},{"$f":"BAF1+1","v":1382},{"$f":"BAG1+1","v":1383},{"$f":"BAH1+1","v":1384},{"$f":"BAI1+1","v":1385},{"$f":"BAJ1+1","v":1386},{"$f":"BAK1+1","v":1387},{"$f":"BAL1+1","v":1388},{"$f":"BAM1+1","v":1389},{"$f":"BAN1+1","v":1390},{"$f":"BAO1+1","v":1391},{"$f":"BAP1+1","v":1392},{"$f":"BAQ1+1","v":1393},{"$f":"BAR1+1","v":1394},{"$f":"BAS1+1","v":1395},{"$f":"BAT1+1","v":1396},{"$f":"BAU1+1","v":1397},{"$f":"BAV1+1","v":1398},{"$f":"BAW1+1","v":1399},{"$f":"BAX1+1","v":1400},{"$f":"BAY1+1","v":1401},{"$f":"BAZ1+1","v":1402},{"$f":"BBA1+1","v":1403},{"$f":"BBB1+1","v":1404},{"$f":"BBC1+1","v":1405},{"$f":"BBD1+1","v":1406},{"$f":"BBE1+1","v":1407},{"$f":"BBF1+1","v":1408},{"$f":"BBG1+1","v":1409},{"$f":"BBH1+1","v":1410},{"$f":"BBI1+1","v":1411},{"$f":"BBJ1+1","v":1412},{"$f":"BBK1+1","v":1413},{"$f":"BBL1+1","v":1414},{"$f":"BBM1+1","v":1415},{"$f":"BBN1+1","v":1416},{"$f":"BBO1+1","v":1417},{"$f":"BBP1+1","v":1418},{"$f":"BBQ1+1","v":1419},{"$f":"BBR1+1","v":1420},{"$f":"BBS1+1","v":1421},{"$f":"BBT1+1","v":1422},{"$f":"BBU1+1","v":1423},{"$f":"BBV1+1","v":1424},{"$f":"BBW1+1","v":1425},{"$f":"BBX1+1","v":1426},{"$f":"BBY1+1","v":1427},{"$f":"BBZ1+1","v":1428},{"$f":"BCA1+1","v":1429},{"$f":"BCB1+1","v":1430},{"$f":"BCC1+1","v":1431},{"$f":"BCD1+1","v":1432},{"$f":"BCE1+1","v":1433},{"$f":"BCF1+1","v":1434},{"$f":"BCG1+1","v":1435},{"$f":"BCH1+1","v":1436},{"$f":"BCI1+1","v":1437},{"$f":"BCJ1+1","v":1438},{"$f":"BCK1+1","v":1439},{"$f":"BCL1+1","v":1440},{"$f":"BCM1+1","v":1441},{"$f":"BCN1+1","v":1442},{"$f":"BCO1+1","v":1443},{"$f":"BCP1+1","v":1444},{"$f":"BCQ1+1","v":1445},{"$f":"BCR1+1","v":1446},{"$f":"BCS1+1","v":1447},{"$f":"BCT1+1","v":1448},{"$f":"BCU1+1","v":1449},{"$f":"BCV1+1","v":1450},{"$f":"BCW1+1","v":1451},{"$f":"BCX1+1","v":1452},{"$f":"BCY1+1","v":1453},{"$f":"BCZ1+1","v":1454},{"$f":"BDA1+1","v":1455},{"$f":"BDB1+1","v":1456},{"$f":"BDC1+1","v":1457},{"$f":"BDD1+1","v":1458},{"$f":"BDE1+1","v":1459},{"$f":"BDF1+1","v":1460},{"$f":"BDG1+1","v":1461},{"$f":"BDH1+1","v":1462},{"$f":"BDI1+1","v":1463},{"$f":"BDJ1+1","v":1464},{"$f":"BDK1+1","v":1465},{"$f":"BDL1+1","v":1466},{"$f":"BDM1+1","v":1467},{"$f":"BDN1+1","v":1468},{"$f":"BDO1+1","v":1469},{"$f":"BDP1+1","v":1470},{"$f":"BDQ1+1","v":1471},{"$f":"BDR1+1","v":1472},{"$f":"BDS1+1","v":1473},{"$f":"BDT1+1","v":1474},{"$f":"BDU1+1","v":1475},{"$f":"BDV1+1","v":1476},{"$f":"BDW1+1","v":1477},{"$f":"BDX1+1","v":1478},{"$f":"BDY1+1","v":1479},{"$f":"BDZ1+1","v":1480},{"$f":"BEA1+1","v":1481},{"$f":"BEB1+1","v":1482},1483,{"$f":"BED1+1","v":1484},{"$f":"BEE1+1","v":1485},{"$f":"BEF1+1","v":1486},{"$f":"BEG1+1","v":1487},{"$f":"BEH1+1","v":1488},{"$f":"BEI1+1","v":1489},{"$f":"BEJ1+1","v":1490},{"$f":"BEK1+1","v":1491},{"$f":"BEL1+1","v":1492},{"$f":"BEM1+1","v":1493},{"$f":"BEN1+1","v":1494},{"$f":"BEO1+1","v":1495},{"$f":"BEP1+1","v":1496},{"$f":"BEQ1+1","v":1497},{"$f":"BER1+1","v":1498},{"$f":"BES1+1","v":1499},{"$f":"BET1+1","v":1500},{"$f":"BEU1+1","v":1501},{"$f":"BEV1+1","v":1502},{"$f":"BEW1+1","v":1503},{"$f":"BEX1+1","v":1504},{"$f":"BEY1+1","v":1505},{"$f":"BEZ1+1","v":1506},1507,1508,1509,1510,1511,1512,1513,1514,1515,1516,1517,1518,1519,1520,1521,1522,{"$f":"BFQ1+1","v":1523},{"$f":"BFR1+1","v":1524},{"$f":"BFS1+1","v":1525},{"$f":"BFT1+1","v":1526},{"$f":"BFU1+1","v":1527},{"$f":"BFV1+1","v":1528},{"$f":"BFW1+1","v":1529},{"$f":"BFX1+1","v":1530},{"$f":"BFY1+1","v":1531},{"$f":"BFZ1+1","v":1532},{"$f":"BGA1+1","v":1533},{"$f":"BGB1+1","v":1534},{"$f":"BGC1+1","v":1535},{"$f":"BGD1+1","v":1536},{"$f":"BGE1+1","v":1537},{"$f":"BGF1+1","v":1538},{"$f":"BGG1+1","v":1539},{"$f":"BGH1+1","v":1540},{"$f":"BGI1+1","v":1541},{"$f":"BGJ1+1","v":1542},{"$f":"BGK1+1","v":1543},{"$f":"BGL1+1","v":1544},{"$f":"BGM1+1","v":1545},{"$f":"BGN1+1","v":1546},{"$f":"BGO1+1","v":1547},{"$f":"BGP1+1","v":1548},{"$f":"BGQ1+1","v":1549},{"$f":"BGR1+1","v":1550},{"$f":"BGS1+1","v":1551},{"$f":"BGT1+1","v":1552},{"$f":"BGU1+1","v":1553},{"$f":"BGV1+1","v":1554},{"$f":"BGW1+1","v":1555},{"$f":"BGX1+1","v":1556},{"$f":"BGY1+1","v":1557},{"$f":"BGZ1+1","v":1558},{"$f":"BHA1+1","v":1559},{"$f":"BHB1+1","v":1560},{"$f":"BHC1+1","v":1561},{"$f":"BHD1+1","v":1562},{"$f":"BHE1+1","v":1563},{"$f":"BHF1+1","v":1564},{"$f":"BHG1+1","v":1565},{"$f":"BHH1+1","v":1566},{"$f":"BHI1+1","v":1567},{"$f":"BHJ1+1","v":1568},{"$f":"BHK1+1","v":1569},{"$f":"BHL1+1","v":1570},{"$f":"BHM1+1","v":1571},{"$f":"BHN1+1","v":1572},{"$f":"BHO1+1","v":1573},{"$f":"BHP1+1","v":1574},{"$f":"BHQ1+1","v":1575},{"$f":"BHR1+1","v":1576},{"$f":"BHS1+1","v":1577},{"$f":"BHT1+1","v":1578},{"$f":"BHU1+1","v":1579},{"$f":"BHV1+1","v":1580},{"$f":"BHW1+1","v":1581},{"$f":"BHX1+1","v":1582},{"$f":"BHY1+1","v":1583},{"$f":"BHZ1+1","v":1584},{"$f":"BIA1+1","v":1585},{"$f":"BIB1+1","v":1586},{"$f":"BIC1+1","v":1587},{"$f":"BID1+1","v":1588},{"$f":"BIE1+1","v":1589},{"$f":"BIF1+1","v":1590},{"$f":"BIG1+1","v":1591},{"$f":"BIH1+1","v":1592},{"$f":"BII1+1","v":1593},{"$f":"BIJ1+1","v":1594},{"$f":"BIK1+1","v":1595},{"$f":"BIL1+1","v":1596},{"$f":"BIM1+1","v":1597},{"$f":"BIN1+1","v":1598},{"$f":"BIO1+1","v":1599},{"$f":"BIP1+1","v":1600},{"$f":"BIQ1+1","v":1601},{"$f":"BIR1+1","v":1602},{"$f":"BIS1+1","v":1603},{"$f":"BIT1+1","v":1604},{"$f":"BIU1+1","v":1605},{"$f":"BIV1+1","v":1606},{"$f":"BIW1+1","v":1607},{"$f":"BIX1+1","v":1608},{"$f":"BIY1+1","v":1609},{"$f":"BIZ1+1","v":1610},{"$f":"BJA1+1","v":1611},{"$f":"BJB1+1","v":1612},{"$f":"BJC1+1","v":1613},{"$f":"BJD1+1","v":1614},{"$f":"BJE1+1","v":1615},{"$f":"BJF1+1","v":1616},{"$f":"BJG1+1","v":1617},{"$f":"BJH1+1","v":1618},{"$f":"BJI1+1","v":1619},{"$f":"BJJ1+1","v":1620},{"$f":"BJK1+1","v":1621},{"$f":"BJL1+1","v":1622},{"$f":"BJM1+1","v":1623},{"$f":"BJN1+1","v":1624},{"$f":"BJO1+1","v":1625},{"$f":"BJP1+1","v":1626},{"$f":"BJQ1+1","v":1627},{"$f":"BJR1+1","v":1628},{"$f":"BJS1+1","v":1629},{"$f":"BJT1+1","v":1630},{"$f":"BJU1+1","v":1631},{"$f":"BJV1+1","v":1632},{"$f":"BJW1+1","v":1633},{"$f":"BJX1+1","v":1634},{"$f":"BJY1+1","v":1635},{"$f":"BJZ1+1","v":1636},{"$f":"BKA1+1","v":1637},{"$f":"BKB1+1","v":1638},{"$f":"BKC1+1","v":1639},{"$f":"BKD1+1","v":1640},{"$f":"BKE1+1","v":1641},{"$f":"BKF1+1","v":1642},{"$f":"BKG1+1","v":1643},{"$f":"BKH1+1","v":1644},{"$f":"BKI1+1","v":1645},{"$f":"BKJ1+1","v":1646},{"$f":"BKK1+1","v":1647},{"$f":"BKL1+1","v":1648},{"$f":"BKM1+1","v":1649},{"$f":"BKN1+1","v":1650},{"$f":"BKO1+1","v":1651},{"$f":"BKP1+1","v":1652},{"$f":"BKQ1+1","v":1653},{"$f":"BKR1+1","v":1654},{"$f":"BKS1+1","v":1655},{"$f":"BKT1+1","v":1656},{"$f":"BKU1+1","v":1657},{"$f":"BKV1+1","v":1658},{"$f":"BKW1+1","v":1659},{"$f":"BKX1+1","v":1660},{"$f":"BKY1+1","v":1661},{"$f":"BKZ1+1","v":1662},{"$f":"BLA1+1","v":1663},{"$f":"BLB1+1","v":1664},{"$f":"BLC1+1","v":1665},{"$f":"BLD1+1","v":1666},{"$f":"BLE1+1","v":1667},{"$f":"BLF1+1","v":1668},{"$f":"BLG1+1","v":1669},{"$f":"BLH1+1","v":1670},{"$f":"BLI1+1","v":1671},{"$f":"BLJ1+1","v":1672},{"$f":"BLK1+1","v":1673},{"$f":"BLL1+1","v":1674},{"$f":"BLM1+1","v":1675},{"$f":"BLN1+1","v":1676},{"$f":"BLO1+1","v":1677},{"$f":"BLP1+1","v":1678},{"$f":"BLQ1+1","v":1679},{"$f":"BLR1+1","v":1680},{"$f":"BLS1+1","v":1681},{"$f":"BLT1+1","v":1682},{"$f":"BLU1+1","v":1683},{"$f":"BLV1+1","v":1684},{"$f":"BLW1+1","v":1685},{"$f":"BLX1+1","v":1686},{"$f":"BLY1+1","v":1687},{"$f":"BLZ1+1","v":1688},{"$f":"BMA1+1","v":1689},{"$f":"BMB1+1","v":1690},{"$f":"BMC1+1","v":1691},{"$f":"BMD1+1","v":1692},{"$f":"BME1+1","v":1693},{"$f":"BMF1+1","v":1694},{"$f":"BMG1+1","v":1695},{"$f":"BMH1+1","v":1696},{"$f":"BMI1+1","v":1697},{"$f":"BMJ1+1","v":1698},{"$f":"BMK1+1","v":1699},{"$f":"BML1+1","v":1700},{"$f":"BMM1+1","v":1701},{"$f":"BMN1+1","v":1702},{"$f":"BMO1+1","v":1703},{"$f":"BMP1+1","v":1704},{"$f":"BMQ1+1","v":1705},{"$f":"BMR1+1","v":1706},{"$f":"BMS1+1","v":1707},{"$f":"BMT1+1","v":1708},{"$f":"BMU1+1","v":1709},{"$f":"BMV1+1","v":1710},{"$f":"BMW1+1","v":1711},{"$f":"BMX1+1","v":1712},{"$f":"BMY1+1","v":1713},{"$f":"BMZ1+1","v":1714},{"$f":"BNA1+1","v":1715},{"$f":"BNB1+1","v":1716},{"$f":"BNC1+1","v":1717},{"$f":"BND1+1","v":1718},{"$f":"BNE1+1","v":1719},{"$f":"BNF1+1","v":1720},{"$f":"BNG1+1","v":1721},{"$f":"BNH1+1","v":1722},{"$f":"BNI1+1","v":1723},{"$f":"BNJ1+1","v":1724},{"$f":"BNK1+1","v":1725},{"$f":"BNL1+1","v":1726},{"$f":"BNM1+1","v":1727},{"$f":"BNN1+1","v":1728},{"$f":"BNO1+1","v":1729},{"$f":"BNP1+1","v":1730},{"$f":"BNQ1+1","v":1731},{"$f":"BNR1+1","v":1732},{"$f":"BNS1+1","v":1733},{"$f":"BNT1+1","v":1734},{"$f":"BNU1+1","v":1735},{"$f":"BNV1+1","v":1736},{"$f":"BNW1+1","v":1737},{"$f":"BNX1+1","v":1738},{"$f":"BNY1+1","v":1739},{"$f":"BNZ1+1","v":1740},{"$f":"BOA1+1","v":1741},{"$f":"BOB1+1","v":1742},{"$f":"BOC1+1","v":1743},{"$f":"BOD1+1","v":1744},{"$f":"BOE1+1","v":1745},{"$f":"BOF1+1","v":1746},{"$f":"BOG1+1","v":1747},{"$f":"BOH1+1","v":1748},{"$f":"BOI1+1","v":1749},{"$f":"BOJ1+1","v":1750},{"$f":"BOK1+1","v":1751},{"$f":"BOL1+1","v":1752},{"$f":"BOM1+1","v":1753},{"$f":"BON1+1","v":1754},{"$f":"BOO1+1","v":1755},{"$f":"BOP1+1","v":1756},{"$f":"BOQ1+1","v":1757},{"$f":"BOR1+1","v":1758},{"$f":"BOS1+1","v":1759},{"$f":"BOT1+1","v":1760},{"$f":"BOU1+1","v":1761},{"$f":"BOV1+1","v":1762},{"$f":"BOW1+1","v":1763},{"$f":"BOX1+1","v":1764},{"$f":"BOY1+1","v":1765},{"$f":"BOZ1+1","v":1766},{"$f":"BPA1+1","v":1767},{"$f":"BPB1+1","v":1768},{"$f":"BPC1+1","v":1769},{"$f":"BPD1+1","v":1770},{"$f":"BPE1+1","v":1771},{"$f":"BPF1+1","v":1772},{"$f":"BPG1+1","v":1773},{"$f":"BPH1+1","v":1774},{"$f":"BPI1+1","v":1775},{"$f":"BPJ1+1","v":1776},{"$f":"BPK1+1","v":1777},{"$f":"BPL1+1","v":1778},{"$f":"BPM1+1","v":1779},{"$f":"BPN1+1","v":1780},{"$f":"BPO1+1","v":1781},{"$f":"BPP1+1","v":1782},{"$f":"BPQ1+1","v":1783},{"$f":"BPR1+1","v":1784},{"$f":"BPS1+1","v":1785},{"$f":"BPT1+1","v":1786},{"$f":"BPU1+1","v":1787},{"$f":"BPV1+1","v":1788},{"$f":"BPW1+1","v":1789},{"$f":"BPX1+1","v":1790},{"$f":"BPY1+1","v":1791},{"$f":"BPZ1+1","v":1792},{"$f":"BQA1+1","v":1793},{"$f":"BQB1+1","v":1794},{"$f":"BQC1+1","v":1795},{"$f":"BQD1+1","v":1796},{"$f":"BQE1+1","v":1797},{"$f":"BQF1+1","v":1798},{"$f":"BQG1+1","v":1799},{"$f":"BQH1+1","v":1800},{"$f":"BQI1+1","v":1801},{"$f":"BQJ1+1","v":1802},{"$f":"BQK1+1","v":1803},{"$f":"BQL1+1","v":1804},{"$f":"BQM1+1","v":1805},{"$f":"BQN1+1","v":1806},{"$f":"BQO1+1","v":1807},{"$f":"BQP1+1","v":1808},{"$f":"BQQ1+1","v":1809},{"$f":"BQR1+1","v":1810},{"$f":"BQS1+1","v":1811},{"$f":"BQT1+1","v":1812},{"$f":"BQU1+1","v":1813},{"$f":"BQV1+1","v":1814},{"$f":"BQW1+1","v":1815},{"$f":"BQX1+1","v":1816},{"$f":"BQY1+1","v":1817},{"$f":"BQZ1+1","v":1818},{"$f":"BRA1+1","v":1819},{"$f":"BRB1+1","v":1820},{"$f":"BRC1+1","v":1821},{"$f":"BRD1+1","v":1822},{"$f":"BRE1+1","v":1823},{"$f":"BRF1+1","v":1824},{"$f":"BRG1+1","v":1825},{"$f":"BRH1+1","v":1826},{"$f":"BRI1+1","v":1827},{"$f":"BRJ1+1","v":1828},{"$f":"BRK1+1","v":1829},{"$f":"BRL1+1","v":1830},{"$f":"BRM1+1","v":1831},{"$f":"BRN1+1","v":1832},{"$f":"BRO1+1","v":1833},{"$f":"BRP1+1","v":1834},{"$f":"BRQ1+1","v":1835},{"$f":"BRR1+1","v":1836},{"$f":"BRS1+1","v":1837},{"$f":"BRT1+1","v":1838},{"$f":"BRU1+1","v":1839},{"$f":"BRV1+1","v":1840},{"$f":"BRW1+1","v":1841},{"$f":"BRX1+1","v":1842},{"$f":"BRY1+1","v":1843},{"$f":"BRZ1+1","v":1844},{"$f":"BSA1+1","v":1845},{"$f":"BSB1+1","v":1846},{"$f":"BSC1+1","v":1847},{"$f":"BSD1+1","v":1848},{"$f":"BSE1+1","v":1849},{"$f":"BSF1+1","v":1850},{"$f":"BSG1+1","v":1851},{"$f":"BSH1+1","v":1852},{"$f":"BSI1+1","v":1853},{"$f":"BSJ1+1","v":1854},{"$f":"BSK1+1","v":1855},{"$f":"BSL1+1","v":1856},{"$f":"BSM1+1","v":1857},{"$f":"BSN1+1","v":1858},{"$f":"BSO1+1","v":1859},{"$f":"BSP1+1","v":1860},{"$f":"BSQ1+1","v":1861},{"$f":"BSR1+1","v":1862},{"$f":"BSS1+1","v":1863},{"$f":"BST1+1","v":1864},{"$f":"BSU1+1","v":1865},{"$f":"BSV1+1","v":1866},{"$f":"BSW1+1","v":1867},{"$f":"BSX1+1","v":1868},{"$f":"BSY1+1","v":1869},{"$f":"BSZ1+1","v":1870},{"$f":"BTA1+1","v":1871},{"$f":"BTB1+1","v":1872},{"$f":"BTC1+1","v":1873},{"$f":"BTD1+1","v":1874},{"$f":"BTE1+1","v":1875},{"$f":"BTF1+1","v":1876},{"$f":"BTG1+1","v":1877},{"$f":"BTH1+1","v":1878},{"$f":"BTI1+1","v":1879},{"$f":"BTJ1+1","v":1880},{"$f":"BTK1+1","v":1881},{"$f":"BTL1+1","v":1882},{"$f":"BTM1+1","v":1883},{"$f":"BTN1+1","v":1884},{"$f":"BTO1+1","v":1885},{"$f":"BTP1+1","v":1886},{"$f":"BTQ1+1","v":1887},{"$f":"BTR1+1","v":1888},{"$f":"BTS1+1","v":1889},{"$f":"BTT1+1","v":1890},{"$f":"BTU1+1","v":1891},{"$f":"BTV1+1","v":1892},{"$f":"BTW1+1","v":1893},{"$f":"BTX1+1","v":1894},{"$f":"BTY1+1","v":1895},{"$f":"BTZ1+1","v":1896},{"$f":"BUA1+1","v":1897},{"$f":"BUB1+1","v":1898},{"$f":"BUC1+1","v":1899},{"$f":"BUD1+1","v":1900},{"$f":"BUE1+1","v":1901},{"$f":"BUF1+1","v":1902},{"$f":"BUG1+1","v":1903},{"$f":"BUH1+1","v":1904},{"$f":"BUI1+1","v":1905},{"$f":"BUJ1+1","v":1906},{"$f":"BUK1+1","v":1907},{"$f":"BUL1+1","v":1908},{"$f":"BUM1+1","v":1909},{"$f":"BUN1+1","v":1910},{"$f":"BUO1+1","v":1911},{"$f":"BUP1+1","v":1912},{"$f":"BUQ1+1","v":1913},{"$f":"BUR1+1","v":1914},{"$f":"BUS1+1","v":1915},{"$f":"BUT1+1","v":1916},{"$f":"BUU1+1","v":1917},{"$f":"BUV1+1","v":1918},{"$f":"BUW1+1","v":1919},{"$f":"BUX1+1","v":1920},{"$f":"BUY1+1","v":1921},{"$f":"BUZ1+1","v":1922},{"$f":"BVA1+1","v":1923},{"$f":"BVB1+1","v":1924},{"$f":"BVC1+1","v":1925},{"$f":"BVD1+1","v":1926},{"$f":"BVE1+1","v":1927},{"$f":"BVF1+1","v":1928},{"$f":"BVG1+1","v":1929},{"$f":"BVH1+1","v":1930},{"$f":"BVI1+1","v":1931},{"$f":"BVJ1+1","v":1932},{"$f":"BVK1+1","v":1933},{"$f":"BVL1+1","v":1934},{"$f":"BVM1+1","v":1935},{"$f":"BVN1+1","v":1936},{"$f":"BVO1+1","v":1937},{"$f":"BVP1+1","v":1938},{"$f":"BVQ1+1","v":1939},{"$f":"BVR1+1","v":1940},{"$f":"BVS1+1","v":1941},{"$f":"BVT1+1","v":1942},{"$f":"BVU1+1","v":1943},{"$f":"BVV1+1","v":1944},{"$f":"BVW1+1","v":1945},{"$f":"BVX1+1","v":1946},{"$f":"BVY1+1","v":1947},{"$f":"BVZ1+1","v":1948},{"$f":"BWA1+1","v":1949},{"$f":"BWB1+1","v":1950},{"$f":"BWC1+1","v":1951},{"$f":"BWD1+1","v":1952},{"$f":"BWE1+1","v":1953},{"$f":"BWF1+1","v":1954},{"$f":"BWG1+1","v":1955},{"$f":"BWH1+1","v":1956},{"$f":"BWI1+1","v":1957},{"$f":"BWJ1+1","v":1958},{"$f":"BWK1+1","v":1959},{"$f":"BWL1+1","v":1960},{"$f":"BWM1+1","v":1961},{"$f":"BWN1+1","v":1962},{"$f":"BWO1+1","v":1963},{"$f":"BWP1+1","v":1964},{"$f":"BWQ1+1","v":1965},{"$f":"BWR1+1","v":1966},{"$f":"BWS1+1","v":1967},{"$f":"BWT1+1","v":1968},{"$f":"BWU1+1","v":1969},{"$f":"BWV1+1","v":1970},{"$f":"BWW1+1","v":1971},{"$f":"BWX1+1","v":1972},{"$f":"BWY1+1","v":1973},{"$f":"BWZ1+1","v":1974},{"$f":"BXA1+1","v":1975},{"$f":"BXB1+1","v":1976},{"$f":"BXC1+1","v":1977},{"$f":"BXD1+1","v":1978},{"$f":"BXE1+1","v":1979},{"$f":"BXF1+1","v":1980},{"$f":"BXG1+1","v":1981},{"$f":"BXH1+1","v":1982},{"$f":"BXI1+1","v":1983},{"$f":"BXJ1+1","v":1984},{"$f":"BXK1+1","v":1985},{"$f":"BXL1+1","v":1986},{"$f":"BXM1+1","v":1987},{"$f":"BXN1+1","v":1988},{"$f":"BXO1+1","v":1989},{"$f":"BXP1+1","v":1990},{"$f":"BXQ1+1","v":1991},{"$f":"BXR1+1","v":1992},{"$f":"BXS1+1","v":1993},{"$f":"BXT1+1","v":1994},{"$f":"BXU1+1","v":1995},{"$f":"BXV1+1","v":1996},{"$f":"BXW1+1","v":1997},{"$f":"BXX1+1","v":1998},{"$f":"BXY1+1","v":1999},{"$f":"BXZ1+1","v":2000},{"$f":"BYA1+1","v":2001},{"$f":"BYB1+1","v":2002},{"$f":"BYC1+1","v":2003},{"$f":"BYD1+1","v":2004},{"$f":"BYE1+1","v":2005},{"$f":"BYF1+1","v":2006},{"$f":"BYG1+1","v":2007},{"$f":"BYH1+1","v":2008},{"$f":"BYI1+1","v":2009},{"$f":"BYJ1+1","v":2010},{"$f":"BYK1+1","v":2011},{"$f":"BYL1+1","v":2012},{"$f":"BYM1+1","v":2013},{"$f":"BYN1+1","v":2014},{"$f":"BYO1+1","v":2015},{"$f":"BYP1+1","v":2016},{"$f":"BYQ1+1","v":2017},{"$f":"BYR1+1","v":2018},{"$f":"BYS1+1","v":2019},{"$f":"BYT1+1","v":2020},{"$f":"BYU1+1","v":2021},{"$f":"BYV1+1","v":2022},{"$f":"BYW1+1","v":2023},{"$f":"BYX1+1","v":2024},{"$f":"BYY1+1","v":2025},{"$f":"BYZ1+1","v":2026},{"$f":"BZA1+1","v":2027},{"$f":"BZB1+1","v":2028},{"$f":"BZC1+1","v":2029},{"$f":"BZD1+1","v":2030},{"$f":"BZE1+1","v":2031},{"$f":"BZF1+1","v":2032},{"$f":"BZG1+1","v":2033},{"$f":"BZH1+1","v":2034},{"$f":"BZI1+1","v":2035},{"$f":"BZJ1+1","v":2036},{"$f":"BZK1+1","v":2037},{"$f":"BZL1+1","v":2038},{"$f":"BZM1+1","v":2039},{"$f":"BZN1+1","v":2040},{"$f":"BZO1+1","v":2041},{"$f":"BZP1+1","v":2042},{"$f":"BZQ1+1","v":2043},{"$f":"BZR1+1","v":2044},{"$f":"BZS1+1","v":2045},{"$f":"BZT1+1","v":2046},{"$f":"BZU1+1","v":2047},{"$f":"BZV1+1","v":2048},{"$f":"BZW1+1","v":2049},{"$f":"BZX1+1","v":2050},{"$f":"BZY1+1","v":2051},{"$f":"BZZ1+1","v":2052},{"$f":"CAA1+1","v":2053},{"$f":"CAB1+1","v":2054},{"$f":"CAC1+1","v":2055},{"$f":"CAD1+1","v":2056},{"$f":"CAE1+1","v":2057},{"$f":"CAF1+1","v":2058},{"$f":"CAG1+1","v":2059},{"$f":"CAH1+1","v":2060},{"$f":"CAI1+1","v":2061},{"$f":"CAJ1+1","v":2062},{"$f":"CAK1+1","v":2063},{"$f":"CAL1+1","v":2064},{"$f":"CAM1+1","v":2065},{"$f":"CAN1+1","v":2066},{"$f":"CAO1+1","v":2067},{"$f":"CAP1+1","v":2068},{"$f":"CAQ1+1","v":2069},{"$f":"CAR1+1","v":2070},{"$f":"CAS1+1","v":2071},{"$f":"CAT1+1","v":2072},{"$f":"CAU1+1","v":2073},{"$f":"CAV1+1","v":2074},{"$f":"CAW1+1","v":2075},{"$f":"CAX1+1","v":2076},{"$f":"CAY1+1","v":2077},{"$f":"CAZ1+1","v":2078},{"$f":"CBA1+1","v":2079},{"$f":"CBB1+1","v":2080},{"$f":"CBC1+1","v":2081},{"$f":"CBD1+1","v":2082},{"$f":"CBE1+1","v":2083},{"$f":"CBF1+1","v":2084},{"$f":"CBG1+1","v":2085},{"$f":"CBH1+1","v":2086},{"$f":"CBI1+1","v":2087},{"$f":"CBJ1+1","v":2088},{"$f":"CBK1+1","v":2089},{"$f":"CBL1+1","v":2090},{"$f":"CBM1+1","v":2091},{"$f":"CBN1+1","v":2092},{"$f":"CBO1+1","v":2093},{"$f":"CBP1+1","v":2094},{"$f":"CBQ1+1","v":2095},{"$f":"CBR1+1","v":2096},{"$f":"CBS1+1","v":2097},{"$f":"CBT1+1","v":2098},{"$f":"CBU1+1","v":2099},{"$f":"CBV1+1","v":2100},{"$f":"CBW1+1","v":2101},{"$f":"CBX1+1","v":2102},{"$f":"CBY1+1","v":2103},{"$f":"CBZ1+1","v":2104},{"$f":"CCA1+1","v":2105},{"$f":"CCB1+1","v":2106},{"$f":"CCC1+1","v":2107},{"$f":"CCD1+1","v":2108},{"$f":"CCE1+1","v":2109},{"$f":"CCF1+1","v":2110},{"$f":"CCG1+1","v":2111},{"$f":"CCH1+1","v":2112},{"$f":"CCI1+1","v":2113},{"$f":"CCJ1+1","v":2114},{"$f":"CCK1+1","v":2115},{"$f":"CCL1+1","v":2116},{"$f":"CCM1+1","v":2117},{"$f":"CCN1+1","v":2118},{"$f":"CCO1+1","v":2119},{"$f":"CCP1+1","v":2120},{"$f":"CCQ1+1","v":2121},{"$f":"CCR1+1","v":2122},{"$f":"CCS1+1","v":2123},{"$f":"CCT1+1","v":2124},{"$f":"CCU1+1","v":2125},{"$f":"CCV1+1","v":2126},{"$f":"CCW1+1","v":2127},{"$f":"CCX1+1","v":2128},{"$f":"CCY1+1","v":2129},{"$f":"CCZ1+1","v":2130},{"$f":"CDA1+1","v":2131},{"$f":"CDB1+1","v":2132},{"$f":"CDC1+1","v":2133},{"$f":"CDD1+1","v":2134},{"$f":"CDE1+1","v":2135},{"$f":"CDF1+1","v":2136},{"$f":"CDG1+1","v":2137},{"$f":"CDH1+1","v":2138},{"$f":"CDI1+1","v":2139},{"$f":"CDJ1+1","v":2140},{"$f":"CDK1+1","v":2141},{"$f":"CDL1+1","v":2142},{"$f":"CDM1+1","v":2143},{"$f":"CDN1+1","v":2144},{"$f":"CDO1+1","v":2145},{"$f":"CDP1+1","v":2146},{"$f":"CDQ1+1","v":2147},{"$f":"CDR1+1","v":2148},{"$f":"CDS1+1","v":2149},{"$f":"CDT1+1","v":2150},{"$f":"CDU1+1","v":2151},{"$f":"CDV1+1","v":2152},{"$f":"CDW1+1","v":2153},{"$f":"CDX1+1","v":2154},{"$f":"CDY1+1","v":2155},{"$f":"CDZ1+1","v":2156},{"$f":"CEA1+1","v":2157},{"$f":"CEB1+1","v":2158},{"$f":"CEC1+1","v":2159},{"$f":"CED1+1","v":2160},{"$f":"CEE1+1","v":2161},{"$f":"CEF1+1","v":2162},{"$f":"CEG1+1","v":2163},{"$f":"CEH1+1","v":2164},{"$f":"CEI1+1","v":2165},{"$f":"CEJ1+1","v":2166},{"$f":"CEK1+1","v":2167},{"$f":"CEL1+1","v":2168},{"$f":"CEM1+1","v":2169},{"$f":"CEN1+1","v":2170},{"$f":"CEO1+1","v":2171},{"$f":"CEP1+1","v":2172},{"$f":"CEQ1+1","v":2173},{"$f":"CER1+1","v":2174},{"$f":"CES1+1","v":2175},{"$f":"CET1+1","v":2176},{"$f":"CEU1+1","v":2177},{"$f":"CEV1+1","v":2178},{"$f":"CEW1+1","v":2179},{"$f":"CEX1+1","v":2180},{"$f":"CEY1+1","v":2181},{"$f":"CEZ1+1","v":2182},{"$f":"CFA1+1","v":2183},{"$f":"CFB1+1","v":2184},{"$f":"CFC1+1","v":2185},{"$f":"CFD1+1","v":2186},{"$f":"CFE1+1","v":2187},{"$f":"CFF1+1","v":2188},{"$f":"CFG1+1","v":2189},{"$f":"CFH1+1","v":2190},{"$f":"CFI1+1","v":2191},{"$f":"CFJ1+1","v":2192},{"$f":"CFK1+1","v":2193},{"$f":"CFL1+1","v":2194},{"$f":"CFM1+1","v":2195},{"$f":"CFN1+1","v":2196},{"$f":"CFO1+1","v":2197},{"$f":"CFP1+1","v":2198},{"$f":"CFQ1+1","v":2199},{"$f":"CFR1+1","v":2200},{"$f":"CFS1+1","v":2201},{"$f":"CFT1+1","v":2202},{"$f":"CFU1+1","v":2203},{"$f":"CFV1+1","v":2204},{"$f":"CFW1+1","v":2205},{"$f":"CFX1+1","v":2206},{"$f":"CFY1+1","v":2207},{"$f":"CFZ1+1","v":2208},{"$f":"CGA1+1","v":2209},{"$f":"CGB1+1","v":2210},{"$f":"CGC1+1","v":2211},{"$f":"CGD1+1","v":2212},{"$f":"CGE1+1","v":2213},{"$f":"CGF1+1","v":2214},{"$f":"CGG1+1","v":2215},{"$f":"CGH1+1","v":2216},{"$f":"CGI1+1","v":2217},{"$f":"CGJ1+1","v":2218},{"$f":"CGK1+1","v":2219},{"$f":"CGL1+1","v":2220},{"$f":"CGM1+1","v":2221},{"$f":"CGN1+1","v":2222},{"$f":"CGO1+1","v":2223},{"$f":"CGP1+1","v":2224},{"$f":"CGQ1+1","v":2225},{"$f":"CGR1+1","v":2226},{"$f":"CGS1+1","v":2227},{"$f":"CGT1+1","v":2228},{"$f":"CGU1+1","v":2229},{"$f":"CGV1+1","v":2230},{"$f":"CGW1+1","v":2231},{"$f":"CGX1+1","v":2232},{"$f":"CGY1+1","v":2233},{"$f":"CGZ1+1","v":2234},{"$f":"CHA1+1","v":2235},{"$f":"CHB1+1","v":2236},{"$f":"CHC1+1","v":2237},{"$f":"CHD1+1","v":2238},{"$f":"CHE1+1","v":2239},{"$f":"CHF1+1","v":2240},{"$f":"CHG1+1","v":2241},{"$f":"CHH1+1","v":2242},{"$f":"CHI1+1","v":2243},{"$f":"CHJ1+1","v":2244},{"$f":"CHK1+1","v":2245},{"$f":"CHL1+1","v":2246},{"$f":"CHM1+1","v":2247},{"$f":"CHN1+1","v":2248},{"$f":"CHO1+1","v":2249},{"$f":"CHP1+1","v":2250},{"$f":"CHQ1+1","v":2251},{"$f":"CHR1+1","v":2252},{"$f":"CHS1+1","v":2253},{"$f":"CHT1+1","v":2254},{"$f":"CHU1+1","v":2255},{"$f":"CHV1+1","v":2256},{"$f":"CHW1+1","v":2257},{"$f":"CHX1+1","v":2258},{"$f":"CHY1+1","v":2259},{"$f":"CHZ1+1","v":2260},{"$f":"CIA1+1","v":2261},{"$f":"CIB1+1","v":2262},{"$f":"CIC1+1","v":2263},{"$f":"CID1+1","v":2264},{"$f":"CIE1+1","v":2265},{"$f":"CIF1+1","v":2266},{"$f":"CIG1+1","v":2267},{"$f":"CIH1+1","v":2268},{"$f":"CII1+1","v":2269},{"$f":"CIJ1+1","v":2270},{"$f":"CIK1+1","v":2271},{"$f":"CIL1+1","v":2272},{"$f":"CIM1+1","v":2273},{"$f":"CIN1+1","v":2274},{"$f":"CIO1+1","v":2275},{"$f":"CIP1+1","v":2276},2277,2278,2279,{"$f":"CIT1+1","v":2280},{"$f":"CIU1+1","v":2281},{"$f":"CIV1+1","v":2282},{"$f":"CIW1+1","v":2283},{"$f":"CIX1+1","v":2284},{"$f":"CIY1+1","v":2285},{"$f":"CIZ1+1","v":2286},{"$f":"CJA1+1","v":2287},{"$f":"CJB1+1","v":2288},{"$f":"CJC1+1","v":2289},{"$f":"CJD1+1","v":2290},{"$f":"CJE1+1","v":2291},{"$f":"CJF1+1","v":2292},{"$f":"CJG1+1","v":2293},{"$f":"CJH1+1","v":2294},{"$f":"CJI1+1","v":2295},{"$f":"CJJ1+1","v":2296},{"$f":"CJK1+1","v":2297},{"$f":"CJL1+1","v":2298},{"$f":"CJM1+1","v":2299},{"$f":"CJN1+1","v":2300},{"$f":"CJO1+1","v":2301},{"$f":"CJP1+1","v":2302},{"$f":"CJQ1+1","v":2303},{"$f":"CJR1+1","v":2304},{"$f":"CJS1+1","v":2305},{"$f":"CJT1+1","v":2306},{"$f":"CJU1+1","v":2307},{"$f":"CJV1+1","v":2308},{"$f":"CJW1+1","v":2309},{"$f":"CJX1+1","v":2310},{"$f":"CJY1+1","v":2311},{"$f":"CJZ1+1","v":2312},{"$f":"CKA1+1","v":2313},{"$f":"CKB1+1","v":2314},{"$f":"CKC1+1","v":2315},{"$f":"CKD1+1","v":2316},{"$f":"CKE1+1","v":2317},{"$f":"CKF1+1","v":2318},{"$f":"CKG1+1","v":2319},{"$f":"CKH1+1","v":2320},{"$f":"CKI1+1","v":2321},{"$f":"CKJ1+1","v":2322},{"$f":"CKK1+1","v":2323},{"$f":"CKL1+1","v":2324},{"$f":"CKM1+1","v":2325},{"$f":"CKN1+1","v":2326},{"$f":"CKO1+1","v":2327},{"$f":"CKP1+1","v":2328},{"$f":"CKQ1+1","v":2329},{"$f":"CKR1+1","v":2330},{"$f":"CKS1+1","v":2331},{"$f":"CKT1+1","v":2332},{"$f":"CKU1+1","v":2333},{"$f":"CKV1+1","v":2334},{"$f":"CKW1+1","v":2335},{"$f":"CKX1+1","v":2336},{"$f":"CKY1+1","v":2337},{"$f":"CKZ1+1","v":2338},{"$f":"CLA1+1","v":2339},{"$f":"CLB1+1","v":2340},{"$f":"CLC1+1","v":2341},{"$f":"CLD1+1","v":2342},{"$f":"CLE1+1","v":2343},{"$f":"CLF1+1","v":2344},{"$f":"CLG1+1","v":2345},{"$f":"CLH1+1","v":2346},{"$f":"CLI1+1","v":2347},{"$f":"CLJ1+1","v":2348},{"$f":"CLK1+1","v":2349},{"$f":"CLL1+1","v":2350},{"$f":"CLM1+1","v":2351},{"$f":"CLN1+1","v":2352},{"$f":"CLO1+1","v":2353},{"$f":"CLP1+1","v":2354},{"$f":"CLQ1+1","v":2355},{"$f":"CLR1+1","v":2356},{"$f":"CLS1+1","v":2357},{"$f":"CLT1+1","v":2358},{"$f":"CLU1+1","v":2359},{"$f":"CLV1+1","v":2360},{"$f":"CLW1+1","v":2361},{"$f":"CLX1+1","v":2362},{"$f":"CLY1+1","v":2363},{"$f":"CLZ1+1","v":2364},{"$f":"CMA1+1","v":2365},{"$f":"CMB1+1","v":2366},{"$f":"CMC1+1","v":2367},2368,{"$f":"CME1+1","v":2369},{"$f":"CMF1+1","v":2370},{"$f":"CMG1+1","v":2371},{"$f":"CMH1+1","v":2372},{"$f":"CMI1+1","v":2373},{"$f":"CMJ1+1","v":2374},{"$f":"CMK1+1","v":2375},{"$f":"CML1+1","v":2376},{"$f":"CMM1+1","v":2377},{"$f":"CMN1+1","v":2378},2379,{"$f":"CMP1+1","v":2380},{"$f":"CMQ1+1","v":2381},{"$f":"CMR1+1","v":2382},{"$f":"CMS1+1","v":2383},{"$f":"CMT1+1","v":2384},{"$f":"CMU1+1","v":2385},{"$f":"CMV1+1","v":2386},{"$f":"CMW1+1","v":2387},{"$f":"CMX1+1","v":2388},{"$f":"CMY1+1","v":2389},{"$f":"CMZ1+1","v":2390},{"$f":"CNA1+1","v":2391},{"$f":"CNB1+1","v":2392},{"$f":"CNC1+1","v":2393},{"$f":"CND1+1","v":2394},{"$f":"CNE1+1","v":2395},{"$f":"CNF1+1","v":2396},{"$f":"CNG1+1","v":2397},{"$f":"CNH1+1","v":2398},{"$f":"CNI1+1","v":2399},{"$f":"CNJ1+1","v":2400},{"$f":"CNK1+1","v":2401},{"$f":"CNL1+1","v":2402},{"$f":"CNM1+1","v":2403},{"$f":"CNN1+1","v":2404},{"$f":"CNO1+1","v":2405},{"$f":"CNP1+1","v":2406},{"$f":"CNQ1+1","v":2407},{"$f":"CNR1+1","v":2408},{"$f":"CNS1+1","v":2409},{"$f":"CNT1+1","v":2410},{"$f":"CNU1+1","v":2411},{"$f":"CNV1+1","v":2412},{"$f":"CNW1+1","v":2413},{"$f":"CNX1+1","v":2414},{"$f":"CNY1+1","v":2415},{"$f":"CNZ1+1","v":2416},{"$f":"COA1+1","v":2417},{"$f":"COB1+1","v":2418},{"$f":"COC1+1","v":2419},{"$f":"COD1+1","v":2420},{"$f":"COE1+1","v":2421},{"$f":"COF1+1","v":2422},{"$f":"COG1+1","v":2423},{"$f":"COH1+1","v":2424},{"$f":"COI1+1","v":2425},{"$f":"COJ1+1","v":2426},{"$f":"COK1+1","v":2427},{"$f":"COL1+1","v":2428},{"$f":"COM1+1","v":2429},{"$f":"CON1+1","v":2430},{"$f":"COO1+1","v":2431},{"$f":"COP1+1","v":2432},{"$f":"COQ1+1","v":2433},{"$f":"COR1+1","v":2434},{"$f":"COS1+1","v":2435},{"$f":"COT1+1","v":2436},{"$f":"COU1+1","v":2437},{"$f":"COV1+1","v":2438},{"$f":"COW1+1","v":2439},{"$f":"COX1+1","v":2440},{"$f":"COY1+1","v":2441},{"$f":"COZ1+1","v":2442},{"$f":"CPA1+1","v":2443},{"$f":"CPB1+1","v":2444},{"$f":"CPC1+1","v":2445},{"$f":"CPD1+1","v":2446},{"$f":"CPE1+1","v":2447},{"$f":"CPF1+1","v":2448},{"$f":"CPG1+1","v":2449},{"$f":"CPH1+1","v":2450},{"$f":"CPI1+1","v":2451},{"$f":"CPJ1+1","v":2452},{"$f":"CPK1+1","v":2453},{"$f":"CPL1+1","v":2454},{"$f":"CPM1+1","v":2455},{"$f":"CPN1+1","v":2456},{"$f":"CPO1+1","v":2457},{"$f":"CPP1+1","v":2458},{"$f":"CPQ1+1","v":2459},{"$f":"CPR1+1","v":2460},{"$f":"CPS1+1","v":2461},{"$f":"CPT1+1","v":2462},{"$f":"CPU1+1","v":2463},{"$f":"CPV1+1","v":2464},{"$f":"CPW1+1","v":2465},{"$f":"CPX1+1","v":2466},{"$f":"CPY1+1","v":2467},{"$f":"CPZ1+1","v":2468},{"$f":"CQA1+1","v":2469},{"$f":"CQB1+1","v":2470},{"$f":"CQC1+1","v":2471},{"$f":"CQD1+1","v":2472},{"$f":"CQE1+1","v":2473},{"$f":"CQF1+1","v":2474},{"$f":"CQG1+1","v":2475},{"$f":"CQH1+1","v":2476},{"$f":"CQI1+1","v":2477},{"$f":"CQJ1+1","v":2478},{"$f":"CQK1+1","v":2479},{"$f":"CQL1+1","v":2480},{"$f":"CQM1+1","v":2481},{"$f":"CQN1+1","v":2482},{"$f":"CQO1+1","v":2483},{"$f":"CQP1+1","v":2484},{"$f":"CQQ1+1","v":2485},{"$f":"CQR1+1","v":2486},{"$f":"CQS1+1","v":2487},{"$f":"CQT1+1","v":2488},{"$f":"CQU1+1","v":2489},{"$f":"CQV1+1","v":2490},{"$f":"CQW1+1","v":2491},{"$f":"CQX1+1","v":2492},{"$f":"CQY1+1","v":2493},{"$f":"CQZ1+1","v":2494},{"$f":"CRA1+1","v":2495},{"$f":"CRB1+1","v":2496},{"$f":"CRC1+1","v":2497},{"$f":"CRD1+1","v":2498},{"$f":"CRE1+1","v":2499},{"$f":"CRF1+1","v":2500},{"$f":"CRG1+1","v":2501},{"$f":"CRH1+1","v":2502},{"$f":"CRI1+1","v":2503},{"$f":"CRJ1+1","v":2504},{"$f":"CRK1+1","v":2505},{"$f":"CRL1+1","v":2506},{"$f":"CRM1+1","v":2507},{"$f":"CRN1+1","v":2508},{"$f":"CRO1+1","v":2509},{"$f":"CRP1+1","v":2510},{"$f":"CRQ1+1","v":2511},{"$f":"CRR1+1","v":2512},{"$f":"CRS1+1","v":2513},{"$f":"CRT1+1","v":2514},2515,2516,{"$f":"CRW1+1","v":2517},2518,2519,2520,2521,2522,2523,2524,2525,2526,2527,2528,2529,{"$f":"CSJ1+1","v":2530},2531,2532,2533,2534,2535,2536,2537,2538,2539,2540,2541,2542,2543,{"$f":"CSX1+1","v":2544},{"$f":"CSY1+1","v":2545},{"$f":"CSZ1+1","v":2546},{"$f":"CTA1+1","v":2547},{"$f":"CTB1+1","v":2548},{"$f":"CTC1+1","v":2549},{"$f":"CTD1+1","v":2550},{"$f":"CTE1+1","v":2551},{"$f":"CTF1+1","v":2552},{"$f":"CTG1+1","v":2553},{"$f":"CTH1+1","v":2554},{"$f":"CTI1+1","v":2555},{"$f":"CTJ1+1","v":2556},{"$f":"CTK1+1","v":2557},{"$f":"CTL1+1","v":2558},{"$f":"CTM1+1","v":2559},{"$f":"CTN1+1","v":2560},{"$f":"CTO1+1","v":2561},{"$f":"CTP1+1","v":2562},{"$f":"CTQ1+1","v":2563},{"$f":"CTR1+1","v":2564},{"$f":"CTS1+1","v":2565},{"$f":"CTT1+1","v":2566},{"$f":"CTU1+1","v":2567},{"$f":"CTV1+1","v":2568},{"$f":"CTW1+1","v":2569},{"$f":"CTX1+1","v":2570},{"$f":"CTY1+1","v":2571},{"$f":"CTZ1+1","v":2572},{"$f":"CUA1+1","v":2573},{"$f":"CUB1+1","v":2574},{"$f":"CUC1+1","v":2575},{"$f":"CUD1+1","v":2576},{"$f":"CUE1+1","v":2577},{"$f":"CUF1+1","v":2578},{"$f":"CUG1+1","v":2579},{"$f":"CUH1+1","v":2580},{"$f":"CUI1+1","v":2581},{"$f":"CUJ1+1","v":2582},{"$f":"CUK1+1","v":2583},{"$f":"CUL1+1","v":2584},{"$f":"CUM1+1","v":2585},{"$f":"CUN1+1","v":2586},{"$f":"CUO1+1","v":2587},{"$f":"CUP1+1","v":2588},{"$f":"CUQ1+1","v":2589},{"$f":"CUR1+1","v":2590},{"$f":"CUS1+1","v":2591},{"$f":"CUT1+1","v":2592},{"$f":"CUU1+1","v":2593},{"$f":"CUV1+1","v":2594},{"$f":"CUW1+1","v":2595},{"$f":"CUX1+1","v":2596},2597,2598,2599,2600,2601,2602,2603,2604,2605,2606,2607,2608,2609,2610,{"$f":"CVM1+1","v":2611},{"$f":"CVN1+1","v":2612},{"$f":"CVO1+1","v":2613},{"$f":"CVP1+1","v":2614},{"$f":"CVQ1+1","v":2615},{"$f":"CVR1+1","v":2616},{"$f":"CVS1+1","v":2617},{"$f":"CVT1+1","v":2618},{"$f":"CVU1+1","v":2619},{"$f":"CVV1+1","v":2620},{"$f":"CVW1+1","v":2621},{"$f":"CVX1+1","v":2622},{"$f":"CVY1+1","v":2623},{"$f":"CVZ1+1","v":2624},{"$f":"CWA1+1","v":2625},{"$f":"CWB1+1","v":2626},{"$f":"CWC1+1","v":2627},{"$f":"CWD1+1","v":2628},{"$f":"CWE1+1","v":2629},{"$f":"CWF1+1","v":2630},{"$f":"CWG1+1","v":2631},{"$f":"CWH1+1","v":2632},{"$f":"CWI1+1","v":2633},{"$f":"CWJ1+1","v":2634},{"$f":"CWK1+1","v":2635},{"$f":"CWL1+1","v":2636},{"$f":"CWM1+1","v":2637},{"$f":"CWN1+1","v":2638},{"$f":"CWO1+1","v":2639},{"$f":"CWP1+1","v":2640},{"$f":"CWQ1+1","v":2641},{"$f":"CWR1+1","v":2642},{"$f":"CWS1+1","v":2643},{"$f":"CWT1+1","v":2644},{"$f":"CWU1+1","v":2645},{"$f":"CWV1+1","v":2646},{"$f":"CWW1+1","v":2647},{"$f":"CWX1+1","v":2648},{"$f":"CWY1+1","v":2649},{"$f":"CWZ1+1","v":2650},{"$f":"CXA1+1","v":2651},{"$f":"CXB1+1","v":2652},{"$f":"CXC1+1","v":2653},{"$f":"CXD1+1","v":2654},{"$f":"CXE1+1","v":2655},{"$f":"CXF1+1","v":2656},{"$f":"CXG1+1","v":2657},{"$f":"CXH1+1","v":2658},{"$f":"CXI1+1","v":2659},{"$f":"CXJ1+1","v":2660},{"$f":"CXK1+1","v":2661},{"$f":"CXL1+1","v":2662},{"$f":"CXM1+1","v":2663},{"$f":"CXN1+1","v":2664},{"$f":"CXO1+1","v":2665},{"$f":"CXP1+1","v":2666},{"$f":"CXQ1+1","v":2667},{"$f":"CXR1+1","v":2668},{"$f":"CXS1+1","v":2669},{"$f":"CXT1+1","v":2670},{"$f":"CXU1+1","v":2671},{"$f":"CXV1+1","v":2672},{"$f":"CXW1+1","v":2673},{"$f":"CXX1+1","v":2674},{"$f":"CXY1+1","v":2675},{"$f":"CXZ1+1","v":2676},{"$f":"CYA1+1","v":2677},{"$f":"CYB1+1","v":2678},{"$f":"CYC1+1","v":2679},{"$f":"CYD1+1","v":2680},{"$f":"CYE1+1","v":2681},{"$f":"CYF1+1","v":2682},{"$f":"CYG1+1","v":2683},{"$f":"CYH1+1","v":2684},{"$f":"CYI1+1","v":2685},{"$f":"CYJ1+1","v":2686},{"$f":"CYK1+1","v":2687},{"$f":"CYL1+1","v":2688},{"$f":"CYM1+1","v":2689},{"$f":"CYN1+1","v":2690},{"$f":"CYO1+1","v":2691},{"$f":"CYP1+1","v":2692},{"$f":"CYQ1+1","v":2693},{"$f":"CYR1+1","v":2694},{"$f":"CYS1+1","v":2695},{"$f":"CYT1+1","v":2696},{"$f":"CYU1+1","v":2697},{"$f":"CYV1+1","v":2698},{"$f":"CYW1+1","v":2699},{"$f":"CYX1+1","v":2700},{"$f":"CYY1+1","v":2701},{"$f":"CYZ1+1","v":2702},{"$f":"CZA1+1","v":2703},{"$f":"CZB1+1","v":2704},{"$f":"CZC1+1","v":2705},{"$f":"CZD1+1","v":2706},{"$f":"CZE1+1","v":2707},{"$f":"CZF1+1","v":2708},{"$f":"CZG1+1","v":2709},{"$f":"CZH1+1","v":2710},{"$f":"CZI1+1","v":2711},{"$f":"CZJ1+1","v":2712},{"$f":"CZK1+1","v":2713},{"$f":"CZL1+1","v":2714},{"$f":"CZM1+1","v":2715},{"$f":"CZN1+1","v":2716},{"$f":"CZO1+1","v":2717},{"$f":"CZP1+1","v":2718},{"$f":"CZQ1+1","v":2719},{"$f":"CZR1+1","v":2720},{"$f":"CZS1+1","v":2721},{"$f":"CZT1+1","v":2722},{"$f":"CZU1+1","v":2723},{"$f":"CZV1+1","v":2724},{"$f":"CZW1+1","v":2725},{"$f":"CZX1+1","v":2726},{"$f":"CZY1+1","v":2727},{"$f":"CZZ1+1","v":2728},{"$f":"DAA1+1","v":2729},{"$f":"DAB1+1","v":2730},{"$f":"DAC1+1","v":2731},{"$f":"DAD1+1","v":2732},{"$f":"DAE1+1","v":2733},{"$f":"DAF1+1","v":2734},{"$f":"DAG1+1","v":2735},{"$f":"DAH1+1","v":2736},{"$f":"DAI1+1","v":2737},{"$f":"DAJ1+1","v":2738},{"$f":"DAK1+1","v":2739},{"$f":"DAL1+1","v":2740},{"$f":"DAM1+1","v":2741},{"$f":"DAN1+1","v":2742},{"$f":"DAO1+1","v":2743},{"$f":"DAP1+1","v":2744},{"$f":"DAQ1+1","v":2745},{"$f":"DAR1+1","v":2746},{"$f":"DAS1+1","v":2747},{"$f":"DAT1+1","v":2748},{"$f":"DAU1+1","v":2749},{"$f":"DAV1+1","v":2750},{"$f":"DAW1+1","v":2751},{"$f":"DAX1+1","v":2752},{"$f":"DAY1+1","v":2753},{"$f":"DAZ1+1","v":2754},{"$f":"DBA1+1","v":2755},{"$f":"DBB1+1","v":2756},{"$f":"DBC1+1","v":2757},{"$f":"DBD1+1","v":2758},{"$f":"DBE1+1","v":2759},{"$f":"DBF1+1","v":2760},{"$f":"DBG1+1","v":2761},{"$f":"DBH1+1","v":2762},{"$f":"DBI1+1","v":2763},{"$f":"DBJ1+1","v":2764},{"$f":"DBK1+1","v":2765},{"$f":"DBL1+1","v":2766},{"$f":"DBM1+1","v":2767},{"$f":"DBN1+1","v":2768},{"$f":"DBO1+1","v":2769},{"$f":"DBP1+1","v":2770},{"$f":"DBQ1+1","v":2771},{"$f":"DBR1+1","v":2772},{"$f":"DBS1+1","v":2773},{"$f":"DBT1+1","v":2774},{"$f":"DBU1+1","v":2775},{"$f":"DBV1+1","v":2776},{"$f":"DBW1+1","v":2777},{"$f":"DBX1+1","v":2778},{"$f":"DBY1+1","v":2779},{"$f":"DBZ1+1","v":2780},{"$f":"DCA1+1","v":2781},{"$f":"DCB1+1","v":2782},{"$f":"DCC1+1","v":2783},{"$f":"DCD1+1","v":2784},{"$f":"DCE1+1","v":2785},{"$f":"DCF1+1","v":2786},{"$f":"DCG1+1","v":2787},{"$f":"DCH1+1","v":2788},{"$f":"DCI1+1","v":2789},{"$f":"DCJ1+1","v":2790},{"$f":"DCK1+1","v":2791},{"$f":"DCL1+1","v":2792},{"$f":"DCM1+1","v":2793},{"$f":"DCN1+1","v":2794},{"$f":"DCO1+1","v":2795},{"$f":"DCP1+1","v":2796},{"$f":"DCQ1+1","v":2797},{"$f":"DCR1+1","v":2798},{"$f":"DCS1+1","v":2799},{"$f":"DCT1+1","v":2800},{"$f":"DCU1+1","v":2801},{"$f":"DCV1+1","v":2802},{"$f":"DCW1+1","v":2803},{"$f":"DCX1+1","v":2804},{"$f":"DCY1+1","v":2805},{"$f":"DCZ1+1","v":2806},{"$f":"DDA1+1","v":2807},{"$f":"DDB1+1","v":2808},{"$f":"DDC1+1","v":2809},{"$f":"DDD1+1","v":2810},{"$f":"DDE1+1","v":2811},{"$f":"DDF1+1","v":2812},{"$f":"DDG1+1","v":2813},{"$f":"DDH1+1","v":2814},{"$f":"DDI1+1","v":2815},{"$f":"DDJ1+1","v":2816},{"$f":"DDK1+1","v":2817},{"$f":"DDL1+1","v":2818},{"$f":"DDM1+1","v":2819},{"$f":"DDN1+1","v":2820},{"$f":"DDO1+1","v":2821},{"$f":"DDP1+1","v":2822},{"$f":"DDQ1+1","v":2823},{"$f":"DDR1+1","v":2824},{"$f":"DDS1+1","v":2825},{"$f":"DDT1+1","v":2826},{"$f":"DDU1+1","v":2827},{"$f":"DDV1+1","v":2828},{"$f":"DDW1+1","v":2829},{"$f":"DDX1+1","v":2830},{"$f":"DDY1+1","v":2831},{"$f":"DDZ1+1","v":2832},{"$f":"DEA1+1","v":2833},{"$f":"DEB1+1","v":2834},{"$f":"DEC1+1","v":2835},{"$f":"DED1+1","v":2836},{"$f":"DEE1+1","v":2837},{"$f":"DEF1+1","v":2838},{"$f":"DEG1+1","v":2839},{"$f":"DEH1+1","v":2840},{"$f":"DEI1+1","v":2841},{"$f":"DEJ1+1","v":2842},{"$f":"DEK1+1","v":2843},{"$f":"DEL1+1","v":2844},{"$f":"DEM1+1","v":2845},{"$f":"DEN1+1","v":2846},{"$f":"DEO1+1","v":2847},{"$f":"DEP1+1","v":2848},{"$f":"DEQ1+1","v":2849},{"$f":"DER1+1","v":2850},{"$f":"DES1+1","v":2851},{"$f":"DET1+1","v":2852},{"$f":"DEU1+1","v":2853},{"$f":"DEV1+1","v":2854},{"$f":"DEW1+1","v":2855},{"$f":"DEX1+1","v":2856},{"$f":"DEY1+1","v":2857},{"$f":"DEZ1+1","v":2858},{"$f":"DFA1+1","v":2859},{"$f":"DFB1+1","v":2860},{"$f":"DFC1+1","v":2861},{"$f":"DFD1+1","v":2862},{"$f":"DFE1+1","v":2863},{"$f":"DFF1+1","v":2864},{"$f":"DFG1+1","v":2865},{"$f":"DFH1+1","v":2866},{"$f":"DFI1+1","v":2867},{"$f":"DFJ1+1","v":2868},{"$f":"DFK1+1","v":2869},{"$f":"DFL1+1","v":2870},{"$f":"DFM1+1","v":2871},{"$f":"DFN1+1","v":2872},{"$f":"DFO1+1","v":2873},{"$f":"DFP1+1","v":2874},{"$f":"DFQ1+1","v":2875},{"$f":"DFR1+1","v":2876},{"$f":"DFS1+1","v":2877},{"$f":"DFT1+1","v":2878},{"$f":"DFU1+1","v":2879},{"$f":"DFV1+1","v":2880},{"$f":"DFW1+1","v":2881},{"$f":"DFX1+1","v":2882},{"$f":"DFY1+1","v":2883},{"$f":"DFZ1+1","v":2884},{"$f":"DGA1+1","v":2885},{"$f":"DGB1+1","v":2886},{"$f":"DGC1+1","v":2887},{"$f":"DGD1+1","v":2888},{"$f":"DGE1+1","v":2889},{"$f":"DGF1+1","v":2890},{"$f":"DGG1+1","v":2891},{"$f":"DGH1+1","v":2892},{"$f":"DGI1+1","v":2893},{"$f":"DGJ1+1","v":2894},{"$f":"DGK1+1","v":2895},{"$f":"DGL1+1","v":2896},{"$f":"DGM1+1","v":2897},{"$f":"DGN1+1","v":2898},{"$f":"DGO1+1","v":2899},{"$f":"DGP1+1","v":2900},{"$f":"DGQ1+1","v":2901},{"$f":"DGR1+1","v":2902},{"$f":"DGS1+1","v":2903},{"$f":"DGT1+1","v":2904},{"$f":"DGU1+1","v":2905},{"$f":"DGV1+1","v":2906},{"$f":"DGW1+1","v":2907},{"$f":"DGX1+1","v":2908},{"$f":"DGY1+1","v":2909},{"$f":"DGZ1+1","v":2910},{"$f":"DHA1+1","v":2911},{"$f":"DHB1+1","v":2912},{"$f":"DHC1+1","v":2913},{"$f":"DHD1+1","v":2914},{"$f":"DHE1+1","v":2915},{"$f":"DHF1+1","v":2916},{"$f":"DHG1+1","v":2917},{"$f":"DHH1+1","v":2918},{"$f":"DHI1+1","v":2919},{"$f":"DHJ1+1","v":2920},{"$f":"DHK1+1","v":2921},{"$f":"DHL1+1","v":2922},{"$f":"DHM1+1","v":2923},{"$f":"DHN1+1","v":2924},{"$f":"DHO1+1","v":2925},{"$f":"DHP1+1","v":2926},{"$f":"DHQ1+1","v":2927},{"$f":"DHR1+1","v":2928},{"$f":"DHS1+1","v":2929},{"$f":"DHT1+1","v":2930},{"$f":"DHU1+1","v":2931},{"$f":"DHV1+1","v":2932},{"$f":"DHW1+1","v":2933},{"$f":"DHX1+1","v":2934},{"$f":"DHY1+1","v":2935},{"$f":"DHZ1+1","v":2936},{"$f":"DIA1+1","v":2937},{"$f":"DIB1+1","v":2938},{"$f":"DIC1+1","v":2939},{"$f":"DID1+1","v":2940},{"$f":"DIE1+1","v":2941},{"$f":"DIF1+1","v":2942},{"$f":"DIG1+1","v":2943},{"$f":"DIH1+1","v":2944},{"$f":"DII1+1","v":2945},{"$f":"DIJ1+1","v":2946},{"$f":"DIK1+1","v":2947},{"$f":"DIL1+1","v":2948},{"$f":"DIM1+1","v":2949},{"$f":"DIN1+1","v":2950},{"$f":"DIO1+1","v":2951},{"$f":"DIP1+1","v":2952},{"$f":"DIQ1+1","v":2953},{"$f":"DIR1+1","v":2954},{"$f":"DIS1+1","v":2955},{"$f":"DIT1+1","v":2956},{"$f":"DIU1+1","v":2957},{"$f":"DIV1+1","v":2958},{"$f":"DIW1+1","v":2959},{"$f":"DIX1+1","v":2960},{"$f":"DIY1+1","v":2961},{"$f":"DIZ1+1","v":2962},{"$f":"DJA1+1","v":2963},{"$f":"DJB1+1","v":2964},{"$f":"DJC1+1","v":2965},{"$f":"DJD1+1","v":2966},{"$f":"DJE1+1","v":2967},{"$f":"DJF1+1","v":2968},{"$f":"DJG1+1","v":2969},{"$f":"DJH1+1","v":2970},{"$f":"DJI1+1","v":2971},{"$f":"DJJ1+1","v":2972},{"$f":"DJK1+1","v":2973},{"$f":"DJL1+1","v":2974},{"$f":"DJM1+1","v":2975},{"$f":"DJN1+1","v":2976},{"$f":"DJO1+1","v":2977},{"$f":"DJP1+1","v":2978},{"$f":"DJQ1+1","v":2979},{"$f":"DJR1+1","v":2980},{"$f":"DJS1+1","v":2981},{"$f":"DJT1+1","v":2982},{"$f":"DJU1+1","v":2983},{"$f":"DJV1+1","v":2984},{"$f":"DJW1+1","v":2985},{"$f":"DJX1+1","v":2986},{"$f":"DJY1+1","v":2987},{"$f":"DJZ1+1","v":2988},{"$f":"DKA1+1","v":2989},{"$f":"DKB1+1","v":2990},{"$f":"DKC1+1","v":2991},{"$f":"DKD1+1","v":2992},{"$f":"DKE1+1","v":2993},{"$f":"DKF1+1","v":2994},{"$f":"DKG1+1","v":2995},{"$f":"DKH1+1","v":2996},{"$f":"DKI1+1","v":2997},{"$f":"DKJ1+1","v":2998},{"$f":"DKK1+1","v":2999},{"$f":"DKL1+1","v":3000},{"$f":"DKM1+1","v":3001},{"$f":"DKN1+1","v":3002},{"$f":"DKO1+1","v":3003},{"$f":"DKP1+1","v":3004},{"$f":"DKQ1+1","v":3005},{"$f":"DKR1+1","v":3006},{"$f":"DKS1+1","v":3007},{"$f":"DKT1+1","v":3008},{"$f":"DKU1+1","v":3009},{"$f":"DKV1+1","v":3010},{"$f":"DKW1+1","v":3011},{"$f":"DKX1+1","v":3012},{"$f":"DKY1+1","v":3013},{"$f":"DKZ1+1","v":3014},{"$f":"DLA1+1","v":3015},{"$f":"DLB1+1","v":3016},{"$f":"DLC1+1","v":3017},{"$f":"DLD1+1","v":3018},{"$f":"DLE1+1","v":3019},{"$f":"DLF1+1","v":3020},{"$f":"DLG1+1","v":3021},{"$f":"DLH1+1","v":3022},{"$f":"DLI1+1","v":3023},{"$f":"DLJ1+1","v":3024},{"$f":"DLK1+1","v":3025},{"$f":"DLL1+1","v":3026},{"$f":"DLM1+1","v":3027},{"$f":"DLN1+1","v":3028},{"$f":"DLO1+1","v":3029},{"$f":"DLP1+1","v":3030},{"$f":"DLQ1+1","v":3031},{"$f":"DLR1+1","v":3032},{"$f":"DLS1+1","v":3033},{"$f":"DLT1+1","v":3034},{"$f":"DLU1+1","v":3035},{"$f":"DLV1+1","v":3036},{"$f":"DLW1+1","v":3037},{"$f":"DLX1+1","v":3038},{"$f":"DLY1+1","v":3039},{"$f":"DLZ1+1","v":3040},{"$f":"DMA1+1","v":3041},{"$f":"DMB1+1","v":3042},{"$f":"DMC1+1","v":3043},{"$f":"DMD1+1","v":3044},{"$f":"DME1+1","v":3045},{"$f":"DMF1+1","v":3046},{"$f":"DMG1+1","v":3047},{"$f":"DMH1+1","v":3048},{"$f":"DMI1+1","v":3049},{"$f":"DMJ1+1","v":3050},{"$f":"DMK1+1","v":3051},{"$f":"DML1+1","v":3052},{"$f":"DMM1+1","v":3053},{"$f":"DMN1+1","v":3054},{"$f":"DMO1+1","v":3055},{"$f":"DMP1+1","v":3056},{"$f":"DMQ1+1","v":3057},{"$f":"DMR1+1","v":3058},{"$f":"DMS1+1","v":3059},{"$f":"DMT1+1","v":3060},{"$f":"DMU1+1","v":3061},{"$f":"DMV1+1","v":3062},{"$f":"DMW1+1","v":3063},{"$f":"DMX1+1","v":3064},{"$f":"DMY1+1","v":3065},{"$f":"DMZ1+1","v":3066},{"$f":"DNA1+1","v":3067},{"$f":"DNB1+1","v":3068},{"$f":"DNC1+1","v":3069},{"$f":"DND1+1","v":3070},{"$f":"DNE1+1","v":3071},{"$f":"DNF1+1","v":3072},{"$f":"DNG1+1","v":3073},{"$f":"DNH1+1","v":3074},{"$f":"DNI1+1","v":3075},{"$f":"DNJ1+1","v":3076},{"$f":"DNK1+1","v":3077},{"$f":"DNL1+1","v":3078},{"$f":"DNM1+1","v":3079},{"$f":"DNN1+1","v":3080},{"$f":"DNO1+1","v":3081},{"$f":"DNP1+1","v":3082},{"$f":"DNQ1+1","v":3083},{"$f":"DNR1+1","v":3084},{"$f":"DNS1+1","v":3085},{"$f":"DNT1+1","v":3086},{"$f":"DNU1+1","v":3087},{"$f":"DNV1+1","v":3088},{"$f":"DNW1+1","v":3089},{"$f":"DNX1+1","v":3090},{"$f":"DNY1+1","v":3091},{"$f":"DNZ1+1","v":3092},{"$f":"DOA1+1","v":3093},{"$f":"DOB1+1","v":3094},{"$f":"DOC1+1","v":3095},{"$f":"DOD1+1","v":3096},{"$f":"DOE1+1","v":3097},{"$f":"DOF1+1","v":3098},{"$f":"DOG1+1","v":3099},{"$f":"DOH1+1","v":3100},{"$f":"DOI1+1","v":3101},{"$f":"DOJ1+1","v":3102},{"$f":"DOK1+1","v":3103},{"$f":"DOL1+1","v":3104},{"$f":"DOM1+1","v":3105},{"$f":"DON1+1","v":3106},{"$f":"DOO1+1","v":3107},{"$f":"DOP1+1","v":3108},{"$f":"DOQ1+1","v":3109},{"$f":"DOR1+1","v":3110},{"$f":"DOS1+1","v":3111},{"$f":"DOT1+1","v":3112},{"$f":"DOU1+1","v":3113},{"$f":"DOV1+1","v":3114},{"$f":"DOW1+1","v":3115},{"$f":"DOX1+1","v":3116},{"$f":"DOY1+1","v":3117},{"$f":"DOZ1+1","v":3118},{"$f":"DPA1+1","v":3119},{"$f":"DPB1+1","v":3120},{"$f":"DPC1+1","v":3121},{"$f":"DPD1+1","v":3122},{"$f":"DPE1+1","v":3123},{"$f":"DPF1+1","v":3124},{"$f":"DPG1+1","v":3125},{"$f":"DPH1+1","v":3126},{"$f":"DPI1+1","v":3127},{"$f":"DPJ1+1","v":3128},{"$f":"DPK1+1","v":3129},{"$f":"DPL1+1","v":3130},{"$f":"DPM1+1","v":3131},{"$f":"DPN1+1","v":3132},{"$f":"DPO1+1","v":3133},{"$f":"DPP1+1","v":3134},{"$f":"DPQ1+1","v":3135},{"$f":"DPR1+1","v":3136},{"$f":"DPS1+1","v":3137},{"$f":"DPT1+1","v":3138},{"$f":"DPU1+1","v":3139},{"$f":"DPV1+1","v":3140},{"$f":"DPW1+1","v":3141},{"$f":"DPX1+1","v":3142},{"$f":"DPY1+1","v":3143},{"$f":"DPZ1+1","v":3144},{"$f":"DQA1+1","v":3145},{"$f":"DQB1+1","v":3146},{"$f":"DQC1+1","v":3147},{"$f":"DQD1+1","v":3148},{"$f":"DQE1+1","v":3149},{"$f":"DQF1+1","v":3150},{"$f":"DQG1+1","v":3151},{"$f":"DQH1+1","v":3152},{"$f":"DQI1+1","v":3153},{"$f":"DQJ1+1","v":3154},{"$f":"DQK1+1","v":3155},{"$f":"DQL1+1","v":3156},{"$f":"DQM1+1","v":3157},{"$f":"DQN1+1","v":3158},{"$f":"DQO1+1","v":3159},{"$f":"DQP1+1","v":3160},{"$f":"DQQ1+1","v":3161},{"$f":"DQR1+1","v":3162},{"$f":"DQS1+1","v":3163},{"$f":"DQT1+1","v":3164},{"$f":"DQU1+1","v":3165},{"$f":"DQV1+1","v":3166},{"$f":"DQW1+1","v":3167},{"$f":"DQX1+1","v":3168},{"$f":"DQY1+1","v":3169},{"$f":"DQZ1+1","v":3170},{"$f":"DRA1+1","v":3171},{"$f":"DRB1+1","v":3172},{"$f":"DRC1+1","v":3173},{"$f":"DRD1+1","v":3174},{"$f":"DRE1+1","v":3175},{"$f":"DRF1+1","v":3176},{"$f":"DRG1+1","v":3177},{"$f":"DRH1+1","v":3178},{"$f":"DRI1+1","v":3179},{"$f":"DRJ1+1","v":3180},{"$f":"DRK1+1","v":3181},{"$f":"DRL1+1","v":3182},{"$f":"DRM1+1","v":3183},{"$f":"DRN1+1","v":3184},{"$f":"DRO1+1","v":3185},{"$f":"DRP1+1","v":3186},{"$f":"DRQ1+1","v":3187},{"$f":"DRR1+1","v":3188},{"$f":"DRS1+1","v":3189},{"$f":"DRT1+1","v":3190},{"$f":"DRU1+1","v":3191},{"$f":"DRV1+1","v":3192},{"$f":"DRW1+1","v":3193},{"$f":"DRX1+1","v":3194},{"$f":"DRY1+1","v":3195},{"$f":"DRZ1+1","v":3196},{"$f":"DSA1+1","v":3197},{"$f":"DSB1+1","v":3198},{"$f":"DSC1+1","v":3199},{"$f":"DSD1+1","v":3200},{"$f":"DSE1+1","v":3201},{"$f":"DSF1+1","v":3202},{"$f":"DSG1+1","v":3203},{"$f":"DSH1+1","v":3204},{"$f":"DSI1+1","v":3205},{"$f":"DSJ1+1","v":3206},{"$f":"DSK1+1","v":3207},{"$f":"DSL1+1","v":3208},{"$f":"DSM1+1","v":3209},{"$f":"DSN1+1","v":3210},{"$f":"DSO1+1","v":3211},{"$f":"DSP1+1","v":3212},{"$f":"DSQ1+1","v":3213},{"$f":"DSR1+1","v":3214},{"$f":"DSS1+1","v":3215},{"$f":"DST1+1","v":3216},{"$f":"DSU1+1","v":3217},{"$f":"DSV1+1","v":3218},{"$f":"DSW1+1","v":3219},{"$f":"DSX1+1","v":3220},{"$f":"DSY1+1","v":3221},{"$f":"DSZ1+1","v":3222},{"$f":"DTA1+1","v":3223},{"$f":"DTB1+1","v":3224},{"$f":"DTC1+1","v":3225},{"$f":"DTD1+1","v":3226},{"$f":"DTE1+1","v":3227},{"$f":"DTF1+1","v":3228},{"$f":"DTG1+1","v":3229},{"$f":"DTH1+1","v":3230},{"$f":"DTI1+1","v":3231},{"$f":"DTJ1+1","v":3232},{"$f":"DTK1+1","v":3233},{"$f":"DTL1+1","v":3234},{"$f":"DTM1+1","v":3235},{"$f":"DTN1+1","v":3236},{"$f":"DTO1+1","v":3237},{"$f":"DTP1+1","v":3238},{"$f":"DTQ1+1","v":3239},{"$f":"DTR1+1","v":3240},{"$f":"DTS1+1","v":3241},{"$f":"DTT1+1","v":3242},{"$f":"DTU1+1","v":3243},{"$f":"DTV1+1","v":3244},{"$f":"DTW1+1","v":3245},{"$f":"DTX1+1","v":3246},{"$f":"DTY1+1","v":3247},{"$f":"DTZ1+1","v":3248},{"$f":"DUA1+1","v":3249},{"$f":"DUB1+1","v":3250},{"$f":"DUC1+1","v":3251},{"$f":"DUD1+1","v":3252},{"$f":"DUE1+1","v":3253},{"$f":"DUF1+1","v":3254},{"$f":"DUG1+1","v":3255},{"$f":"DUH1+1","v":3256},{"$f":"DUI1+1","v":3257},{"$f":"DUJ1+1","v":3258},{"$f":"DUK1+1","v":3259},{"$f":"DUL1+1","v":3260},{"$f":"DUM1+1","v":3261},{"$f":"DUN1+1","v":3262},{"$f":"DUO1+1","v":3263},{"$f":"DUP1+1","v":3264},{"$f":"DUQ1+1","v":3265},{"$f":"DUR1+1","v":3266},{"$f":"DUS1+1","v":3267},{"$f":"DUT1+1","v":3268},{"$f":"DUU1+1","v":3269},{"$f":"DUV1+1","v":3270},{"$f":"DUW1+1","v":3271},{"$f":"DUX1+1","v":3272},{"$f":"DUY1+1","v":3273},{"$f":"DUZ1+1","v":3274},{"$f":"DVA1+1","v":3275},{"$f":"DVB1+1","v":3276},{"$f":"DVC1+1","v":3277},{"$f":"DVD1+1","v":3278},{"$f":"DVE1+1","v":3279},{"$f":"DVF1+1","v":3280},{"$f":"DVG1+1","v":3281},{"$f":"DVH1+1","v":3282},{"$f":"DVI1+1","v":3283},{"$f":"DVJ1+1","v":3284},{"$f":"DVK1+1","v":3285},{"$f":"DVL1+1","v":3286},{"$f":"DVM1+1","v":3287},{"$f":"DVN1+1","v":3288},{"$f":"DVO1+1","v":3289},{"$f":"DVP1+1","v":3290},{"$f":"DVQ1+1","v":3291},{"$f":"DVR1+1","v":3292},{"$f":"DVS1+1","v":3293},{"$f":"DVT1+1","v":3294},{"$f":"DVU1+1","v":3295},{"$f":"DVV1+1","v":3296},{"$f":"DVW1+1","v":3297},{"$f":"DVX1+1","v":3298},{"$f":"DVY1+1","v":3299},{"$f":"DVZ1+1","v":3300},{"$f":"DWA1+1","v":3301},{"$f":"DWB1+1","v":3302},{"$f":"DWC1+1","v":3303},{"$f":"DWD1+1","v":3304},{"$f":"DWE1+1","v":3305},{"$f":"DWF1+1","v":3306},{"$f":"DWG1+1","v":3307},{"$f":"DWH1+1","v":3308},{"$f":"DWI1+1","v":3309},{"$f":"DWJ1+1","v":3310},{"$f":"DWK1+1","v":3311},{"$f":"DWL1+1","v":3312},{"$f":"DWM1+1","v":3313},{"$f":"DWN1+1","v":3314},{"$f":"DWO1+1","v":3315},{"$f":"DWP1+1","v":3316},{"$f":"DWQ1+1","v":3317},{"$f":"DWR1+1","v":3318},{"$f":"DWS1+1","v":3319},{"$f":"DWT1+1","v":3320},{"$f":"DWU1+1","v":3321},{"$f":"DWV1+1","v":3322},{"$f":"DWW1+1","v":3323},{"$f":"DWX1+1","v":3324},{"$f":"DWY1+1","v":3325},{"$f":"DWZ1+1","v":3326},{"$f":"DXA1+1","v":3327},{"$f":"DXB1+1","v":3328},{"$f":"DXC1+1","v":3329},{"$f":"DXD1+1","v":3330},{"$f":"DXE1+1","v":3331},{"$f":"DXF1+1","v":3332},{"$f":"DXG1+1","v":3333},{"$f":"DXH1+1","v":3334},{"$f":"DXI1+1","v":3335},{"$f":"DXJ1+1","v":3336},{"$f":"DXK1+1","v":3337},{"$f":"DXL1+1","v":3338},{"$f":"DXM1+1","v":3339},{"$f":"DXN1+1","v":3340},{"$f":"DXO1+1","v":3341},{"$f":"DXP1+1","v":3342},{"$f":"DXQ1+1","v":3343},{"$f":"DXR1+1","v":3344},{"$f":"DXS1+1","v":3345},{"$f":"DXT1+1","v":3346},{"$f":"DXU1+1","v":3347},{"$f":"DXV1+1","v":3348},{"$f":"DXW1+1","v":3349},{"$f":"DXX1+1","v":3350},{"$f":"DXY1+1","v":3351},{"$f":"DXZ1+1","v":3352},{"$f":"DYA1+1","v":3353},{"$f":"DYB1+1","v":3354},{"$f":"DYC1+1","v":3355},{"$f":"DYD1+1","v":3356},{"$f":"DYE1+1","v":3357},{"$f":"DYF1+1","v":3358},{"$f":"DYG1+1","v":3359},{"$f":"DYH1+1","v":3360},{"$f":"DYI1+1","v":3361},{"$f":"DYJ1+1","v":3362},{"$f":"DYK1+1","v":3363},{"$f":"DYL1+1","v":3364},{"$f":"DYM1+1","v":3365},{"$f":"DYN1+1","v":3366},{"$f":"DYO1+1","v":3367},{"$f":"DYP1+1","v":3368},{"$f":"DYQ1+1","v":3369},{"$f":"DYR1+1","v":3370},{"$f":"DYS1+1","v":3371},{"$f":"DYT1+1","v":3372},{"$f":"DYU1+1","v":3373},{"$f":"DYV1+1","v":3374},{"$f":"DYW1+1","v":3375},{"$f":"DYX1+1","v":3376},{"$f":"DYY1+1","v":3377},{"$f":"DYZ1+1","v":3378},{"$f":"DZA1+1","v":3379},{"$f":"DZB1+1","v":3380},{"$f":"DZC1+1","v":3381},{"$f":"DZD1+1","v":3382},{"$f":"DZE1+1","v":3383},{"$f":"DZF1+1","v":3384},{"$f":"DZG1+1","v":3385},{"$f":"DZH1+1","v":3386},{"$f":"DZI1+1","v":3387},{"$f":"DZJ1+1","v":3388},{"$f":"DZK1+1","v":3389},{"$f":"DZL1+1","v":3390},{"$f":"DZM1+1","v":3391},{"$f":"DZN1+1","v":3392},{"$f":"DZO1+1","v":3393},{"$f":"DZP1+1","v":3394},{"$f":"DZQ1+1","v":3395},{"$f":"DZR1+1","v":3396},{"$f":"DZS1+1","v":3397},{"$f":"DZT1+1","v":3398},{"$f":"DZU1+1","v":3399},{"$f":"DZV1+1","v":3400},{"$f":"DZW1+1","v":3401},{"$f":"DZX1+1","v":3402},{"$f":"DZY1+1","v":3403},{"$f":"DZZ1+1","v":3404},{"$f":"EAA1+1","v":3405},{"$f":"EAB1+1","v":3406},{"$f":"EAC1+1","v":3407},{"$f":"EAD1+1","v":3408},{"$f":"EAE1+1","v":3409},{"$f":"EAF1+1","v":3410},{"$f":"EAG1+1","v":3411},{"$f":"EAH1+1","v":3412},{"$f":"EAI1+1","v":3413},{"$f":"EAJ1+1","v":3414},{"$f":"EAK1+1","v":3415},{"$f":"EAL1+1","v":3416},{"$f":"EAM1+1","v":3417},{"$f":"EAN1+1","v":3418},{"$f":"EAO1+1","v":3419},{"$f":"EAP1+1","v":3420},{"$f":"EAQ1+1","v":3421},{"$f":"EAR1+1","v":3422},{"$f":"EAS1+1","v":3423},{"$f":"EAT1+1","v":3424},{"$f":"EAU1+1","v":3425},{"$f":"EAV1+1","v":3426},{"$f":"EAW1+1","v":3427},{"$f":"EAX1+1","v":3428},{"$f":"EAY1+1","v":3429},{"$f":"EAZ1+1","v":3430},{"$f":"EBA1+1","v":3431},{"$f":"EBB1+1","v":3432},{"$f":"EBC1+1","v":3433},{"$f":"EBD1+1","v":3434},{"$f":"EBE1+1","v":3435},{"$f":"EBF1+1","v":3436},{"$f":"EBG1+1","v":3437},{"$f":"EBH1+1","v":3438},{"$f":"EBI1+1","v":3439},{"$f":"EBJ1+1","v":3440},{"$f":"EBK1+1","v":3441},{"$f":"EBL1+1","v":3442},{"$f":"EBM1+1","v":3443},{"$f":"EBN1+1","v":3444},{"$f":"EBO1+1","v":3445},{"$f":"EBP1+1","v":3446},{"$f":"EBQ1+1","v":3447},{"$f":"EBR1+1","v":3448},{"$f":"EBS1+1","v":3449},{"$f":"EBT1+1","v":3450},{"$f":"EBU1+1","v":3451},{"$f":"EBV1+1","v":3452},{"$f":"EBW1+1","v":3453},{"$f":"EBX1+1","v":3454},{"$f":"EBY1+1","v":3455},{"$f":"EBZ1+1","v":3456},{"$f":"ECA1+1","v":3457},{"$f":"ECB1+1","v":3458},{"$f":"ECC1+1","v":3459},{"$f":"ECD1+1","v":3460},{"$f":"ECE1+1","v":3461},{"$f":"ECF1+1","v":3462},{"$f":"ECG1+1","v":3463},{"$f":"ECH1+1","v":3464},{"$f":"ECI1+1","v":3465},{"$f":"ECJ1+1","v":3466},{"$f":"ECK1+1","v":3467},{"$f":"ECL1+1","v":3468},{"$f":"ECM1+1","v":3469},{"$f":"ECN1+1","v":3470},{"$f":"ECO1+1","v":3471},{"$f":"ECP1+1","v":3472},{"$f":"ECQ1+1","v":3473},{"$f":"ECR1+1","v":3474},{"$f":"ECS1+1","v":3475},{"$f":"ECT1+1","v":3476},{"$f":"ECU1+1","v":3477},{"$f":"ECV1+1","v":3478},{"$f":"ECW1+1","v":3479},{"$f":"ECX1+1","v":3480},{"$f":"ECY1+1","v":3481},{"$f":"ECZ1+1","v":3482},{"$f":"EDA1+1","v":3483},{"$f":"EDB1+1","v":3484},{"$f":"EDC1+1","v":3485},{"$f":"EDD1+1","v":3486},{"$f":"EDE1+1","v":3487},{"$f":"EDF1+1","v":3488},{"$f":"EDG1+1","v":3489},{"$f":"EDH1+1","v":3490},{"$f":"EDI1+1","v":3491},{"$f":"EDJ1+1","v":3492},{"$f":"EDK1+1","v":3493},{"$f":"EDL1+1","v":3494},{"$f":"EDM1+1","v":3495},{"$f":"EDN1+1","v":3496},{"$f":"EDO1+1","v":3497},{"$f":"EDP1+1","v":3498},{"$f":"EDQ1+1","v":3499},{"$f":"EDR1+1","v":3500},{"$f":"EDS1+1","v":3501},{"$f":"EDT1+1","v":3502},{"$f":"EDU1+1","v":3503},{"$f":"EDV1+1","v":3504},{"$f":"EDW1+1","v":3505},{"$f":"EDX1+1","v":3506},{"$f":"EDY1+1","v":3507},{"$f":"EDZ1+1","v":3508},{"$f":"EEA1+1","v":3509},{"$f":"EEB1+1","v":3510},{"$f":"EEC1+1","v":3511},{"$f":"EED1+1","v":3512},{"$f":"EEE1+1","v":3513},{"$f":"EEF1+1","v":3514},{"$f":"EEG1+1","v":3515},{"$f":"EEH1+1","v":3516},{"$f":"EEI1+1","v":3517},{"$f":"EEJ1+1","v":3518},{"$f":"EEK1+1","v":3519},{"$f":"EEL1+1","v":3520},{"$f":"EEM1+1","v":3521},{"$f":"EEN1+1","v":3522},{"$f":"EEO1+1","v":3523},{"$f":"EEP1+1","v":3524},{"$f":"EEQ1+1","v":3525},{"$f":"EER1+1","v":3526},{"$f":"EES1+1","v":3527},{"$f":"EET1+1","v":3528},{"$f":"EEU1+1","v":3529},{"$f":"EEV1+1","v":3530},{"$f":"EEW1+1","v":3531},{"$f":"EEX1+1","v":3532},{"$f":"EEY1+1","v":3533},{"$f":"EEZ1+1","v":3534},{"$f":"EFA1+1","v":3535},{"$f":"EFB1+1","v":3536},{"$f":"EFC1+1","v":3537},{"$f":"EFD1+1","v":3538},{"$f":"EFE1+1","v":3539},{"$f":"EFF1+1","v":3540},{"$f":"EFG1+1","v":3541},{"$f":"EFH1+1","v":3542},{"$f":"EFI1+1","v":3543},{"$f":"EFJ1+1","v":3544},{"$f":"EFK1+1","v":3545},{"$f":"EFL1+1","v":3546},{"$f":"EFM1+1","v":3547},{"$f":"EFN1+1","v":3548},{"$f":"EFO1+1","v":3549},{"$f":"EFP1+1","v":3550},{"$f":"EFQ1+1","v":3551},{"$f":"EFR1+1","v":3552},{"$f":"EFS1+1","v":3553},{"$f":"EFT1+1","v":3554},{"$f":"EFU1+1","v":3555},{"$f":"EFV1+1","v":3556},{"$f":"EFW1+1","v":3557},{"$f":"EFX1+1","v":3558},{"$f":"EFY1+1","v":3559},{"$f":"EFZ1+1","v":3560},{"$f":"EGA1+1","v":3561},{"$f":"EGB1+1","v":3562},{"$f":"EGC1+1","v":3563},3564,{"$f":"EGE1+1","v":3565},{"$f":"EGF1+1","v":3566},{"$f":"EGG1+1","v":3567},{"$f":"EGH1+1","v":3568},{"$f":"EGI1+1","v":3569},{"$f":"EGJ1+1","v":3570},{"$f":"EGK1+1","v":3571},{"$f":"EGL1+1","v":3572},{"$f":"EGM1+1","v":3573},{"$f":"EGN1+1","v":3574},{"$f":"EGO1+1","v":3575},{"$f":"EGP1+1","v":3576},{"$f":"EGQ1+1","v":3577},{"$f":"EGR1+1","v":3578},{"$f":"EGS1+1","v":3579},{"$f":"EGT1+1","v":3580},{"$f":"EGU1+1","v":3581},{"$f":"EGV1+1","v":3582},{"$f":"EGW1+1","v":3583},{"$f":"EGX1+1","v":3584},{"$f":"EGY1+1","v":3585},{"$f":"EGZ1+1","v":3586},{"$f":"EHA1+1","v":3587},{"$f":"EHB1+1","v":3588},{"$f":"EHC1+1","v":3589},{"$f":"EHD1+1","v":3590},{"$f":"EHE1+1","v":3591},{"$f":"EHF1+1","v":3592},{"$f":"EHG1+1","v":3593},{"$f":"EHH1+1","v":3594},{"$f":"EHI1+1","v":3595},{"$f":"EHJ1+1","v":3596},{"$f":"EHK1+1","v":3597},{"$f":"EHL1+1","v":3598},{"$f":"EHM1+1","v":3599},{"$f":"EHN1+1","v":3600},{"$f":"EHO1+1","v":3601},{"$f":"EHP1+1","v":3602},{"$f":"EHQ1+1","v":3603},{"$f":"EHR1+1","v":3604},{"$f":"EHS1+1","v":3605},{"$f":"EHT1+1","v":3606},{"$f":"EHU1+1","v":3607},{"$f":"EHV1+1","v":3608},{"$f":"EHW1+1","v":3609},{"$f":"EHX1+1","v":3610},{"$f":"EHY1+1","v":3611},{"$f":"EHZ1+1","v":3612},{"$f":"EIA1+1","v":3613},{"$f":"EIB1+1","v":3614},{"$f":"EIC1+1","v":3615},{"$f":"EID1+1","v":3616},{"$f":"EIE1+1","v":3617},{"$f":"EIF1+1","v":3618},{"$f":"EIG1+1","v":3619},{"$f":"EIH1+1","v":3620},{"$f":"EII1+1","v":3621},{"$f":"EIJ1+1","v":3622},{"$f":"EIK1+1","v":3623},{"$f":"EIL1+1","v":3624},{"$f":"EIM1+1","v":3625},{"$f":"EIN1+1","v":3626},{"$f":"EIO1+1","v":3627},{"$f":"EIP1+1","v":3628},{"$f":"EIQ1+1","v":3629},{"$f":"EIR1+1","v":3630},{"$f":"EIS1+1","v":3631},{"$f":"EIT1+1","v":3632},{"$f":"EIU1+1","v":3633},{"$f":"EIV1+1","v":3634},{"$f":"EIW1+1","v":3635},{"$f":"EIX1+1","v":3636},{"$f":"EIY1+1","v":3637},{"$f":"EIZ1+1","v":3638},{"$f":"EJA1+1","v":3639},{"$f":"EJB1+1","v":3640},{"$f":"EJC1+1","v":3641},{"$f":"EJD1+1","v":3642},{"$f":"EJE1+1","v":3643},{"$f":"EJF1+1","v":3644},{"$f":"EJG1+1","v":3645},{"$f":"EJH1+1","v":3646},{"$f":"EJI1+1","v":3647},{"$f":"EJJ1+1","v":3648},{"$f":"EJK1+1","v":3649},{"$f":"EJL1+1","v":3650},{"$f":"EJM1+1","v":3651},{"$f":"EJN1+1","v":3652},{"$f":"EJO1+1","v":3653},{"$f":"EJP1+1","v":3654},{"$f":"EJQ1+1","v":3655},{"$f":"EJR1+1","v":3656},{"$f":"EJS1+1","v":3657},{"$f":"EJT1+1","v":3658},{"$f":"EJU1+1","v":3659},{"$f":"EJV1+1","v":3660},{"$f":"EJW1+1","v":3661},{"$f":"EJX1+1","v":3662},{"$f":"EJY1+1","v":3663},{"$f":"EJZ1+1","v":3664},{"$f":"EKA1+1","v":3665},{"$f":"EKB1+1","v":3666},{"$f":"EKC1+1","v":3667},{"$f":"EKD1+1","v":3668},{"$f":"EKE1+1","v":3669},{"$f":"EKF1+1","v":3670},{"$f":"EKG1+1","v":3671},{"$f":"EKH1+1","v":3672},{"$f":"EKI1+1","v":3673},{"$f":"EKJ1+1","v":3674},{"$f":"EKK1+1","v":3675},{"$f":"EKL1+1","v":3676},{"$f":"EKM1+1","v":3677},{"$f":"EKN1+1","v":3678},{"$f":"EKO1+1","v":3679},{"$f":"EKP1+1","v":3680},{"$f":"EKQ1+1","v":3681},{"$f":"EKR1+1","v":3682},{"$f":"EKS1+1","v":3683},{"$f":"EKT1+1","v":3684},{"$f":"EKU1+1","v":3685},{"$f":"EKV1+1","v":3686},{"$f":"EKW1+1","v":3687},{"$f":"EKX1+1","v":3688},{"$f":"EKY1+1","v":3689},{"$f":"EKZ1+1","v":3690},{"$f":"ELA1+1","v":3691},{"$f":"ELB1+1","v":3692},{"$f":"ELC1+1","v":3693},{"$f":"ELD1+1","v":3694},{"$f":"ELE1+1","v":3695},{"$f":"ELF1+1","v":3696},{"$f":"ELG1+1","v":3697},{"$f":"ELH1+1","v":3698},{"$f":"ELI1+1","v":3699},{"$f":"ELJ1+1","v":3700},{"$f":"ELK1+1","v":3701},{"$f":"ELL1+1","v":3702},{"$f":"ELM1+1","v":3703},{"$f":"ELN1+1","v":3704},{"$f":"ELO1+1","v":3705},{"$f":"ELP1+1","v":3706},{"$f":"ELQ1+1","v":3707},{"$f":"ELR1+1","v":3708},{"$f":"ELS1+1","v":3709},{"$f":"ELT1+1","v":3710},{"$f":"ELU1+1","v":3711},{"$f":"ELV1+1","v":3712},{"$f":"ELW1+1","v":3713},{"$f":"ELX1+1","v":3714},{"$f":"ELY1+1","v":3715},{"$f":"ELZ1+1","v":3716},{"$f":"EMA1+1","v":3717},{"$f":"EMB1+1","v":3718},{"$f":"EMC1+1","v":3719},{"$f":"EMD1+1","v":3720},{"$f":"EME1+1","v":3721},{"$f":"EMF1+1","v":3722},{"$f":"EMG1+1","v":3723},{"$f":"EMH1+1","v":3724},{"$f":"EMI1+1","v":3725},{"$f":"EMJ1+1","v":3726},{"$f":"EMK1+1","v":3727},{"$f":"EML1+1","v":3728},{"$f":"EMM1+1","v":3729},{"$f":"EMN1+1","v":3730},{"$f":"EMO1+1","v":3731},{"$f":"EMP1+1","v":3732},{"$f":"EMQ1+1","v":3733},{"$f":"EMR1+1","v":3734},{"$f":"EMS1+1","v":3735},{"$f":"EMT1+1","v":3736},{"$f":"EMU1+1","v":3737},{"$f":"EMV1+1","v":3738},{"$f":"EMW1+1","v":3739},{"$f":"EMX1+1","v":3740},{"$f":"EMY1+1","v":3741},{"$f":"EMZ1+1","v":3742},{"$f":"ENA1+1","v":3743},{"$f":"ENB1+1","v":3744},{"$f":"ENC1+1","v":3745},{"$f":"END1+1","v":3746},{"$f":"ENE1+1","v":3747},{"$f":"ENF1+1","v":3748},{"$f":"ENG1+1","v":3749},{"$f":"ENH1+1","v":3750},{"$f":"ENI1+1","v":3751},{"$f":"ENJ1+1","v":3752},{"$f":"ENK1+1","v":3753},{"$f":"ENL1+1","v":3754},{"$f":"ENM1+1","v":3755},{"$f":"ENN1+1","v":3756},{"$f":"ENO1+1","v":3757},{"$f":"ENP1+1","v":3758},{"$f":"ENQ1+1","v":3759},{"$f":"ENR1+1","v":3760},{"$f":"ENS1+1","v":3761},{"$f":"ENT1+1","v":3762},{"$f":"ENU1+1","v":3763},{"$f":"ENV1+1","v":3764},{"$f":"ENW1+1","v":3765},{"$f":"ENX1+1","v":3766},{"$f":"ENY1+1","v":3767},{"$f":"ENZ1+1","v":3768},{"$f":"EOA1+1","v":3769},{"$f":"EOB1+1","v":3770},{"$f":"EOC1+1","v":3771},{"$f":"EOD1+1","v":3772},{"$f":"EOE1+1","v":3773},{"$f":"EOF1+1","v":3774},{"$f":"EOG1+1","v":3775},{"$f":"EOH1+1","v":3776},{"$f":"EOI1+1","v":3777},{"$f":"EOJ1+1","v":3778},{"$f":"EOK1+1","v":3779},{"$f":"EOL1+1","v":3780},{"$f":"EOM1+1","v":3781},{"$f":"EON1+1","v":3782},{"$f":"EOO1+1","v":3783},{"$f":"EOP1+1","v":3784},{"$f":"EOQ1+1","v":3785},{"$f":"EOR1+1","v":3786},{"$f":"EOS1+1","v":3787},{"$f":"EOT1+1","v":3788},{"$f":"EOU1+1","v":3789},{"$f":"EOV1+1","v":3790},{"$f":"EOW1+1","v":3791},{"$f":"EOX1+1","v":3792},{"$f":"EOY1+1","v":3793},{"$f":"EOZ1+1","v":3794},{"$f":"EPA1+1","v":3795},{"$f":"EPB1+1","v":3796},{"$f":"EPC1+1","v":3797},{"$f":"EPD1+1","v":3798},{"$f":"EPE1+1","v":3799},{"$f":"EPF1+1","v":3800},{"$f":"EPG1+1","v":3801},{"$f":"EPH1+1","v":3802},{"$f":"EPI1+1","v":3803},{"$f":"EPJ1+1","v":3804},{"$f":"EPK1+1","v":3805},{"$f":"EPL1+1","v":3806},{"$f":"EPM1+1","v":3807},{"$f":"EPN1+1","v":3808},{"$f":"EPO1+1","v":3809},{"$f":"EPP1+1","v":3810},{"$f":"EPQ1+1","v":3811},{"$f":"EPR1+1","v":3812},{"$f":"EPS1+1","v":3813},{"$f":"EPT1+1","v":3814},{"$f":"EPU1+1","v":3815},{"$f":"EPV1+1","v":3816},{"$f":"EPW1+1","v":3817},{"$f":"EPX1+1","v":3818},{"$f":"EPY1+1","v":3819},{"$f":"EPZ1+1","v":3820},{"$f":"EQA1+1","v":3821},{"$f":"EQB1+1","v":3822},{"$f":"EQC1+1","v":3823},{"$f":"EQD1+1","v":3824},{"$f":"EQE1+1","v":3825},{"$f":"EQF1+1","v":3826},{"$f":"EQG1+1","v":3827},{"$f":"EQH1+1","v":3828},{"$f":"EQI1+1","v":3829},{"$f":"EQJ1+1","v":3830},{"$f":"EQK1+1","v":3831},{"$f":"EQL1+1","v":3832},{"$f":"EQM1+1","v":3833},{"$f":"EQN1+1","v":3834},{"$f":"EQO1+1","v":3835},{"$f":"EQP1+1","v":3836},{"$f":"EQQ1+1","v":3837},{"$f":"EQR1+1","v":3838},{"$f":"EQS1+1","v":3839},{"$f":"EQT1+1","v":3840},{"$f":"EQU1+1","v":3841},{"$f":"EQV1+1","v":3842},{"$f":"EQW1+1","v":3843},{"$f":"EQX1+1","v":3844},{"$f":"EQY1+1","v":3845},{"$f":"EQZ1+1","v":3846},{"$f":"ERA1+1","v":3847},{"$f":"ERB1+1","v":3848},{"$f":"ERC1+1","v":3849},{"$f":"ERD1+1","v":3850},{"$f":"ERE1+1","v":3851},{"$f":"ERF1+1","v":3852},{"$f":"ERG1+1","v":3853},{"$f":"ERH1+1","v":3854},{"$f":"ERI1+1","v":3855},{"$f":"ERJ1+1","v":3856},{"$f":"ERK1+1","v":3857},{"$f":"ERL1+1","v":3858},{"$f":"ERM1+1","v":3859},{"$f":"ERN1+1","v":3860},{"$f":"ERO1+1","v":3861},{"$f":"ERP1+1","v":3862},{"$f":"ERQ1+1","v":3863},{"$f":"ERR1+1","v":3864},{"$f":"ERS1+1","v":3865},{"$f":"ERT1+1","v":3866},{"$f":"ERU1+1","v":3867},{"$f":"ERV1+1","v":3868},{"$f":"ERW1+1","v":3869},{"$f":"ERX1+1","v":3870},{"$f":"ERY1+1","v":3871},{"$f":"ERZ1+1","v":3872},{"$f":"ESA1+1","v":3873},{"$f":"ESB1+1","v":3874},{"$f":"ESC1+1","v":3875},{"$f":"ESD1+1","v":3876},{"$f":"ESE1+1","v":3877},{"$f":"ESF1+1","v":3878},{"$f":"ESG1+1","v":3879},{"$f":"ESH1+1","v":3880},{"$f":"ESI1+1","v":3881},{"$f":"ESJ1+1","v":3882},{"$f":"ESK1+1","v":3883},{"$f":"ESL1+1","v":3884},{"$f":"ESM1+1","v":3885},{"$f":"ESN1+1","v":3886},{"$f":"ESO1+1","v":3887},{"$f":"ESP1+1","v":3888},{"$f":"ESQ1+1","v":3889},{"$f":"ESR1+1","v":3890},{"$f":"ESS1+1","v":3891},{"$f":"EST1+1","v":3892},{"$f":"ESU1+1","v":3893},{"$f":"ESV1+1","v":3894},{"$f":"ESW1+1","v":3895},{"$f":"ESX1+1","v":3896},{"$f":"ESY1+1","v":3897},{"$f":"ESZ1+1","v":3898},{"$f":"ETA1+1","v":3899},{"$f":"ETB1+1","v":3900},{"$f":"ETC1+1","v":3901},{"$f":"ETD1+1","v":3902},{"$f":"ETE1+1","v":3903},{"$f":"ETF1+1","v":3904},{"$f":"ETG1+1","v":3905},{"$f":"ETH1+1","v":3906},{"$f":"ETI1+1","v":3907},{"$f":"ETJ1+1","v":3908},{"$f":"ETK1+1","v":3909},{"$f":"ETL1+1","v":3910},{"$f":"ETM1+1","v":3911},{"$f":"ETN1+1","v":3912},{"$f":"ETO1+1","v":3913},{"$f":"ETP1+1","v":3914},{"$f":"ETQ1+1","v":3915},{"$f":"ETR1+1","v":3916},{"$f":"ETS1+1","v":3917},{"$f":"ETT1+1","v":3918},{"$f":"ETU1+1","v":3919},{"$f":"ETV1+1","v":3920},{"$f":"ETW1+1","v":3921},{"$f":"ETX1+1","v":3922},{"$f":"ETY1+1","v":3923},{"$f":"ETZ1+1","v":3924},{"$f":"EUA1+1","v":3925},{"$f":"EUB1+1","v":3926},{"$f":"EUC1+1","v":3927},{"$f":"EUD1+1","v":3928},{"$f":"EUE1+1","v":3929},{"$f":"EUF1+1","v":3930},{"$f":"EUG1+1","v":3931},{"$f":"EUH1+1","v":3932},{"$f":"EUI1+1","v":3933},{"$f":"EUJ1+1","v":3934},{"$f":"EUK1+1","v":3935},{"$f":"EUL1+1","v":3936},{"$f":"EUM1+1","v":3937},{"$f":"EUN1+1","v":3938},{"$f":"EUO1+1","v":3939},{"$f":"EUP1+1","v":3940},{"$f":"EUQ1+1","v":3941},{"$f":"EUR1+1","v":3942},{"$f":"EUS1+1","v":3943},{"$f":"EUT1+1","v":3944},{"$f":"EUU1+1","v":3945},{"$f":"EUV1+1","v":3946},{"$f":"EUW1+1","v":3947},{"$f":"EUX1+1","v":3948},{"$f":"EUY1+1","v":3949},{"$f":"EUZ1+1","v":3950},{"$f":"EVA1+1","v":3951},{"$f":"EVB1+1","v":3952},{"$f":"EVC1+1","v":3953},{"$f":"EVD1+1","v":3954},{"$f":"EVE1+1","v":3955},{"$f":"EVF1+1","v":3956},{"$f":"EVG1+1","v":3957},3958,{"$f":"EVI1+1","v":3959},{"$f":"EVJ1+1","v":3960},{"$f":"EVK1+1","v":3961},{"$f":"EVL1+1","v":3962},{"$f":"EVM1+1","v":3963},{"$f":"EVN1+1","v":3964},{"$f":"EVO1+1","v":3965},{"$f":"EVP1+1","v":3966},{"$f":"EVQ1+1","v":3967},{"$f":"EVR1+1","v":3968},{"$f":"EVS1+1","v":3969},{"$f":"EVT1+1","v":3970},{"$f":"EVU1+1","v":3971},{"$f":"EVV1+1","v":3972},{"$f":"EVW1+1","v":3973},{"$f":"EVX1+1","v":3974},{"$f":"EVY1+1","v":3975},{"$f":"EVZ1+1","v":3976},{"$f":"EWA1+1","v":3977},{"$f":"EWB1+1","v":3978},{"$f":"EWC1+1","v":3979},{"$f":"EWD1+1","v":3980},{"$f":"EWE1+1","v":3981},{"$f":"EWF1+1","v":3982},{"$f":"EWG1+1","v":3983},{"$f":"EWH1+1","v":3984},{"$f":"EWI1+1","v":3985},{"$f":"EWJ1+1","v":3986},{"$f":"EWK1+1","v":3987},{"$f":"EWL1+1","v":3988},{"$f":"EWM1+1","v":3989},{"$f":"EWN1+1","v":3990},{"$f":"EWO1+1","v":3991},{"$f":"EWP1+1","v":3992},{"$f":"EWQ1+1","v":3993},{"$f":"EWR1+1","v":3994},{"$f":"EWS1+1","v":3995},{"$f":"EWT1+1","v":3996},{"$f":"EWU1+1","v":3997},{"$f":"EWV1+1","v":3998},{"$f":"EWW1+1","v":3999},{"$f":"EWX1+1","v":4000},{"$f":"EWY1+1","v":4001},{"$f":"EWZ1+1","v":4002},{"$f":"EXA1+1","v":4003},{"$f":"EXB1+1","v":4004},{"$f":"EXC1+1","v":4005},{"$f":"EXD1+1","v":4006},{"$f":"EXE1+1","v":4007},{"$f":"EXF1+1","v":4008},{"$f":"EXG1+1","v":4009},{"$f":"EXH1+1","v":4010},{"$f":"EXI1+1","v":4011},{"$f":"EXJ1+1","v":4012},{"$f":"EXK1+1","v":4013},{"$f":"EXL1+1","v":4014},{"$f":"EXM1+1","v":4015},{"$f":"EXN1+1","v":4016},{"$f":"EXO1+1","v":4017},{"$f":"EXP1+1","v":4018},{"$f":"EXQ1+1","v":4019},{"$f":"EXR1+1","v":4020},{"$f":"EXS1+1","v":4021},{"$f":"EXT1+1","v":4022},{"$f":"EXU1+1","v":4023},{"$f":"EXV1+1","v":4024},{"$f":"EXW1+1","v":4025},{"$f":"EXX1+1","v":4026},{"$f":"EXY1+1","v":4027},{"$f":"EXZ1+1","v":4028},{"$f":"EYA1+1","v":4029},{"$f":"EYB1+1","v":4030},{"$f":"EYC1+1","v":4031},{"$f":"EYD1+1","v":4032},{"$f":"EYE1+1","v":4033},{"$f":"EYF1+1","v":4034},{"$f":"EYG1+1","v":4035},{"$f":"EYH1+1","v":4036},{"$f":"EYI1+1","v":4037},{"$f":"EYJ1+1","v":4038},{"$f":"EYK1+1","v":4039},{"$f":"EYL1+1","v":4040},{"$f":"EYM1+1","v":4041},{"$f":"EYN1+1","v":4042},{"$f":"EYO1+1","v":4043},{"$f":"EYP1+1","v":4044},{"$f":"EYQ1+1","v":4045},{"$f":"EYR1+1","v":4046},{"$f":"EYS1+1","v":4047},{"$f":"EYT1+1","v":4048},{"$f":"EYU1+1","v":4049},{"$f":"EYV1+1","v":4050},{"$f":"EYW1+1","v":4051},{"$f":"EYX1+1","v":4052},{"$f":"EYY1+1","v":4053},{"$f":"EYZ1+1","v":4054},{"$f":"EZA1+1","v":4055},{"$f":"EZB1+1","v":4056},{"$f":"EZC1+1","v":4057},{"$f":"EZD1+1","v":4058},{"$f":"EZE1+1","v":4059},{"$f":"EZF1+1","v":4060},{"$f":"EZG1+1","v":4061},{"$f":"EZH1+1","v":4062},{"$f":"EZI1+1","v":4063},{"$f":"EZJ1+1","v":4064},{"$f":"EZK1+1","v":4065},{"$f":"EZL1+1","v":4066},{"$f":"EZM1+1","v":4067},{"$f":"EZN1+1","v":4068},{"$f":"EZO1+1","v":4069},{"$f":"EZP1+1","v":4070},{"$f":"EZQ1+1","v":4071},{"$f":"EZR1+1","v":4072},{"$f":"EZS1+1","v":4073},{"$f":"EZT1+1","v":4074},{"$f":"EZU1+1","v":4075},{"$f":"EZV1+1","v":4076},{"$f":"EZW1+1","v":4077},{"$f":"EZX1+1","v":4078},{"$f":"EZY1+1","v":4079},{"$f":"EZZ1+1","v":4080},{"$f":"FAA1+1","v":4081},{"$f":"FAB1+1","v":4082},{"$f":"FAC1+1","v":4083},{"$f":"FAD1+1","v":4084},{"$f":"FAE1+1","v":4085},{"$f":"FAF1+1","v":4086},{"$f":"FAG1+1","v":4087},{"$f":"FAH1+1","v":4088},{"$f":"FAI1+1","v":4089},{"$f":"FAJ1+1","v":4090},{"$f":"FAK1+1","v":4091},{"$f":"FAL1+1","v":4092},{"$f":"FAM1+1","v":4093},{"$f":"FAN1+1","v":4094},{"$f":"FAO1+1","v":4095},{"$f":"FAP1+1","v":4096},{"$f":"FAQ1+1","v":4097},{"$f":"FAR1+1","v":4098},{"$f":"FAS1+1","v":4099},{"$f":"FAT1+1","v":4100},{"$f":"FAU1+1","v":4101},{"$f":"FAV1+1","v":4102},{"$f":"FAW1+1","v":4103},{"$f":"FAX1+1","v":4104},{"$f":"FAY1+1","v":4105},{"$f":"FAZ1+1","v":4106},{"$f":"FBA1+1","v":4107},{"$f":"FBB1+1","v":4108},{"$f":"FBC1+1","v":4109},{"$f":"FBD1+1","v":4110},{"$f":"FBE1+1","v":4111},{"$f":"FBF1+1","v":4112},{"$f":"FBG1+1","v":4113},{"$f":"FBH1+1","v":4114},{"$f":"FBI1+1","v":4115},{"$f":"FBJ1+1","v":4116},{"$f":"FBK1+1","v":4117},{"$f":"FBL1+1","v":4118},{"$f":"FBM1+1","v":4119},{"$f":"FBN1+1","v":4120},{"$f":"FBO1+1","v":4121},{"$f":"FBP1+1","v":4122},{"$f":"FBQ1+1","v":4123},{"$f":"FBR1+1","v":4124},{"$f":"FBS1+1","v":4125},{"$f":"FBT1+1","v":4126},{"$f":"FBU1+1","v":4127},{"$f":"FBV1+1","v":4128},{"$f":"FBW1+1","v":4129},{"$f":"FBX1+1","v":4130},{"$f":"FBY1+1","v":4131},{"$f":"FBZ1+1","v":4132},{"$f":"FCA1+1","v":4133},{"$f":"FCB1+1","v":4134},{"$f":"FCC1+1","v":4135},{"$f":"FCD1+1","v":4136},{"$f":"FCE1+1","v":4137},{"$f":"FCF1+1","v":4138},{"$f":"FCG1+1","v":4139},{"$f":"FCH1+1","v":4140},{"$f":"FCI1+1","v":4141},{"$f":"FCJ1+1","v":4142},{"$f":"FCK1+1","v":4143},{"$f":"FCL1+1","v":4144},{"$f":"FCM1+1","v":4145},{"$f":"FCN1+1","v":4146},{"$f":"FCO1+1","v":4147},{"$f":"FCP1+1","v":4148},{"$f":"FCQ1+1","v":4149},{"$f":"FCR1+1","v":4150},{"$f":"FCS1+1","v":4151},{"$f":"FCT1+1","v":4152},{"$f":"FCU1+1","v":4153},{"$f":"FCV1+1","v":4154},{"$f":"FCW1+1","v":4155},{"$f":"FCX1+1","v":4156},{"$f":"FCY1+1","v":4157},{"$f":"FCZ1+1","v":4158},{"$f":"FDA1+1","v":4159},{"$f":"FDB1+1","v":4160},{"$f":"FDC1+1","v":4161},{"$f":"FDD1+1","v":4162},{"$f":"FDE1+1","v":4163},{"$f":"FDF1+1","v":4164},{"$f":"FDG1+1","v":4165},{"$f":"FDH1+1","v":4166},{"$f":"FDI1+1","v":4167},{"$f":"FDJ1+1","v":4168},{"$f":"FDK1+1","v":4169},{"$f":"FDL1+1","v":4170},{"$f":"FDM1+1","v":4171},{"$f":"FDN1+1","v":4172},{"$f":"FDO1+1","v":4173},{"$f":"FDP1+1","v":4174},{"$f":"FDQ1+1","v":4175},{"$f":"FDR1+1","v":4176},{"$f":"FDS1+1","v":4177},{"$f":"FDT1+1","v":4178},{"$f":"FDU1+1","v":4179},{"$f":"FDV1+1","v":4180},{"$f":"FDW1+1","v":4181},{"$f":"FDX1+1","v":4182},{"$f":"FDY1+1","v":4183},{"$f":"FDZ1+1","v":4184},{"$f":"FEA1+1","v":4185},{"$f":"FEB1+1","v":4186},{"$f":"FEC1+1","v":4187},{"$f":"FED1+1","v":4188},{"$f":"FEE1+1","v":4189},{"$f":"FEF1+1","v":4190},{"$f":"FEG1+1","v":4191},{"$f":"FEH1+1","v":4192},{"$f":"FEI1+1","v":4193},{"$f":"FEJ1+1","v":4194},{"$f":"FEK1+1","v":4195},{"$f":"FEL1+1","v":4196},{"$f":"FEM1+1","v":4197},{"$f":"FEN1+1","v":4198},{"$f":"FEO1+1","v":4199},{"$f":"FEP1+1","v":4200},{"$f":"FEQ1+1","v":4201},{"$f":"FER1+1","v":4202},{"$f":"FES1+1","v":4203},{"$f":"FET1+1","v":4204},{"$f":"FEU1+1","v":4205},{"$f":"FEV1+1","v":4206},{"$f":"FEW1+1","v":4207},{"$f":"FEX1+1","v":4208},{"$f":"FEY1+1","v":4209},{"$f":"FEZ1+1","v":4210},{"$f":"FFA1+1","v":4211},{"$f":"FFB1+1","v":4212},{"$f":"FFC1+1","v":4213},{"$f":"FFD1+1","v":4214},{"$f":"FFE1+1","v":4215},{"$f":"FFF1+1","v":4216},{"$f":"FFG1+1","v":4217},{"$f":"FFH1+1","v":4218},{"$f":"FFI1+1","v":4219},{"$f":"FFJ1+1","v":4220},{"$f":"FFK1+1","v":4221},{"$f":"FFL1+1","v":4222},{"$f":"FFM1+1","v":4223},{"$f":"FFN1+1","v":4224},{"$f":"FFO1+1","v":4225},{"$f":"FFP1+1","v":4226},{"$f":"FFQ1+1","v":4227},{"$f":"FFR1+1","v":4228},{"$f":"FFS1+1","v":4229},{"$f":"FFT1+1","v":4230},{"$f":"FFU1+1","v":4231},{"$f":"FFV1+1","v":4232},{"$f":"FFW1+1","v":4233},{"$f":"FFX1+1","v":4234},{"$f":"FFY1+1","v":4235},{"$f":"FFZ1+1","v":4236},{"$f":"FGA1+1","v":4237},{"$f":"FGB1+1","v":4238},{"$f":"FGC1+1","v":4239},{"$f":"FGD1+1","v":4240},{"$f":"FGE1+1","v":4241},{"$f":"FGF1+1","v":4242},{"$f":"FGG1+1","v":4243},{"$f":"FGH1+1","v":4244},{"$f":"FGI1+1","v":4245},{"$f":"FGJ1+1","v":4246},{"$f":"FGK1+1","v":4247},{"$f":"FGL1+1","v":4248},{"$f":"FGM1+1","v":4249},{"$f":"FGN1+1","v":4250},{"$f":"FGO1+1","v":4251},{"$f":"FGP1+1","v":4252},{"$f":"FGQ1+1","v":4253},{"$f":"FGR1+1","v":4254},{"$f":"FGS1+1","v":4255},{"$f":"FGT1+1","v":4256},{"$f":"FGU1+1","v":4257},{"$f":"FGV1+1","v":4258},{"$f":"FGW1+1","v":4259},{"$f":"FGX1+1","v":4260},{"$f":"FGY1+1","v":4261},{"$f":"FGZ1+1","v":4262},{"$f":"FHA1+1","v":4263},{"$f":"FHB1+1","v":4264},{"$f":"FHC1+1","v":4265},{"$f":"FHD1+1","v":4266},{"$f":"FHE1+1","v":4267},{"$f":"FHF1+1","v":4268},{"$f":"FHG1+1","v":4269},{"$f":"FHH1+1","v":4270},{"$f":"FHI1+1","v":4271},{"$f":"FHJ1+1","v":4272},{"$f":"FHK1+1","v":4273},{"$f":"FHL1+1","v":4274},{"$f":"FHM1+1","v":4275},{"$f":"FHN1+1","v":4276},{"$f":"FHO1+1","v":4277},{"$f":"FHP1+1","v":4278},{"$f":"FHQ1+1","v":4279},{"$f":"FHR1+1","v":4280},{"$f":"FHS1+1","v":4281},{"$f":"FHT1+1","v":4282},{"$f":"FHU1+1","v":4283},{"$f":"FHV1+1","v":4284},{"$f":"FHW1+1","v":4285},{"$f":"FHX1+1","v":4286},{"$f":"FHY1+1","v":4287},{"$f":"FHZ1+1","v":4288},{"$f":"FIA1+1","v":4289},{"$f":"FIB1+1","v":4290},{"$f":"FIC1+1","v":4291},{"$f":"FID1+1","v":4292},{"$f":"FIE1+1","v":4293},{"$f":"FIF1+1","v":4294},{"$f":"FIG1+1","v":4295},{"$f":"FIH1+1","v":4296},{"$f":"FII1+1","v":4297},{"$f":"FIJ1+1","v":4298},{"$f":"FIK1+1","v":4299},{"$f":"FIL1+1","v":4300},{"$f":"FIM1+1","v":4301},{"$f":"FIN1+1","v":4302},{"$f":"FIO1+1","v":4303},{"$f":"FIP1+1","v":4304},{"$f":"FIQ1+1","v":4305},{"$f":"FIR1+1","v":4306},{"$f":"FIS1+1","v":4307},{"$f":"FIT1+1","v":4308},{"$f":"FIU1+1","v":4309},4310,{"$f":"FIW1+1","v":4311},{"$f":"FIX1+1","v":4312},{"$f":"FIY1+1","v":4313},{"$f":"FIZ1+1","v":4314},{"$f":"FJA1+1","v":4315},{"$f":"FJB1+1","v":4316},{"$f":"FJC1+1","v":4317},{"$f":"FJD1+1","v":4318},{"$f":"FJE1+1","v":4319},{"$f":"FJF1+1","v":4320},{"$f":"FJG1+1","v":4321},{"$f":"FJH1+1","v":4322},{"$f":"FJI1+1","v":4323},{"$f":"FJJ1+1","v":4324},{"$f":"FJK1+1","v":4325},{"$f":"FJL1+1","v":4326},{"$f":"FJM1+1","v":4327},{"$f":"FJN1+1","v":4328},{"$f":"FJO1+1","v":4329},{"$f":"FJP1+1","v":4330},{"$f":"FJQ1+1","v":4331},{"$f":"FJR1+1","v":4332},{"$f":"FJS1+1","v":4333},{"$f":"FJT1+1","v":4334},{"$f":"FJU1+1","v":4335},{"$f":"FJV1+1","v":4336},{"$f":"FJW1+1","v":4337},{"$f":"FJX1+1","v":4338},{"$f":"FJY1+1","v":4339},{"$f":"FJZ1+1","v":4340},{"$f":"FKA1+1","v":4341},{"$f":"FKB1+1","v":4342},{"$f":"FKC1+1","v":4343},{"$f":"FKD1+1","v":4344},{"$f":"FKE1+1","v":4345},{"$f":"FKF1+1","v":4346},{"$f":"FKG1+1","v":4347},{"$f":"FKH1+1","v":4348},{"$f":"FKI1+1","v":4349},{"$f":"FKJ1+1","v":4350},{"$f":"FKK1+1","v":4351},{"$f":"FKL1+1","v":4352},{"$f":"FKM1+1","v":4353},{"$f":"FKN1+1","v":4354},{"$f":"FKO1+1","v":4355},{"$f":"FKP1+1","v":4356},{"$f":"FKQ1+1","v":4357},{"$f":"FKR1+1","v":4358},{"$f":"FKS1+1","v":4359},{"$f":"FKT1+1","v":4360},{"$f":"FKU1+1","v":4361},{"$f":"FKV1+1","v":4362},{"$f":"FKW1+1","v":4363},{"$f":"FKX1+1","v":4364},{"$f":"FKY1+1","v":4365},{"$f":"FKZ1+1","v":4366},{"$f":"FLA1+1","v":4367},{"$f":"FLB1+1","v":4368},{"$f":"FLC1+1","v":4369},{"$f":"FLD1+1","v":4370},{"$f":"FLE1+1","v":4371},{"$f":"FLF1+1","v":4372},{"$f":"FLG1+1","v":4373},{"$f":"FLH1+1","v":4374},{"$f":"FLI1+1","v":4375},{"$f":"FLJ1+1","v":4376},{"$f":"FLK1+1","v":4377},{"$f":"FLL1+1","v":4378},{"$f":"FLM1+1","v":4379},{"$f":"FLN1+1","v":4380},{"$f":"FLO1+1","v":4381},{"$f":"FLP1+1","v":4382},{"$f":"FLQ1+1","v":4383},{"$f":"FLR1+1","v":4384},{"$f":"FLS1+1","v":4385},{"$f":"FLT1+1","v":4386},{"$f":"FLU1+1","v":4387},{"$f":"FLV1+1","v":4388},{"$f":"FLW1+1","v":4389},{"$f":"FLX1+1","v":4390},{"$f":"FLY1+1","v":4391},{"$f":"FLZ1+1","v":4392},{"$f":"FMA1+1","v":4393},{"$f":"FMB1+1","v":4394},{"$f":"FMC1+1","v":4395},{"$f":"FMD1+1","v":4396},{"$f":"FME1+1","v":4397},{"$f":"FMF1+1","v":4398},{"$f":"FMG1+1","v":4399},{"$f":"FMH1+1","v":4400},4401,{"$f":"FMJ1+1","v":4402},{"$f":"FMK1+1","v":4403},{"$f":"FML1+1","v":4404},{"$f":"FMM1+1","v":4405},{"$f":"FMN1+1","v":4406},{"$f":"FMO1+1","v":4407},{"$f":"FMP1+1","v":4408},{"$f":"FMQ1+1","v":4409},{"$f":"FMR1+1","v":4410},{"$f":"FMS1+1","v":4411},{"$f":"FMT1+1","v":4412},{"$f":"FMU1+1","v":4413},{"$f":"FMV1+1","v":4414},{"$f":"FMW1+1","v":4415},{"$f":"FMX1+1","v":4416},{"$f":"FMY1+1","v":4417},{"$f":"FMZ1+1","v":4418},{"$f":"FNA1+1","v":4419},{"$f":"FNB1+1","v":4420},{"$f":"FNC1+1","v":4421},{"$f":"FND1+1","v":4422},{"$f":"FNE1+1","v":4423},{"$f":"FNF1+1","v":4424},{"$f":"FNG1+1","v":4425},{"$f":"FNH1+1","v":4426},{"$f":"FNI1+1","v":4427},{"$f":"FNJ1+1","v":4428},{"$f":"FNK1+1","v":4429},{"$f":"FNL1+1","v":4430},{"$f":"FNM1+1","v":4431},{"$f":"FNN1+1","v":4432},{"$f":"FNO1+1","v":4433},{"$f":"FNP1+1","v":4434},{"$f":"FNQ1+1","v":4435},{"$f":"FNR1+1","v":4436},{"$f":"FNS1+1","v":4437},{"$f":"FNT1+1","v":4438},{"$f":"FNU1+1","v":4439},{"$f":"FNV1+1","v":4440},{"$f":"FNW1+1","v":4441},{"$f":"FNX1+1","v":4442},{"$f":"FNY1+1","v":4443},{"$f":"FNZ1+1","v":4444},{"$f":"FOA1+1","v":4445},{"$f":"FOB1+1","v":4446},4447,{"$f":"FOD1+1","v":4448},{"$f":"FOE1+1","v":4449},{"$f":"FOF1+1","v":4450},{"$f":"FOG1+1","v":4451},{"$f":"FOH1+1","v":4452},{"$f":"FOI1+1","v":4453},{"$f":"FOJ1+1","v":4454},{"$f":"FOK1+1","v":4455},{"$f":"FOL1+1","v":4456},{"$f":"FOM1+1","v":4457},{"$f":"FON1+1","v":4458},{"$f":"FOO1+1","v":4459},{"$f":"FOP1+1","v":4460},{"$f":"FOQ1+1","v":4461},{"$f":"FOR1+1","v":4462},{"$f":"FOS1+1","v":4463},{"$f":"FOT1+1","v":4464},{"$f":"FOU1+1","v":4465},{"$f":"FOV1+1","v":4466},4467,4468,{"$f":"FOY1+1","v":4469},{"$f":"FOZ1+1","v":4470},{"$f":"FPA1+1","v":4471},{"$f":"FPB1+1","v":4472},{"$f":"FPC1+1","v":4473},{"$f":"FPD1+1","v":4474},{"$f":"FPE1+1","v":4475},{"$f":"FPF1+1","v":4476},{"$f":"FPG1+1","v":4477},{"$f":"FPH1+1","v":4478},{"$f":"FPI1+1","v":4479},{"$f":"FPJ1+1","v":4480},{"$f":"FPK1+1","v":4481},{"$f":"FPL1+1","v":4482},{"$f":"FPM1+1","v":4483},4484,4485,4486,4487,4488,4489,4490,4491,4492,4493,4494,4495,4496,4497,4498,4499,4500,4501,4502,4503,4504,4505,4506,4507,4508,4509,4510,4511,4512,4513,4514,{"$f":"FQS1+1","v":4515},4516,4517,4518,4519,4520,4521,4522,4523,4524,4525,4526,4527,4528,4529,4530,4531,4532,4533,{"$f":"FRL1+1","v":4534},4535,4536,4537,4538,4539,4540,4541,4542,4543,4544,4545,4546,{"$f":"FRY1+1","v":4547},{"$f":"FRZ1+1","v":4548},{"$f":"FSA1+1","v":4549},{"$f":"FSB1+1","v":4550},{"$f":"FSC1+1","v":4551},{"$f":"FSD1+1","v":4552},{"$f":"FSE1+1","v":4553},{"$f":"FSF1+1","v":4554},{"$f":"FSG1+1","v":4555},{"$f":"FSH1+1","v":4556},{"$f":"FSI1+1","v":4557},{"$f":"FSJ1+1","v":4558},{"$f":"FSK1+1","v":4559},{"$f":"FSL1+1","v":4560},{"$f":"FSM1+1","v":4561},{"$f":"FSN1+1","v":4562},{"$f":"FSO1+1","v":4563},{"$f":"FSP1+1","v":4564},{"$f":"FSQ1+1","v":4565},{"$f":"FSR1+1","v":4566},{"$f":"FSS1+1","v":4567},{"$f":"FST1+1","v":4568},{"$f":"FSU1+1","v":4569},{"$f":"FSV1+1","v":4570},{"$f":"FSW1+1","v":4571},{"$f":"FSX1+1","v":4572},{"$f":"FSY1+1","v":4573},{"$f":"FSZ1+1","v":4574},{"$f":"FTA1+1","v":4575},4576,{"$f":"FTC1+1","v":4577},{"$f":"FTD1+1","v":4578},{"$f":"FTE1+1","v":4579},{"$f":"FTF1+1","v":4580},{"$f":"FTG1+1","v":4581},{"$f":"FTH1+1","v":4582},{"$f":"FTI1+1","v":4583},{"$f":"FTJ1+1","v":4584},{"$f":"FTK1+1","v":4585},{"$f":"FTL1+1","v":4586},{"$f":"FTM1+1","v":4587},{"$f":"FTN1+1","v":4588},{"$f":"FTO1+1","v":4589},{"$f":"FTP1+1","v":4590},{"$f":"FTQ1+1","v":4591},{"$f":"FTR1+1","v":4592},{"$f":"FTS1+1","v":4593},{"$f":"FTT1+1","v":4594},{"$f":"FTU1+1","v":4595},{"$f":"FTV1+1","v":4596},{"$f":"FTW1+1","v":4597},{"$f":"FTX1+1","v":4598},{"$f":"FTY1+1","v":4599},{"$f":"FTZ1+1","v":4600},{"$f":"FUA1+1","v":4601},{"$f":"FUB1+1","v":4602},{"$f":"FUC1+1","v":4603},{"$f":"FUD1+1","v":4604},{"$f":"FUE1+1","v":4605},{"$f":"FUF1+1","v":4606},{"$f":"FUG1+1","v":4607},{"$f":"FUH1+1","v":4608},{"$f":"FUI1+1","v":4609},{"$f":"FUJ1+1","v":4610},{"$f":"FUK1+1","v":4611},{"$f":"FUL1+1","v":4612},{"$f":"FUM1+1","v":4613},{"$f":"FUN1+1","v":4614},{"$f":"FUO1+1","v":4615},{"$f":"FUP1+1","v":4616},{"$f":"FUQ1+1","v":4617},{"$f":"FUR1+1","v":4618},{"$f":"FUS1+1","v":4619},{"$f":"FUT1+1","v":4620},{"$f":"FUU1+1","v":4621},4622,4623,4624,4625,4626,4627,4628,4629,4630,4631,4632,4633,4634,{"$f":"FVI1+1","v":4635},4636,4637,4638,4639,4640,4641,4642,4643,4644,4645,{"$f":"FVT1+1","v":4646},4647,4648,4649,{"$f":"FVX1+1","v":4650},4651,4652,4653,4654,4655,{"$f":"FWD1+1","v":4656},4657,4658,4659,4660,4661,4662,4663,4664,4665,4666,{"$f":"FWO1+1","v":4667},4668,4669,4670,4671,4672,4673,4674,4675,4676,4677,{"$f":"FWZ1+1","v":4678},{"$f":"FXA1+1","v":4679},{"$f":"FXB1+1","v":4680},{"$f":"FXC1+1","v":4681},{"$f":"FXD1+1","v":4682},{"$f":"FXE1+1","v":4683},{"$f":"FXF1+1","v":4684},{"$f":"FXG1+1","v":4685},{"$f":"FXH1+1","v":4686},{"$f":"FXI1+1","v":4687},{"$f":"FXJ1+1","v":4688},{"$f":"FXK1+1","v":4689},{"$f":"FXL1+1","v":4690},{"$f":"FXM1+1","v":4691},{"$f":"FXN1+1","v":4692},{"$f":"FXO1+1","v":4693},{"$f":"FXP1+1","v":4694},{"$f":"FXQ1+1","v":4695},{"$f":"FXR1+1","v":4696},{"$f":"FXS1+1","v":4697},{"$f":"FXT1+1","v":4698},{"$f":"FXU1+1","v":4699},{"$f":"FXV1+1","v":4700},{"$f":"FXW1+1","v":4701},{"$f":"FXX1+1","v":4702}]
[null,null,null,null,"Tab 1: Agency Information","Tab 1: Agency Information","Tab 1: Agency Information","Tab 1: Agency Information","Tab 1: Agency Information","Tab 1: Agency Information","Tab 1: Agency Information","Tab 1: Agency Information","Tab 1: Agency Information","Tab 1: Agency Information","Tab 1: Agency Information","Tab 1: Agency Information","Tab 1: Agency Information","Tab 1: Agency Information","Tab 1: Agency Information","Tab 1: Agency Information","Tab 1: Agency Information","Tab 1: Agency Information","Tab 2: Revenue","Tab 2: Revenue","Tab 2: Revenue","Tab 2: Revenue","Tab 2: Revenue","Tab 2: Revenue","Tab 2: Revenue","Tab 2: Revenue","Tab 2: Revenue","Tab 2: Revenue","Tab 2: Revenue","Tab 2: Revenue","Tab 2: Revenue","Tab 2: Revenue","Tab 2: Revenue","Tab 2: Revenue","Tab 2: Revenue","Tab 2: Revenue","Tab 2: Revenue","Tab 2: Revenue","Tab 2: Revenue","Tab 2: Revenue","Tab 2: Revenue","Tab 2: Revenue","Tab 2: Revenue","Tab 2: Revenue","Tab 2: Revenue","Tab 2: Revenue","Tab 2: Revenue","Tab 2: Revenue","Tab 2: Revenue","Tab 2: Revenue","Tab 2: Revenue","Tab 2: Revenue","Tab 2: Revenue","Tab 2: Revenue","Tab 2: Revenue","Tab 2: Revenue","Tab 2: Revenue","Tab 2: Revenue","Tab 2: Revenue","Tab 2: Revenue","Tab 2: Revenue","Tab 2: Revenue","Tab 2: Revenue","Tab 2: Revenue","Tab 2: Revenue","Tab 2: Revenue","Tab 2: Revenue","Tab 2: Revenue","Tab 2: Revenue","Tab 2: Revenue","Tab 2: Revenue","Tab 2: Revenue","Tab 2: Revenue","Tab 2: Revenue","Tab 3: Providers","Tab 3: Providers","Tab 3: Providers","Tab 3: Providers","Tab 3: Providers","Tab 3: Providers","Tab 3: Providers","Tab 3: Providers","Tab 3: Providers","Tab 3: Providers","Tab 3: Providers","Tab 3: Providers","Tab 3: Providers","Tab 3: Providers","Tab 3: Providers","Tab 3: Providers","Tab 3: Providers","Tab 3: Providers","Tab 3: Providers","Tab 3: Providers","Tab 3: Providers","Tab 3: Providers","Tab 3: Providers","Tab 3: Providers","Tab 3: Providers","Tab 3: Providers","Tab 3: Providers","Tab 3: Providers","Tab 3: Providers","Tab 3: Providers","Tab 3: Providers","Tab 3: Providers","Tab 3: Providers","Tab 3: Providers","Tab 3: Providers","Tab 3: Providers","Tab 3: Providers","Tab 3: Providers","Tab 3: Providers","Tab 3: Providers","Tab 3: Providers","Tab 3: Providers","Tab 3: Providers","Tab 3: Providers","Tab 3: Providers","Tab 3: Providers","Tab 3: Providers","Tab 3: Providers","Tab 3: Providers","Tab 3: Providers","Tab 3: Providers","Tab 3: Providers","Tab 3: Providers","Tab 3: Providers","Tab 3: Providers","Tab 3: Providers","Tab 3: Providers","Tab 3: Providers","Tab 3: Providers","Tab 3: Providers","Tab 3: Providers","Tab 3: Providers","Tab 3: Providers","Tab 3: Providers","Tab 3: Providers","Tab 3: Providers","Tab 3: Providers","Tab 3: Providers","Tab 3: Providers","Tab 3: Providers","Tab 3: Providers","Tab 3: Providers","Tab 3: Providers","Tab 3: Providers","Tab 3: Providers","Tab 3: Providers","Tab 3: Providers","Tab 3: Providers","Tab 3: Providers","Tab 3: Providers","Tab 3: Providers","Tab 3: Providers","Tab 3: Providers","Tab 3: Providers","Tab 3: Providers","Tab 3: Providers","Tab 3: Providers","Tab 3: Providers","Tab 3: Providers","Tab 3: Providers","Tab 3: Providers","Tab 3: Providers","Tab 3: Providers","Tab 3: Providers","Tab 3: Providers","Tab 3: Providers","Tab 3: Providers","Tab 3: Providers","Tab 3: Providers","Tab 3: Providers","Tab 3: Providers","Tab 3: Providers","Tab 3: Providers","Tab 3: Providers","Tab 3: Providers","Tab 3: Providers","Tab 3: Providers","Tab 3: Providers","Tab 3: Providers","Tab 3: Providers","Tab 3: Providers","Tab 3: Providers","Tab 3: Providers","Tab 3: Providers","Tab 3: Providers","Tab 3: Providers","Tab 3: Providers","Tab 3: Providers","Tab 3: Providers","Tab 3: Providers","Tab 3: Providers","Tab 3: Providers","Tab 3: Providers","Tab 3: Providers","Tab 3: Providers","Tab 3: Providers","Tab 3: Providers","Tab 3: Providers","Tab 3: Providers","Tab 3: Providers","Tab 3: Providers","Tab 3: Providers","Tab 3: Providers","Tab 3: Providers","Tab 3: Providers","Tab 3: Providers","Tab 3: Providers","Tab 3: Providers","Tab 3: Providers","Tab 3: Providers","Tab 3: Providers","Tab 3: Providers","Tab 3: Providers","Tab 3: Providers","Tab 3: Providers","Tab 3: Providers","Tab 3: Providers","Tab 3: Providers","Tab 3: Providers","Tab 3: Providers","Tab 3: Providers","Tab 3: Providers","Tab 3: Providers","Tab 3: Providers","Tab 3: Providers","Tab 3: Providers","Tab 3: Providers","Tab 3: Providers","Tab 3: Providers","Tab 3: Providers","Tab 3: Providers","Tab 3: Providers","Tab 3: Providers","Tab 3: Providers","Tab 3: Providers","Tab 3: Providers","Tab 3: Providers","Tab 3: Providers","Tab 3: Providers","Tab 3: Providers","Tab 3: Providers","Tab 3: Providers","Tab 3: Providers","Tab 3: Providers","Tab 3: Providers","Tab 3: Providers","Tab 3: Providers","Tab 3: Providers","Tab 3: Providers","Tab 3: Providers","Tab 3: Providers","Tab 3: Providers","Tab 3: Providers","Tab 3: Providers","Tab 3: Providers","Tab 3: Providers","Tab 3: Providers","Tab 3: Providers","Tab 3: Providers","Tab 3: Providers","Tab 3: Providers","Tab 3: Providers","Tab 3: Providers","Tab 3: Providers","Tab 3: Providers","Tab 3: Providers","Tab 3: Providers","Tab 3: Providers","Tab 3: Providers","Tab 3: Providers","Tab 3: Providers","Tab 3: Providers","Tab 3: Providers","Tab 3: Providers","Tab 3: Providers","Tab 3: Providers","Tab 3: Providers","Tab 3: Providers","Tab 3: Providers","Tab 3: Providers","Tab 3: Providers","Tab 3: Providers","Tab 3: Providers","Tab 3: Providers","Tab 3: Providers","Tab 3: Providers","Tab 3: Providers","Tab 3: Providers","Tab 3: Providers","Tab 3: Providers","Tab 3: Providers","Tab 3: Providers","Tab 3: Providers","Tab 3: Providers","Tab 3: Providers","Tab 3: Providers","Tab 3: Providers","Tab 3: Providers","Tab 3: Providers","Tab 3: Providers","Tab 3: Providers","Tab 3: Providers","Tab 3: Providers","Tab 3: Providers","Tab 3: Providers","Tab 3: Providers","Tab 3: Providers","Tab 3: Providers","Tab 3: Providers","Tab 3: Providers","Tab 3: Providers","Tab 3: Providers","Tab 3: Providers","Tab 3: Providers","Tab 3: Providers","Tab 3: Providers","Tab 3: Providers","Tab 3: Providers","Tab 3: Providers","Tab 3: Providers","Tab 3: Providers","Tab 3: Providers","Tab 3: Providers","Tab 3: Providers","Tab 3: Providers","Tab 3: Providers","Tab 3: Providers","Tab 3: Providers","Tab 3: Providers","Tab 3: Providers","Tab 3: Providers","Tab 3: Providers","Tab 3: Providers","Tab 3: Providers","Tab 3: Providers","Tab 3: Providers","Tab 3: Providers","Tab 3: Providers","Tab 3: Providers","Tab 3: Providers","Tab 3: Providers","Tab 3: Providers","Tab 3: Providers","Tab 3: Providers","Tab 3: Providers","Tab 3: Providers","Tab 3: Providers","Tab 3: Providers","Tab 3: Providers","Tab 3: Providers","Tab 3: Providers","Tab 3: Providers","Tab 3: Providers","Tab 3: Providers","Tab 3: Providers","Tab 3: Providers","Tab 3: Providers","Tab 3: Providers","Tab 3: Providers","Tab 3: Providers","Tab 3: Providers","Tab 3: Providers","Tab 3: Providers","Tab 3: Providers","Tab 3: Providers","Tab 3: Providers","Tab 3: Providers","Tab 3: Providers","Tab 3: Providers","Tab 3: Providers","Tab 3: Providers","Tab 3: Providers","Tab 3: Providers","Tab 3: Providers","Tab 3: Providers","Tab 3: Providers","Tab 3: Providers","Tab 3: Providers","Tab 3: Providers","Tab 3: Providers","Tab 3: Providers","Tab 3: Providers","Tab 3: Providers","Tab 3: Providers","Tab 3: Providers","Tab 3: Providers","Tab 3: Providers","Tab 3: Providers","Tab 3: Providers","Tab 3: Providers","Tab 3: Providers","Tab 3: Providers","Tab 3: Providers","Tab 3: Providers","Tab 3: Providers","Tab 3: Providers","Tab 3: Providers","Tab 3: Providers","Tab 3: Providers","Tab 3: Providers","Tab 3: Providers","Tab 3: Providers","Tab 3: Providers","Tab 3: Providers","Tab 3: Providers","Tab 3: Providers","Tab 3: Providers","Tab 3: Providers","Tab 3: Providers","Tab 3: Providers","Tab 3: Providers","Tab 3: Providers","Tab 3: Providers","Tab 3: Providers","Tab 3: Providers","Tab 3: Providers","Tab 3: Providers","Tab 3: Providers","Tab 3: Providers","Tab 3: Providers","Tab 3: Providers","Tab 3: Providers","Tab 3: Providers","Tab 3: Providers","Tab 3: Providers","Tab 3: Providers","Tab 3: Providers","Tab 3: Providers","Tab 3: Providers","Tab 3: Providers","Tab 3: Providers","Tab 3: Providers","Tab 3: Providers","Tab 3: Providers","Tab 3: Providers","Tab 3: Providers","Tab 3: Providers","Tab 3: Providers","Tab 3: Providers","Tab 3: Providers","Tab 3: Providers","Tab 3: Providers","Tab 3: Providers","Tab 3: Providers","Tab 3: Providers","Tab 3: Providers","Tab 3: Providers","Tab 3: Providers","Tab 3: Providers","Tab 3: Providers","Tab 3: Providers","Tab 3: Providers","Tab 3: Providers","Tab 3: Providers","Tab 3: Providers","Tab 3: Providers","Tab 3: Providers","Tab 3: Providers","Tab 3: Providers","Tab 3: Providers","Tab 3: Providers","Tab 3: Providers","Tab 3: Providers","Tab 3: Providers","Tab 3: Providers","Tab 3: Providers","Tab 3: Providers","Tab 3: Providers","Tab 3: Providers","Tab 3: Providers","Tab 3: Providers","Tab 3: Providers","Tab 3: Providers","Tab 3: Providers","Tab 3: Providers","Tab 3: Providers","Tab 3: Providers","Tab 3: Providers","Tab 3: Providers","Tab 3: Providers","Tab 3: Providers","Tab 3: Providers","Tab 3: Providers","Tab 3: Providers","Tab 3: Providers","Tab 4: Non-Providers","Tab 4: Non-Providers","Tab 4: Non-Providers","Tab 4: Non-Providers","Tab 4: Non-Providers","Tab 4: Non-Providers","Tab 4: Non-Providers","Tab 4: Non-Providers","Tab 4: Non-Providers","Tab 4: Non-Providers","Tab 4: Non-Providers","Tab 4: Non-Providers","Tab 4: Non-Providers","Tab 4: Non-Providers","Tab 4: Non-Providers","Tab 4: Non-Providers","Tab 4: Non-Providers","Tab 4: Non-Providers","Tab 4: Non-Providers","Tab 4: Non-Providers","Tab 4: Non-Providers","Tab 4: Non-Providers","Tab 4: Non-Providers","Tab 4: Non-Providers","Tab 4: Non-Providers","Tab 4: Non-Providers","Tab 4: Non-Providers","Tab 4: Non-Providers","Tab 4: Non-Providers","Tab 4: Non-Providers","Tab 4: Non-Providers","Tab 4: Non-Providers","Tab 4: Non-Providers","Tab 4: Non-Providers","Tab 4: Non-Providers","Tab 4: Non-Providers","Tab 4: Non-Providers","Tab 4: Non-Providers","Tab 4: Non-Providers","Tab 4: Non-Providers","Tab 4: Non-Providers","Tab 4: Non-Providers","Tab 4: Non-Providers","Tab 4: Non-Providers","Tab 4: Non-Providers","Tab 4: Non-Providers","Tab 4: Non-Providers","Tab 4: Non-Providers","Tab 4: Non-Providers","Tab 4: Non-Providers","Tab 4: Non-Providers","Tab 4: Non-Providers","Tab 4: Non-Providers","Tab 4: Non-Providers","Tab 4: Non-Providers","Tab 4: Non-Providers","Tab 4: Non-Providers","Tab 4: Non-Providers","Tab 4: Non-Providers","Tab 4: Non-Providers","Tab 4: Non-Providers","Tab 4: Non-Providers","Tab 4: Non-Providers","Tab 4: Non-Providers","Tab 4: Non-Providers","Tab 4: Non-Providers","Tab 4: Non-Providers","Tab 4: Non-Providers","Tab 4: Non-Providers","Tab 4: Non-Providers","Tab 4: Non-Providers","Tab 4: Non-Providers","Tab 4: Non-Providers","Tab 4: Non-Providers","Tab 4: Non-Providers","Tab 4: Non-Providers","Tab 4: Non-Providers","Tab 4: Non-Providers","Tab 4: Non-Providers","Tab 4: Non-Providers","Tab 4: Non-Providers","Tab 4: Non-Providers","Tab 4: Non-Providers","Tab 4: Non-Providers","Tab 4: Non-Providers","Tab 4: Non-Providers","Tab 4: Non-Providers","Tab 4: Non-Providers","Tab 4: Non-Providers","Tab 4: Non-Providers","Tab 4: Non-Providers","Tab 4: Non-Providers","Tab 4: Non-Providers","Tab 4: Non-Providers","Tab 4: Non-Providers","Tab 4: Non-Providers","Tab 4: Non-Providers","Tab 4: Non-Providers","Tab 4: Non-Providers","Tab 4: Non-Providers","Tab 4: Non-Providers","Tab 4: Non-Providers","Tab 4: Non-Providers","Tab 4: Non-Providers","Tab 4: Non-Providers","Tab 4: Non-Providers","Tab 4: Non-Providers","Tab 4: Non-Providers","Tab 4: Non-Providers","Tab 4: Non-Providers","Tab 4: Non-Providers","Tab 4: Non-Providers","Tab 4: Non-Providers","Tab 4: Non-Providers","Tab 4: Non-Providers","Tab 4: Non-Providers","Tab 4: Non-Providers","Tab 4: Non-Providers","Tab 4: Non-Providers","Tab 4: Non-Providers","Tab 4: Non-Providers","Tab 4: Non-Providers","Tab 4: Non-Providers","Tab 4: Non-Providers","Tab 4: Non-Providers","Tab 4: Non-Providers","Tab 4: Non-Providers","Tab 4: Non-Providers","Tab 4: Non-Providers","Tab 4: Non-Providers","Tab 4: Non-Providers","Tab 4: Non-Providers","Tab 4: Non-Providers","Tab 4: Non-Providers","Tab 4: Non-Providers","Tab 4: Non-Providers","Tab 4: Non-Providers","Tab 4: Non-Providers","Tab 4: Non-Providers","Tab 4: Non-Providers","Tab 4: Non-Providers","Tab 4: Non-Providers","Tab 4: Non-Providers","Tab 4: Non-Providers","Tab 4: Non-Providers","Tab 4: Non-Providers","Tab 4: Non-Providers","Tab 4: Non-Providers","Tab 4: Non-Providers","Tab 4: Non-Providers","Tab 4: Non-Providers","Tab 4: Non-Providers","Tab 4: Non-Providers","Tab 4: Non-Providers","Tab 4: Non-Providers","Tab 4: Non-Providers","Tab 4: Non-Providers","Tab 4: Non-Providers","Tab 4: Non-Providers","Tab 4: Non-Providers","Tab 4: Non-Providers","Tab 4: Non-Providers","Tab 4: Non-Providers","Tab 4: Non-Providers","Tab 4: Non-Providers","Tab 4: Non-Providers","Tab 4: Non-Providers","Tab 4: Non-Providers","Tab 4: Non-Providers","Tab 4: Non-Providers","Tab 4: Non-Providers","Tab 4: Non-Providers","Tab 4: Non-Providers","Tab 4: Non-Providers","Tab 4: Non-Providers","Tab 4: Non-Providers","Tab 4: Non-Providers","Tab 4: Non-Providers","Tab 4: Non-Providers","Tab 4: Non-Providers","Tab 4: Non-Providers","Tab 4: Non-Providers","Tab 4: Non-Providers","Tab 4: Non-Providers","Tab 4: Non-Providers","Tab 4: Non-Providers","Tab 4: Non-Providers","Tab 4: Non-Providers","Tab 4: Non-Providers","Tab 4: Non-Providers","Tab 4: Non-Providers","Tab 4: Non-Providers","Tab 4: Non-Providers","Tab 4: Non-Providers","Tab 4: Non-Providers","Tab 4: Non-Providers","Tab 4: Non-Providers","Tab 4: Non-Providers","Tab 4: Non-Providers","Tab 4: Non-Providers","Tab 4: Non-Providers","Tab 4: Non-Providers","Tab 4: Non-Providers","Tab 4: Non-Providers","Tab 4: Non-Providers","Tab 4: Non-Providers","Tab 4: Non-Providers","Tab 4: Non-Providers","Tab 4: Non-Providers","Tab 4: Non-Providers","Tab 4: Non-Providers","Tab 4: Non-Providers","Tab 4: Non-Providers","Tab 4: Non-Providers","Tab 4: Non-Providers","Tab 4: Non-Providers","Tab 4: Non-Providers","Tab 4: Non-Providers","Tab 4: Non-Providers","Tab 4: Non-Providers","Tab 4: Non-Providers","Tab 4: Non-Providers","Tab 4: Non-Providers","Tab 4: Non-Providers","Tab 4: Non-Providers","Tab 4: Non-Providers","Tab 4: Non-Providers","Tab 4: Non-Providers","Tab 4: Non-Providers","Tab 4: Non-Providers","Tab 4: Non-Providers","Tab 4: Non-Providers","Tab 4: Non-Providers","Tab 4: Non-Providers","Tab 4: Non-Providers","Tab 4: Non-Providers","Tab 4: Non-Providers","Tab 4: Non-Providers","Tab 4: Non-Providers","Tab 4: Non-Providers","Tab 4: Non-Providers","Tab 4: Non-Providers","Tab 4: Non-Providers","Tab 4: Non-Providers","Tab 4: Non-Providers","Tab 4: Non-Providers","Tab 4: Non-Providers","Tab 4: Non-Providers","Tab 4: Non-Providers","Tab 4: Non-Providers","Tab 4: Non-Providers","Tab 4: Non-Providers","Tab 4: Non-Providers","Tab 4: Non-Providers","Tab 4: Non-Providers","Tab 4: Non-Providers","Tab 4: Non-Providers","Tab 4: Non-Providers","Tab 4: Non-Providers","Tab 4: Non-Providers","Tab 4: Non-Providers","Tab 4: Non-Providers","Tab 4: Non-Providers","Tab 4: Non-Providers","Tab 4: Non-Providers","Tab 4: Non-Providers","Tab 4: Non-Providers","Tab 4: Non-Providers","Tab 4: Non-Providers","Tab 4: Non-Providers","Tab 4: Non-Providers","Tab 4: Non-Providers","Tab 4: Non-Providers","Tab 4: Non-Providers","Tab 4: Non-Providers","Tab 4: Non-Providers","Tab 4: Non-Providers","Tab 4: Non-Providers","Tab 4: Non-Providers","Tab 4: Non-Providers","Tab 4: Non-Providers","Tab 4: Non-Providers","Tab 4: Non-Providers","Tab 4: Non-Providers","Tab 4: Non-Providers","Tab 4: Non-Providers","Tab 4: Non-Providers","Tab 4: Non-Providers","Tab 4: Non-Providers","Tab 4: Non-Providers","Tab 4: Non-Providers","Tab 4: Non-Providers","Tab 4: Non-Providers","Tab 4: Non-Providers","Tab 4: Non-Providers","Tab 4: Non-Providers","Tab 4: Non-Providers","Tab 4: Non-Providers","Tab 4: Non-Providers","Tab 4: Non-Providers","Tab 4: Non-Providers","Tab 4: Non-Providers","Tab 4: Non-Providers","Tab 4: Non-Providers","Tab 4: Non-Providers","Tab 4: Non-Providers","Tab 4: Non-Providers","Tab 4: Non-Providers","Tab 4: Non-Providers","Tab 4: Non-Providers","Tab 4: Non-Providers","Tab 4: Non-Providers","Tab 4: Non-Providers","Tab 4: Non-Providers","Tab 4: Non-Providers","Tab 4: Non-Providers","Tab 4: Non-Providers","Tab 4: Non-Providers","Tab 4: Non-Providers","Tab 4: Non-Providers","Tab 4: Non-Providers","Tab 4: Non-Providers","Tab 4: Non-Providers","Tab 4: Non-Providers","Tab 4: Non-Providers","Tab 4: Non-Providers","Tab 4: Non-Providers","Tab 4: Non-Providers","Tab 4: Non-Providers","Tab 4: Non-Providers","Tab 4: Non-Providers","Tab 4: Non-Providers","Tab 4: Non-Providers","Tab 4: Non-Providers","Tab 4: Non-Providers","Tab 4: Non-Providers","Tab 4: Non-Providers","Tab 4: Non-Providers","Tab 4: Non-Providers","Tab 4: Non-Providers","Tab 4: Non-Providers","Tab 4: Non-Providers","Tab 4: Non-Providers","Tab 4: Non-Providers","Tab 4: Non-Providers","Tab 4: Non-Providers","Tab 4: Non-Providers","Tab 4: Non-Providers","Tab 4: Non-Providers","Tab 4: Non-Providers","Tab 4: Non-Providers","Tab 4: Non-Providers","Tab 4: Non-Providers","Tab 4: Non-Providers","Tab 4: Non-Providers","Tab 4: Non-Providers","Tab 4: Non-Providers","Tab 4: Non-Providers","Tab 4: Non-Providers","Tab 4: Non-Providers","Tab 4: Non-Providers","Tab 4: Non-Providers","Tab 4: Non-Providers","Tab 4: Non-Providers","Tab 4: Non-Providers","Tab 4: Non-Providers","Tab 4: Non-Providers","Tab 4: Non-Providers","Tab 4: Non-Providers","Tab 4: Non-Providers","Tab 4: Non-Providers","Tab 4: Non-Providers","Tab 4: Non-Providers","Tab 4: Non-Providers","Tab 4: Non-Providers","Tab 4: Non-Providers","Tab 4: Non-Providers","Tab 4: Non-Providers","Tab 4: Non-Providers","Tab 4: Non-Providers","Tab 4: Non-Providers","Tab 4: Non-Providers","Tab 4: Non-Providers","Tab 4: Non-Providers","Tab 4: Non-Providers","Tab 4: Non-Providers","Tab 4: Non-Providers","Tab 4: Non-Providers","Tab 4: Non-Providers","Tab 4: Non-Providers","Tab 4: Non-Providers","Tab 4: Non-Providers","Tab 4: Non-Providers","Tab 4: Non-Providers","Tab 4: Non-Providers","Tab 4: Non-Providers","Tab 4: Non-Providers","Tab 4: Non-Providers","Tab 4: Non-Providers","Tab 4: Non-Providers","Tab 4: Non-Providers","Tab 4: Non-Providers","Tab 4: Non-Providers","Tab 4: Non-Providers","Tab 4: Non-Providers","Tab 4: Non-Providers","Tab 4: Non-Providers","Tab 4: Non-Providers","Tab 4: Non-Providers","Tab 4: Non-Providers","Tab 4: Non-Providers","Tab 4: Non-Providers","Tab 4: Non-Providers","Tab 4: Non-Providers","Tab 4: Non-Providers","Tab 4: Non-Providers","Tab 4: Non-Providers","Tab 4: Non-Providers","Tab 4: Non-Providers","Tab 4: Non-Providers","Tab 4: Non-Providers","Tab 4: Non-Providers","Tab 4: Non-Providers","Tab 4: Non-Providers","Tab 4: Non-Providers","Tab 4: Non-Providers","Tab 4: Non-Providers","Tab 4: Non-Providers","Tab 4: Non-Providers","Tab 4: Non-Providers","Tab 4: Non-Providers","Tab 4: Non-Providers","Tab 4: Non-Providers","Tab 4: Non-Providers","Tab 4: Non-Providers","Tab 4: Non-Providers","Tab 4: Non-Providers","Tab 4: Non-Providers","Tab 4: Non-Providers","Tab 4: Non-Providers","Tab 4: Non-Providers","Tab 4: Non-Providers","Tab 4: Non-Providers","Tab 4: Non-Providers","Tab 4: Non-Providers","Tab 4: Non-Providers","Tab 4: Non-Providers","Tab 4: Non-Providers","Tab 4: Non-Providers","Tab 4: Non-Providers","Tab 4: Non-Providers","Tab 4: Non-Providers","Tab 4: Non-Providers","Tab 4: Non-Providers","Tab 4: Non-Providers","Tab 4: Non-Providers","Tab 4: Non-Providers","Tab 4: Non-Providers","Tab 4: Non-Providers","Tab 4: Non-Providers","Tab 4: Non-Providers","Tab 4: Non-Providers","Tab 4: Non-Providers","Tab 4: Non-Providers","Tab 4: Non-Providers","Tab 4: Non-Providers","Tab 4: Non-Providers","Tab 4: Non-Providers","Tab 4: Non-Providers","Tab 4: Non-Providers","Tab 4: Non-Providers","Tab 4: Non-Providers","Tab 4: Non-Providers","Tab 4: Non-Providers","Tab 4: Non-Providers","Tab 4: Non-Providers","Tab 4: Non-Providers","Tab 4: Non-Providers","Tab 4: Non-Providers","Tab 4: Non-Providers","Tab 4: Non-Providers","Tab 4: Non-Providers","Tab 4: Non-Providers","Tab 4: Non-Providers","Tab 4: Non-Providers","Tab 4: Non-Providers","Tab 4: Non-Providers","Tab 4: Non-Providers","Tab 4: Non-Providers","Tab 4: Non-Providers","Tab 4: Non-Providers","Tab 4: Non-Providers","Tab 4: Non-Providers","Tab 4: Non-Providers","Tab 4: Non-Providers","Tab 4: Non-Providers","Tab 4: Non-Providers","Tab 4: Non-Providers","Tab 4: Non-Providers","Tab 4: Non-Providers","Tab 4: Non-Providers","Tab 4: Non-Providers","Tab 4: Non-Providers","Tab 4: Non-Providers","Tab 4: Non-Providers","Tab 4: Non-Providers","Tab 4: Non-Providers","Tab 4: Non-Providers","Tab 4: Non-Providers","Tab 4: Non-Providers","Tab 4: Non-Providers","Tab 4: Non-Providers","Tab 4: Non-Providers","Tab 4: Non-Providers","Tab 4: Non-Providers","Tab 4: Non-Providers","Tab 4: Non-Providers","Tab 4: Non-Providers","Tab 4: Non-Providers","Tab 4: Non-Providers","Tab 4: Non-Providers","Tab 4: Non-Providers","Tab 4: Non-Providers","Tab 4: Non-Providers","Tab 4: Non-Providers","Tab 4: Non-Providers","Tab 4: Non-Providers","Tab 4: Non-Providers","Tab 4: Non-Providers","Tab 4: Non-Providers","Tab 4: Non-Providers","Tab 4: Non-Providers","Tab 4: Non-Providers","Tab 4: Non-Providers","Tab 4: Non-Providers","Tab 4: Non-Providers","Tab 4: Non-Providers","Tab 4: Non-Providers","Tab 4: Non-Providers","Tab 4: Non-Providers","Tab 4: Non-Providers","Tab 4: Non-Providers","Tab 4: Non-Providers","Tab 4: Non-Providers","Tab 4: Non-Providers","Tab 4: Non-Providers","Tab 4: Non-Providers","Tab 4: Non-Providers","Tab 4: Non-Providers","Tab 4: Non-Providers","Tab 4: Non-Providers","Tab 4: Non-Providers","Tab 4: Non-Providers","Tab 4: Non-Providers","Tab 4: Non-Providers","Tab 4: Non-Providers","Tab 4: Non-Providers","Tab 4: Non-Providers","Tab 4: Non-Providers","Tab 4: Non-Providers","Tab 4: Non-Providers","Tab 4: Non-Providers","Tab 4: Non-Providers","Tab 4: Non-Providers","Tab 4: Non-Providers","Tab 4: Non-Providers","Tab 4: Non-Providers","Tab 4: Non-Providers","Tab 4: Non-Providers","Tab 4: Non-Providers","Tab 4: Non-Providers","Tab 4: Non-Providers","Tab 4: Non-Providers","Tab 4: Non-Providers","Tab 4: Non-Providers","Tab 4: Non-Providers","Tab 4: Non-Providers","Tab 4: Non-Providers","Tab 4: Non-Providers","Tab 4: Non-Providers","Tab 4: Non-Providers","Tab 4: Non-Providers","Tab 4: Non-Providers","Tab 4: Non-Providers","Tab 4: Non-Providers","Tab 4: Non-Providers","Tab 4: Non-Providers","Tab 4: Non-Providers","Tab 4: Non-Providers","Tab 4: Non-Providers","Tab 4: Non-Providers","Tab 4: Non-Providers","Tab 4: Non-Providers","Tab 4: Non-Providers","Tab 4: Non-Providers","Tab 4: Non-Providers","Tab 4: Non-Providers","Tab 4: Non-Providers","Tab 4: Non-Providers","Tab 4: Non-Providers","Tab 4: Non-Providers","Tab 4: Non-Providers","Tab 4: Non-Providers","Tab 4: Non-Providers","Tab 4: Non-Providers","Tab 4: Non-Providers","Tab 4: Non-Providers","Tab 4: Non-Providers","Tab 4: Non-Providers","Tab 4: Non-Providers","Tab 4: Non-Providers","Tab 4: Non-Providers","Tab 4: Non-Providers","Tab 4: Non-Providers","Tab 4: Non-Providers","Tab 4: Non-Providers","Tab 4: Non-Providers","Tab 4: Non-Providers","Tab 4: Non-Providers","Tab 4: Non-Providers","Tab 4: Non-Providers","Tab 4: Non-Providers","Tab 4: Non-Providers","Tab 4: Non-Providers","Tab 4: Non-Providers","Tab 4: Non-Providers","Tab 4: Non-Providers","Tab 4: Non-Providers","Tab 4: Non-Providers","Tab 4: Non-Providers","Tab 4: Non-Providers","Tab 4: Non-Providers","Tab 4: Non-Providers","Tab 4: Non-Providers","Tab 4: Non-Providers","Tab 4: Non-Providers","Tab 4: Non-Providers","Tab 4: Non-Providers","Tab 4: Non-Providers","Tab 4: Non-Providers","Tab 4: Non-Providers","Tab 4: Non-Providers","Tab 4: Non-Providers","Tab 4: Non-Providers","Tab 4: Non-Providers","Tab 4: Non-Providers","Tab 4: Non-Providers","Tab 4: Non-Providers","Tab 4: Non-Providers","Tab 4: Non-Providers","Tab 4: Non-Providers","Tab 4: Non-Providers","Tab 4: Non-Providers","Tab 4: Non-Providers","Tab 4: Non-Providers","Tab 4: Non-Providers","Tab 4: Non-Providers","Tab 4: Non-Providers","Tab 4: Non-Providers","Tab 4: Non-Providers","Tab 4: Non-Providers","Tab 4: Non-Providers","Tab 4: Non-Providers","Tab 4: Non-Providers","Tab 4: Non-Providers","Tab 4: Non-Providers","Tab 4: Non-Providers","Tab 4: Non-Providers","Tab 4: Non-Providers","Tab 4: Non-Providers","Tab 4: Non-Providers","Tab 4: Non-Providers","Tab 4: Non-Providers","Tab 4: Non-Providers","Tab 4: Non-Providers","Tab 4: Non-Providers","Tab 4: Non-Providers","Tab 4: Non-Providers","Tab 4: Non-Providers","Tab 4: Non-Providers","Tab 4: Non-Providers","Tab 4: Non-Providers","Tab 4: Non-Providers","Tab 4: Non-Providers","Tab 4: Non-Providers","Tab 4: Non-Providers","Tab 4: Non-Providers","Tab 4: Non-Providers","Tab 4: Non-Providers","Tab 4: Non-Providers","Tab 4: Non-Providers","Tab 4: Non-Providers","Tab 4: Non-Providers","Tab 4: Non-Providers","Tab 4: Non-Providers","Tab 4: Non-Providers","Tab 4: Non-Providers","Tab 4: Non-Providers","Tab 4: Non-Providers","Tab 4: Non-Providers","Tab 4: Non-Providers","Tab 4: Non-Providers","Tab 4: Non-Providers","Tab 4: Non-Providers","Tab 4: Non-Providers","Tab 4: Non-Providers","Tab 4: Non-Providers","Tab 4: Non-Providers","Tab 4: Non-Providers","Tab 4: Non-Providers","Tab 4: Non-Providers","Tab 4: Non-Providers","Tab 4: Non-Providers","Tab 4: Non-Providers","Tab 4: Non-Providers","Tab 4: Non-Providers","Tab 4: Non-Providers","Tab 4: Non-Providers","Tab 4: Non-Providers","Tab 4: Non-Providers","Tab 4: Non-Providers","Tab 4: Non-Providers","Tab 4: Non-Providers","Tab 4: Non-Providers","Tab 4: Non-Providers","Tab 4: Non-Providers","Tab 4: Non-Providers","Tab 4: Non-Providers","Tab 4: Non-Providers","Tab 4: Non-Providers","Tab 4: Non-Providers","Tab 4: Non-Providers","Tab 4: Non-Providers","Tab 4: Non-Providers","Tab 4: Non-Providers","Tab 4: Non-Providers","Tab 4: Non-Providers","Tab 4: Non-Providers","Tab 4: Non-Providers","Tab 4: Non-Providers","Tab 4: Non-Providers","Tab 4: Non-Providers","Tab 4: Non-Providers","Tab 4: Non-Providers","Tab 4: Non-Providers","Tab 4: Non-Providers","Tab 4: Non-Providers","Tab 4: Non-Providers","Tab 4: Non-Providers","Tab 4: Non-Providers","Tab 4: Non-Providers","Tab 4: Non-Providers","Tab 4: Non-Providers","Tab 4: Non-Providers","Tab 4: Non-Providers","Tab 4: Non-Providers","Tab 4: Non-Providers","Tab 4: Non-Providers","Tab 4: Non-Providers","Tab 4: Non-Providers","Tab 4: Non-Providers","Tab 4: Non-Providers","Tab 4: Non-Providers","Tab 4: Non-Providers","Tab 4: Non-Providers","Tab 4: Non-Providers","Tab 4: Non-Providers","Tab 4: Non-Providers","Tab 4: Non-Providers","Tab 4: Non-Providers","Tab 4: Non-Providers","Tab 4: Non-Providers","Tab 4: Non-Providers","Tab 4: Non-Providers","Tab 4: Non-Providers","Tab 4: Non-Providers","Tab 4: Non-Providers","Tab 4: Non-Providers","Tab 4: Non-Providers","Tab 4: Non-Providers","Tab 4: Non-Providers","Tab 4: Non-Providers","Tab 4: Non-Providers","Tab 4: Non-Providers","Tab 4: Non-Providers","Tab 4: Non-Providers","Tab 4: Non-Providers","Tab 4: Non-Providers","Tab 4: Non-Providers","Tab 4: Non-Providers","Tab 4: Non-Providers","Tab 4: Non-Providers","Tab 4: Non-Providers","Tab 4: Non-Providers","Tab 4: Non-Providers","Tab 4: Non-Providers","Tab 4: Non-Providers","Tab 4: Non-Providers","Tab 4: Non-Providers","Tab 4: Non-Providers","Tab 4: Non-Providers","Tab 4: Non-Providers","Tab 4: Non-Providers","Tab 4: Non-Providers","Tab 4: Non-Providers","Tab 4: Non-Providers","Tab 4: Non-Providers","Tab 4: Non-Providers","Tab 4: Non-Providers","Tab 4: Non-Providers","Tab 4: Non-Providers","Tab 4: Non-Providers","Tab 4: Non-Providers","Tab 4: Non-Providers","Tab 4: Non-Providers","Tab 4: Non-Providers","Tab 4: Non-Providers","Tab 4: Non-Providers","Tab 4: Non-Providers","Tab 4: Non-Providers","Tab 4: Non-Providers","Tab 4: Non-Providers","Tab 4: Non-Providers","Tab 4: Non-Providers","Tab 4: Non-Providers","Tab 4: Non-Providers","Tab 4: Non-Providers","Tab 4: Non-Providers","Tab 4: Non-Providers","Tab 4: Non-Providers","Tab 4: Non-Providers","Tab 4: Non-Providers","Tab 4: Non-Providers","Tab 4: Non-Providers","Tab 4: Non-Providers","Tab 4: Non-Providers","Tab 4: Non-Providers","Tab 4: Non-Providers","Tab 4: Non-Providers","Tab 4: Non-Providers","Tab 4: Non-Providers","Tab 4: Non-Providers","Tab 4: Non-Providers","Tab 4: Non-Providers","Tab 4: Non-Providers","Tab 4: Non-Providers","Tab 4: Non-Providers","Tab 4: Non-Providers","Tab 4: Non-Providers","Tab 4: Non-Providers","Tab 4: Non-Providers","Tab 4: Non-Providers","Tab 4: Non-Providers","Tab 4: Non-Providers","Tab 4: Non-Providers","Tab 4: Non-Providers","Tab 4: Non-Providers","Tab 4: Non-Providers","Tab 4: Non-Providers","Tab 4: Non-Providers","Tab 4: Non-Providers","Tab 4: Non-Providers","Tab 4: Non-Providers","Tab 4: Non-Providers","Tab 4: Non-Providers","Tab 4: Non-Providers","Tab 4: Non-Providers","Tab 4: Non-Providers","Tab 4: Non-Providers","Tab 4: Non-Providers","Tab 4: Non-Providers","Tab 4: Non-Providers","Tab 4: Non-Providers","Tab 4: Non-Providers","Tab 4: Non-Providers","Tab 4: Non-Providers","Tab 4: Non-Providers","Tab 4: Non-Providers","Tab 4: Non-Providers","Tab 4: Non-Providers","Tab 4: Non-Providers","Tab 4: Non-Providers","Tab 4: Non-Providers","Tab 4: Non-Providers","Tab 4: Non-Providers","Tab 4: Non-Providers","Tab 4: Non-Providers","Tab 4: Non-Providers","Tab 4: Non-Providers","Tab 4: Non-Providers","Tab 4: Non-Providers","Tab 4: Non-Providers","Tab 4: Non-Providers","Tab 4: Non-Providers","Tab 4: Non-Providers","Tab 4: Non-Providers","Tab 4: Non-Providers","Tab 4: Non-Providers","Tab 4: Non-Providers","Tab 4: Non-Providers","Tab 4: Non-Providers","Tab 4: Non-Providers","Tab 4: Non-Providers","Tab 4: Non-Providers","Tab 4: Non-Providers","Tab 4: Non-Providers","Tab 4: Non-Providers","Tab 4: Non-Providers","Tab 4: Non-Providers","Tab 4: Non-Providers","Tab 4: Non-Providers","Tab 4: Non-Providers","Tab 4: Non-Providers","Tab 4: Non-Providers","Tab 4: Non-Providers","Tab 4: Non-Providers","Tab 4: Non-Providers","Tab 4: Non-Providers","Tab 4: Non-Providers","Tab 4: Non-Providers","Tab 4: Non-Providers","Tab 4: Non-Providers","Tab 4: Non-Providers","Tab 4: Non-Providers","Tab 4: Non-Providers","Tab 4: Non-Providers","Tab 4: Non-Providers","Tab 4: Non-Providers","Tab 4: Non-Providers","Tab 4: Non-Providers","Tab 4: Non-Providers","Tab 4: Non-Providers","Tab 4: Non-Providers","Tab 4: Non-Providers","Tab 4: Non-Providers","Tab 4: Non-Providers","Tab 4: Non-Providers","Tab 4: Non-Providers","Tab 4: Non-Providers","Tab 4: Non-Providers","Tab 4: Non-Providers","Tab 4: Non-Providers","Tab 4: Non-Providers","Tab 4: Non-Providers","Tab 4: Non-Providers","Tab 4: Non-Providers","Tab 4: Non-Providers","Tab 4: Non-Providers","Tab 4: Non-Providers","Tab 4: Non-Providers","Tab 4: Non-Providers","Tab 4: Non-Providers","Tab 4: Non-Providers","Tab 4: Non-Providers","Tab 4: Non-Providers","Tab 4: Non-Providers","Tab 4: Non-Providers","Tab 4: Non-Providers","Tab 4: Non-Providers","Tab 4: Non-Providers","Tab 4: Non-Providers","Tab 4: Non-Providers","Tab 4: Non-Providers","Tab 4: Non-Providers","Tab 4: Non-Providers","Tab 4: Non-Providers","Tab 4: Non-Providers","Tab 4: Non-Providers","Tab 4: Non-Providers","Tab 4: Non-Providers","Tab 4: Non-Providers","Tab 4: Non-Providers","Tab 4: Non-Providers","Tab 4: Non-Providers","Tab 4: Non-Providers","Tab 4: Non-Providers","Tab 4: Non-Providers","Tab 4: Non-Providers","Tab 4: Non-Providers","Tab 4: Non-Providers","Tab 4: Non-Providers","Tab 4: Non-Providers","Tab 4: Non-Providers","Tab 4: Non-Providers","Tab 4: Non-Providers","Tab 4: Non-Providers","Tab 4: Non-Providers","Tab 4: Non-Providers","Tab 4: Non-Providers","Tab 4: Non-Providers","Tab 4: Non-Providers","Tab 4: Non-Providers","Tab 5: Cost Information","Tab 5: Cost Information","Tab 5: Cost Information","Tab 5: Cost Information","Tab 5: Cost Information","Tab 5: Cost Information","Tab 5: Cost Information","Tab 5: Cost Information","Tab 5: Cost Information","Tab 5: Cost Information","Tab 5: Cost Information","Tab 5: Cost Information","Tab 5: Cost Information","Tab 5: Cost Information","Tab 5: Cost Information","Tab 5: Cost Information","Tab 5: Cost Information","Tab 5: Cost Information","Tab 5: Cost Information","Tab 5: Cost Information","Tab 5: Cost Information","Tab 5: Cost Information","Tab 5: Cost Information","Tab 5: Cost Information","Tab 5: Cost Information","Tab 5: Cost Information","Tab 5: Cost Information","Tab 5: Cost Information","Tab 5: Cost Information","Tab 5: Cost Information","Tab 5: Cost Information","Tab 5: Cost Information","Tab 5: Cost Information","Tab 5: Cost Information","Tab 5: Cost Information","Tab 5: Cost Information","Tab 5: Cost Information","Tab 5: Cost Information","Tab 5: Cost Information","Tab 5: Cost Information","Tab 5: Cost Information","Tab 5: Cost Information","Tab 5: Cost Information","Tab 5: Cost Information","Tab 5: Cost Information","Tab 5: Cost Information","Tab 5: Cost Information","Tab 5: Cost Information","Tab 5: Cost Information","Tab 5: Cost Information","Tab 5: Cost Information","Tab 5: Cost Information","Tab 5: Cost Information","Tab 5: Cost Information","Tab 5: Cost Information","Tab 5: Cost Information","Tab 5: Cost Information","Tab 5: Cost Information","Tab 5: Cost Information","Tab 5: Cost Information","Tab 5: Cost Information","Tab 5: Cost Information","Tab 5: Cost Information","Tab 5: Cost Information","Tab 5: Cost Information","Tab 5: Cost Information","Tab 5: Cost Information","Tab 5: Cost Information","Tab 5: Cost Information","Tab 5: Cost Information","Tab 5: Cost Information","Tab 5: Cost Information","Tab 5: Cost Information","Tab 5: Cost Information","Tab 5: Cost Information","Tab 5: Cost Information","Tab 5: Cost Information","Tab 5: Cost Information","Tab 5: Cost Information","Tab 5: Cost Information","Tab 5: Cost Information","Tab 5: Cost Information","Tab 5: Cost Information","Tab 5: Cost Information","Tab 5: Cost Information","Tab 5: Cost Information","Tab 5: Cost Information","Tab 5: Cost Information","Tab 5: Cost Information","Tab 5: Cost Information","Tab 5: Cost Information","Tab 5: Cost Information","Tab 5: Cost Information","Tab 5: Cost Information","Tab 5: Cost Information","Tab 5: Cost Information","Tab 5: Cost Information","Tab 5: Cost Information","Tab 5: Cost Information","Tab 5: Cost Information","Tab 5: Cost Information","Tab 5: Cost Information","Tab 5: Cost Information","Tab 5: Cost Information","Tab 5: Cost Information","Tab 5: Cost Information","Tab 5: Cost Information","Tab 5: Cost Information","Tab 5: Cost Information","Tab 5: Cost Information","Tab 5: Cost Information","Tab 5: Cost Information","Tab 5: Cost Information","Tab 5: Cost Information","Tab 5: Cost Information","Tab 5: Cost Information","Tab 5: Cost Information","Tab 5: Cost Information","Tab 5: Cost Information","Tab 5: Cost Information","Tab 5: Cost Information","Tab 5: Cost Information","Tab 5: Cost Information","Tab 5: Cost Information","Tab 5: Cost Information","Tab 5: Cost Information","Tab 5: Cost Information","Tab 5: Cost Information","Tab 5: Cost Information","Tab 5: Cost Information","Tab 5: Cost Information","Tab 5: Cost Information","Tab 5: Cost Information","Tab 5: Cost Information","Tab 5: Cost Information","Tab 5: Cost Information","Tab 5: Cost Information","Tab 5: Cost Information","Tab 5: Cost Information","Tab 5: Cost Information","Tab 5: Cost Information","Tab 5: Cost Information","Tab 5: Cost Information","Tab 5: Cost Information","Tab 5: Cost Information","Tab 5: Cost Information","Tab 5: Cost Information","Tab 5: Cost Information","Tab 5: Cost Information","Tab 5: Cost Information","Tab 5: Cost Information","Tab 5: Cost Information","Tab 5: Cost Information","Tab 5: Cost Information","Tab 5: Cost Information","Tab 5: Cost Information","Tab 5: Cost Information","Tab 5: Cost Information","Tab 5: Cost Information","Tab 5: Cost Information","Tab 5: Cost Information","Tab 5: Cost Information","Tab 5: Cost Information","Tab 5: Cost Information","Tab 5: Cost Information","Tab 5: Cost Information","Tab 5: Cost Information","Tab 5: Cost Information","Tab 5: Cost Information","Tab 5: Cost Information","Tab 5: Cost Information","Tab 5: Cost Information","Tab 5: Cost Information","Tab 5: Cost Information","Tab 5: Cost Information","Tab 5: Cost Information","Tab 5: Cost Information","Tab 5: Cost Information","Tab 5: Cost Information","Tab 5: Cost Information","Tab 5: Cost Information","Tab 5: Cost Information","Tab 5: Cost Information","Tab 5: Cost Information","Tab 5: Cost Information","Tab 5: Cost Information","Tab 5: Cost Information","Tab 5: Cost Information","Tab 5: Cost Information","Tab 5: Cost Information","Tab 5: Cost Information","Tab 5: Cost Information","Tab 5: Cost Information","Tab 5: Cost Information","Tab 5: Cost Information","Tab 5: Cost Information","Tab 5: Cost Information","Tab 5: Cost Information","Tab 5: Cost Information","Tab 5: Cost Information","Tab 5: Cost Information","Tab 5: Cost Information","Tab 5: Cost Information","Tab 5: Cost Information","Tab 5: Cost Information","Tab 5: Cost Information","Tab 5: Cost Information","Tab 5: Cost Information","Tab 5: Cost Information","Tab 5: Cost Information","Tab 5: Cost Information","Tab 5: Cost Information","Tab 5: Cost Information","Tab 5: Cost Information","Tab 5: Cost Information","Tab 5: Cost Information","Tab 5: Cost Information","Tab 5: Cost Information","Tab 5: Cost Information","Tab 5: Cost Information","Tab 5: Cost Information","Tab 5: Cost Information","Tab 5: Cost Information","Tab 5: Cost Information","Tab 5: Cost Information","Tab 5: Cost Information","Tab 5: Cost Information","Tab 5: Cost Information","Tab 5: Cost Information","Tab 5: Cost Information","Tab 5: Cost Information","Tab 5: Cost Information","Tab 5: Cost Information","Tab 5: Cost Information","Tab 5: Cost Information","Tab 5: Cost Information","Tab 5: Cost Information","Tab 5: Cost Information","Tab 5: Cost Information","Tab 5: Cost Information","Tab 5: Cost Information","Tab 5: Cost Information","Tab 5: Cost Information","Tab 5: Cost Information","Tab 5: Cost Information","Tab 5: Cost Information","Tab 5: Cost Information","Tab 5: Cost Information","Tab 5: Cost Information","Tab 5: Cost Information","Tab 5: Cost Information","Tab 5: Cost Information","Tab 5: Cost Information","Tab 5: Cost Information","Tab 5: Cost Information","Tab 5: Cost Information","Tab 5: Cost Information","Tab 5: Cost Information","Tab 5: Cost Information","Tab 5: Cost Information","Tab 5: Cost Information","Tab 5: Cost Information","Tab 5: Cost Information","Tab 5: Cost Information","Tab 5: Cost Information","Tab 5: Cost Information","Tab 5: Cost Information","Tab 5: Cost Information","Tab 5: Cost Information","Tab 5: Cost Information","Tab 5: Cost Information","Tab 5: Cost Information","Tab 5: Cost Information","Tab 5: Cost Information","Tab 5: Cost Information","Tab 5: Cost Information","Tab 5: Cost Information","Tab 5: Cost Information","Tab 5: Cost Information","Tab 5: Cost Information","Tab 5: Cost Information","Tab 5: Cost Information","Tab 5: Cost Information","Tab 5: Cost Information","Tab 5: Cost Information","Tab 5: Cost Information","Tab 5: Cost Information","Tab 5: Cost Information","Tab 5: Cost Information","Tab 5: Cost Information","Tab 5: Cost Information","Tab 5: Cost Information","Tab 5: Cost Information","Tab 5: Cost Information","Tab 5: Cost Information","Tab 5: Cost Information","Tab 5: Cost Information","Tab 5: Cost Information","Tab 5: Cost Information","Tab 5: Cost Information","Tab 5: Cost Information","Tab 5: Cost Information","Tab 5: Cost Information","Tab 5: Cost Information","Tab 5: Cost Information","Tab 5: Cost Information","Tab 5: Cost Information","Tab 5: Cost Information","Tab 5: Cost Information","Tab 5: Cost Information","Tab 5: Cost Information","Tab 5: Cost Information","Tab 5: Cost Information","Tab 5: Cost Information","Tab 5: Cost Information","Tab 5: Cost Information","Tab 5: Cost Information","Tab 5: Cost Information","Tab 5: Cost Information","Tab 5: Cost Information","Tab 5: Cost Information","Tab 5: Cost Information","Tab 5: Cost Information","Tab 5: Cost Information","Tab 5: Cost Information","Tab 5: Cost Information","Tab 5: Cost Information","Tab 5: Cost Information","Tab 5: Cost Information","Tab 5: Cost Information","Tab 5: Cost Information","Tab 5: Cost Information","Tab 5: Cost Information","Tab 5: Cost Information","Tab 5: Cost Information","Tab 5: Cost Information","Tab 5: Cost Information","Tab 5: Cost Information","Tab 5: Cost Information","Tab 5: Cost Information","Tab 5: Cost Information","Tab 5: Cost Information","Tab 5: Cost Information","Tab 5: Cost Information","Tab 5: Cost Information","Tab 5: Cost Information","Tab 5: Cost Information","Tab 5: Cost Information","Tab 5: Cost Information","Tab 5: Cost Information","Tab 5: Cost Information","Tab 5: Cost Information","Tab 5: Cost Information","Tab 5: Cost Information","Tab 5: Cost Information","Tab 5: Cost Information","Tab 5: Cost Information","Tab 5: Cost Information","Tab 5: Cost Information","Tab 5: Cost Information","Tab 5: Cost Information","Tab 5: Cost Information","Tab 5: Cost Information","Tab 5: Cost Information","Tab 5: Cost Information","Tab 5: Cost Information","Tab 5: Cost Information","Tab 5: Cost Information","Tab 5: Cost Information","Tab 5: Cost Information","Tab 5: Cost Information","Tab 5: Cost Information","Tab 5: Cost Information","Tab 5: Cost Information","Tab 5: Cost Information","Tab 5: Cost Information","Tab 5: Cost Information","Tab 5: Cost Information","Tab 5: Cost Information","Tab 5: Cost Information","Tab 5: Cost Information","Tab 5: Cost Information","Tab 5: Cost Information","Tab 5: Cost Information","Tab 5: Cost Information","Tab 5: Cost Information","Tab 5: Cost Information","Tab 5: Cost Information","Tab 5: Cost Information","Tab 5: Cost Information","Tab 5: Cost Information","Tab 5: Cost Information","Tab 5: Cost Information","Tab 5: Cost Information","Tab 5: Cost Information","Tab 5: Cost Information","Tab 5: Cost Information","Tab 5: Cost Information","Tab 5: Cost Information","Tab 5: Cost Information","Tab 5: Cost Information","Tab 5: Cost Information","Tab 5: Cost Information","Tab 5: Cost Information","Tab 5: Cost Information","Tab 5: Cost Information","Tab 5: Cost Information","Tab 5: Cost Information","Tab 5: Cost Information","Tab 5: Cost Information","Tab 5: Cost Information","Tab 5: Cost Information","Tab 5: Cost Information","Tab 5: Cost Information","Tab 5: Cost Information","Tab 5: Cost Information","Tab 5: Cost Information","Tab 5: Cost Information","Tab 5: Cost Information","Tab 5: Cost Information","Tab 5: Cost Information","Tab 5: Cost Information","Tab 5: Cost Information","Tab 5: Cost Information","Tab 5: Cost Information","Tab 5: Cost Information","Tab 5: Cost Information","Tab 5: Cost Information","Tab 5: Cost Information","Tab 5: Cost Information","Tab 5: Cost Information","Tab 5: Cost Information","Tab 5: Cost Information","Tab 5: Cost Information","Tab 5: Cost Information","Tab 5: Cost Information","Tab 5: Cost Information","Tab 5: Cost Information","Tab 5: Cost Information","Tab 5: Cost Information","Tab 5: Cost Information","Tab 5: Cost Information","Tab 6: Reclass Template","Tab 6: Reclass Template","Tab 6: Reclass Template","Tab 6: Reclass Template","Tab 6: Reclass Template","Tab 6: Reclass Template","Tab 6: Reclass Template","Tab 6: Reclass Template","Tab 6: Reclass Template","Tab 6: Reclass Template","Tab 6: Reclass Template","Tab 6: Reclass Template","Tab 6: Reclass Template","Tab 6: Reclass Template","Tab 6: Reclass Template","Tab 6: Reclass Template","Tab 6: Reclass Template","Tab 6: Reclass Template","Tab 6: Reclass Template","Tab 6: Reclass Template","Tab 6: Reclass Template","Tab 6: Reclass Template","Tab 6: Reclass Template","Tab 6: Reclass Template","Tab 6: Reclass Template","Tab 6: Reclass Template","Tab 6: Reclass Template","Tab 6: Reclass Template","Tab 6: Reclass Template","Tab 6: Reclass Template","Tab 6: Reclass Template","Tab 6: Reclass Template","Tab 6: Reclass Template","Tab 6: Reclass Template","Tab 6: Reclass Template","Tab 6: Reclass Template","Tab 6: Reclass Template","Tab 6: Reclass Template","Tab 6: Reclass Template","Tab 6: Reclass Template","Tab 6: Reclass Template","Tab 6: Reclass Template","Tab 6: Reclass Template","Tab 6: Reclass Template","Tab 6: Reclass Template","Tab 6: Reclass Template","Tab 6: Reclass Template","Tab 6: Reclass Template","Tab 6: Reclass Template","Tab 6: Reclass Template","Tab 6: Reclass Template","Tab 6: Reclass Template","Tab 6: Reclass Template","Tab 6: Reclass Template","Tab 6: Reclass Template","Tab 6: Reclass Template","Tab 6: Reclass Template","Tab 6: Reclass Template","Tab 6: Reclass Template","Tab 6: Reclass Template","Tab 6: Reclass Template","Tab 6: Reclass Template","Tab 6: Reclass Template","Tab 6: Reclass Template","Tab 6: Reclass Template","Tab 6: Reclass Template","Tab 6: Reclass Template","Tab 6: Reclass Template","Tab 6: Reclass Template","Tab 6: Reclass Template","Tab 6: Reclass Template","Tab 6: Reclass Template","Tab 6: Reclass Template","Tab 6: Reclass Template","Tab 6: Reclass Template","Tab 6: Reclass Template","Tab 6: Reclass Template","Tab 6: Reclass Template","Tab 6: Reclass Template","Tab 6: Reclass Template","Tab 6: Reclass Template","Tab 6: Reclass Template","Tab 6: Reclass Template","Tab 6: Reclass Template","Tab 6: Reclass Template","Tab 6: Reclass Template","Tab 6: Reclass Template","Tab 6: Reclass Template","Tab 6: Reclass Template","Tab 6: Reclass Template","Tab 6: Reclass Template","Tab 6: Reclass Template","Tab 6: Reclass Template","Tab 6: Reclass Template","Tab 6: Reclass Template","Tab 6: Reclass Template","Tab 6: Reclass Template","Tab 6: Reclass Template","Tab 6: Reclass Template","Tab 6: Reclass Template","Tab 6: Reclass Template","Tab 6: Reclass Template","Tab 6: Reclass Template","Tab 6: Reclass Template","Tab 6: Reclass Template","Tab 6: Reclass Template","Tab 6: Reclass Template","Tab 6: Reclass Template","Tab 6: Reclass Template","Tab 6: Reclass Template","Tab 6: Reclass Template","Tab 6: Reclass Template","Tab 6: Reclass Template","Tab 6: Reclass Template","Tab 6: Reclass Template","Tab 6: Reclass Template","Tab 6: Reclass Template","Tab 6: Reclass Template","Tab 6: Reclass Template","Tab 6: Reclass Template","Tab 6: Reclass Template","Tab 6: Reclass Template","Tab 6: Reclass Template","Tab 6: Reclass Template","Tab 6: Reclass Template","Tab 6: Reclass Template","Tab 6: Reclass Template","Tab 6: Reclass Template","Tab 6: Reclass Template","Tab 6: Reclass Template","Tab 6: Reclass Template","Tab 6: Reclass Template","Tab 6: Reclass Template","Tab 6: Reclass Template","Tab 6: Reclass Template","Tab 6: Reclass Template","Tab 6: Reclass Template","Tab 6: Reclass Template","Tab 6: Reclass Template","Tab 6: Reclass Template","Tab 6: Reclass Template","Tab 6: Reclass Template","Tab 6: Reclass Template","Tab 6: Reclass Template","Tab 6: Reclass Template","Tab 6: Reclass Template","Tab 6: Reclass Template","Tab 6: Reclass Template","Tab 6: Reclass Template","Tab 6: Reclass Template","Tab 6: Reclass Template","Tab 6: Reclass Template","Tab 6: Reclass Template","Tab 6: Reclass Template","Tab 6: Reclass Template","Tab 6: Reclass Template","Tab 6: Reclass Template","Tab 6: Reclass Template","Tab 6: Reclass Template","Tab 6: Reclass Template","Tab 6: Reclass Template","Tab 6: Reclass Template","Tab 6: Reclass Template","Tab 6: Reclass Template","Tab 6: Reclass Template","Tab 6: Reclass Template","Tab 6: Reclass Template","Tab 6: Reclass Template","Tab 6: Reclass Template","Tab 6: Reclass Template","Tab 6: Reclass Template","Tab 6: Reclass Template","Tab 6: Reclass Template","Tab 6: Reclass Template","Tab 6: Reclass Template","Tab 6: Reclass Template","Tab 6: Reclass Template","Tab 6: Reclass Template","Tab 6: Reclass Template","Tab 6: Reclass Template","Tab 6: Reclass Template","Tab 6: Reclass Template","Tab 6: Reclass Template","Tab 6: Reclass Template","Tab 6: Reclass Template","Tab 6: Reclass Template","Tab 6: Reclass Template","Tab 6: Reclass Template","Tab 6: Reclass Template","Tab 6: Reclass Template","Tab 6: Reclass Template","Tab 6: Reclass Template","Tab 6: Reclass Template","Tab 6: Reclass Template","Tab 6: Reclass Template","Tab 6: Reclass Template","Tab 6: Reclass Template","Tab 6: Reclass Template","Tab 6: Reclass Template","Tab 6: Reclass Template","Tab 6: Reclass Template","Tab 6: Reclass Template","Tab 6: Reclass Template","Tab 6: Reclass Template","Tab 6: Reclass Template","Tab 6: Reclass Template","Tab 6: Reclass Template","Tab 6: Reclass Template","Tab 6: Reclass Template","Tab 6: Reclass Template","Tab 6: Reclass Template","Tab 6: Reclass Template","Tab 6: Reclass Template","Tab 6: Reclass Template","Tab 6: Reclass Template","Tab 6: Reclass Template","Tab 6: Reclass Template","Tab 6: Reclass Template","Tab 6: Reclass Template","Tab 6: Reclass Template","Tab 6: Reclass Template","Tab 6: Reclass Template","Tab 6: Reclass Template","Tab 6: Reclass Template","Tab 6: Reclass Template","Tab 6: Reclass Template","Tab 6: Reclass Template","Tab 6: Reclass Template","Tab 6: Reclass Template","Tab 6: Reclass Template","Tab 6: Reclass Template","Tab 6: Reclass Template","Tab 6: Reclass Template","Tab 6: Reclass Template","Tab 6: Reclass Template","Tab 6: Reclass Template","Tab 6: Reclass Template","Tab 6: Reclass Template","Tab 6: Reclass Template","Tab 6: Reclass Template","Tab 6: Reclass Template","Tab 6: Reclass Template","Tab 6: Reclass Template","Tab 6: Reclass Template","Tab 6: Reclass Template","Tab 6: Reclass Template","Tab 6: Reclass Template","Tab 6: Reclass Template","Tab 6: Reclass Template","Tab 6: Reclass Template","Tab 6: Reclass Template","Tab 6: Reclass Template","Tab 6: Reclass Template","Tab 6: Reclass Template","Tab 6: Reclass Template","Tab 6: Reclass Template","Tab 6: Reclass Template","Tab 6: Reclass Template","Tab 6: Reclass Template","Tab 6: Reclass Template","Tab 6: Reclass Template","Tab 6: Reclass Template","Tab 6: Reclass Template","Tab 6: Reclass Template","Tab 6: Reclass Template","Tab 6: Reclass Template","Tab 6: Reclass Template","Tab 6: Reclass Template","Tab 6: Reclass Template","Tab 6: Reclass Template","Tab 6: Reclass Template","Tab 6: Reclass Template","Tab 6: Reclass Template","Tab 6: Reclass Template","Tab 6: Reclass Template","Tab 6: Reclass Template","Tab 6: Reclass Template","Tab 6: Reclass Template","Tab 6: Reclass Template","Tab 6: Reclass Template","Tab 6: Reclass Template","Tab 6: Reclass Template","Tab 6: Reclass Template","Tab 6: Reclass Template","Tab 6: Reclass Template","Tab 6: Reclass Template","Tab 6: Reclass Template","Tab 6: Reclass Template","Tab 6: Reclass Template","Tab 6: Reclass Template","Tab 6: Reclass Template","Tab 6: Reclass Template","Tab 6: Reclass Template","Tab 6: Reclass Template","Tab 6: Reclass Template","Tab 6: Reclass Template","Tab 6: Reclass Template","Tab 6: Reclass Template","Tab 6: Reclass Template","Tab 6: Reclass Template","Tab 6: Reclass Template","Tab 6: Reclass Template","Tab 6: Reclass Template","Tab 6: Reclass Template","Tab 6: Reclass Template","Tab 6: Reclass Template","Tab 6: Reclass Template","Tab 6: Reclass Template","Tab 6: Reclass Template","Tab 6: Reclass Template","Tab 6: Reclass Template","Tab 6: Reclass Template","Tab 6: Reclass Template","Tab 6: Reclass Template","Tab 6: Reclass Template","Tab 6: Reclass Template","Tab 6: Reclass Template","Tab 6: Reclass Template","Tab 6: Reclass Template","Tab 6: Reclass Template","Tab 6: Reclass Template","Tab 6: Reclass Template","Tab 6: Reclass Template","Tab 6: Reclass Template","Tab 6: Reclass Template","Tab 6: Reclass Template","Tab 6: Reclass Template","Tab 6: Reclass Template","Tab 6: Reclass Template","Tab 6: Reclass Template","Tab 6: Reclass Template","Tab 6: Reclass Template","Tab 6: Reclass Template","Tab 6: Reclass Template","Tab 6: Reclass Template","Tab 6: Reclass Template","Tab 6: Reclass Template","Tab 6: Reclass Template","Tab 6: Reclass Template","Tab 6: Reclass Template","Tab 6: Reclass Template","Tab 6: Reclass Template","Tab 6: Reclass Template","Tab 6: Reclass Template","Tab 6: Reclass Template","Tab 6: Reclass Template","Tab 6: Reclass Template","Tab 6: Reclass Template","Tab 6: Reclass Template","Tab 6: Reclass Template","Tab 6: Reclass Template","Tab 6: Reclass Template","Tab 7: Adjustment Template","Tab 7: Adjustment Template","Tab 7: Adjustment Template","Tab 7: Adjustment Template","Tab 7: Adjustment Template","Tab 7: Adjustment Template","Tab 7: Adjustment Template","Tab 7: Adjustment Template","Tab 7: Adjustment Template","Tab 7: Adjustment Template","Tab 7: Adjustment Template","Tab 7: Adjustment Template","Tab 7: Adjustment Template","Tab 7: Adjustment Template","Tab 7: Adjustment Template","Tab 7: Adjustment Template","Tab 7: Adjustment Template","Tab 7: Adjustment Template","Tab 7: Adjustment Template","Tab 7: Adjustment Template","Tab 7: Adjustment Template","Tab 7: Adjustment Template","Tab 7: Adjustment Template","Tab 7: Adjustment Template","Tab 7: Adjustment Template","Tab 7: Adjustment Template","Tab 7: Adjustment Template","Tab 7: Adjustment Template","Tab 7: Adjustment Template","Tab 7: Adjustment Template","Tab 7: Adjustment Template","Tab 7: Adjustment Template","Tab 7: Adjustment Template","Tab 7: Adjustment Template","Tab 7: Adjustment Template","Tab 7: Adjustment Template","Tab 7: Adjustment Template","Tab 7: Adjustment Template","Tab 7: Adjustment Template","Tab 7: Adjustment Template","Tab 7: Adjustment Template","Tab 7: Adjustment Template","Tab 7: Adjustment Template","Tab 7: Adjustment Template","Tab 7: Adjustment Template","Tab 7: Adjustment Template","Tab 7: Adjustment Template","Tab 7: Adjustment Template","Tab 7: Adjustment Template","Tab 7: Adjustment Template","Tab 7: Adjustment Template","Tab 7: Adjustment Template","Tab 7: Adjustment Template","Tab 7: Adjustment Template","Tab 7: Adjustment Template","Tab 7: Adjustment Template","Tab 7: Adjustment Template","Tab 7: Adjustment Template","Tab 7: Adjustment Template","Tab 7: Adjustment Template","Tab 7: Adjustment Template","Tab 7: Adjustment Template","Tab 7: Adjustment Template","Tab 7: Adjustment Template","Tab 7: Adjustment Template","Tab 7: Adjustment Template","Tab 7: Adjustment Template","Tab 7: Adjustment Template","Tab 7: Adjustment Template","Tab 7: Adjustment Template","Tab 7: Adjustment Template","Tab 7: Adjustment Template","Tab 7: Adjustment Template","Tab 7: Adjustment Template","Tab 7: Adjustment Template","Tab 7: Adjustment Template","Tab 7: Adjustment Template","Tab 7: Adjustment Template","Tab 7: Adjustment Template","Tab 7: Adjustment Template","Tab 7: Adjustment Template","Tab 7: Adjustment Template","Tab 7: Adjustment Template","Tab 7: Adjustment Template","Tab 7: Adjustment Template","Tab 7: Adjustment Template","Tab 7: Adjustment Template","Tab 7: Adjustment Template","Tab 7: Adjustment Template","Tab 7: Adjustment Template","Tab 7: Adjustment Template","Tab 8: Other Information","Tab 8: Other Information","Tab 8: Other Information","Tab 8: Other Information","Tab 8: Other Information","Tab 8: Other Information","Tab 8: Other Information","Tab 8: Other Information","Tab 8: Other Information","Tab 8: Other Information","Tab 8: Other Information","Cost Breakdown","Cost Breakdown","Cost Breakdown","Cost Breakdown","Cost Breakdown","Cost Breakdown","Cost Breakdown","Cost Breakdown","Cost Breakdown","Cost Breakdown","Cost Breakdown","Cost Breakdown","Cost Breakdown","Cost Breakdown","Cost Breakdown","Cost Breakdown","Cost Breakdown","Cost Breakdown","Cost Breakdown","Cost Breakdown","Cost Breakdown","Cost Breakdown","Cost Breakdown","Cost Breakdown","Cost Breakdown","Cost Breakdown","Cost Breakdown","Cost Breakdown","Cost Breakdown","Cost Breakdown","Cost Breakdown","Cost Breakdown","Cost Breakdown","Cost Breakdown","Cost Breakdown","Cost Breakdown","Cost Breakdown","Cost Breakdown","Cost Breakdown","Cost Breakdown","Cost Breakdown","Cost Breakdown","Cost Breakdown","Cost Breakdown","Cost Breakdown","Cost Breakdown","Cost Breakdown","Cost Breakdown","Cost Breakdown","Cost Breakdown","Cost Breakdown","Cost Breakdown","Cost Breakdown","Cost Breakdown","Cost Breakdown","Cost Breakdown","Cost Breakdown","Cost Breakdown","Cost Breakdown","Cost Breakdown","Cost Breakdown","Cost Breakdown","Cost Breakdown","Cost Breakdown","Cost Breakdown","Cost Breakdown","Cost Breakdown","Cost Breakdown","Cost Breakdown","Cost Breakdown","Cost Breakdown","Cost Breakdown","Cost Breakdown","Cost Breakdown","Cost Breakdown","Cost Breakdown","Cost Breakdown","Cost Breakdown","Cost Breakdown","Cost Breakdown","Cost Breakdown","Cost Breakdown","Cost Breakdown","Cost Breakdown","Cost Breakdown","Cost Breakdown","Cost Breakdown","Cost Breakdown","Cost Breakdown","Cost Breakdown","Cost Breakdown","Cost Breakdown","Cost Breakdown","Cost Breakdown","Cost Breakdown","Cost Breakdown","Cost Breakdown","Cost Breakdown","Cost Breakdown","Cost Breakdown","Cost Breakdown","Cost Breakdown","Cost Breakdown","Cost Breakdown","Cost Breakdown","Cost Breakdown","Cost Breakdown","Cost Breakdown","Cost Breakdown","Cost Breakdown","Cost Breakdown","Cost Breakdown","Cost Breakdown","Cost Breakdown","Cost Breakdown","Cost Breakdown","Cost Breakdown","Cost Breakdown","Cost Breakdown","Cost Breakdown","Cost Breakdown","Cost Breakdown","Cost Breakdown","Cost Breakdown","Cost Breakdown","Cost Breakdown","Cost Breakdown","Cost Breakdown","Cost Breakdown","Cost Breakdown","Cost Breakdown","Cost Breakdown","Cost Breakdown","Cost Breakdown","Cost Breakdown","Cost Breakdown","Cost Breakdown","Cost Breakdown","Cost Breakdown","Cost Breakdown","Cost Breakdown","Cost Breakdown","Cost Breakdown","Cost Breakdown","Cost Breakdown","Cost Breakdown","Cost Breakdown","Cost Breakdown","Cost Breakdown","Cost Breakdown","Cost Breakdown","Cost Breakdown","Cost Breakdown","Cost Breakdown","Cost Breakdown","Cost Breakdown","Cost Breakdown","Cost Breakdown","Cost Breakdown","Cost Breakdown","Cost Breakdown","Cost Breakdown","Cost Breakdown","Cost Breakdown","Cost Breakdown","Cost Breakdown","Cost Breakdown","Cost Breakdown","Cost Breakdown","Cost Breakdown","Cost Breakdown","Cost Breakdown","Cost Breakdown","Cost Breakdown","Cost Breakdown","Cost Breakdown","Cost Breakdown","Cost Breakdown","Cost Breakdown","Cost Breakdown","Cost Breakdown","Cost Breakdown","Cost Breakdown","Cost Breakdown","Cost Breakdown","Cost Breakdown","Cost Breakdown","Cost Breakdown","Cost Breakdown","Cost Breakdown","Cost Breakdown","Cost Breakdown","Cost Breakdown","Cost Breakdown","Cost Breakdown","Cost Breakdown","Cost Breakdown","Cost Breakdown","Cost Breakdown","Cost Breakdown","Cost Breakdown","Cost Breakdown","Cost Breakdown","Cost Breakdown","Cost Breakdown","Cost Breakdown","Cost Breakdown","Cost Breakdown","Cost Breakdown","Cost Breakdown","Cost Breakdown","Cost Breakdown","Cost Breakdown","Cost Breakdown","Cost Breakdown","Cost Breakdown","Cost Breakdown","Cost Breakdown","Cost Breakdown","Cost Breakdown","Cost Breakdown","Cost Breakdown","Cost Breakdown","Cost Breakdown","Cost Breakdown","Cost Breakdown","Cost Breakdown","Cost Breakdown","Cost Breakdown","Cost Breakdown","Cost Breakdown","Form 1 - Direct Medical Cost","Form 1 - Direct Medical Cost","Form 1 - Direct Medical Cost","Form 1 - Direct Medical Cost","Form 1 - Direct Medical Cost","Form 1 - Direct Medical Cost","Form 1 - Direct Medical Cost","Form 1 - Direct Medical Cost","Form 1 - Direct Medical Cost","Form 1 - Direct Medical Cost","Form 1 - Direct Medical Cost","Form 1 - Direct Medical Cost","Form 1 - Direct Medical Cost","Form 1 - Direct Medical Cost","Form 1 - Direct Medical Cost","Form 1 - Direct Medical Cost","Form 1 - Direct Medical Cost","Form 1 - Direct Medical Cost","Form 1 - Direct Medical Cost","Form 1 - Direct Medical Cost","Form 1 - Direct Medical Cost","Form 1 - Direct Medical Cost","Form 1 - Direct Medical Cost","Form 1 - Direct Medical Cost","Form 1 - Direct Medical Cost","Form 1 - Direct Medical Cost","Form 1 - Direct Medical Cost","Form 1 - Direct Medical Cost","Form 1 - Direct Medical Cost","Form 1 - Direct Medical Cost","Form 1 - Direct Medical Cost","Form 1 - Direct Medical Cost","Form 1 - Direct Medical Cost","Form 1 - Direct Medical Cost","Form 1 - Direct Medical Cost","Form 1 - Direct Medical Cost","Form 1 - Direct Medical Cost","Form 1 - Direct Medical Cost","Form 1 - Direct Medical Cost","Form 1 - Direct Medical Cost","Form 1 - Direct Medical Cost","Form 1 - Direct Medical Cost","Form 1 - Direct Medical Cost","Form 1 - Direct Medical Cost","Form 1 - Direct Medical Cost","Form 1 - Direct Medical Cost","Form 1 - Direct Medical Cost","Form 1 - Direct Medical Cost","Form 1 - Direct Medical Cost","Form 1 - Direct Medical Cost","Form 1 - Direct Medical Cost","Form 1 - Direct Medical Cost","Form 1 - Direct Medical Cost","Form 1 - Direct Medical Cost","Form 1 - Direct Medical Cost","Form 1 - Direct Medical Cost","Form 1 - Direct Medical Cost","Form 1 - Direct Medical Cost","Form 1 - Direct Medical Cost","Form 1 - Direct Medical Cost","Form 1 - Direct Medical Cost","Form 1 - Direct Medical Cost","Form 1 - Direct Medical Cost","Form 1 - Direct Medical Cost","Form 1 - Direct Medical Cost","Form 1 - Direct Medical Cost","Form 1 - Direct Medical Cost","Form 1 - Direct Medical Cost","Form 1 - Direct Medical Cost","Form 1 - Direct Medical Cost","Form 1 - Direct Medical Cost","Form 1 - Direct Medical Cost","Form 1 - Direct Medical Cost","Form 1 - Direct Medical Cost","Form 1 - Direct Medical Cost","Form 1 - Direct Medical Cost","Form 1 - Direct Medical Cost","Form 1 - Direct Medical Cost","Form 1 - Direct Medical Cost","Form 1 - Direct Medical Cost","Form 1 - Direct Medical Cost","Form 1 - Direct Medical Cost","Form 1 - Direct Medical Cost","Form 1 - Direct Medical Cost","Form 1 - Direct Medical Cost","Form 1 - Direct Medical Cost","Form 1 - Direct Medical Cost","Form 1 - Direct Medical Cost","Form 1 - Direct Medical Cost","Form 1 - Direct Medical Cost","Form 1 - Direct Medical Cost","Form 1 - Direct Medical Cost","Form 1 - Direct Medical Cost","Form 1 - Direct Medical Cost","Form 1 - Direct Medical Cost","Form 1 - Direct Medical Cost","Form 1 - Direct Medical Cost","Form 1 - Direct Medical Cost","Form 1 - Direct Medical Cost","Form 1 - Direct Medical Cost","Form 1 - Direct Medical Cost","Form 1 - Direct Medical Cost","Form 1 - Direct Medical Cost","Form 1 - Direct Medical Cost","Form 1 - Direct Medical Cost","Form 1 - Direct Medical Cost","Form 1 - Direct Medical Cost","Form 1 - Direct Medical Cost","Form 1 - Direct Medical Cost","Form 1 - Direct Medical Cost","Form 1 - Direct Medical Cost","Form 1 - Direct Medical Cost","Form 1 - Direct Medical Cost","Form 1 - Direct Medical Cost","Form 1 - Direct Medical Cost","Form 1 - Direct Medical Cost","Form 1 - Direct Medical Cost","Form 1 - Direct Medical Cost","Form 1 - Direct Medical Cost","Form 1 - Direct Medical Cost","Form 1 - Direct Medical Cost","Form 1 - Direct Medical Cost","Form 1 - Direct Medical Cost","Form 1 - Direct Medical Cost","Form 1 - Direct Medical Cost","Form 1 - Direct Medical Cost","Form 1 - Direct Medical Cost","Form 1 - Direct Medical Cost","Form 1 - Direct Medical Cost","Form 1 - Direct Medical Cost","Form 1 - Direct Medical Cost","Form 1 - Direct Medical Cost","Form 1 - Direct Medical Cost","Form 1 - Direct Medical Cost","Form 1 - Direct Medical Cost","Form 1 - Direct Medical Cost","Form 1 - Direct Medical Cost","Form 1 - Direct Medical Cost","Form 1 - Direct Medical Cost","Form 1 - Direct Medical Cost","Form 1 - Direct Medical Cost","Form 1 - Direct Medical Cost","Form 1 - Direct Medical Cost","Form 1 - Direct Medical Cost","Form 1 - Direct Medical Cost","Form 1 - Direct Medical Cost","Form 1 - Direct Medical Cost","Form 1 - Direct Medical Cost","Form 1 - Direct Medical Cost","Form 1 - Direct Medical Cost","Form 1 - Direct Medical Cost","Form 1 - Direct Medical Cost","Form 1 - Direct Medical Cost","Form 1 - Direct Medical Cost","Form 1 - Direct Medical Cost","Form 1 - Direct Medical Cost","Form 1 - Direct Medical Cost","Form 1 - Direct Medical Cost","Form 1 - Direct Medical Cost","Form 1 - Direct Medical Cost","Form 1 - Direct Medical Cost","Form 1 - Direct Medical Cost","Form 1 - Direct Medical Cost","Form 1 - Direct Medical Cost","Form 1 - Direct Medical Cost","Form 1 - Direct Medical Cost","Form 1 - Direct Medical Cost","Form 1 - Direct Medical Cost","Form 1 - Direct Medical Cost","Form 1 - Direct Medical Cost","Form 1 - Direct Medical Cost","Form 1 - Direct Medical Cost","Form 1 - Direct Medical Cost","Form 1 - Direct Medical Cost","Form 1 - Direct Medical Cost","Form 1 - Direct Medical Cost","Form 1 - Direct Medical Cost","Form 1 - Direct Medical Cost","Form 1 - Direct Medical Cost","Form 1 - Direct Medical Cost","Form 1 - Direct Medical Cost","Form 1 - Direct Medical Cost","Form 1 - Direct Medical Cost","Form 1 - Direct Medical Cost","Form 1 - Direct Medical Cost","Form 1 - Direct Medical Cost","Form 1 - Direct Medical Cost","Form 1 - Direct Medical Cost","Form 1 - Direct Medical Cost","Form 1 - Direct Medical Cost","Form 1 - Direct Medical Cost","Form 1 - Direct Medical Cost","Form 1 - Direct Medical Cost","Form 1 - Direct Medical Cost","Form 1 - Direct Medical Cost","Form 1 - Direct Medical Cost","Form 1 - Direct Medical Cost","Form 1 - Direct Medical Cost","Form 1 - Direct Medical Cost","Form 1 - Direct Medical Cost","Form 1 - Direct Medical Cost","Form 1 - Direct Medical Cost","Form 1 - Direct Medical Cost","Form 1 - Direct Medical Cost","Form 1 - Direct Medical Cost","Form 1 - Direct Medical Cost","Form 1 - Direct Medical Cost","Form 1 - Direct Medical Cost","Form 1 - Direct Medical Cost","Form 1 - Direct Medical Cost","Form 1 - Direct Medical Cost","Form 1 - Direct Medical Cost","Form 1 - Direct Medical Cost","Form 1 - Direct Medical Cost","Form 1 - Direct Medical Cost","Form 1 - Direct Medical Cost","Form 1 - Direct Medical Cost","Form 1 - Direct Medical Cost","Form 1 - Direct Medical Cost","Form 1 - Direct Medical Cost","Form 1 - Direct Medical Cost","Form 1 - Direct Medical Cost","Form 1 - Direct Medical Cost","Form 1 - Direct Medical Cost","Form 1 - Direct Medical Cost","Form 1 - Direct Medical Cost","Form 1 - Direct Medical Cost","Form 1 - Direct Medical Cost","Form 1 - Direct Medical Cost","Form 1 - Direct Medical Cost","Form 1 - Direct Medical Cost","Form 1 - Direct Medical Cost","Form 1 - Direct Medical Cost","Form 1 - Direct Medical Cost","Form 1 - Direct Medical Cost","Form 1 - Direct Medical Cost","Form 1 - Direct Medical Cost","Form 1 - Direct Medical Cost","Form 1 - Direct Medical Cost","Form 1 - Direct Medical Cost","Form 1 - Direct Medical Cost","Form 1 - Direct Medical Cost","Form 1 - Direct Medical Cost","Form 1 - Direct Medical Cost","Form 1 - Direct Medical Cost","Form 1 - Direct Medical Cost","Form 1 - Direct Medical Cost","Form 1 - Direct Medical Cost","Form 1 - Direct Medical Cost","Form 1 - Direct Medical Cost","Form 1 - Direct Medical Cost","Form 1 - Direct Medical Cost","Form 1 - Direct Medical Cost","Form 1 - Direct Medical Cost","Form 1 - Direct Medical Cost","Form 2 - Direct Dental Cost","Form 2 - Direct Dental Cost","Form 2 - Direct Dental Cost","Form 2 - Direct Dental Cost","Form 2 - Direct Dental Cost","Form 2 - Direct Dental Cost","Form 2 - Direct Dental Cost","Form 2 - Direct Dental Cost","Form 2 - Direct Dental Cost","Form 2 - Direct Dental Cost","Form 2 - Direct Dental Cost","Form 2 - Direct Dental Cost","Form 2 - Direct Dental Cost","Form 2 - Direct Dental Cost","Form 2 - Direct Dental Cost","Form 2 - Direct Dental Cost","Form 2 - Direct Dental Cost","Form 2 - Direct Dental Cost","Form 2 - Direct Dental Cost","Form 2 - Direct Dental Cost","Form 2 - Direct Dental Cost","Form 2 - Direct Dental Cost","Form 2 - Direct Dental Cost","Form 2 - Direct Dental Cost","Form 2 - Direct Dental Cost","Form 2 - Direct Dental Cost","Form 2 - Direct Dental Cost","Form 2 - Direct Dental Cost","Form 2 - Direct Dental Cost","Form 2 - Direct Dental Cost","Form 2 - Direct Dental Cost","Form 2 - Direct Dental Cost","Form 2 - Direct Dental Cost","Form 2 - Direct Dental Cost","Form 2 - Direct Dental Cost","Form 2 - Direct Dental Cost","Form 2 - Direct Dental Cost","Form 2 - Direct Dental Cost","Form 2 - Direct Dental Cost","Form 2 - Direct Dental Cost","Form 2 - Direct Dental Cost","Form 2 - Direct Dental Cost","Form 2 - Direct Dental Cost","Form 2 - Direct Dental Cost","Form 2 - Direct Dental Cost","Form 2 - Direct Dental Cost","Form 2 - Direct Dental Cost","Form 2 - Direct Dental Cost","Form 2 - Direct Dental Cost","Form 2 - Direct Dental Cost","Form 2 - Direct Dental Cost","Form 2 - Direct Dental Cost","Form 2 - Direct Dental Cost","Form 2 - Direct Dental Cost","Form 2 - Direct Dental Cost","Form 2 - Direct Dental Cost","Form 2 - Direct Dental Cost","Form 2 - Direct Dental Cost","Form 2 - Direct Dental Cost","Form 2 - Direct Dental Cost","Form 2 - Direct Dental Cost","Form 2 - Direct Dental Cost","Form 2 - Direct Dental Cost","Form 2 - Direct Dental Cost","Form 2 - Direct Dental Cost","Form 2 - Direct Dental Cost","Form 2 - Direct Dental Cost","Form 2 - Direct Dental Cost","Form 2 - Direct Dental Cost","Form 2 - Direct Dental Cost","Form 2 - Direct Dental Cost","Form 2 - Direct Dental Cost","Form 2 - Direct Dental Cost","Form 2 - Direct Dental Cost","Form 2 - Direct Dental Cost","Form 2 - Direct Dental Cost","Form 2 - Direct Dental Cost","Form 2 - Direct Dental Cost","Form 2 - Direct Dental Cost","Form 2 - Direct Dental Cost","Form 2 - Direct Dental Cost","Form 2 - Direct Dental Cost","Form 2 - Direct Dental Cost","Form 2 - Direct Dental Cost","Form 2 - Direct Dental Cost","Form 2 - Direct Dental Cost","Form 2 - Direct Dental Cost","Form 2 - Direct Dental Cost","Form 2 - Direct Dental Cost","Form 2 - Direct Dental Cost","Form 2 - Direct Dental Cost","Form 2 - Direct Dental Cost","Form 2 - Direct Dental Cost","Form 2 - Direct Dental Cost","Form 2 - Direct Dental Cost","Form 2 - Direct Dental Cost","Form 2 - Direct Dental Cost","Form 2 - Direct Dental Cost","Form 2 - Direct Dental Cost","Form 2 - Direct Dental Cost","Form 2 - Direct Dental Cost","Form 2 - Direct Dental Cost","Form 2 - Direct Dental Cost","Form 2 - Direct Dental Cost","Form 2 - Direct Dental Cost","Form 2 - Direct Dental Cost","Form 2 - Direct Dental Cost","Form 2 - Direct Dental Cost","Form 2 - Direct Dental Cost","Form 2 - Direct Dental Cost","Form 2 - Direct Dental Cost","Form 2 - Direct Dental Cost","Form 2 - Direct Dental Cost","Form 2 - Direct Dental Cost","Form 2 - Direct Dental Cost","Form 2 - Direct Dental Cost","Form 2 - Direct Dental Cost","Form 2 - Direct Dental Cost","Form 2 - Direct Dental Cost","Form 2 - Direct Dental Cost","Form 2 - Direct Dental Cost","Form 2 - Direct Dental Cost","Form 2 - Direct Dental Cost","Form 2 - Direct Dental Cost","Form 2 - Direct Dental Cost","Form 2 - Direct Dental Cost","Form 2 - Direct Dental Cost","Form 2 - Direct Dental Cost","Form 2 - Direct Dental Cost","Form 2 - Direct Dental Cost","Form 2 - Direct Dental Cost","Form 2 - Direct Dental Cost","Form 2 - Direct Dental Cost","Form 2 - Direct Dental Cost","Form 2 - Direct Dental Cost","Form 2 - Direct Dental Cost","Form 2 - Direct Dental Cost","Form 2 - Direct Dental Cost","Form 2 - Direct Dental Cost","Form 2 - Direct Dental Cost","Form 2 - Direct Dental Cost","Form 2 - Direct Dental Cost","Form 2 - Direct Dental Cost","Form 2 - Direct Dental Cost","Form 2 - Direct Dental Cost","Form 2 - Direct Dental Cost","Form 2 - Direct Dental Cost","Form 2 - Direct Dental Cost","Form 2 - Direct Dental Cost","Form 2 - Direct Dental Cost","Form 2 - Direct Dental Cost","Form 2 - Direct Dental Cost","Form 2 - Direct Dental Cost","Form 2 - Direct Dental Cost","Form 2 - Direct Dental Cost","Form 2 - Direct Dental Cost","Form 2 - Direct Dental Cost","Form 2 - Direct Dental Cost","Form 2 - Direct Dental Cost","Form 2 - Direct Dental Cost","Form 2 - Direct Dental Cost","Form 2 - Direct Dental Cost","Form 2 - Direct Dental Cost","Form 2 - Direct Dental Cost","Form 2 - Direct Dental Cost","Form 2 - Direct Dental Cost","Form 2 - Direct Dental Cost","Form 2 - Direct Dental Cost","Form 2 - Direct Dental Cost","Form 2 - Direct Dental Cost","Form 2 - Direct Dental Cost","Form 2 - Direct Dental Cost","Form 2 - Direct Dental Cost","Form 2 - Direct Dental Cost","Form 2 - Direct Dental Cost","Form 2 - Direct Dental Cost","Form 2 - Direct Dental Cost","Form 2 - Direct Dental Cost","Form 2 - Direct Dental Cost","Form 2 - Direct Dental Cost","Form 2 - Direct Dental Cost","Form 2 - Direct Dental Cost","Form 2 - Direct Dental Cost","Form 3 - Direct BH Cost","Form 3 - Direct BH Cost","Form 3 - Direct BH Cost","Form 3 - Direct BH Cost","Form 3 - Direct BH Cost","Form 3 - Direct BH Cost","Form 3 - Direct BH Cost","Form 3 - Direct BH Cost","Form 3 - Direct BH Cost","Form 3 - Direct BH Cost","Form 3 - Direct BH Cost","Form 3 - Direct BH Cost","Form 3 - Direct BH Cost","Form 3 - Direct BH Cost","Form 3 - Direct BH Cost","Form 3 - Direct BH Cost","Form 3 - Direct BH Cost","Form 3 - Direct BH Cost","Form 3 - Direct BH Cost","Form 3 - Direct BH Cost","Form 3 - Direct BH Cost","Form 3 - Direct BH Cost","Form 3 - Direct BH Cost","Form 3 - Direct BH Cost","Form 3 - Direct BH Cost","Form 3 - Direct BH Cost","Form 3 - Direct BH Cost","Form 3 - Direct BH Cost","Form 3 - Direct BH Cost","Form 3 - Direct BH Cost","Form 3 - Direct BH Cost","Form 3 - Direct BH Cost","Form 3 - Direct BH Cost","Form 3 - Direct BH Cost","Form 3 - Direct BH Cost","Form 3 - Direct BH Cost","Form 3 - Direct BH Cost","Form 3 - Direct BH Cost","Form 3 - Direct BH Cost","Form 3 - Direct BH Cost","Form 3 - Direct BH Cost","Form 3 - Direct BH Cost","Form 3 - Direct BH Cost","Form 3 - Direct BH Cost","Form 3 - Direct BH Cost","Form 3 - Direct BH Cost","Form 3 - Direct BH Cost","Form 3 - Direct BH Cost","Form 3 - Direct BH Cost","Form 3 - Direct BH Cost","Form 3 - Direct BH Cost","Form 3 - Direct BH Cost","Form 3 - Direct BH Cost","Form 3 - Direct BH Cost","Form 3 - Direct BH Cost","Form 3 - Direct BH Cost","Form 3 - Direct BH Cost","Form 3 - Direct BH Cost","Form 3 - Direct BH Cost","Form 3 - Direct BH Cost","Form 3 - Direct BH Cost","Form 3 - Direct BH Cost","Form 3 - Direct BH Cost","Form 3 - Direct BH Cost","Form 3 - Direct BH Cost","Form 3 - Direct BH Cost","Form 3 - Direct BH Cost","Form 3 - Direct BH Cost","Form 3 - Direct BH Cost","Form 3 - Direct BH Cost","Form 3 - Direct BH Cost","Form 3 - Direct BH Cost","Form 3 - Direct BH Cost","Form 3 - Direct BH Cost","Form 3 - Direct BH Cost","Form 3 - Direct BH Cost","Form 3 - Direct BH Cost","Form 3 - Direct BH Cost","Form 3 - Direct BH Cost","Form 3 - Direct BH Cost","Form 3 - Direct BH Cost","Form 3 - Direct BH Cost","Form 3 - Direct BH Cost","Form 3 - Direct BH Cost","Form 3 - Direct BH Cost","Form 3 - Direct BH Cost","Form 3 - Direct BH Cost","Form 3 - Direct BH Cost","Form 3 - Direct BH Cost","Form 3 - Direct BH Cost","Form 3 - Direct BH Cost","Form 3 - Direct BH Cost","Form 3 - Direct BH Cost","Form 3 - Direct BH Cost","Form 3 - Direct BH Cost","Form 3 - Direct BH Cost","Form 3 - Direct BH Cost","Form 3 - Direct BH Cost","Form 3 - Direct BH Cost","Form 3 - Direct BH Cost","Form 3 - Direct BH Cost","Form 3 - Direct BH Cost","Form 3 - Direct BH Cost","Form 3 - Direct BH Cost","Form 3 - Direct BH Cost","Form 3 - Direct BH Cost","Form 3 - Direct BH Cost","Form 3 - Direct BH Cost","Form 3 - Direct BH Cost","Form 3 - Direct BH Cost","Form 3 - Direct BH Cost","Form 3 - Direct BH Cost","Form 3 - Direct BH Cost","Form 3 - Direct BH Cost","Form 3 - Direct BH Cost","Form 3 - Direct BH Cost","Form 3 - Direct BH Cost","Form 3 - Direct BH Cost","Form 3 - Direct BH Cost","Form 3 - Direct BH Cost","Form 3 - Direct BH Cost","Form 3 - Direct BH Cost","Form 3 - Direct BH Cost","Form 3 - Direct BH Cost","Form 3 - Direct BH Cost","Form 3 - Direct BH Cost","Form 3 - Direct BH Cost","Form 3 - Direct BH Cost","Form 3 - Direct BH Cost","Form 3 - Direct BH Cost","Form 3 - Direct BH Cost","Form 3 - Direct BH Cost","Form 3 - Direct BH Cost","Form 3 - Direct BH Cost","Form 3 - Direct BH Cost","Form 3 - Direct BH Cost","Form 3 - Direct BH Cost","Form 3 - Direct BH Cost","Form 3 - Direct BH Cost","Form 3 - Direct BH Cost","Form 3 - Direct BH Cost","Form 3 - Direct BH Cost","Form 3 - Direct BH Cost","Form 3 - Direct BH Cost","Form 3 - Direct BH Cost","Form 3 - Direct BH Cost","Form 3 - Direct BH Cost","Form 3 - Direct BH Cost","Form 3 - Direct BH Cost","Form 3 - Direct BH Cost","Form 3 - Direct BH Cost","Form 3 - Direct BH Cost","Form 3 - Direct BH Cost","Form 3 - Direct BH Cost","Form 3 - Direct BH Cost","Form 3 - Direct BH Cost","Form 3 - Direct BH Cost","Form 3 - Direct BH Cost","Form 3 - Direct BH Cost","Form 3 - Direct BH Cost","Form 3 - Direct BH Cost","Form 3 - Direct BH Cost","Form 3 - Direct BH Cost","Form 3 - Direct BH Cost","Form 3 - Direct BH Cost","Form 3 - Direct BH Cost","Form 3 - Direct BH Cost","Form 3 - Direct BH Cost","Form 3 - Direct BH Cost","Form 3 - Direct BH Cost","Form 3 - Direct BH Cost","Form 3 - Direct BH Cost","Form 3 - Direct BH Cost","Form 3 - Direct BH Cost","Form 3 - Direct BH Cost","Form 3 - Direct BH Cost","Form 3 - Direct BH Cost","Form 3 - Direct BH Cost","Form 3 - Direct BH Cost","Form 3 - Direct BH Cost","Form 3 - Direct BH Cost","Form 3 - Direct BH Cost","Form 3 - Direct BH Cost","Form 3 - Direct BH Cost","Form 3 - Direct BH Cost","Form 3 - Direct BH Cost","Form 3 - Direct BH Cost","Form 3 - Direct BH Cost","Form 3 - Direct BH Cost","Form 3 - Direct BH Cost","Form 3 - Direct BH Cost","Form 3 - Direct BH Cost","Form 3 - Direct BH Cost","Form 3 - Direct BH Cost","Form 3 - Direct BH Cost","Form 3 - Direct BH Cost","Form 3 - Direct BH Cost","Form 3 - Direct BH Cost","Form 3 - Direct BH Cost","Form 3 - Direct BH Cost","Form 3 - Direct BH Cost","Form 3 - Direct BH Cost","Form 3 - Direct BH Cost","Form 3 - Direct BH Cost","Form 3 - Direct BH Cost","Form 3 - Direct BH Cost","Form 3 - Direct BH Cost","Form 3 - Direct BH Cost","Form 3 - Direct BH Cost","Form 3 - Direct BH Cost","Form 3 - Direct BH Cost","Form 3 - Direct BH Cost","Form 3 - Direct BH Cost","Form 3 - Direct BH Cost","Form 3 - Direct BH Cost","Form 3 - Direct BH Cost","Form 3 - Direct BH Cost","Form 3 - Direct BH Cost","Form 3 - Direct BH Cost","Form 3 - Direct BH Cost","Form 3 - Direct BH Cost","Form 3 - Direct BH Cost","Form 3 - Direct BH Cost","Form 3 - Direct BH Cost","Form 3 - Direct BH Cost","Form 3 - Direct BH Cost","Form 3 - Direct BH Cost","Form 3 - Direct BH Cost","Form 3 - Direct BH Cost","Form 3 - Direct BH Cost","Form 3 - Direct BH Cost","Form 3 - Direct BH Cost","Form 3 - Direct BH Cost","Form 3 - Direct BH Cost","Form 3 - Direct BH Cost","Form 3 - Direct BH Cost","Form 3 - Direct BH Cost","Form 3 - Direct BH Cost","Form 3 - Direct BH Cost","Form 3 - Direct BH Cost","Form 3 - Direct BH Cost","Form 3 - Direct BH Cost","Form 3 - Direct BH Cost","Form 3 - Direct BH Cost","Form 3 - Direct BH Cost","Form 3 - Direct BH Cost","Form 3 - Direct BH Cost","Form 3 - Direct BH Cost","Form 3 - Direct BH Cost","Form 3 - Direct BH Cost","Form 3 - Direct BH Cost","Form 3 - Direct BH Cost","Form 3 - Direct BH Cost","Form 3 - Direct BH Cost","Form 3 - Direct BH Cost","Form 3 - Direct BH Cost","Form 3 - Direct BH Cost","Form 3 - Direct BH Cost","Form 3 - Direct BH Cost","Form 3 - Direct BH Cost","Form 3 - Direct BH Cost","Form 3 - Direct BH Cost","Form 3 - Direct BH Cost","Form 3 - Direct BH Cost","Form 3 - Direct BH Cost","Form 3 - Direct BH Cost","Form 3 - Direct BH Cost","Form 3 - Direct BH Cost","Form 3 - Direct BH Cost","Form 3 - Direct BH Cost","Form 3 - Direct BH Cost","Form 3 - Direct BH Cost","Form 3 - Direct BH Cost","Form 3 - Direct BH Cost","Form 3 - Direct BH Cost","Form 3 - Direct BH Cost","Form 3 - Direct BH Cost","Form 3 - Direct BH Cost","Form 3 - Direct BH Cost","Form 3 - Direct BH Cost","Form 3 - Direct BH Cost","Form 3 - Direct BH Cost","Form 3 - Direct BH Cost","Form 3 - Direct BH Cost","Form 3 - Direct BH Cost","Form 3 - Direct BH Cost","Form 3 - Direct BH Cost","Form 3 - Direct BH Cost","Form 3 - Direct BH Cost","Form 3 - Direct BH Cost","Form 3 - Direct BH Cost","Form 3 - Direct BH Cost","Form 3 - Direct BH Cost","Form 3 - Direct BH Cost","Form 3 - Direct BH Cost","Form 3 - Direct BH Cost","Form 3 - Direct BH Cost","Form 3 - Direct BH Cost","Form 3 - Direct BH Cost","Form 3 - Direct BH Cost","Form 3 - Direct BH Cost","Form 3 - Direct BH Cost","Form 3 - Direct BH Cost","Form 3 - Direct BH Cost","Form 3 - Direct BH Cost","Form 3 - Direct BH Cost","Form 3 - Direct BH Cost","Form 3 - Direct BH Cost","Form 3 - Direct BH Cost","Form 3 - Direct BH Cost","Form 3 - Direct BH Cost","Form 3 - Direct BH Cost","Form 3 - Direct BH Cost","Form 3 - Direct BH Cost","Form 3 - Direct BH Cost","Form 3 - Direct BH Cost","Form 3 - Direct BH Cost","Form 3 - Direct BH Cost","Form 3 - Direct BH Cost","Form 3 - Direct BH Cost","Form 3 - Direct BH Cost","Form 3 - Direct BH Cost","Form 3 - Direct BH Cost","Form 3 - Direct BH Cost","Form 3 - Direct BH Cost","Form 3 - Direct BH Cost","Form 3 - Direct BH Cost","Form 3 - Direct BH Cost","Form 3 - Direct BH Cost","Form 3 - Direct BH Cost","Form 3 - Direct BH Cost","Form 3 - Direct BH Cost","Form 3 - Direct BH Cost","Form 3 - Direct BH Cost","Form 3 - Direct BH Cost","Form 3 - Direct BH Cost","Form 3 - Direct BH Cost","Form 3 - Direct BH Cost","Form 3 - Direct BH Cost","Form 3 - Direct BH Cost","Form 3 - Direct BH Cost","Form 3 - Direct BH Cost","Form 3 - Direct BH Cost","Form 3 - Direct BH Cost","Form 3 - Direct BH Cost","Form 3 - Direct BH Cost","Form 3 - Direct BH Cost","Form 3 - Direct BH Cost","Form 3 - Direct BH Cost","Form 3 - Direct BH Cost","Form 3 - Direct BH Cost","Form 3 - Direct BH Cost","Form 3 - Direct BH Cost","Form 3 - Direct BH Cost","Form 4 - NonAllowable","Form 4 - NonAllowable","Form 4 - NonAllowable","Form 4 - NonAllowable","Form 4 - NonAllowable","Form 4 - NonAllowable","Form 4 - NonAllowable","Form 4 - NonAllowable","Form 4 - NonAllowable","Form 4 - NonAllowable","Form 4 - NonAllowable","Form 4 - NonAllowable","Form 4 - NonAllowable","Form 4 - NonAllowable","Form 4 - NonAllowable","Form 4 - NonAllowable","Form 4 - NonAllowable","Form 4 - NonAllowable","Form 4 - NonAllowable","Form 4 - NonAllowable","Form 4 - NonAllowable","Form 4 - NonAllowable","Form 4 - NonAllowable","Form 4 - NonAllowable","Form 4 - NonAllowable","Form 4 - NonAllowable","Form 4 - NonAllowable","Form 4 - NonAllowable","Form 4 - NonAllowable","Form 4 - NonAllowable","Form 4 - NonAllowable","Form 4 - NonAllowable","Form 4 - NonAllowable","Form 4 - NonAllowable","Form 4 - NonAllowable","Form 4 - NonAllowable","Form 4 - NonAllowable","Form 4 - NonAllowable","Form 4 - NonAllowable","Form 4 - NonAllowable","Form 4 - NonAllowable","Form 4 - NonAllowable","Form 4 - NonAllowable","Form 4 - NonAllowable","Form 4 - NonAllowable","Form 4 - NonAllowable","Form 4 - NonAllowable","Form 4 - NonAllowable","Form 4 - NonAllowable","Form 4 - NonAllowable","Form 4 - NonAllowable","Form 4 - NonAllowable","Form 4 - NonAllowable","Form 4 - NonAllowable","Form 4 - NonAllowable","Form 4 - NonAllowable","Form 4 - NonAllowable","Form 4 - NonAllowable","Form 4 - NonAllowable","Form 4 - NonAllowable","Form 4 - NonAllowable","Form 4 - NonAllowable","Form 4 - NonAllowable","Form 4 - NonAllowable","Form 4 - NonAllowable","Form 4 - NonAllowable","Form 4 - NonAllowable","Form 4 - NonAllowable","Form 4 - NonAllowable","Form 4 - NonAllowable","Form 4 - NonAllowable","Form 4 - NonAllowable","Form 4 - NonAllowable","Form 4 - NonAllowable","Form 4 - NonAllowable","Form 4 - NonAllowable","Form 4 - NonAllowable","Form 4 - NonAllowable","Form 4 - NonAllowable","Form 4 - NonAllowable","Form 4 - NonAllowable","Form 4 - NonAllowable","Form 4 - NonAllowable","Form 4 - NonAllowable","Form 4 - NonAllowable","Form 4 - NonAllowable","Form 4 - NonAllowable","Form 4 - NonAllowable","Form 4 - NonAllowable","Form 4 - NonAllowable","Form 4 - NonAllowable","Form 4 - NonAllowable","Form 4 - NonAllowable","Form 4 - NonAllowable","Form 4 - NonAllowable","Form 4 - NonAllowable","Form 4 - NonAllowable","Form 4 - NonAllowable","Form 4 - NonAllowable","Form 4 - NonAllowable","Form 4 - NonAllowable","Form 4 - NonAllowable","Form 4 - NonAllowable","Form 4 - NonAllowable","Form 4 - NonAllowable","Form 4 - NonAllowable","Form 4 - NonAllowable","Form 4 - NonAllowable","Form 4 - NonAllowable","Form 4 - NonAllowable","Form 4 - NonAllowable","Form 4 - NonAllowable","Form 4 - NonAllowable","Form 4 - NonAllowable","Form 4 - NonAllowable","Form 4 - NonAllowable","Form 4 - NonAllowable","Form 4 - NonAllowable","Form 4 - NonAllowable","Form 4 - NonAllowable","Form 4 - NonAllowable","Form 4 - NonAllowable","Form 4 - NonAllowable","Form 4 - NonAllowable","Form 4 - NonAllowable","Form 4 - NonAllowable","Form 4 - NonAllowable","Form 4 - NonAllowable","Form 4 - NonAllowable","Form 4 - NonAllowable","Form 4 - NonAllowable","Form 4 - NonAllowable","Form 4 - NonAllowable","Form 4 - NonAllowable","Form 4 - NonAllowable","Form 4 - NonAllowable","Form 4 - NonAllowable","Form 4 - NonAllowable","Form 4 - NonAllowable","Form 4 - NonAllowable","Form 4 - NonAllowable","Form 4 - NonAllowable","Form 4 - NonAllowable","Form 4 - NonAllowable","Form 4 - NonAllowable","Form 4 - NonAllowable","Form 4 - NonAllowable","Form 4 - NonAllowable","Form 4 - NonAllowable","Form 4 - NonAllowable","Form 4 - NonAllowable","Form 4 - NonAllowable","Form 4 - NonAllowable","Form 4 - NonAllowable","Form 4 - NonAllowable","Form 4 - NonAllowable","Form 4 - NonAllowable","Form 4 - NonAllowable","Form 4 - NonAllowable","Form 4 - NonAllowable","Form 4 - NonAllowable","Form 4 - NonAllowable","Form 5 - Overhead & Enabling","Form 5 - Overhead & Enabling","Form 5 - Overhead & Enabling","Form 5 - Overhead & Enabling","Form 5 - Overhead & Enabling","Form 5 - Overhead & Enabling","Form 5 - Overhead & Enabling","Form 5 - Overhead & Enabling","Form 5 - Overhead & Enabling","Form 5 - Overhead & Enabling","Form 5 - Overhead & Enabling","Form 5 - Overhead & Enabling","Form 5 - Overhead & Enabling","Form 5 - Overhead & Enabling","Form 5 - Overhead & Enabling","Form 5 - Overhead & Enabling","Form 5 - Overhead & Enabling","Form 5 - Overhead & Enabling","Form 5 - Overhead & Enabling","Form 5 - Overhead & Enabling","Form 5 - Overhead & Enabling","Form 5 - Overhead & Enabling","Form 5 - Overhead & Enabling","Form 5 - Overhead & Enabling","Form 5 - Overhead & Enabling","Form 5 - Overhead & Enabling","Form 5 - Overhead & Enabling","Form 5 - Overhead & Enabling","Form 5 - Overhead & Enabling","Form 5 - Overhead & Enabling","Form 5 - Overhead & Enabling","Form 5 - Overhead & Enabling","Form 5 - Overhead & Enabling","Form 5 - Overhead & Enabling","Form 5 - Overhead & Enabling","Form 5 - Overhead & Enabling","Form 5 - Overhead & Enabling","Form 5 - Overhead & Enabling","Form 5 - Overhead & Enabling","Form 5 - Overhead & Enabling","Form 5 - Overhead & Enabling","Form 5 - Overhead & Enabling","Form 5 - Overhead & Enabling","Form 5 - Overhead & Enabling","Form 5 - Overhead & Enabling","Form 5 - Overhead & Enabling","Form 5 - Overhead & Enabling","Form 5 - Overhead & Enabling","Form 5 - Overhead & Enabling","Form 5 - Overhead & Enabling","Form 5 - Overhead & Enabling","Form 5 - Overhead & Enabling","Form 5 - Overhead & Enabling","Form 5 - Overhead & Enabling","Form 5 - Overhead & Enabling","Form 5 - Overhead & Enabling","Form 5 - Overhead & Enabling","Form 5 - Overhead & Enabling","Form 5 - Overhead & Enabling","Form 5 - Overhead & Enabling","Form 5 - Overhead & Enabling","Form 5 - Overhead & Enabling","Form 5 - Overhead & Enabling","Form 5 - Overhead & Enabling","Form 5 - Overhead & Enabling","Form 5 - Overhead & Enabling","Form 5 - Overhead & Enabling","Form 5 - Overhead & Enabling","Form 5 - Overhead & Enabling","Form 5 - Overhead & Enabling","Form 5 - Overhead & Enabling","Form 5 - Overhead & Enabling","Form 5 - Overhead & Enabling","Form 5 - Overhead & Enabling","Form 5 - Overhead & Enabling","Form 5 - Overhead & Enabling","Form 5 - Overhead & Enabling","Form 5 - Overhead & Enabling","Form 5 - Overhead & Enabling","Form 5 - Overhead & Enabling","Form 5 - Overhead & Enabling","Form 5 - Overhead & Enabling","Form 5 - Overhead & Enabling","Form 5 - Overhead & Enabling","Form 5 - Overhead & Enabling","Form 5 - Overhead & Enabling","Form 5 - Overhead & Enabling","Form 5 - Overhead & Enabling","Form 5 - Overhead & Enabling","Form 5 - Overhead & Enabling","Form 5 - Overhead & Enabling","Form 5 - Overhead & Enabling","Form 5 - Overhead & Enabling","Form 5 - Overhead & Enabling","Form 5 - Overhead & Enabling","Form 5 - Overhead & Enabling","Form 5 - Overhead & Enabling","Form 5 - Overhead & Enabling","Form 5 - Overhead & Enabling","Form 5 - Overhead & Enabling","Form 5 - Overhead & Enabling","Form 5 - Overhead & Enabling","Form 5 - Overhead & Enabling","Form 5 - Overhead & Enabling","Form 5 - Overhead & Enabling","Form 5 - Overhead & Enabling","Form 5 - Overhead & Enabling","Form 5 - Overhead & Enabling","Form 5 - Overhead & Enabling","Form 5 - Overhead & Enabling","Form 5 - Overhead & Enabling","Form 5 - Overhead & Enabling","Form 5 - Overhead & Enabling","Form 5 - Overhead & Enabling","Form 5 - Overhead & Enabling","Form 5 - Overhead & Enabling","Form 5 - Overhead & Enabling","Form 5 - Overhead & Enabling","Form 5 - Overhead & Enabling","Form 5 - Overhead & Enabling","Form 5 - Overhead & Enabling","Form 5 - Overhead & Enabling","Form 5 - Overhead & Enabling","Form 5 - Overhead & Enabling","Form 5 - Overhead & Enabling","Form 5 - Overhead & Enabling","Form 5 - Overhead & Enabling","Form 5 - Overhead & Enabling","Form 5 - Overhead & Enabling","Form 5 - Overhead & Enabling","Form 5 - Overhead & Enabling","Form 5 - Overhead & Enabling","Form 5 - Overhead & Enabling","Form 5 - Overhead & Enabling","Form 5 - Overhead & Enabling","Form 5 - Overhead & Enabling","Form 5 - Overhead & Enabling","Form 5 - Overhead & Enabling","Form 5 - Overhead & Enabling","Form 5 - Overhead & Enabling","Form 5 - Overhead & Enabling","Form 5 - Overhead & Enabling","Form 5 - Overhead & Enabling","Form 5 - Overhead & Enabling","Form 5 - Overhead & Enabling","Form 5 - Overhead & Enabling","Form 5 - Overhead & Enabling","Form 5 - Overhead & Enabling","Form 5 - Overhead & Enabling","Form 5 - Overhead & Enabling","Form 5 - Overhead & Enabling","Form 5 - Overhead & Enabling","Form 5 - Overhead & Enabling","Form 5 - Overhead & Enabling","Form 5 - Overhead & Enabling","Form 5 - Overhead & Enabling","Form 5 - Overhead & Enabling","Form 5 - Overhead & Enabling","Form 5 - Overhead & Enabling","Form 5 - Overhead & Enabling","Form 5 - Overhead & Enabling","Form 5 - Overhead & Enabling","Form 5 - Overhead & Enabling","Form 5 - Overhead & Enabling","Form 5 - Overhead & Enabling","Form 5 - Overhead & Enabling","Form 5 - Overhead & Enabling","Form 5 - Overhead & Enabling","Form 5 - Overhead & Enabling","Form 5 - Overhead & Enabling","Form 5 - Overhead & Enabling","Form 5 - Overhead & Enabling","Form 5 - Overhead & Enabling","Form 5 - Overhead & Enabling","Form 5 - Overhead & Enabling","Form 5 - Overhead & Enabling","Form 5 - Overhead & Enabling","Form 5 - Overhead & Enabling","Form 5 - Overhead & Enabling","Form 5 - Overhead & Enabling","Form 5 - Overhead & Enabling","Form 5 - Overhead & Enabling","Form 5 - Overhead & Enabling","Form 5 - Overhead & Enabling","Form 5 - Overhead & Enabling","Form 5 - Overhead & Enabling","Form 5 - Overhead & Enabling","Form 5 - Overhead & Enabling","Form 5 - Overhead & Enabling","Form 5 - Overhead & Enabling","Form 5 - Overhead & Enabling","Form 5 - Overhead & Enabling","Form 5 - Overhead & Enabling","Form 5 - Overhead & Enabling","Form 5 - Overhead & Enabling","Form 5 - Overhead & Enabling","Form 5 - Overhead & Enabling","Form 5 - Overhead & Enabling","Form 5 - Overhead & Enabling","Form 5 - Overhead & Enabling","Form 5 - Overhead & Enabling","Form 5 - Overhead & Enabling","Form 5 - Overhead & Enabling","Form 5 - Overhead & Enabling","Form 5 - Overhead & Enabling","Form 5 - Overhead & Enabling","Form 5 - Overhead & Enabling","Form 5 - Overhead & Enabling","Form 5 - Overhead & Enabling","Form 5 - Overhead & Enabling","Form 5 - Overhead & Enabling","Form 5 - Overhead & Enabling","Form 5 - Overhead & Enabling","Form 5 - Overhead & Enabling","Form 5 - Overhead & Enabling","Form 5 - Overhead & Enabling","Form 5 - Overhead & Enabling","Form 5 - Overhead & Enabling","Form 5 - Overhead & Enabling","Form 5 - Overhead & Enabling","Form 5 - Overhead & Enabling","Form 5 - Overhead & Enabling","Form 5 - Overhead & Enabling","Form 5 - Overhead & Enabling","Form 5 - Overhead & Enabling","Form 5 - Overhead & Enabling","Form 5 - Overhead & Enabling","Form 5 - Overhead & Enabling","Form 5 - Overhead & Enabling","Form 5 - Overhead & Enabling","Form 5 - Overhead & Enabling","Form 5 - Overhead & Enabling","Form 5 - Overhead & Enabling","Form 5 - Overhead & Enabling","Form 5 - Overhead & Enabling","Form 5 - Overhead & Enabling","Form 5 - Overhead & Enabling","Form 5 - Overhead & Enabling","Form 5 - Overhead & Enabling","Form 5 - Overhead & Enabling","Form 5 - Overhead & Enabling","Form 5 - Overhead & Enabling","Form 5 - Overhead & Enabling","Form 5 - Overhead & Enabling","Form 5 - Overhead & Enabling","Form 5 - Overhead & Enabling","Form 5 - Overhead & Enabling","Form 5 - Overhead & Enabling","Form 5 - Overhead & Enabling","Form 5 - Overhead & Enabling","Form 5 - Overhead & Enabling","Form 5 - Overhead & Enabling","Form 5 - Overhead & Enabling","Form 5 - Overhead & Enabling","Form 5 - Overhead & Enabling","Form 5 - Overhead & Enabling","Form 5 - Overhead & Enabling","Form 5 - Overhead & Enabling","Form 5 - Overhead & Enabling","Form 5 - Overhead & Enabling","Form 5 - Overhead & Enabling","Form 5 - Overhead & Enabling","Form 5 - Overhead & Enabling","Form 5 - Overhead & Enabling","Form 5 - Overhead & Enabling","Form 5 - Overhead & Enabling","Form 5 - Overhead & Enabling","Form 5 - Overhead & Enabling","Form 5 - Overhead & Enabling","Form 5 - Overhead & Enabling","Form 5 - Overhead & Enabling","Form 5 - Overhead & Enabling","Form 5 - Overhead & Enabling","Form 5 - Overhead & Enabling","Form 5 - Overhead & Enabling","Form 5 - Overhead & Enabling","Form 5 - Overhead & Enabling","Form 5 - Overhead & Enabling","Form 5 - Overhead & Enabling","Form 5 - Overhead & Enabling","Form 5 - Overhead & Enabling","Form 5 - Overhead & Enabling","Form 5 - Overhead & Enabling","Form 5 - Overhead & Enabling","Form 5 - Overhead & Enabling","Form 5 - Overhead & Enabling","Form 5 - Overhead & Enabling","Form 5 - Overhead & Enabling","Form 5 - Overhead & Enabling","Form 5 - Overhead & Enabling","Form 5 - Overhead & Enabling","Form 5 - Overhead & Enabling","Form 5 - Overhead & Enabling","Form 5 - Overhead & Enabling","Form 5 - Overhead & Enabling","Form 5 - Overhead & Enabling","Form 5 - Overhead & Enabling","Form 5 - Overhead & Enabling","Form 5 - Overhead & Enabling","Form 5 - Overhead & Enabling","Form 5 - Overhead & Enabling","Form 5 - Overhead & Enabling","Form 5 - Overhead & Enabling","Form 5 - Overhead & Enabling","Form 5 - Overhead & Enabling","Form 5 - Overhead & Enabling","Form 5 - Overhead & Enabling","Form 5 - Overhead & Enabling","Form 5 - Overhead & Enabling","Form 5 - Overhead & Enabling","Form 5 - Overhead & Enabling","Form 5 - Overhead & Enabling","Form 5 - Overhead & Enabling","Form 5 - Overhead & Enabling","Form 5 - Overhead & Enabling","Form 5 - Overhead & Enabling","Form 5 - Overhead & Enabling","Form 5 - Overhead & Enabling","Form 5 - Overhead & Enabling","Form 5 - Overhead & Enabling","Form 5 - Overhead & Enabling","Form 5 - Overhead & Enabling","Form 5 - Overhead & Enabling","Form 5 - Overhead & Enabling","Form 5 - Overhead & Enabling","Form 5 - Overhead & Enabling","Form 5 - Overhead & Enabling","Form 5 - Overhead & Enabling","Form 5 - Overhead & Enabling","Form 5 - Overhead & Enabling","Form 5 - Overhead & Enabling","Form 5 - Overhead & Enabling","Form 5 - Overhead & Enabling","Form 5 - Overhead & Enabling","Form 5 - Overhead & Enabling","Form 5 - Overhead & Enabling","Form 5 - Overhead & Enabling","Form 5 - Overhead & Enabling","Form 5 - Overhead & Enabling","Form 5 - Overhead & Enabling","Form 5 - Overhead & Enabling","Form 5 - Overhead & Enabling","Form 5 - Overhead & Enabling","Form 5 - Overhead & Enabling","Form 5 - Overhead & Enabling","Form 5 - Overhead & Enabling","Form 5 - Overhead & Enabling","Form 5 - Overhead & Enabling","Form 5 - Overhead & Enabling","Form 5 - Overhead & Enabling","Form 5 - Overhead & Enabling","Form 5 - Overhead & Enabling","Form 5 - Overhead & Enabling","Form 5 - Overhead & Enabling","Form 5 - Overhead & Enabling","Form 5 - Overhead & Enabling","Form 5 - Overhead & Enabling","Form 5 - Overhead & Enabling","Form 5 - Overhead & Enabling","Form 5 - Overhead & Enabling","Form 5 - Overhead & Enabling","Form 5 - Overhead & Enabling","Form 5 - Overhead & Enabling","Form 5 - Overhead & Enabling","Form 5 - Overhead & Enabling","Form 5 - Overhead & Enabling","Form 5 - Overhead & Enabling","Form 5 - Overhead & Enabling","Form 5 - Overhead & Enabling","Form 5 - Overhead & Enabling","Form 5 - Overhead & Enabling","Form 5 - Overhead & Enabling","Form 5 - Overhead & Enabling","Form 5 - Overhead & Enabling","Form 5 - Overhead & Enabling","Form 5 - Overhead & Enabling","Form 5 - Overhead & Enabling","Form 5 - Overhead & Enabling","Form 5 - Overhead & Enabling","Form 5 - Overhead & Enabling","Form 5 - Overhead & Enabling","Form 5 - Overhead & Enabling","Form 5 - Overhead & Enabling","Form 5 - Overhead & Enabling","Form 5 - Overhead & Enabling","Form 5 - Overhead & Enabling","Form 5 - Overhead & Enabling","Form 5 - Overhead & Enabling","Form 5 - Overhead & Enabling","Form 5 - Overhead & Enabling","Form 5 - Overhead & Enabling","Form 5 - Overhead & Enabling","Form 5 - Overhead & Enabling","Form 5 - Overhead & Enabling","Form 6A - Reclassification","Form 6A - Reclassification","Form 6A - Reclassification","Form 6A - Reclassification","Form 6A - Reclassification","Form 6A - Reclassification","Form 6A - Reclassification","Form 6A - Reclassification","Form 6A - Reclassification","Form 6A - Reclassification","Form 6A - Reclassification","Form 6A - Reclassification","Form 6A - Reclassification","Form 6A - Reclassification","Form 6A - Reclassification","Form 6A - Reclassification","Form 6A - Reclassification","Form 6A - Reclassification","Form 6A - Reclassification","Form 6A - Reclassification","Form 6A - Reclassification","Form 6A - Reclassification","Form 6A - Reclassification","Form 6A - Reclassification","Form 6A - Reclassification","Form 6A - Reclassification","Form 6A - Reclassification","Form 6A - Reclassification","Form 6A - Reclassification","Form 6A - Reclassification","Form 6A - Reclassification","Form 6A - Reclassification","Form 6A - Reclassification","Form 6A - Reclassification","Form 6A - Reclassification","Form 6A - Reclassification","Form 6A - Reclassification","Form 6A - Reclassification","Form 6A - Reclassification","Form 6A - Reclassification","Form 6A - Reclassification","Form 6A - Reclassification","Form 6A - Reclassification","Form 6A - Reclassification","Form 6A - Reclassification","Form 6A - Reclassification","Form 6A - Reclassification","Form 6A - Reclassification","Form 6A - Reclassification","Form 6A - Reclassification","Form 6A - Reclassification","Form 6A - Reclassification","Form 6A - Reclassification","Form 6A - Reclassification","Form 6A - Reclassification","Form 6A - Reclassification","Form 6A - Reclassification","Form 6A - Reclassification","Form 6A - Reclassification","Form 6A - Reclassification","Form 6A - Reclassification","Form 6A - Reclassification","Form 6A - Reclassification","Form 6A - Reclassification","Form 6A - Reclassification","Form 6A - Reclassification","Form 6A - Reclassification","Form 6A - Reclassification","Form 6A - Reclassification","Form 6A - Reclassification","Form 6A - Reclassification","Form 6A - Reclassification","Form 6A - Reclassification","Form 6A - Reclassification","Form 6A - Reclassification","Form 6A - Reclassification","Form 6A - Reclassification","Form 6A - Reclassification","Form 6A - Reclassification","Form 6A - Reclassification","Form 6A - Reclassification","Form 6A - Reclassification","Form 6A - Reclassification","Form 6A - Reclassification","Form 6A - Reclassification","Form 6A - Reclassification","Form 6A - Reclassification","Form 6A - Reclassification","Form 6A - Reclassification","Form 6A - Reclassification","Form 6A - Reclassification","Form 6A - Reclassification","Form 6A - Reclassification","Form 6A - Reclassification","Form 6A - Reclassification","Form 6A - Reclassification","Form 6A - Reclassification","Form 6A - Reclassification","Form 6A - Reclassification","Form 6A - Reclassification","Form 6A - Reclassification","Form 6A - Reclassification","Form 6A - Reclassification","Form 6A - Reclassification","Form 6A - Reclassification","Form 6A - Reclassification","Form 6A - Reclassification","Form 6A - Reclassification","Form 6A - Reclassification","Form 6A - Reclassification","Form 6A - Reclassification","Form 6A - Reclassification","Form 6A - Reclassification","Form 6A - Reclassification","Form 6A - Reclassification","Form 6A - Reclassification","Form 6A - Reclassification","Form 6A - Reclassification","Form 6A - Reclassification","Form 6A - Reclassification","Form 6A - Reclassification","Form 6A - Reclassification","Form 6A - Reclassification","Form 6A - Reclassification","Form 6A - Reclassification","Form 6A - Reclassification","Form 6A - Reclassification","Form 6A - Reclassification","Form 6A - Reclassification","Form 6A - Reclassification","Form 6A - Reclassification","Form 6A - Reclassification","Form 6A - Reclassification","Form 6A - Reclassification","Form 6A - Reclassification","Form 6A - Reclassification","Form 6A - Reclassification","Form 6A - Reclassification","Form 6A - Reclassification","Form 6A - Reclassification","Form 6A - Reclassification","Form 6A - Reclassification","Form 6A - Reclassification","Form 6A - Reclassification","Form 6A - Reclassification","Form 6A - Reclassification","Form 6A - Reclassification","Form 6A - Reclassification","Form 6A - Reclassification","Form 6A - Reclassification","Form 6A - Reclassification","Form 6A - Reclassification","Form 6A - Reclassification","Form 6A - Reclassification","Form 6A - Reclassification","Form 6A - Reclassification","Form 6A - Reclassification","Form 6A - Reclassification","Form 6A - Reclassification","Form 6A - Reclassification","Form 6A - Reclassification","Form 6A - Reclassification","Form 6A - Reclassification","Form 6A - Reclassification","Form 6A - Reclassification","Form 6A - Reclassification","Form 6A - Reclassification","Form 6A - Reclassification","Form 6A - Reclassification","Form 6A - Reclassification","Form 6A - Reclassification","Form 6A - Reclassification","Form 6A - Reclassification","Form 6A - Reclassification","Form 6A - Reclassification","Form 6A - Reclassification","Form 6A - Reclassification","Form 6A - Reclassification","Form 6A - Reclassification","Form 6A - Reclassification","Form 6A - Reclassification","Form 6A - Reclassification","Form 6A - Reclassification","Form 6A - Reclassification","Form 6A - Reclassification","Form 6A - Reclassification","Form 6A - Reclassification","Form 6A - Reclassification","Form 6A - Reclassification","Form 6A - Reclassification","Form 6A - Reclassification","Form 6A - Reclassification","Form 6A - Reclassification","Form 6A - Reclassification","Form 6A - Reclassification","Form 6A - Reclassification","Form 6A - Reclassification","Form 6A - Reclassification","Form 6A - Reclassification","Form 6A - Reclassification","Form 6A - Reclassification","Form 6A - Reclassification","Form 6A - Reclassification","Form 6A - Reclassification","Form 6A - Reclassification","Form 6A - Reclassification","Form 6A - Reclassification","Form 6A - Reclassification","Form 6A - Reclassification","Form 6A - Reclassification","Form 6A - Reclassification","Form 6A - Reclassification","Form 6A - Reclassification","Form 6A - Reclassification","Form 6A - Reclassification","Form 6A - Reclassification","Form 6A - Reclassification","Form 6A - Reclassification","Form 6A - Reclassification","Form 6A - Reclassification","Form 6A - Reclassification","Form 6A - Reclassification","Form 6A - Reclassification","Form 6A - Reclassification","Form 6A - Reclassification","Form 6A - Reclassification","Form 6A - Reclassification","Form 6A - Reclassification","Form 6A - Reclassification","Form 6A - Reclassification","Form 6A - Reclassification","Form 6A - Reclassification","Form 6A - Reclassification","Form 6A - Reclassification","Form 6A - Reclassification","Form 6A - Reclassification","Form 6A - Reclassification","Form 6A - Reclassification","Form 6A - Reclassification","Form 6A - Reclassification","Form 6A - Reclassification","Form 6A - Reclassification","Form 6A - Reclassification","Form 6A - Reclassification","Form 6A - Reclassification","Form 6A - Reclassification","Form 6A - Reclassification","Form 6A - Reclassification","Form 6A - Reclassification","Form 6A - Reclassification","Form 6A - Reclassification","Form 6A - Reclassification","Form 6A - Reclassification","Form 6A - Reclassification","Form 6A - Reclassification","Form 6A - Reclassification","Form 6A - Reclassification","Form 6A - Reclassification","Form 6A - Reclassification","Form 6A - Reclassification","Form 6A - Reclassification","Form 6A - Reclassification","Form 6A - Reclassification","Form 6A - Reclassification","Form 6A - Reclassification","Form 6A - Reclassification","Form 6A - Reclassification","Form 6A - Reclassification","Form 6A - Reclassification","Form 6A - Reclassification","Form 6A - Reclassification","Form 6A - Reclassification","Form 6A - Reclassification","Form 6A - Reclassification","Form 6A - Reclassification","Form 6A - Reclassification","Form 6A - Reclassification","Form 6A - Reclassification","Form 6A - Reclassification","Form 6A - Reclassification","Form 6A - Reclassification","Form 6A - Reclassification","Form 6A - Reclassification","Form 6A - Reclassification","Form 6A - Reclassification","Form 6A - Reclassification","Form 6A - Reclassification","Form 6A - Reclassification","Form 6A - Reclassification","Form 6A - Reclassification","Form 6A - Reclassification","Form 6A - Reclassification","Form 6A - Reclassification","Form 6A - Reclassification","Form 6A - Reclassification","Form 6A - Reclassification","Form 6A - Reclassification","Form 6A - Reclassification","Form 6A - Reclassification","Form 6A - Reclassification","Form 6A - Reclassification","Form 6A - Reclassification","Form 6A - Reclassification","Form 6A - Reclassification","Form 6A - Reclassification","Form 6A - Reclassification","Form 6A - Reclassification","Form 6A - Reclassification","Form 6A - Reclassification","Form 6A - Reclassification","Form 6A - Reclassification","Form 6A - Reclassification","Form 6A - Reclassification","Form 6A - Reclassification","Form 6A - Reclassification","Form 6A - Reclassification","Form 6A - Reclassification","Form 6A - Reclassification","Form 6A - Reclassification","Form 6A - Reclassification","Form 6A - Reclassification","Form 6A - Reclassification","Form 6A - Reclassification","Form 6A - Reclassification","Form 6A - Reclassification","Form 6A - Reclassification","Form 6A - Reclassification","Form 6A - Reclassification","Form 6A - Reclassification","Form 6A - Reclassification","Form 6A - Reclassification","Form 6A - Reclassification","Form 6A - Reclassification","Form 6A - Reclassification","Form 6A - Reclassification","Form 6A - Reclassification","Form 6A - Reclassification","Form 6A - Reclassification","Form 6A - Reclassification","Form 6A - Reclassification","Form 6A - Reclassification","Form 6A - Reclassification","Form 6A - Reclassification","Form 6A - Reclassification","Form 6A - Reclassification","Form 6A - Reclassification","Form 6A - Reclassification","Form 6A - Reclassification","Form 6A - Reclassification","Form 6A - Reclassification","Form 6A - Reclassification","Form 6A - Reclassification","Form 6B - Adjustments","Form 6B - Adjustments","Form 6B - Adjustments","Form 6B - Adjustments","Form 6B - Adjustments","Form 6B - Adjustments","Form 6B - Adjustments","Form 6B - Adjustments","Form 6B - Adjustments","Form 6B - Adjustments","Form 6B - Adjustments","Form 6B - Adjustments","Form 6B - Adjustments","Form 6B - Adjustments","Form 6B - Adjustments","Form 6B - Adjustments","Form 6B - Adjustments","Form 6B - Adjustments","Form 6B - Adjustments","Form 6B - Adjustments","Form 6B - Adjustments","Form 6B - Adjustments","Form 6B - Adjustments","Form 6B - Adjustments","Form 6B - Adjustments","Form 6B - Adjustments","Form 6B - Adjustments","Form 6B - Adjustments","Form 6B - Adjustments","Form 6B - Adjustments","Form 6B - Adjustments","Form 6B - Adjustments","Form 6B - Adjustments","Form 6B - Adjustments","Form 6B - Adjustments","Form 6B - Adjustments","Form 6B - Adjustments","Form 6B - Adjustments","Form 6B - Adjustments","Form 6B - Adjustments","Form 6B - Adjustments","Form 6B - Adjustments","Form 6B - Adjustments","Form 6B - Adjustments","Form 6B - Adjustments","Form 6B - Adjustments","Form 6B - Adjustments","Form 6B - Adjustments","Form 6B - Adjustments","Form 6B - Adjustments","Form 6B - Adjustments","Form 6B - Adjustments","Form 6B - Adjustments","Form 6B - Adjustments","Form 6B - Adjustments","Form 6B - Adjustments","Form 6B - Adjustments","Form 6B - Adjustments","Form 6B - Adjustments","Form 6B - Adjustments","Form 6B - Adjustments","Form 6B - Adjustments","Form 6B - Adjustments","Form 6B - Adjustments","Form 6B - Adjustments","Form 6B - Adjustments","Form 6B - Adjustments","Form 6B - Adjustments","Form 6B - Adjustments","Form 6B - Adjustments","Form 6B - Adjustments","Form 6B - Adjustments","Form 6B - Adjustments","Form 6B - Adjustments","Form 6B - Adjustments","Form 6B - Adjustments","Form 6B - Adjustments","Form 6B - Adjustments","Form 6B - Adjustments","Form 6B - Adjustments","Form 6B - Adjustments","Form 6B - Adjustments","Form 6B - Adjustments","Form 6B - Adjustments","Form 6B - Adjustments","Form 6B - Adjustments","Form 6B - Adjustments","Form 6B - Adjustments","Form 6B - Adjustments","Form 6B - Adjustments","Form 6B - Adjustments","Form 7 - Visits by FTE","Form 7 - Visits by FTE","Form 7 - Visits by FTE","Form 7 - Visits by FTE","Form 7 - Visits by FTE","Form 7 - Visits by FTE","Form 7 - Visits by FTE","Form 7 - Visits by FTE","Form 7 - Visits by FTE","Form 7 - Visits by FTE","Form 7 - Visits by FTE","Form 7 - Visits by FTE","Form 7 - Visits by FTE","Form 7 - Visits by FTE","Form 7 - Visits by FTE","Form 7 - Visits by FTE","Form 7 - Visits by FTE","Form 7 - Visits by FTE","Form 7 - Visits by FTE","Form 7 - Visits by FTE","Form 7 - Visits by FTE","Form 7 - Visits by FTE","Form 7 - Visits by FTE","Form 7 - Visits by FTE","Form 7 - Visits by FTE","Form 7 - Visits by FTE","Form 7 - Visits by FTE","Form 7 - Visits by FTE","Form 7 - Visits by FTE","Form 7 - Visits by FTE","Form 7 - Visits by FTE","Form 7 - Visits by FTE","Form 7 - Visits by FTE","Form 7 - Visits by FTE","Form 7 - Visits by FTE","Form 7 - Visits by FTE","Form 7 - Visits by FTE","Form 7 - Visits by FTE","Form 7 - Visits by FTE","Form 7 - Visits by FTE","Form 7 - Visits by FTE","Form 7 - Visits by FTE","Form 7 - Visits by FTE","Form 7 - Visits by FTE","Form 7 - Visits by FTE","Form 7 - Visits by FTE","Form 7 - Visits by FTE","Form 7 - Visits by FTE","Form 7 - Visits by FTE","Form 7 - Visits by FTE","Form 7 - Visits by FTE","Form 7 - Visits by FTE","Form 7 - Visits by FTE","Form 7 - Visits by FTE","Form 7 - Visits by FTE","Form 7 - Visits by FTE","Form 7 - Visits by FTE","Form 7 - Visits by FTE","Form 7 - Visits by FTE","Form 7 - Visits by FTE","Form 7 - Visits by FTE","Form 7 - Visits by FTE","Form 7 - Visits by FTE","Form 7 - Visits by FTE","Form 7 - Visits by FTE","Form 7 - Visits by FTE","Form A - Allocations","Form A - Allocations","Form A - Allocations","Form A - Allocations","Form A - Allocations","Form A - Allocations","Form A - Allocations","Form A - Allocations","Form A - Allocations","Form A - Allocations","Form A - Allocations","Form A - Allocations","Form A - Allocations","Form A - Allocations","Form A - Allocations","Form A - Allocations","Form A - Allocations","Form A - Allocations","Form A - Allocations","Form A - Allocations","Form A - Allocations","Form A - Allocations","Form A - Allocations","Form A - Allocations","Form A - Allocations","Form A - Allocations","Form A - Allocations","Form A - Allocations","Form A - Allocations","Form A - Allocations","Form A - Allocations","Form A - Allocations","Form A - Allocations","Form A - Allocations","Form A - Allocations","Form A - Allocations","Form A - Allocations","Form A - Allocations","Form A - Allocations","Form A - Allocations","Form A - Allocations","Form A - Allocations","Form A - Allocations","Form A - Allocations","Form A - Allocations","Form A - Allocations","Form A - Allocations","Form A - Allocations","Form A - Allocations","Form A - Allocations","Form A - Allocations","Form A - Allocations","Form A - Allocations","Form A - Allocations","Form A - Allocations","Form A - Allocations","Form A - Allocations","Form A - Allocations","Form A - Allocations","Form A - Allocations","Form A - Allocations","Form A - Allocations","Form A - Allocations","Form A - Allocations","Form A - Allocations","Form A - Allocations","Form A - Allocations","Form A - Allocations","Form A - Allocations","Form A - Allocations","Form A - Allocations","Form A - Allocations","Form A - Allocations","Form A - Allocations","Form A - Allocations","Form A - Allocations","Form A - Allocations","Form A - Allocations","Form A - Allocations","Form A - Allocations","Form A - Allocations","Form A - Allocations","Form A - Allocations","Form A - Allocations","Form A - Allocations","Form A - Allocations","Form A - Allocations","Form A - Allocations","Form A - Allocations","Form A - Allocations","Form A - Allocations","Form A - Allocations","Form A - Allocations","Form A - Allocations","Form A - Allocations","Form A - Allocations","Form A - Allocations","Form A - Allocations","Form A - Allocations","Form A - Allocations","Form A - Allocations","Form A - Allocations","Form A - Allocations","Form A - Allocations","Form A - Allocations","Form A - Allocations","Form A - Allocations","Form A - Allocations","Form A - Allocations","Form A - Allocations","Form A - Allocations","Form A - Allocations","Form A - Allocations","Form A - Allocations","Form A - Allocations","Form A - Allocations","Form A - Allocations","Form A - Allocations","Form A - Allocations","Form A - Allocations","Form A - Allocations","Form A - Allocations","Form A - Allocations","Form A - Allocations","Form A - Allocations","Form A - Allocations","Form A - Allocations","Form A - Allocations","Form A - Allocations","Form A - Allocations","Form A - Allocations","Form A - Allocations","Form A - Allocations","Form A - Allocations","Form A - Allocations","Form A - Allocations","Form A - Allocations","Form A - Allocations","Form A - Allocations","Form A - Allocations","Form A - Allocations","Form A - Allocations","Form A - Allocations","Form A - Allocations","Form A - Allocations","Form A - Allocations","Form A - Allocations","Form A - Allocations","Form A - Allocations","Form A - Allocations","Form A - Allocations","Form A - Allocations","Form A - Allocations","Form A - Allocations","Form A - Allocations","Form A - Allocations","Form A - Allocations","Form A - Allocations","Form A - Allocations","Form A - Allocations","Form A - Allocations","Form A - Allocations","Form A - Allocations","Form A - Allocations","Form A - Allocations","Form A - Allocations","Form A - Allocations","Form A - Allocations","Form A - Allocations","Form A - Allocations","Form A - Allocations","Form A - Allocations","Form A - Allocations","Form A - Allocations","Form A - Allocations","Form A - Allocations","Form A - Allocations","Form A - Allocations","Form A - Allocations","Form A - Allocations","Form A - Allocations","Form A - Allocations","Form B - Cost per Visit","Form B - Cost per Visit","Form B - Cost per Visit","Form B - Cost per Visit","Form B - Cost per Visit","Form B - Cost per Visit","Tab 9: Reconciliation","Tab 9: Reconciliation","Tab 9: Reconciliation","Tab 9: Reconciliation","Tab 9: Reconciliation","Tab 9: Reconciliation","Tab 9: Reconciliation","Tab 9: Reconciliation","Tab 9: Reconciliation","Tab 9: Reconciliation","Tab 9: Reconciliation","Tab 9: Reconciliation","Tab 9: Reconciliation","Tab 9: Reconciliation","Tab 9: Reconciliation","Tab 9: Reconciliation","Tab 9: Reconciliation","Tab 9: Reconciliation","Tab 9: Reconciliation","Tab 9: Reconciliation","Tab 9: Reconciliation","Tab 9: Reconciliation","Tab 10: Accuracy of Report","Tab 10: Accuracy of Report","Tab 10: Accuracy of Report","Tab 10: Accuracy of Report","Tab 10: Accuracy of Report","Tab 10: Accuracy of Report","Tab 10: Accuracy of Report","Tab 10: Accuracy of Report","Tab 10: Accuracy of Report","Tab 10: Accuracy of Report","Tab 10: Accuracy of Report","Tab 10: Accuracy of Report","Tab 10: Accuracy of Report","Tab 10: Accuracy of Report","Tab 10: Accuracy of Report","Tab 10: Accuracy of Report","Tab 10: Accuracy of Report","Tab 10: Accuracy of Report","Tab 10: Accuracy of Report","Tab 10: Accuracy of Report","Tab 10: Accuracy of Report","Tab 10: Accuracy of Report","Tab 10: Accuracy of Report","Tab 10: Accuracy of Report","Tab 10: Accuracy of Report","Tab 10: Accuracy of Report"]
[null,null,null,null,"Provider Name","Federal Employee ID Number (FEIN)","MassHealth Provider ID","Medicare Provider Number:","Mailing Address","City","State","Zip Code","Main Phone Number","Fiscal Year Ending","Name ","Title","Phone Number","Extension","E-mail Address","Executive Director","Medical Director","Financial Manager","Medicare","MassHealth - Fee For Service / PCC Plan","MassHealth - MCO","MassHealth - ACO","MassHealth - Dental","Massachusetts Behavioral Health Partnership","Commonwealth Care","Health Safety Net Trust Fund","Children's Medical Security Plan","Healthy Start","Commercial / Private Third Parties","Patient Fees / Self Pay","Other","TOTAL","TOTAL NET PATIENT SERVICE REVENUE*","Federal","State - Cost Reimbursement Contracts","State - Unit Rate Contracts","Local","Private","Donated","TOTAL UNRESTRICTED GRANTS, GIFTS, & DONATIONS**","Federal","State - Cost Reimbursement Contracts","State - Unit Rate Contracts","Local","Private","Donated","TOTAL RESTRICTED GRANTS, GIFTS, & DONATIONS**","Contract Revenue **","Non-Operating Income","Investment Income","Capital Grants","Endowment Grants","Non-Operating Gains (Losses)","Other Description","Other Description","Other Description","Other Description","Other Description","Other Description","Other Revenue","Other Revenue","Other Revenue","Other Revenue","Other Revenue","Other Revenue","Other Adjustments","TOTAL NET PATIENT SERVICE REVENUE","TOTAL UNRESTRICTED GRANTS, GIFTS, & DONATIONS","TOTAL RESTRICTED GRANTS, GIFTS, & DONATIONS","TOTAL OTHER INCOME","Total Revenue","Other Adjustments Total","TOTAL","Total (Part B + Part C + Contract Revenue)","Family Physicians - Salary Expense","General Practitioners - Salary Expense","Internists - Salary Expense","Obstetrician/Gynecologists - Salary Expense","Pediatricians - Salary Expense","Licensed Medical Residents - Salary Expense","Specialty Physicians - Salary Expense","Physician - OBAT - Salary Expense","Sub-Total Physicians Salary Expense","Nurse Practitioners - Salary Expense","Physician Assistants - Salary Expense","Certified Nurse Midwives - Salary Expense","Sub-Total Medical Salary Expense","Registered Nurses (RNs) - Salary Expense","RN - OBAT - Salary Expense","Licensed Practical Nurses - Salary Expense","Sub-Total Nurses Salary Expense","Ophthalmologists - Salary Expense","Optometrists - Salary Expense","Opticians - Salary Expense","Sub-Total Vision Salary Expense","Audiologists - Salary Expense","Acupuncturists - Salary Expense","Chiropractors - Salary Expense","Herbalists - Salary Expense","Massage Therapists - Salary Expense","Naturopaths - Salary Expense","Nutritionists/Dieticians - Salary Expense","Registered Dieticians - Salary Expense","Occupational Therapists - Salary Expense","Podiatrists - Salary Expense","Physical Therapists - Salary Expense","Respiratory Therapists - Salary Expense","Speech Therapists/Pathologists - Salary Expense","Traditional Healers - Salary Expense","Other NON-BILLABLE Medical Providers - Salary Expense","Other Provider Type - Salary Expense","Other Provider Type - Salary Expense","Other Provider Type - Salary Expense","Other Provider Type - Salary Expense","Other Provider Type - Salary Expense","Sub - Total Other Health Services - Salary Expense","SUB-TOTAL MEDICAL - Salary Expense","General Dentists - Salary Expense","Dental Specialist (DMD-DDS) - Salary Expense","Dental Hygienists - Salary Expense","Other NON-BILLABLE Dental Providers - Salary Expense","Other Provider Type - Salary Expense","Other Provider Type - Salary Expense","Other Provider Type - Salary Expense","Other Provider Type - Salary Expense","Other Provider Type - Salary Expense","SUB - TOTAL DENTAL - Salary Expense","Psychiatrists - Salary Expense","Psychologists - Salary Expense","Licensed Independent Clinical Social Worker (LISCW) - Salary Expense","Licensed Clinical Social Worker (LCSW) - Salary Expense","Unlicensed Master of Social Worker (MSW) - Salary Expense","Licensed Mental Health Counselor (LMHC) - Salary Expense","Family Therapists - Salary Expense","Psychiatric Nurse Practitioner - Salary Expense","RNs - Psychiatric and Mental Health - Salary Expense","RN Nurse Counselors - Salary Expense","Unlicensed Mental Health Providers, including trainees (interns or residents) and \"Certified\" staff - Salary Expense","Sub - Total Mental Health - Salary Expense","RN Nurse Counselors - Salary Expense","Licensed Independent Clinical Social Worker (LISCW) - Salary Expense","Licensed Clinical Social Worker (LCSW) - Salary Expense","Unlicensed Master of Social Worker (MSW) - Salary Expense","Licensed Mental Health Counselor (LMHC) - Salary Expense","Family Therapists - Salary Expense","LADAC/CADAC - Salary Expense","Harm Reduction Specialist - Salary Expense","Recovery Coaches/Peer Support - Salary Expense","Other NON-BILLABLE BH Providers - Salary Expense","Other Provider Type - Salary Expense","Other Provider Type - Salary Expense","Other Provider Type - Salary Expense","Other Provider Type - Salary Expense","Other Provider Type - Salary Expense","Sub - Total Substance Abuse Services - Salary Expense","SUB-TOTAL BEHAVIORAL HEALTH - Salary Expense","TOTAL PROVIDERS - Salary Expense","Family Physicians - Contractor Expense","General Practitioners - Contractor Expense","Internists - Contractor Expense","Obstetrician/Gynecologists - Contractor Expense","Pediatricians - Contractor Expense","Licensed Medical Residents - Contractor Expense","Specialty Physicians - Contractor Expense","Physician - OBAT - Contractor Expense","Sub-Total Physicians - Contractor Expense","Nurse Practitioners - Contractor Expense","Physician Assistants - Contractor Expense","Certified Nurse Midwives - Contractor Expense","Sub - Total Medical - Contractor Expense","Registered Nurses (RNs) - Contractor Expense","RN - OBAT - Contractor Expense","Licensed Practical Nurses - Contractor Expense","Sub-Total Nurses - Contractor Expense","Ophthalmologists - Contractor Expense","Optometrists - Contractor Expense","Opticians - Contractor Expense","Sub-Total Vision Contractor Expense","Audiologists - Contractor Expense","Acupuncturists - Contractor Expense","Chiropractors - Contractor Expense","Herbalists - Contractor Expense","Massage Therapists - Contractor Expense","Naturopaths - Contractor Expense","Nutritionists/Dieticians - Contractor Expense","Registered Dieticians - Contractor Expense","Occupational Therapists - Contractor Expense","Podiatrists - Contractor Expense","Physical Therapists - Contractor Expense","Respiratory Therapists - Contractor Expense","Speech Therapists/Pathologists - Contractor Expense","Traditional Healers - Contractor Expense","Other NON-BILLABLE Medical Providers - Contractor Expense","Other Provider Type - Contractor Expense","Other Provider Type - Contractor Expense","Other Provider Type - Contractor Expense","Other Provider Type - Contractor Expense","Other Provider Type - Contractor Expense","Sub - Total Other Health Services - Contractor Expense","SUB-TOTAL MEDICAL - Contractor Expense","General Dentists - Contractor Expense","Dental Specialist (DMD-DDS) - Contractor Expense","Dental Hygienists - Contractor Expense","Other NON-BILLABLE Dental Providers - Contractor Expense","Other Provider Type - Contractor Expense","Other Provider Type - Contractor Expense","Other Provider Type - Contractor Expense","Other Provider Type - Contractor Expense","Other Provider Type - Contractor Expense","SUB - TOTAL DENTAL - Contractor Expense","Psychiatrists - Contractor Expense","Psychologists - Contractor Expense","Licensed Independent Clinical Social Worker (LISCW) - Contractor Expense","Licensed Clinical Social Worker (LCSW) - Contractor Expense","Unlicensed Master of Social Worker (MSW) - Contractor Expense","Licensed Mental Health Counselor (LMHC) - Contractor Expense","Family Therapists - Contractor Expense","Psychiatric Nurse Practitioner - Contractor Expense","RNs - Psychiatric and Mental Health - Contractor Expense","RN Nurse Counselors - Contractor Expense","Unlicensed Mental Health Providers, including trainees (interns or residents) and \"Certified\" staff - Contractor Expense","Sub - Total Mental Health - Contractor Expense","RN Nurse Counselors - Contractor Expense","Licensed Independent Clinical Social Worker (LISCW) - Contractor Expense","Licensed Clinical Social Worker (LCSW) - Contractor Expense","Unlicensed Master of Social Worker (MSW) - Contractor Expense","Licensed Mental Health Counselor (LMHC) - Contractor Expense","Family Therapists - Contractor Expense","LADAC/CADAC - Contractor Expense","Harm Reduction Specialist - Contractor Expense","Recovery Coaches/Peer Support - Contractor Expense","Other NON-BILLABLE BH Providers - Contractor Expense","Other Provider Type - Contractor Expense","Other Provider Type - Contractor Expense","Other Provider Type - Contractor Expense","Other Provider Type - Contractor Expense","Other Provider Type - Contractor Expense","Sub - Total Substance Abuse Services - Contractor Expense","SUB-TOTAL BEHAVIORAL HEALTH - Contractor Expense","TOTAL PROVIDERS - Contractor Expense","Family Physicians - Salaried FTEs","General Practitioners - Salaried FTEs","Internists - Salaried FTEs","Obstetrician/Gynecologists - Salaried FTEs","Pediatricians - Salaried FTEs","Licensed Medical Residents - Salaried FTEs","Specialty Physicians - Salaried FTEs","Physician - OBAT - Salaried FTEs","Sub-Total Physicians Salaried FTEs","Nurse Practitioners - Salaried FTEs","Physician Assistants - Salaried FTEs","Certified Nurse Midwives - Salaried FTEs","Sub-Total Medical Salaried FTEs","Registered Nurses (RNs) - Salaried FTEs","RN - OBAT - Salaried FTEs","Licensed Practical Nurses - Salaried FTEs","Sub-Total Nurses Salaried FTEs","Ophthalmologists - Salaried FTEs","Optometrists - Salaried FTEs","Opticians - Salaried FTEs","Sub-Total Vision Salaried FTEs","Audiologists - Salaried FTEs","Acupuncturists - Salaried FTEs","Chiropractors - Salaried FTEs","Herbalists - Salaried FTEs","Massage Therapists - Salaried FTEs","Naturopaths - Salaried FTEs","Nutritionists/Dieticians - Salaried FTEs","Registered Dieticians - Salaried FTEs","Occupational Therapists - Salaried FTEs","Podiatrists - Salaried FTEs","Physical Therapists - Salaried FTEs","Respiratory Therapists - Salaried FTEs","Speech Therapists/Pathologists - Salaried FTEs","Traditional Healers - Salaried FTEs","Other NON-BILLABLE Medical Providers - Salaried FTEs","Other Provider Type - Salaried FTEs","Other Provider Type - Salaried FTEs","Other Provider Type - Salaried FTEs","Other Provider Type - Salaried FTEs","Other Provider Type - Salaried FTEs","Sub - Total Other Health Services - Salaried FTEs","SUB-TOTAL MEDICAL - Salaried FTEs","General Dentists - Salaried FTEs","Dental Specialist (DMD-DDS) - Salaried FTEs","Dental Hygienists - Salaried FTEs","Other NON-BILLABLE Dental Providers - Salaried FTEs","Other Provider Type - Salaried FTEs","Other Provider Type - Salaried FTEs","Other Provider Type - Salaried FTEs","Other Provider Type - Salaried FTEs","Other Provider Type - Salaried FTEs","SUB - TOTAL DENTAL - Salaried FTEs","Psychiatrists - Salaried FTEs","Psychologists - Salaried FTEs","Licensed Independent Clinical Social Worker (LISCW) - Salaried FTEs","Licensed Clinical Social Worker (LCSW) - Salaried FTEs","Unlicensed Master of Social Worker (MSW) - Salaried FTEs","Licensed Mental Health Counselor (LMHC) - Salaried FTEs","Family Therapists - Salaried FTEs","Psychiatric Nurse Practitioner - Salaried FTEs","RNs - Psychiatric and Mental Health - Salaried FTEs","RN Nurse Counselors - Salaried FTEs","Unlicensed Mental Health Providers, including trainees (interns or residents) and \"Certified\" staff - Salaried FTEs","Sub - Total Mental Health - Salaried FTEs","RN Nurse Counselors - Salaried FTEs","Licensed Independent Clinical Social Worker (LISCW) - Salaried FTEs","Licensed Clinical Social Worker (LCSW) - Salaried FTEs","Unlicensed Master of Social Worker (MSW) - Salaried FTEs","Licensed Mental Health Counselor (LMHC) - Salaried FTEs","Family Therapists - Salaried FTEs","LADAC/CADAC - Salaried FTEs","Harm Reduction Specialist - Salaried FTEs","Recovery Coaches/Peer Support - Salaried FTEs","Other NON-BILLABLE BH Providers - Salaried FTEs","Other Provider Type - Salaried FTEs","Other Provider Type - Salaried FTEs","Other Provider Type - Salaried FTEs","Other Provider Type - Salaried FTEs","Other Provider Type - Salaried FTEs","Sub - Total Substance Abuse Services - Salaried FTEs","SUB-TOTAL BEHAVIORAL HEALTH - Salaried FTEs","TOTAL PROVIDERS - Salaried FTEs","Family Physicians - Contracted FTEs","General Practitioners - Contracted FTEs","Internists - Contracted FTEs","Obstetrician/Gynecologists - Contracted FTEs","Pediatricians - Contracted FTEs","Licensed Medical Residents - Contracted FTEs","Specialty Physicians - Contracted FTEs","Physician - OBAT - Contracted FTEs","Sub-Total Physicians Contracted FTEs","Nurse Practitioners - Contracted FTEs","Physician Assistants - Contracted FTEs","Certified Nurse Midwives - Contracted FTEs","Sub-Total Medical Contracted FTEs","Registered Nurses (RNs) - Contracted FTEs","RN - OBAT - Contracted FTEs","Licensed Practical Nurses - Contracted FTEs","Sub-Total Nurses Contracted FTEs","Ophthalmologists - Contracted FTEs","Optometrists - Contracted FTEs","Opticians - Contracted FTEs","Sub-Total Vision Contracted FTEs","Audiologists - Contracted FTEs","Acupuncturists - Contracted FTEs","Chiropractors - Contracted FTEs","Herbalists - Contracted FTEs","Massage Therapists - Contracted FTEs","Naturopaths - Contracted FTEs","Nutritionists/Dieticians - Contracted FTEs","Registered Dieticians - Contracted FTEs","Occupational Therapists - Contracted FTEs","Podiatrists - Contracted FTEs","Physical Therapists - Contracted FTEs","Respiratory Therapists - Contracted FTEs","Speech Therapists/Pathologists - Contracted FTEs","Traditional Healers - Contracted FTEs","Other NON-BILLABLE Medical Providers - Contracted FTEs","Other Provider Type - Contracted FTEs","Other Provider Type - Contracted FTEs","Other Provider Type - Contracted FTEs","Other Provider Type - Contracted FTEs","Other Provider Type - Contracted FTEs","Sub - Total Other Health Services - Contracted FTEs","SUB-TOTAL MEDICAL - Contracted FTEs","General Dentists - Contracted FTEs","Dental Specialist (DMD-DDS) - Contracted FTEs","Dental Hygienists - Contracted FTEs","Other NON-BILLABLE Dental Providers - Contracted FTEs","Other Provider Type - Contracted FTEs","Other Provider Type - Contracted FTEs","Other Provider Type - Contracted FTEs","Other Provider Type - Contracted FTEs","Other Provider Type - Contracted FTEs","SUB - TOTAL DENTAL - Contracted FTEs","Psychiatrists - Contracted FTEs","Psychologists - Contracted FTEs","Licensed Independent Clinical Social Worker (LISCW) - Contracted FTEs","Licensed Clinical Social Worker (LCSW) - Contracted FTEs","Unlicensed Master of Social Worker (MSW) - Contracted FTEs","Licensed Mental Health Counselor (LMHC) - Contracted FTEs","Family Therapists - Contracted FTEs","Psychiatric Nurse Practitioner - Contracted FTEs","RNs - Psychiatric and Mental Health - Contracted FTEs","RN Nurse Counselors - Contracted FTEs","Unlicensed Mental Health Providers, including trainees (interns or residents) and \"Certified\" staff - Contracted FTEs","Sub - Total Mental Health - Contracted FTEs","RN Nurse Counselors - Contracted FTEs","Licensed Independent Clinical Social Worker (LISCW) - Contracted FTEs","Licensed Clinical Social Worker (LCSW) - Contracted FTEs","Unlicensed Master of Social Worker (MSW) - Contracted FTEs","Licensed Mental Health Counselor (LMHC) - Contracted FTEs","Family Therapists - Contracted FTEs","LADAC/CADAC - Contracted FTEs","Harm Reduction Specialist - Contracted FTEs","Recovery Coaches/Peer Support - Contracted FTEs","Other NON-BILLABLE BH Providers - Contracted FTEs","Other Provider Type - Contracted FTEs","Other Provider Type - Contracted FTEs","Other Provider Type - Contracted FTEs","Other Provider Type - Contracted FTEs","Other Provider Type - Contracted FTEs","Sub - Total Substance Abuse Services - Contracted FTEs","SUB-TOTAL BEHAVIORAL HEALTH - Contracted FTEs","TOTAL PROVIDERS - Contracted FTEs","Family Physicians - Billable Visits","General Practitioners - Billable Visits","Internists - Billable Visits","Obstetrician/Gynecologists - Billable Visits","Pediatricians - Billable Visits","Licensed Medical Residents - Billable Visits","Specialty Physicians - Billable Visits","Physician - OBAT - Billable Visits","Sub-Total Physicians Billable Visits","Nurse Practitioners - Billable Visits","Physician Assistants - Billable Visits","Certified Nurse Midwives - Billable Visits","Sub-Total Medical Billable Visits","Registered Nurses (RNs) - Billable Visits","RN - OBAT - Billable Visits","Licensed Practical Nurses - Billable Visits","Sub-Total Nurses Billable Visits","Ophthalmologists - Billable Visits","Optometrists - Billable Visits","Opticians - Billable Visits","Sub-Total Vision Billable Visits","Audiologists - Billable Visits","Acupuncturists - Billable Visits","Chiropractors - Billable Visits","Herbalists - Billable Visits","Massage Therapists - Billable Visits","Naturopaths - Billable Visits","Nutritionists/Dieticians - Billable Visits","Registered Dieticians - Billable Visits","Occupational Therapists - Billable Visits","Podiatrists - Billable Visits","Physical Therapists - Billable Visits","Respiratory Therapists - Billable Visits","Speech Therapists/Pathologists - Billable Visits","Traditional Healers - Billable Visits","Other NON-BILLABLE Medical Providers - Billable Visits","Other Provider Type - Billable Visits","Other Provider Type - Billable Visits","Other Provider Type - Billable Visits","Other Provider Type - Billable Visits","Other Provider Type - Billable Visits","Sub - Total Other Health Services - Billable Visits","SUB-TOTAL MEDICAL - Billable Visits","General Dentists - Billable Visits","Dental Specialist (DMD-DDS) - Billable Visits","Dental Hygienists - Billable Visits","Other NON-BILLABLE Dental Providers - Billable Visits","Other Provider Type - Billable Visits","Other Provider Type - Billable Visits","Other Provider Type - Billable Visits","Other Provider Type - Billable Visits","Other Provider Type - Billable Visits","SUB - TOTAL DENTAL - Billable Visits","Psychiatrists - Contracted FTEs","Psychologists - Contracted FTEs","Licensed Independent Clinical Social Worker (LISCW) - Contracted FTEs","Licensed Clinical Social Worker (LCSW) - Contracted FTEs","Unlicensed Master of Social Worker (MSW) - Contracted FTEs","Licensed Mental Health Counselor (LMHC) - Contracted FTEs","Family Therapists - Contracted FTEs","Psychiatric Nurse Practitioner - Contracted FTEs","RNs - Psychiatric and Mental Health - Contracted FTEs","RN Nurse Counselors - Contracted FTEs","Unlicensed Mental Health Providers, including trainees (interns or residents) and \"Certified\" staff - Contracted FTEs","Sub - Total Mental Health - Contracted FTEs","RN Nurse Counselors - Billable Visits","Licensed Independent Clinical Social Worker (LISCW) - Billable Visits","Licensed Clinical Social Worker (LCSW) - Billable Visits","Unlicensed Master of Social Worker (MSW) - Billable Visits","Licensed Mental Health Counselor (LMHC) - Billable Visits","Family Therapists - Billable Visits","LADAC/CADAC - Billable Visits","Harm Reduction Specialist - Billable Visits","Recovery Coaches/Peer Support - Billable Visits","Other NON-BILLABLE BH Providers - Billable Visits","Other Provider Type - Billable Visits","Other Provider Type - Billable Visits","Other Provider Type - Billable Visits","Other Provider Type - Billable Visits","Other Provider Type - Billable Visits","Sub - Total Substance Abuse Services - Billable Visits","SUB-TOTAL BEHAVIORAL HEALTH - Billable Visits","TOTAL PROVIDERS - Billable Visits","Nursing Director - Salary Expense","Nurse Managers - Salary Expense","Nurse Aides/Assistants (Certified and Uncertified) - Salary Expense","Clinic Aides/Medical Assistants (Certified and Uncertified Medical Technologists) - Salary Expense","Unlicensed Interns and Residents - Salary Expense","EMS/EMT Staff (not credentialed as a nurse) - Salary Expense","Co-op Practice Assistant - Salary Expense","Other Medical Staff - Salary Expense","Other Staff Type - Salary Expense","Other Staff Type - Salary Expense","Other Staff Type - Salary Expense","Other Staff Type - Salary Expense","Other Staff Type - Salary Expense","Sub-Total Other Medical Personnel - Salary Expense","Ophthalmologist/Optometric Assistants - Salary Expense","Ophthalmologist/Optometric Aides - Salary Expense","Ophthalmologist/Optometric Technicians - Salary Expense","Other Vision Staff  - Salary Expense","Other Staff Type - Salary Expense","Other Staff Type - Salary Expense","Other Staff Type - Salary Expense","Other Staff Type - Salary Expense","Other Staff Type - Salary Expense","Sub-Total Other Vision Staff - Salary Expense","SUB-TOTAL MEDICAL -  Salary Expense","Pathologists - Salary Expense","Medical Technologists - Salary Expense","Laboratory Technicians - Salary Expense","Laboratory Assistants - Salary Expense","Phlebotomists - Salary Expense","Other Laboratory Staff - Salary Expense","Other Staff Type - Salary Expense","Other Staff Type - Salary Expense","Other Staff Type - Salary Expense","Other Staff Type - Salary Expense","Other Staff Type - Salary Expense","Sub-Total Laboratory Personnel - Salary Expense","Radiologists - Salary Expense","X-Ray Technologists - Salary Expense","X-Ray Technicians - Salary Expense","Radiology Assistants - Salary Expense","Other Radiology Staff - Salary Expense","Other Staff Type - Salary Expense","Other Staff Type - Salary Expense","Other Staff Type - Salary Expense","Other Staff Type - Salary Expense","Other Staff Type - Salary Expense","Sub-Total X-Ray Personnel - Salary Expense","Pharmacists, Clinical Pharmacists - Salary Expense","Pharmacy Technicians - Salary Expense","Pharmacist Assistants - Salary Expense","Pharmacy Clerks - Salary Expense","Other Pharmacy Staff - Salary Expense","Other Staff Type - Salary Expense","Other Staff Type - Salary Expense","Other Staff Type - Salary Expense","Other Staff Type - Salary Expense","Other Staff Type - Salary Expense","Sub-Total Pharmacy Personnel - Salary Expense","SUB-TOTAL PHARMACY - Salary Expense","Director - Dental - Salary Expense","Managers - Dental - Salary Expense","Dental Assistants, Advanced Practice Dental Assistants - Salary Expense","Dental Technicians - Salary Expense","Dental Aides - Salary Expense","Dental Students - Salary Expense","Other Dental Staff - Salary Expense","Other Staff Type - Salary Expense","Other Staff Type - Salary Expense","Other Staff Type - Salary Expense","Other Staff Type - Salary Expense","Other Staff Type - Salary Expense","Sub-Total Other Dental - Salary Expense","SUB-TOTAL DENTAL - Salary Expense","Director - Mental Health - Salary Expense","Managers - Mental Health - Salary Expense","Director - Substance Use Disorder - Salary Expense","Managers - Substance Use Disorder - Salary Expense","Other BH Staff - Salary Expense","Other Staff Type - Salary Expense","Other Staff Type - Salary Expense","Other Staff Type - Salary Expense","Other Staff Type - Salary Expense","Other Staff Type - Salary Expense","Sub Total Other Behavioral Health - Salary Expense","SUB-TOTAL BEHAVIORAL HEALTH - Salary Expense","Case Managers - Salary Expense","Care/Referral Coordinators - Salary Expense","Patient Advocates - Salary Expense","Social Workers - Salary Expense","Public Health Nurses - Salary Expense","Home Health Nurses - Salary Expense","Visiting Nurses - Salary Expense","RN Case Manager - Salary Expense","LPN Case Manager - Salary Expense","Sub-Total Case Managers - Salary Expense","Family Planning Counselors - Salary Expense","Health Educators - Salary Expense","Social Workers - Salary Expense","Public Health Nurses - Salary Expense","Home Health Nurses - Salary Expense","Visiting Nurses - Salary Expense","Registered Nurses - Salary Expense","Licensed Practical Nurses - Salary Expense","Sub-Total Health Educators - Salary Expense","Outreach Workers - Salary Expense","Sub-Total Outreach Workers - Salary Expense","Patient Transportation Coordinators - Salary Expense","Drivers - Salary Expense","Sub-Total Patient Transportation Workers - Salary Expense","Benefit Assistance Workers - Salary Expense","Pharmacy Assistance Program Eligibility Workers - Salary Expense","Eligibility Workers - Salary Expense","Patient Navigators - Salary Expense","Patient Advocates - Salary Expense","Registration Clerks - Salary Expense","Sub-Total Eligibility Assistance Workers - Salary Expense","Interpreters - Salary Expense","Translators - Salary Expense","Sub-Total Interpretation - Salary Expense","Community Health Workers - Salary Expense","Community Health Advisors or Representatives - Salary Expense","Lay Health Advocates - Salary Expense","Promotoras - Salary Expense","Public Health Advocates (needle exchange) - Salary Expense","Sub-Total Community Health Workers - Salary Expense","Other Enabling Staff - Salary Expense","Other Enabling  Staff - Salary Expense","Other Enabling  Staff - Salary Expense","Other Enabling  Staff - Salary Expense","Other Enabling  Staff - Salary Expense","Other Enabling  Staff - Salary Expense","SUB-TOTAL ENABLING - Salary Expense","QI Director - Salary Expense","QI Nurses - Salary Expense","QI Technicians - Salary Expense","QI Data Specialists - Salary Expense","Statisticians, Analysts - Salary Expense","Quality Assurance/Quality Improvement and HIT/EHR Design and Operation Staff - Salary Expense","Sub-Total Quality Improvement Staff - Salary Expense","Chief Executive Officer/Executive Director - Salary Expense","Chief Financial Officer - Salary Expense","Chief Information Officer - Salary Expense","Chief Medical Officer - Salary Expense","Directors of Planning And Evaluation - Salary Expense","Project Directors COO - Salary Expense","General Counsel - Salary Expense","Chief HR Officer - Salary Expense","Compliance Officer - Salary Expense","Directors of Marketing - Salary Expense","     Sub-Total - Executive Management Team - Salary Expense","HR Director - Salary Expense","HR Managers - Salary Expense","Credentialing Staff - Salary Expense","     Sub-Total - Human Resources Team - Salary Expense","Secretaries - Salary Expense","Administrators - Salary Expense","Clerk Typists - Salary Expense","Receptionist - Salary Expense","Mail Room Staff - Salary Expense","Marketing Representatives - Salary Expense","     Sub-Total - Management Support Staff - Salary Expense","Finance Directors - Salary Expense","Accountants - Salary Expense","Bookkeepers - Salary Expense","Billing Manager - Salary Expense","Billing Clerks - Salary Expense","Coders - Salary Expense","Cashiers - Salary Expense","Purchasing Staff - Salary Expense","Data Entry Clerks - Salary Expense","     Sub-Total Fiscal & Billing Staff - Salary Expense","IT Directors - Salary Expense","IT Managers - Salary Expense","Directors of Data Processing - Salary Expense","Application Analysts - Salary Expense","Reporting Analysts - Salary Expense","Programmers - Salary Expense","PC Technicians - Salary Expense","IT Help Desk Technicians - Salary Expense","IT Help Desk Staff - Other than Technicians - Salary Expense","Telecom Staff - Salary Expense","Data Entry Clerks - Salary Expense","     Sub-Total - IT Staff - Salary Expense","Director - Patient Services - Salary Expense","Managers - Patient Services - Salary Expense","Medical and Dental Team Clerks - Salary Expense","Medical and Dental Team Secretaries - Salary Expense","Medical and Dental Appointment Clerks - Salary Expense","Medical and Dental Patient Records Clerks - Salary Expense","Patient Records Supervisors - Salary Expense","Patient Records Technicians - Salary Expense","Patient Record Clerks - Salary Expense","Patient Records Transcriptionist - Salary Expense","Registration Clerks - Salary Expense","Enrollment/Service Representatives - Salary Expense","Call/Contact Center Staff - Salary Expense","Appointment Clerks - Salary Expense","Sub-Total Patient Services Support Staff - Salary Expense","Other Administrative Staff  - Salary Expense","Other Staff Type - Salary Expense","Other Staff Type - Salary Expense","Other Staff Type - Salary Expense","Other Staff Type - Salary Expense","Other Staff Type - Salary Expense","Other Staff Type - Salary Expense","Other Staff Type - Salary Expense","Other Staff Type - Salary Expense","SUB-TOTAL ADMINISTRATIVE - Salary Expense","Director - Facilities - Salary Expense","Manager - Facilities - Salary Expense","Janitors/Custodians - Salary Expense","Security Guards - Salary Expense","Groundskeepers - Salary Expense","Equipment Maintenance Personnel - Salary Expense","Housekeeping Personnel - Salary Expense","Other Facility Staff  - Salary Expense","Other Staff Type - Salary Expense","Other Staff Type - Salary Expense","Other Staff Type - Salary Expense","Other Staff Type - Salary Expense","Other Staff Type - Salary Expense","Sub-Total Facility Staff - Salary Expense","SUB-TOTAL FACILITY - Salary Expense","TOTAL OF ALL ALLOWABLE STAFF - Salary Expense","WIC Workers - Salary Expense","Head Start Workers - Salary Expense","Housing Assistance Workers - Salary Expense","Child Care Workers - Salary Expense","Food Bank/Meal Delivery Workers - Salary Expense","Employment/Educational Counselors - Salary Expense","Exercise Trainers/Fitness Center staff - Salary Expense","Adult Day Health Care, Frail Elderly Support staff - Salary Expense","Fundraising/Development Staff - Salary Expense","PACE Personnel - Salary Expense","SCO Personnel - Salary Expense","Non-FQHC Sites - Salary Expense","Other Non-Allowable - Salary Expense","Other Staff Type - Salary Expense","Other Staff Type - Salary Expense","Other Staff Type - Salary Expense","Other Staff Type - Salary Expense","Other Staff Type - Salary Expense","Sub-Total Other Program/Services - Salary Expense","TOTAL OF ALL NON ALLOWABLE STAFF - Salary Expense","Total of All Allowable Staff - Tab 4 and Tab 5 - Salary Expense","Total of Non-Allowable Staff - Tab 5 - Salary Expense","ALL ALLOWABLE + NON-ALLOWABLE STAFF - Salary Expense","Nursing Director - Contractor Expense","Nurse Managers - Contractor Expense","Nurse Aides/Assistants (Certified and Uncertified) - Contractor Expense","Clinic Aides/Medical Assistants (Certified and Uncertified Medical Technologists) - Contractor Expense","Unlicensed Interns and Residents - Contractor Expense","EMS/EMT Staff (not credentialed as a nurse) - Contractor Expense","Co-op Practice Assistant - Contractor Expense","Other Medical Staff - Contractor Expense","Other Staff Type - Contractor Expense","Other Staff Type - Contractor Expense","Other Staff Type - Contractor Expense","Other Staff Type - Contractor Expense","Other Staff Type - Contractor Expense","Sub-Total Other Medical Personnel - Contractor Expense","Ophthalmologist/Optometric Assistants - Contractor Expense","Ophthalmologist/Optometric Aides - Contractor Expense","Ophthalmologist/Optometric Technicians - Contractor Expense","Other Vision Staff  - Contractor Expense","Other Staff Type - Contractor Expense","Other Staff Type - Contractor Expense","Other Staff Type - Contractor Expense","Other Staff Type - Contractor Expense","Other Staff Type - Contractor Expense","Sub-Total Other Vision Staff - Contractor Expense","SUB-TOTAL MEDICAL -  Contractor Expense","Pathologists - Contractor Expense","Medical Technologists - Contractor Expense","Laboratory Technicians - Contractor Expense","Laboratory Assistants - Contractor Expense","Phlebotomists - Contractor Expense","Other Laboratory Staff - Contractor Expense","Other Staff Type - Contractor Expense","Other Staff Type - Contractor Expense","Other Staff Type - Contractor Expense","Other Staff Type - Contractor Expense","Other Staff Type - Contractor Expense","Sub-Total Laboratory Personnel - Contractor Expense","Radiologists - Contractor Expense","X-Ray Technologists - Contractor Expense","X-Ray Technicians - Contractor Expense","Radiology Assistants - Contractor Expense","Other Radiology Staff - Contractor Expense","Other Staff Type - Contractor Expense","Other Staff Type - Contractor Expense","Other Staff Type - Contractor Expense","Other Staff Type - Contractor Expense","Other Staff Type - Contractor Expense","Sub-Total X-Ray Personnel - Contractor Expense","Pharmacists, Clinical Pharmacists - Contractor Expense","Pharmacy Technicians - Contractor Expense","Pharmacist Assistants - Contractor Expense","Pharmacy Clerks - Contractor Expense","Other Pharmacy Staff - Contractor Expense","Other Staff Type - Contractor Expense","Other Staff Type - Contractor Expense","Other Staff Type - Contractor Expense","Other Staff Type - Contractor Expense","Other Staff Type - Contractor Expense","Sub-Total Pharmacy Personnel - Contractor Expense","SUB-TOTAL PHARMACY - Contractor Expense","Director - Dental - Contractor Expense","Managers - Dental - Contractor Expense","Dental Assistants, Advanced Practice Dental Assistants - Contractor Expense","Dental Technicians - Contractor Expense","Dental Aides - Contractor Expense","Dental Students - Contractor Expense","Other Dental Staff - Contractor Expense","Other Staff Type - Contractor Expense","Other Staff Type - Contractor Expense","Other Staff Type - Contractor Expense","Other Staff Type - Contractor Expense","Other Staff Type - Contractor Expense","Sub-Total Other Dental - Contractor Expense","SUB-TOTAL DENTAL - Contractor Expense","Director - Mental Health - Contractor Expense","Managers - Mental Health - Contractor Expense","Director - Substance Use Disorder - Contractor Expense","Managers - Substance Use Disorder - Contractor Expense","Other BH Staff - Contractor Expense","Other Staff Type - Contractor Expense","Other Staff Type - Contractor Expense","Other Staff Type - Contractor Expense","Other Staff Type - Contractor Expense","Other Staff Type - Contractor Expense","Sub Total Other Behavioral Health - Contractor Expense","SUB-TOTAL BEHAVIORAL HEALTH - Contractor Expense","Case Managers - Contractor Expense","Care/Referral Coordinators - Contractor Expense","Patient Advocates - Contractor Expense","Social Workers - Contractor Expense","Public Health Nurses - Contractor Expense","Home Health Nurses - Contractor Expense","Visiting Nurses - Contractor Expense","RN Case Manager - Contractor Expense","LPN Case Manager - Contractor Expense","Sub-Total Case Managers - Contractor Expense","Family Planning Counselors - Contractor Expense","Health Educators - Contractor Expense","Social Workers - Contractor Expense","Public Health Nurses - Contractor Expense","Home Health Nurses - Contractor Expense","Visiting Nurses - Contractor Expense","Registered Nurses - Contractor Expense","Licensed Practical Nurses - Contractor Expense","Sub-Total Health Educators - Contractor Expense","Outreach Workers - Contractor Expense","Sub-Total Outreach Workers - Contractor Expense","Patient Transportation Coordinators - Contractor Expense","Drivers - Contractor Expense","Sub-Total Patient Transportation Workers - Contractor Expense","Benefit Assistance Workers - Contractor Expense","Pharmacy Assistance Program Eligibility Workers - Contractor Expense","Eligibility Workers - Contractor Expense","Patient Navigators - Contractor Expense","Patient Advocates - Contractor Expense","Registration Clerks - Contractor Expense","Sub-Total Eligibility Assistance Workers - Contractor Expense","Interpreters - Contractor Expense","Translators - Contractor Expense","Sub-Total Interpretation - Contractor Expense","Community Health Workers - Contractor Expense","Community Health Advisors or Representatives - Contractor Expense","Lay Health Advocates - Contractor Expense","Promotoras - Contractor Expense","Public Health Advocates (needle exchange) - Contractor Expense","Sub-Total Community Health Workers - Contractor Expense","Other Enabling Staff - Contractor Expense","Other Enabling  Staff - Contractor Expense","Other Enabling  Staff - Contractor Expense","Other Enabling  Staff - Contractor Expense","Other Enabling  Staff - Contractor Expense","Other Enabling  Staff - Contractor Expense","SUB-TOTAL ENABLING - Contractor Expense","QI Director - Contractor Expense","QI Nurses - Contractor Expense","QI Technicians - Contractor Expense","QI Data Specialists - Contractor Expense","Statisticians, Analysts - Contractor Expense","Quality Assurance/Quality Improvement and HIT/EHR Design and Operation Staff - Contractor Expense","Sub-Total Quality Improvement Staff - Contractor Expense","Chief Executive Officer/Executive Director - Contractor Expense","Chief Financial Officer - Contractor Expense","Chief Information Officer - Contractor Expense","Chief Medical Officer - Contractor Expense","Directors of Planning And Evaluation - Contractor Expense","Project Directors COO - Contractor Expense","General Counsel - Contractor Expense","Chief HR Officer - Contractor Expense","Compliance Officer - Contractor Expense","Directors of Marketing - Contractor Expense","     Sub-Total - Executive Management Team - Contractor Expense","HR Director - Contractor Expense","HR Managers - Contractor Expense","Credentialing Staff - Contractor Expense","     Sub-Total - Human Resources Team - Contractor Expense","Secretaries - Contractor Expense","Administrators - Contractor Expense","Clerk Typists - Contractor Expense","Receptionist - Contractor Expense","Mail Room Staff - Contractor Expense","Marketing Representatives - Contractor Expense","     Sub-Total - Management Support Staff - Contractor Expense","Finance Directors - Contractor Expense","Accountants - Contractor Expense","Bookkeepers - Contractor Expense","Billing Manager - Contractor Expense","Billing Clerks - Contractor Expense","Coders - Contractor Expense","Cashiers - Contractor Expense","Purchasing Staff - Contractor Expense","Data Entry Clerks - Contractor Expense","     Sub-Total Fiscal & Billing Staff - Contractor Expense","IT Directors - Contractor Expense","IT Managers - Contractor Expense","Directors of Data Processing - Contractor Expense","Application Analysts - Contractor Expense","Reporting Analysts - Contractor Expense","Programmers - Contractor Expense","PC Technicians - Contractor Expense","IT Help Desk Technicians - Contractor Expense","IT Help Desk Staff - Other than Technicians - Contractor Expense","Telecom Staff - Contractor Expense","Data Entry Clerks - Contractor Expense","     Sub-Total - IT Staff - Contractor Expense","Director - Patient Services - Contractor Expense","Managers - Patient Services - Contractor Expense","Medical and Dental Team Clerks - Contractor Expense","Medical and Dental Team Secretaries - Contractor Expense","Medical and Dental Appointment Clerks - Contractor Expense","Medical and Dental Patient Records Clerks - Contractor Expense","Patient Records Supervisors - Contractor Expense","Patient Records Technicians - Contractor Expense","Patient Record Clerks - Contractor Expense","Patient Records Transcriptionist - Contractor Expense","Registration Clerks - Contractor Expense","Enrollment/Service Representatives - Contractor Expense","Call/Contact Center Staff - Contractor Expense","Appointment Clerks - Contractor Expense","Sub-Total Patient Services Support Staff - Contractor Expense","Other Administrative Staff  - Contractor Expense","Other Staff Type - Contractor Expense","Other Staff Type - Contractor Expense","Other Staff Type - Contractor Expense","Other Staff Type - Contractor Expense","Other Staff Type - Contractor Expense","Other Staff Type - Contractor Expense","Other Staff Type - Contractor Expense","Other Staff Type - Contractor Expense","SUB-TOTAL ADMINISTRATIVE - Contractor Expense","Director - Facilities - Contractor Expense","Manager - Facilities - Contractor Expense","Janitors/Custodians - Contractor Expense","Security Guards - Contractor Expense","Groundskeepers - Contractor Expense","Equipment Maintenance Personnel - Contractor Expense","Housekeeping Personnel - Contractor Expense","Other Facility Staff  - Contractor Expense","Other Staff Type - Contractor Expense","Other Staff Type - Contractor Expense","Other Staff Type - Contractor Expense","Other Staff Type - Contractor Expense","Other Staff Type - Contractor Expense","Sub-Total Facility Staff - Contractor Expense","SUB-TOTAL FACILITY - Contractor Expense","TOTAL OF ALL ALLOWABLE STAFF - Contractor Expense","WIC Workers - Contractor Expense","Head Start Workers - Contractor Expense","Housing Assistance Workers - Contractor Expense","Child Care Workers - Contractor Expense","Food Bank/Meal Delivery Workers - Contractor Expense","Employment/Educational Counselors - Contractor Expense","Exercise Trainers/Fitness Center staff - Contractor Expense","Adult Day Health Care, Frail Elderly Support staff - Contractor Expense","Fundraising/Development Staff - Contractor Expense","PACE Personnel - Contractor Expense","SCO Personnel - Contractor Expense","Non-FQHC Sites - Contractor Expense","Other Non-Allowable - Contractor Expense","Other Staff Type - Contractor Expense","Other Staff Type - Contractor Expense","Other Staff Type - Contractor Expense","Other Staff Type - Contractor Expense","Other Staff Type - Contractor Expense","Sub-Total Other Program/Services - Contractor Expense","TOTAL OF ALL NON ALLOWABLE STAFF - Contractor Expense","Total of All Allowable Staff - Tab 4 and Tab 5 - Contractor Expense","Total of Non-Allowable Staff - Tab 5 - Contractor Expense","ALL ALLOWABLE + NON-ALLOWABLE STAFF - Contractor Expense","Nursing Director - Employee FTEs","Nurse Managers - Employee FTEs","Nurse Aides/Assistants (Certified and Uncertified) - Employee FTEs","Clinic Aides/Medical Assistants (Certified and Uncertified Medical Technologists) - Employee FTEs","Unlicensed Interns and Residents - Employee FTEs","EMS/EMT Staff (not credentialed as a nurse) - Employee FTEs","Co-op Practice Assistant - Employee FTEs","Other Medical Staff - Employee FTEs","Other Staff Type - Employee FTEs","Other Staff Type - Employee FTEs","Other Staff Type - Employee FTEs","Other Staff Type - Employee FTEs","Other Staff Type - Employee FTEs","Sub-Total Other Medical Personnel - Employee FTEs","Ophthalmologist/Optometric Assistants - Employee FTEs","Ophthalmologist/Optometric Aides - Employee FTEs","Ophthalmologist/Optometric Technicians - Employee FTEs","Other Vision Staff  - Employee FTEs","Other Staff Type - Employee FTEs","Other Staff Type - Employee FTEs","Other Staff Type - Employee FTEs","Other Staff Type - Employee FTEs","Other Staff Type - Employee FTEs","Sub-Total Other Vision Staff - Employee FTEs","SUB-TOTAL MEDICAL -  Employee FTEs","Pathologists - Employee FTEs","Medical Technologists - Employee FTEs","Laboratory Technicians - Employee FTEs","Laboratory Assistants - Employee FTEs","Phlebotomists - Employee FTEs","Other Laboratory Staff - Employee FTEs","Other Staff Type - Employee FTEs","Other Staff Type - Employee FTEs","Other Staff Type - Employee FTEs","Other Staff Type - Employee FTEs","Other Staff Type - Employee FTEs","Sub-Total Laboratory Personnel - Employee FTEs","Radiologists - Employee FTEs","X-Ray Technologists - Employee FTEs","X-Ray Technicians - Employee FTEs","Radiology Assistants - Employee FTEs","Other Radiology Staff - Employee FTEs","Other Staff Type - Employee FTEs","Other Staff Type - Employee FTEs","Other Staff Type - Employee FTEs","Other Staff Type - Employee FTEs","Other Staff Type - Employee FTEs","Sub-Total X-Ray Personnel - Employee FTEs","Pharmacists, Clinical Pharmacists - Employee FTEs","Pharmacy Technicians - Employee FTEs","Pharmacist Assistants - Employee FTEs","Pharmacy Clerks - Employee FTEs","Other Pharmacy Staff - Employee FTEs","Other Staff Type - Employee FTEs","Other Staff Type - Employee FTEs","Other Staff Type - Employee FTEs","Other Staff Type - Employee FTEs","Other Staff Type - Employee FTEs","Sub-Total Pharmacy Personnel - Employee FTEs","SUB-TOTAL PHARMACY - Employee FTEs","Director - Dental - Employee FTEs","Managers - Dental - Employee FTEs","Dental Assistants, Advanced Practice Dental Assistants - Employee FTEs","Dental Technicians - Employee FTEs","Dental Aides - Employee FTEs","Dental Students - Employee FTEs","Other Dental Staff - Employee FTEs","Other Staff Type - Employee FTEs","Other Staff Type - Employee FTEs","Other Staff Type - Employee FTEs","Other Staff Type - Employee FTEs","Other Staff Type - Employee FTEs","Sub-Total Other Dental - Employee FTEs","SUB-TOTAL DENTAL - Employee FTEs","Director - Mental Health - Employee FTEs","Managers - Mental Health - Employee FTEs","Director - Substance Use Disorder - Employee FTEs","Managers - Substance Use Disorder - Employee FTEs","Other BH Staff - Employee FTEs","Other Staff Type - Employee FTEs","Other Staff Type - Employee FTEs","Other Staff Type - Employee FTEs","Other Staff Type - Employee FTEs","Other Staff Type - Employee FTEs","Sub Total Other Behavioral Health - Employee FTEs","SUB-TOTAL BEHAVIORAL HEALTH - Employee FTEs","Case Managers - Employee FTEs","Care/Referral Coordinators - Employee FTEs","Patient Advocates - Employee FTEs","Social Workers - Employee FTEs","Public Health Nurses - Employee FTEs","Home Health Nurses - Employee FTEs","Visiting Nurses - Employee FTEs","RN Case Manager - Employee FTEs","LPN Case Manager - Employee FTEs","Sub-Total Case Managers - Employee FTEs","Family Planning Counselors - Employee FTEs","Health Educators - Employee FTEs","Social Workers - Employee FTEs","Public Health Nurses - Employee FTEs","Home Health Nurses - Employee FTEs","Visiting Nurses - Employee FTEs","Registered Nurses - Employee FTEs","Licensed Practical Nurses - Employee FTEs","Sub-Total Health Educators - Employee FTEs","Outreach Workers - Employee FTEs","Sub-Total Outreach Workers - Employee FTEs","Patient Transportation Coordinators - Employee FTEs","Drivers - Employee FTEs","Sub-Total Patient Transportation Workers - Employee FTEs","Benefit Assistance Workers - Employee FTEs","Pharmacy Assistance Program Eligibility Workers - Employee FTEs","Eligibility Workers - Employee FTEs","Patient Navigators - Employee FTEs","Patient Advocates - Employee FTEs","Registration Clerks - Employee FTEs","Sub-Total Eligibility Assistance Workers - Employee FTEs","Interpreters - Employee FTEs","Translators - Employee FTEs","Sub-Total Interpretation - Employee FTEs","Community Health Workers - Employee FTEs","Community Health Advisors or Representatives - Employee FTEs","Lay Health Advocates - Employee FTEs","Promotoras - Employee FTEs","Public Health Advocates (needle exchange) - Employee FTEs","Sub-Total Community Health Workers - Employee FTEs","Other Enabling Staff - Employee FTEs","Other Enabling  Staff - Employee FTEs","Other Enabling  Staff - Employee FTEs","Other Enabling  Staff - Employee FTEs","Other Enabling  Staff - Employee FTEs","Other Enabling  Staff - Employee FTEs","SUB-TOTAL ENABLING - Employee FTEs","QI Director - Employee FTEs","QI Nurses - Employee FTEs","QI Technicians - Employee FTEs","QI Data Specialists - Employee FTEs","Statisticians, Analysts - Employee FTEs","Quality Assurance/Quality Improvement and HIT/EHR Design and Operation Staff - Employee FTEs","Sub-Total Quality Improvement Staff - Employee FTEs","Chief Executive Officer/Executive Director - Employee FTEs","Chief Financial Officer - Employee FTEs","Chief Information Officer - Employee FTEs","Chief Medical Officer - Employee FTEs","Directors of Planning And Evaluation - Employee FTEs","Project Directors COO - Employee FTEs","General Counsel - Employee FTEs","Chief HR Officer - Employee FTEs","Compliance Officer - Employee FTEs","Directors of Marketing - Employee FTEs","Sub-Total - Executive Management Team - Employee FTEs","HR Director - Employee FTEs","HR Managers - Employee FTEs","Credentialing Staff - Employee FTEs","     Sub-Total - Human Resources Team - Employee FTEs","Secretaries - Employee FTEs","Administrators - Employee FTEs","Clerk Typists - Employee FTEs","Receptionist - Employee FTEs","Mail Room Staff - Employee FTEs","Marketing Representatives - Employee FTEs","     Sub-Total - Management Support Staff - Employee FTEs","Finance Directors - Employee FTEs","Accountants - Employee FTEs","Bookkeepers - Employee FTEs","Billing Manager - Employee FTEs","Billing Clerks - Employee FTEs","Coders - Employee FTEs","Cashiers - Employee FTEs","Purchasing Staff - Employee FTEs","Data Entry Clerks - Employee FTEs","     Sub-Total Fiscal & Billing Staff - Employee FTEs","IT Directors - Employee FTEs","IT Managers - Employee FTEs","Directors of Data Processing - Employee FTEs","Application Analysts - Employee FTEs","Reporting Analysts - Employee FTEs","Programmers - Employee FTEs","PC Technicians - Employee FTEs","IT Help Desk Technicians - Employee FTEs","IT Help Desk Staff - Other than Technicians - Employee FTEs","Telecom Staff - Employee FTEs","Data Entry Clerks - Employee FTEs","     Sub-Total - IT Staff - Employee FTEs","Director - Patient Services - Employee FTEs","Managers - Patient Services - Employee FTEs","Medical and Dental Team Clerks - Employee FTEs","Medical and Dental Team Secretaries - Employee FTEs","Medical and Dental Appointment Clerks - Employee FTEs","Medical and Dental Patient Records Clerks - Employee FTEs","Patient Records Supervisors - Employee FTEs","Patient Records Technicians - Employee FTEs","Patient Record Clerks - Employee FTEs","Patient Records Transcriptionist - Employee FTEs","Registration Clerks - Employee FTEs","Enrollment/Service Representatives - Employee FTEs","Call/Contact Center Staff - Employee FTEs","Appointment Clerks - Employee FTEs","Sub-Total Patient Services Support Staff - Employee FTEs","Other Administrative Staff  - Employee FTEs","Other Staff Type - Employee FTEs","Other Staff Type - Employee FTEs","Other Staff Type - Employee FTEs","Other Staff Type - Employee FTEs","Other Staff Type - Employee FTEs","Other Staff Type - Employee FTEs","Other Staff Type - Employee FTEs","Other Staff Type - Employee FTEs","SUB-TOTAL ADMINISTRATIVE - Employee FTEs","Director - Facilities - Employee FTEs","Manager - Facilities - Employee FTEs","Janitors/Custodians - Employee FTEs","Security Guards - Employee FTEs","Groundskeepers - Employee FTEs","Equipment Maintenance Personnel - Employee FTEs","Housekeeping Personnel - Employee FTEs","Other Facility Staff  - Employee FTEs","Other Staff Type - Employee FTEs","Other Staff Type - Employee FTEs","Other Staff Type - Employee FTEs","Other Staff Type - Employee FTEs","Other Staff Type - Employee FTEs","Sub-Total Facility Staff - Employee FTEs","SUB-TOTAL FACILITY - Employee FTEs","TOTAL OF ALL ALLOWABLE STAFF - Employee FTEs","WIC Workers - Employee FTEs","Head Start Workers - Employee FTEs","Housing Assistance Workers - Employee FTEs","Child Care Workers - Employee FTEs","Food Bank/Meal Delivery Workers - Employee FTEs","Employment/Educational Counselors - Employee FTEs","Exercise Trainers/Fitness Center staff - Employee FTEs","Adult Day Health Care, Frail Elderly Support staff - Employee FTEs","Fundraising/Development Staff - Employee FTEs","PACE Personnel - Employee FTEs","SCO Personnel - Employee FTEs","Non-FQHC Sites - Employee FTEs","Other Non-Allowable - Employee FTEs","Other Staff Type - Employee FTEs","Other Staff Type - Employee FTEs","Other Staff Type - Employee FTEs","Other Staff Type - Employee FTEs","Other Staff Type - Employee FTEs","Sub-Total Other Program/Services - Employee FTEs","TOTAL OF ALL NON ALLOWABLE STAFF - Employee FTEs","Total of All Allowable Staff - Tab 4 and Tab 5 - Employee FTEs","Total of Non-Allowable Staff - Tab 5 - Employee FTEs","ALL ALLOWABLE + NON-ALLOWABLE STAFF - Employee FTEs","Nursing Director - Contractor FTEs","Nurse Managers - Contractor FTEs","Nurse Aides/Assistants (Certified and Uncertified) - Contractor FTEs","Clinic Aides/Medical Assistants (Certified and Uncertified Medical Technologists) - Contractor FTEs","Unlicensed Interns and Residents - Contractor FTEs","EMS/EMT Staff (not credentialed as a nurse) - Contractor FTEs","Co-op Practice Assistant - Contractor FTEs","Other Medical Staff - Contractor FTEs","Other Staff Type - Contractor FTEs","Other Staff Type - Contractor FTEs","Other Staff Type - Contractor FTEs","Other Staff Type - Contractor FTEs","Other Staff Type - Contractor FTEs","Sub-Total Other Medical Personnel - Contractor FTEs","Ophthalmologist/Optometric Assistants - Contractor FTEs","Ophthalmologist/Optometric Aides - Contractor FTEs","Ophthalmologist/Optometric Technicians - Contractor FTEs","Other Vision Staff  - Contractor FTEs","Other Staff Type - Contractor FTEs","Other Staff Type - Contractor FTEs","Other Staff Type - Contractor FTEs","Other Staff Type - Contractor FTEs","Other Staff Type - Contractor FTEs","Sub-Total Other Vision Staff - Contractor FTEs","SUB-TOTAL MEDICAL -  Contractor FTEs","Pathologists - Contractor FTEs","Medical Technologists - Contractor FTEs","Laboratory Technicians - Contractor FTEs","Laboratory Assistants - Contractor FTEs","Phlebotomists - Contractor FTEs","Other Laboratory Staff - Contractor FTEs","Other Staff Type - Contractor FTEs","Other Staff Type - Contractor FTEs","Other Staff Type - Contractor FTEs","Other Staff Type - Contractor FTEs","Other Staff Type - Contractor FTEs","Sub-Total Laboratory Personnel - Contractor FTEs","Radiologists - Contractor FTEs","X-Ray Technologists - Contractor FTEs","X-Ray Technicians - Contractor FTEs","Radiology Assistants - Contractor FTEs","Other Radiology Staff - Contractor FTEs","Other Staff Type - Contractor FTEs","Other Staff Type - Contractor FTEs","Other Staff Type - Contractor FTEs","Other Staff Type - Contractor FTEs","Other Staff Type - Contractor FTEs","Sub-Total X-Ray Personnel - Contractor FTEs","Pharmacists, Clinical Pharmacists - Contractor FTEs","Pharmacy Technicians - Contractor FTEs","Pharmacist Assistants - Contractor FTEs","Pharmacy Clerks - Contractor FTEs","Other Pharmacy Staff - Contractor FTEs","Other Staff Type - Contractor FTEs","Other Staff Type - Contractor FTEs","Other Staff Type - Contractor FTEs","Other Staff Type - Contractor FTEs","Other Staff Type - Contractor FTEs","Sub-Total Pharmacy Personnel - Contractor FTEs","SUB-TOTAL PHARMACY - Contractor FTEs","Director - Dental - Contractor FTEs","Managers - Dental - Contractor FTEs","Dental Assistants, Advanced Practice Dental Assistants - Contractor FTEs","Dental Technicians - Contractor FTEs","Dental Aides - Contractor FTEs","Dental Students - Contractor FTEs","Other Dental Staff - Contractor FTEs","Other Staff Type - Contractor FTEs","Other Staff Type - Contractor FTEs","Other Staff Type - Contractor FTEs","Other Staff Type - Contractor FTEs","Other Staff Type - Contractor FTEs","Sub-Total Other Dental - Contractor FTEs","SUB-TOTAL DENTAL - Contractor FTEs","Director - Mental Health - Contractor FTEs","Managers - Mental Health - Contractor FTEs","Director - Substance Use Disorder - Contractor FTEs","Managers - Substance Use Disorder - Contractor FTEs","Other BH Staff - Contractor FTEs","Other Staff Type - Contractor FTEs","Other Staff Type - Contractor FTEs","Other Staff Type - Contractor FTEs","Other Staff Type - Contractor FTEs","Other Staff Type - Contractor FTEs","Sub Total Other Behavioral Health - Contractor FTEs","SUB-TOTAL BEHAVIORAL HEALTH - Contractor FTEs","Case Managers - Contractor FTEs","Care/Referral Coordinators - Contractor FTEs","Patient Advocates - Contractor FTEs","Social Workers - Contractor FTEs","Public Health Nurses - Contractor FTEs","Home Health Nurses - Contractor FTEs","Visiting Nurses - Contractor FTEs","RN Case Manager - Contractor FTEs","LPN Case Manager - Contractor FTEs","Sub-Total Case Managers - Contractor FTEs","Family Planning Counselors - Contractor FTEs","Health Educators - Contractor FTEs","Social Workers - Contractor FTEs","Public Health Nurses - Contractor FTEs","Home Health Nurses - Contractor FTEs","Visiting Nurses - Contractor FTEs","Registered Nurses - Contractor FTEs","Licensed Practical Nurses - Contractor FTEs","Sub-Total Health Educators - Contractor FTEs","Outreach Workers - Contractor FTEs","Sub-Total Outreach Workers - Contractor FTEs","Patient Transportation Coordinators - Contractor FTEs","Drivers - Contractor FTEs","Sub-Total Patient Transportation Workers - Contractor FTEs","Benefit Assistance Workers - Contractor FTEs","Pharmacy Assistance Program Eligibility Workers - Contractor FTEs","Eligibility Workers - Contractor FTEs","Patient Navigators - Contractor FTEs","Patient Advocates - Contractor FTEs","Registration Clerks - Contractor FTEs","Sub-Total Eligibility Assistance Workers - Contractor FTEs","Interpreters - Contractor FTEs","Translators - Contractor FTEs","Sub-Total Interpretation - Contractor FTEs","Community Health Workers - Contractor FTEs","Community Health Advisors or Representatives - Contractor FTEs","Lay Health Advocates - Contractor FTEs","Promotoras - Contractor FTEs","Public Health Advocates (needle exchange) - Contractor FTEs","Sub-Total Community Health Workers - Contractor FTEs","Other Enabling Staff - Contractor FTEs","Other Enabling  Staff - Contractor FTEs","Other Enabling  Staff - Contractor FTEs","Other Enabling  Staff - Contractor FTEs","Other Enabling  Staff - Contractor FTEs","Other Enabling  Staff - Contractor FTEs","SUB-TOTAL ENABLING - Contractor FTEs","QI Director - Contractor FTEs","QI Nurses - Contractor FTEs","QI Technicians - Contractor FTEs","QI Data Specialists - Contractor FTEs","Statisticians, Analysts - Contractor FTEs","Quality Assurance/Quality Improvement and HIT/EHR Design and Operation Staff - Contractor FTEs","Sub-Total Quality Improvement Staff - Contractor FTEs","Chief Executive Officer/Executive Director - Contractor FTEs","Chief Financial Officer - Contractor FTEs","Chief Information Officer - Contractor FTEs","Chief Medical Officer - Contractor FTEs","Directors of Planning And Evaluation - Contractor FTEs","Project Directors COO - Contractor FTEs","General Counsel - Contractor FTEs","Chief HR Officer - Contractor FTEs","Compliance Officer - Contractor FTEs","Directors of Marketing - Contractor FTEs","Sub-Total - Executive Management Team - Contractor FTEs","HR Director - Contractor FTEs","HR Managers - Contractor FTEs","Credentialing Staff - Contractor FTEs","     Sub-Total - Human Resources Team - Contractor FTEs","Secretaries - Contractor FTEs","Administrators - Contractor FTEs","Clerk Typists - Contractor FTEs","Receptionist - Contractor FTEs","Mail Room Staff - Contractor FTEs","Marketing Representatives - Contractor FTEs","     Sub-Total - Management Support Staff - Contractor FTEs","Finance Directors - Contractor FTEs","Accountants - Contractor FTEs","Bookkeepers - Contractor FTEs","Billing Manager - Contractor FTEs","Billing Clerks - Contractor FTEs","Coders - Contractor FTEs","Cashiers - Contractor FTEs","Purchasing Staff - Contractor FTEs","Data Entry Clerks - Contractor FTEs","     Sub-Total Fiscal & Billing Staff - Contractor FTEs","IT Directors - Contractor FTEs","IT Managers - Contractor FTEs","Directors of Data Processing - Contractor FTEs","Application Analysts - Contractor FTEs","Reporting Analysts - Contractor FTEs","Programmers - Contractor FTEs","PC Technicians - Contractor FTEs","IT Help Desk Technicians - Contractor FTEs","IT Help Desk Staff - Other than Technicians - Contractor FTEs","Telecom Staff - Contractor FTEs","Data Entry Clerks - Contractor FTEs","     Sub-Total - IT Staff - Contractor FTEs","Director - Patient Services - Contractor FTEs","Managers - Patient Services - Contractor FTEs","Medical and Dental Team Clerks - Contractor FTEs","Medical and Dental Team Secretaries - Contractor FTEs","Medical and Dental Appointment Clerks - Contractor FTEs","Medical and Dental Patient Records Clerks - Contractor FTEs","Patient Records Supervisors - Contractor FTEs","Patient Records Technicians - Contractor FTEs","Patient Record Clerks - Contractor FTEs","Patient Records Transcriptionist - Contractor FTEs","Registration Clerks - Contractor FTEs","Enrollment/Service Representatives - Contractor FTEs","Call/Contact Center Staff - Contractor FTEs","Appointment Clerks - Contractor FTEs","Sub-Total Patient Services Support Staff - Contractor FTEs","Other Administrative Staff  - Contractor FTEs","Other Staff Type - Contractor FTEs","Other Staff Type - Contractor FTEs","Other Staff Type - Contractor FTEs","Other Staff Type - Contractor FTEs","Other Staff Type - Contractor FTEs","Other Staff Type - Contractor FTEs","Other Staff Type - Contractor FTEs","Other Staff Type - Contractor FTEs","SUB-TOTAL ADMINISTRATIVE - Contractor FTEs","Director - Facilities - Contractor FTEs","Manager - Facilities - Contractor FTEs","Janitors/Custodians - Contractor FTEs","Security Guards - Contractor FTEs","Groundskeepers - Contractor FTEs","Equipment Maintenance Personnel - Contractor FTEs","Housekeeping Personnel - Contractor FTEs","Other Facility Staff  - Contractor FTEs","Other Staff Type - Contractor FTEs","Other Staff Type - Contractor FTEs","Other Staff Type - Contractor FTEs","Other Staff Type - Contractor FTEs","Other Staff Type - Contractor FTEs","Sub-Total Facility Staff - Contractor FTEs","SUB-TOTAL FACILITY - Contractor FTEs","TOTAL OF ALL ALLOWABLE STAFF - Contractor FTEs","WIC Workers - Contractor FTEs","Head Start Workers - Contractor FTEs","Housing Assistance Workers - Contractor FTEs","Child Care Workers - Contractor FTEs","Food Bank/Meal Delivery Workers - Contractor FTEs","Employment/Educational Counselors - Contractor FTEs","Exercise Trainers/Fitness Center staff - Contractor FTEs","Adult Day Health Care, Frail Elderly Support staff - Contractor FTEs","Fundraising/Development Staff - Contractor FTEs","PACE Personnel - Contractor FTEs","SCO Personnel - Contractor FTEs","Non-FQHC Sites - Contractor FTEs","Other Non-Allowable - Contractor FTEs","Other Staff Type - Contractor FTEs","Other Staff Type - Contractor FTEs","Other Staff Type - Contractor FTEs","Other Staff Type - Contractor FTEs","Other Staff Type - Contractor FTEs","Sub-Total Other Program/Services - Contractor FTEs","TOTAL OF ALL NON ALLOWABLE STAFF - Contractor FTEs","Total of All Allowable Staff - Tab 4 and Tab 5 - Contractor FTEs","Total of Non-Allowable Staff - Tab 5 - Contractor FTEs","ALL ALLOWABLE + NON-ALLOWABLE STAFF - Contractor FTEs","FICA - Annual Benefit Amount","Health Insurance - Annual Benefit Amount","Retirement Plan - Annual Benefit Amount","Workman's Comp - Annual Benefit Amount","Unemployment - Annual Benefit Amount","Disability - Annual Benefit Amount","Other Union Benefits - Annual Benefit Amount","Other (Metropolitan Commuter Trans) - Annual Benefit Amount","Other (Uniform Allowance) - Annual Benefit Amount","Other (Life Insurance) - Annual Benefit Amount","Other (please specify) - Annual Benefit Amount","TOTAL BENEFITS - Annual Benefit Amount","FICA - Percentage of Total Allowable and Non-Allowable Staff Costs","Health Insurance - Percentage of Total Allowable and Non-Allowable Staff Costs","Retirement Plan - Percentage of Total Allowable and Non-Allowable Staff Costs","Workman's Comp - Percentage of Total Allowable and Non-Allowable Staff Costs","Unemployment - Percentage of Total Allowable and Non-Allowable Staff Costs","Disability - Percentage of Total Allowable and Non-Allowable Staff Costs","Other Union Benefits - Percentage of Total Allowable and Non-Allowable Staff Costs","Other (Metropolitan Commuter Trans) - Percentage of Total Allowable and Non-Allowable Staff Costs","Other (Uniform Allowance) - Percentage of Total Allowable and Non-Allowable Staff Costs","Other (Life Insurance) - Percentage of Total Allowable and Non-Allowable Staff Costs","Other (please specify) - Percentage of Total Allowable and Non-Allowable Staff Costs","TOTAL BENEFITS - Percentage of Total Allowable and Non-Allowable Staff Costs","Operating Expenses - Medical: Insurance","Operating Expenses - Medical: Consumable Supplies","Operating Expenses - Medical: Repairs and Maintenance","Operating Expenses - Medical: Travel, Conference and Meeting Expenses","Operating Expenses - Medical: Dues and Subscriptions","Operating Expenses - Medical: Utilities","Operating Expenses - Medical: Interest Expense (Operating)","Operating Expenses - Medical: Postage & Supplies","Operating Expenses - Medical: Professional Services","Operating Expenses - Medical: Staff Training","Operating Expenses - Medical: Contracted Services","Operating Expenses - Medical: Publishing, Printing and Mailing","Operating Expenses - Medical: Telephone & Pagers/Communications","Operating Expenses - Medical: Personnel Recruitment","Operating Expenses - Medical: Promotion/Advertising","Operating Expenses - Medical: Other Operating Costs","Operating Expenses - Behavioral Health & Substance Abuse: Insurance","Operating Expenses - Behavioral Health & Substance Abuse: Consumable Supplies","Operating Expenses - Behavioral Health & Substance Abuse: Repairs and Maintenance","Operating Expenses - Behavioral Health & Substance Abuse: Travel, Conference and Meeting Expenses","Operating Expenses - Behavioral Health & Substance Abuse: Dues and Subscriptions","Operating Expenses - Behavioral Health & Substance Abuse: Utilities","Operating Expenses - Behavioral Health & Substance Abuse: Interest Expense (Operating)","Operating Expenses - Behavioral Health & Substance Abuse: Postage & Supplies","Operating Expenses - Behavioral Health & Substance Abuse: Professional Services","Operating Expenses - Behavioral Health & Substance Abuse: Staff Training","Operating Expenses - Behavioral Health & Substance Abuse: Contracted Services","Operating Expenses - Behavioral Health & Substance Abuse: Publishing, Printing and Mailing","Operating Expenses - Behavioral Health & Substance Abuse: Telephone & Pagers/Communications","Operating Expenses - Behavioral Health & Substance Abuse: Personnel Recruitment","Operating Expenses - Behavioral Health & Substance Abuse: Promotion/Advertising","Operating Expenses - Behavioral Health & Substance Abuse: Other Operating Costs","Operating Expenses - Dental: Insurance","Operating Expenses - Dental: Consumable Supplies","Operating Expenses - Dental: Repairs and Maintenance","Operating Expenses - Dental: Travel, Conference and Meeting Expenses","Operating Expenses - Dental: Dues and Subscriptions","Operating Expenses - Dental: Utilities","Operating Expenses - Dental: Interest Expense (Operating)","Operating Expenses - Dental: Postage & Supplies","Operating Expenses - Dental: Professional Services","Operating Expenses - Dental: Staff Training","Operating Expenses - Dental: Contracted Services","Operating Expenses - Dental: Publishing, Printing and Mailing","Operating Expenses - Dental: Telephone & Pagers/Communications","Operating Expenses - Dental: Personnel Recruitment","Operating Expenses - Dental: Promotion/Advertising","Operating Expenses - Dental: Other Operating Costs","Operating Expenses - Vision: Insurance","Operating Expenses - Vision: Consumable Supplies","Operating Expenses - Vision: Repairs and Maintenance","Operating Expenses - Vision: Travel, Conference and Meeting Expenses","Operating Expenses - Vision: Dues and Subscriptions","Operating Expenses - Vision: Utilities","Operating Expenses - Vision: Interest Expense (Operating)","Operating Expenses - Vision: Postage & Supplies","Operating Expenses - Vision: Professional Services","Operating Expenses - Vision: Staff Training","Operating Expenses - Vision: Contracted Services","Operating Expenses - Vision: Publishing, Printing and Mailing","Operating Expenses - Vision: Telephone & Pagers/Communications","Operating Expenses - Vision: Personnel Recruitment","Operating Expenses - Vision: Promotion/Advertising","Operating Expenses - Vision: Other Operating Costs","Operating Expenses - Laboratory: Insurance","Operating Expenses - Laboratory: Consumable Supplies","Operating Expenses - Laboratory: Repairs and Maintenance","Operating Expenses - Laboratory: Travel, Conference and Meeting Expenses","Operating Expenses - Laboratory: Dues and Subscriptions","Operating Expenses - Laboratory: Utilities","Operating Expenses - Laboratory: Interest Expense (Operating)","Operating Expenses - Laboratory: Postage & Supplies","Operating Expenses - Laboratory: Professional Services","Operating Expenses - Laboratory: Staff Training","Operating Expenses - Laboratory: Contracted Services","Operating Expenses - Laboratory: Publishing, Printing and Mailing","Operating Expenses - Laboratory: Telephone & Pagers/Communications","Operating Expenses - Laboratory: Personnel Recruitment","Operating Expenses - Laboratory: Promotion/Advertising","Operating Expenses - Laboratory: Other Operating Costs","Operating Expenses - X-Ray: Insurance","Operating Expenses - X-Ray: Consumable Supplies","Operating Expenses - X-Ray: Repairs and Maintenance","Operating Expenses - X-Ray: Travel, Conference and Meeting Expenses","Operating Expenses - X-Ray: Dues and Subscriptions","Operating Expenses - X-Ray: Utilities","Operating Expenses - X-Ray: Interest Expense (Operating)","Operating Expenses - X-Ray: Postage & Supplies","Operating Expenses - X-Ray: Professional Services","Operating Expenses - X-Ray: Staff Training","Operating Expenses - X-Ray: Contracted Services","Operating Expenses - X-Ray: Publishing, Printing and Mailing","Operating Expenses - X-Ray: Telephone & Pagers/Communications","Operating Expenses - X-Ray: Personnel Recruitment","Operating Expenses - X-Ray: Promotion/Advertising","Operating Expenses - X-Ray: Other Operating Costs","Operating Expenses - Pharmacy: Insurance","Operating Expenses - Pharmacy: Consumable Supplies","Operating Expenses - Pharmacy: Repairs and Maintenance","Operating Expenses - Pharmacy: Travel, Conference and Meeting Expenses","Operating Expenses - Pharmacy: Dues and Subscriptions","Operating Expenses - Pharmacy: Utilities","Operating Expenses - Pharmacy: Interest Expense (Operating)","Operating Expenses - Pharmacy: Postage & Supplies","Operating Expenses - Pharmacy: Professional Services","Operating Expenses - Pharmacy: Staff Training","Operating Expenses - Pharmacy: Contracted Services","Operating Expenses - Pharmacy: Publishing, Printing and Mailing","Operating Expenses - Pharmacy: Telephone & Pagers/Communications","Operating Expenses - Pharmacy: Personnel Recruitment","Operating Expenses - Pharmacy: Promotion/Advertising","Operating Expenses - Pharmacy: Other Operating Costs","Operating Expenses - Enabling: Insurance","Operating Expenses - Enabling: Consumable Supplies","Operating Expenses - Enabling: Repairs and Maintenance","Operating Expenses - Enabling: Travel, Conference and Meeting Expenses","Operating Expenses - Enabling: Dues and Subscriptions","Operating Expenses - Enabling: Utilities","Operating Expenses - Enabling: Interest Expense (Operating)","Operating Expenses - Enabling: Postage & Supplies","Operating Expenses - Enabling: Professional Services","Operating Expenses - Enabling: Staff Training","Operating Expenses - Enabling: Contracted Services","Operating Expenses - Enabling: Publishing, Printing and Mailing","Operating Expenses - Enabling: Telephone & Pagers/Communications","Operating Expenses - Enabling: Personnel Recruitment","Operating Expenses - Enabling: Promotion/Advertising","Operating Expenses - Enabling: Other Operating Costs","Operating Expenses - Admin: Insurance","Operating Expenses - Admin: Consumable Supplies","Operating Expenses - Admin: Repairs and Maintenance","Operating Expenses - Admin: Travel, Conference and Meeting Expenses","Operating Expenses - Admin: Dues and Subscriptions","Operating Expenses - Admin: Utilities","Operating Expenses - Admin: Interest Expense (Operating)","Operating Expenses - Admin: Postage & Supplies","Operating Expenses - Admin: Professional Services","Operating Expenses - Admin: Staff Training","Operating Expenses - Admin: Contracted Services","Operating Expenses - Admin: Publishing, Printing and Mailing","Operating Expenses - Admin: Telephone & Pagers/Communications","Operating Expenses - Admin: Personnel Recruitment","Operating Expenses - Admin: Promotion/Advertising","Operating Expenses - Admin: Other Operating Costs","Operating Expenses - Facility: Insurance","Operating Expenses - Facility: Consumable Supplies","Operating Expenses - Facility: Repairs and Maintenance","Operating Expenses - Facility: Travel, Conference and Meeting Expenses","Operating Expenses - Facility: Dues and Subscriptions","Operating Expenses - Facility: Utilities","Operating Expenses - Facility: Interest Expense (Operating)","Operating Expenses - Facility: Postage & Supplies","Operating Expenses - Facility: Professional Services","Operating Expenses - Facility: Staff Training","Operating Expenses - Facility: Contracted Services","Operating Expenses - Facility: Publishing, Printing and Mailing","Operating Expenses - Facility: Telephone & Pagers/Communications","Operating Expenses - Facility: Personnel Recruitment","Operating Expenses - Facility: Promotion/Advertising","Operating Expenses - Facility: Other Operating Costs","Operating Expenses - Total Allowable: Insurance","Operating Expenses - Total Allowable: Consumable Supplies","Operating Expenses - Total Allowable: Repairs and Maintenance","Operating Expenses - Total Allowable: Travel, Conference and Meeting Expenses","Operating Expenses - Total Allowable: Dues and Subscriptions","Operating Expenses - Total Allowable: Utilities","Operating Expenses - Total Allowable: Interest Expense (Operating)","Operating Expenses - Total Allowable: Postage & Supplies","Operating Expenses - Total Allowable: Professional Services","Operating Expenses - Total Allowable: Staff Training","Operating Expenses - Total Allowable: Contracted Services","Operating Expenses - Total Allowable: Publishing, Printing and Mailing","Operating Expenses - Total Allowable: Telephone & Pagers/Communications","Operating Expenses - Total Allowable: Personnel Recruitment","Operating Expenses - Total Allowable: Promotion/Advertising","Operating Expenses - Total Allowable: Other Operating Costs","Operating Expenses - WIC: Insurance","Operating Expenses - WIC: Consumable Supplies","Operating Expenses - WIC: Repairs and Maintenance","Operating Expenses - WIC: Travel, Conference and Meeting Expenses","Operating Expenses - WIC: Dues and Subscriptions","Operating Expenses - WIC: Utilities","Operating Expenses - WIC: Interest Expense (Operating)","Operating Expenses - WIC: Postage & Supplies","Operating Expenses - WIC: Professional Services","Operating Expenses - WIC: Staff Training","Operating Expenses - WIC: Contracted Services","Operating Expenses - WIC: Publishing, Printing and Mailing","Operating Expenses - WIC: Telephone & Pagers/Communications","Operating Expenses - WIC: Personnel Recruitment","Operating Expenses - WIC: Promotion/Advertising","Operating Expenses - WIC: Other Operating Costs","Operating Expenses - Non-FQHC Sites: Insurance","Operating Expenses - Non-FQHC Sites: Consumable Supplies","Operating Expenses - Non-FQHC Sites: Repairs and Maintenance","Operating Expenses - Non-FQHC Sites: Travel, Conference and Meeting Expenses","Operating Expenses - Non-FQHC Sites: Dues and Subscriptions","Operating Expenses - Non-FQHC Sites: Utilities","Operating Expenses - Non-FQHC Sites: Interest Expense (Operating)","Operating Expenses - Non-FQHC Sites: Postage & Supplies","Operating Expenses - Non-FQHC Sites: Professional Services","Operating Expenses - Non-FQHC Sites: Staff Training","Operating Expenses - Non-FQHC Sites: Contracted Services","Operating Expenses - Non-FQHC Sites: Publishing, Printing and Mailing","Operating Expenses - Non-FQHC Sites: Telephone & Pagers/Communications","Operating Expenses - Non-FQHC Sites: Personnel Recruitment","Operating Expenses - Non-FQHC Sites: Promotion/Advertising","Operating Expenses - Non-FQHC Sites: Other Operating Costs","Operating Expenses - PACE Program: Insurance","Operating Expenses - PACE Program: Consumable Supplies","Operating Expenses - PACE Program: Repairs and Maintenance","Operating Expenses - PACE Program: Travel, Conference and Meeting Expenses","Operating Expenses - PACE Program: Dues and Subscriptions","Operating Expenses - PACE Program: Utilities","Operating Expenses - PACE Program: Interest Expense (Operating)","Operating Expenses - PACE Program: Postage & Supplies","Operating Expenses - PACE Program: Professional Services","Operating Expenses - PACE Program: Staff Training","Operating Expenses - PACE Program: Contracted Services","Operating Expenses - PACE Program: Publishing, Printing and Mailing","Operating Expenses - PACE Program: Telephone & Pagers/Communications","Operating Expenses - PACE Program: Personnel Recruitment","Operating Expenses - PACE Program: Promotion/Advertising","Operating Expenses - PACE Program: Other Operating Costs","Operating Expenses - SCO: Insurance","Operating Expenses - SCO: Consumable Supplies","Operating Expenses - SCO: Repairs and Maintenance","Operating Expenses - SCO: Travel, Conference and Meeting Expenses","Operating Expenses - SCO: Dues and Subscriptions","Operating Expenses - SCO: Utilities","Operating Expenses - SCO: Interest Expense (Operating)","Operating Expenses - SCO: Postage & Supplies","Operating Expenses - SCO: Professional Services","Operating Expenses - SCO: Staff Training","Operating Expenses - SCO: Contracted Services","Operating Expenses - SCO: Publishing, Printing and Mailing","Operating Expenses - SCO: Telephone & Pagers/Communications","Operating Expenses - SCO: Personnel Recruitment","Operating Expenses - SCO: Promotion/Advertising","Operating Expenses - SCO: Other Operating Costs","Operating Expenses - Other (Specify): Insurance","Operating Expenses - Other (Specify): Consumable Supplies","Operating Expenses - Other (Specify): Repairs and Maintenance","Operating Expenses - Other (Specify): Travel, Conference and Meeting Expenses","Operating Expenses - Other (Specify): Dues and Subscriptions","Operating Expenses - Other (Specify): Utilities","Operating Expenses - Other (Specify): Interest Expense (Operating)","Operating Expenses - Other (Specify): Postage & Supplies","Operating Expenses - Other (Specify): Professional Services","Operating Expenses - Other (Specify): Staff Training","Operating Expenses - Other (Specify): Contracted Services","Operating Expenses - Other (Specify): Publishing, Printing and Mailing","Operating Expenses - Other (Specify): Telephone & Pagers/Communications","Operating Expenses - Other (Specify): Personnel Recruitment","Operating Expenses - Other (Specify): Promotion/Advertising","Operating Expenses - Other (Specify): Other Operating Costs","Operating Expenses - Total Non-Allowable: Insurance","Operating Expenses - Total Non-Allowable: Consumable Supplies","Operating Expenses - Total Non-Allowable: Repairs and Maintenance","Operating Expenses - Total Non-Allowable: Travel, Conference and Meeting Expenses","Operating Expenses - Total Non-Allowable: Dues and Subscriptions","Operating Expenses - Total Non-Allowable: Utilities","Operating Expenses - Total Non-Allowable: Interest Expense (Operating)","Operating Expenses - Total Non-Allowable: Postage & Supplies","Operating Expenses - Total Non-Allowable: Professional Services","Operating Expenses - Total Non-Allowable: Staff Training","Operating Expenses - Total Non-Allowable: Contracted Services","Operating Expenses - Total Non-Allowable: Publishing, Printing and Mailing","Operating Expenses - Total Non-Allowable: Telephone & Pagers/Communications","Operating Expenses - Total Non-Allowable: Personnel Recruitment","Operating Expenses - Total Non-Allowable: Promotion/Advertising","Operating Expenses - Total Non-Allowable: Other Operating Costs","Operating Expenses - Total Allowable + Non-Allowable: Insurance","Operating Expenses - Total Allowable + Non-Allowable: Consumable Supplies","Operating Expenses - Total Allowable + Non-Allowable: Repairs and Maintenance","Operating Expenses - Total Allowable + Non-Allowable: Travel, Conference and Meeting Expenses","Operating Expenses - Total Allowable + Non-Allowable: Dues and Subscriptions","Operating Expenses - Total Allowable + Non-Allowable: Utilities","Operating Expenses - Total Allowable + Non-Allowable: Interest Expense (Operating)","Operating Expenses - Total Allowable + Non-Allowable: Postage & Supplies","Operating Expenses - Total Allowable + Non-Allowable: Professional Services","Operating Expenses - Total Allowable + Non-Allowable: Staff Training","Operating Expenses - Total Allowable + Non-Allowable: Contracted Services","Operating Expenses - Total Allowable + Non-Allowable: Publishing, Printing and Mailing","Operating Expenses - Total Allowable + Non-Allowable: Telephone & Pagers/Communications","Operating Expenses - Total Allowable + Non-Allowable: Personnel Recruitment","Operating Expenses - Total Allowable + Non-Allowable: Promotion/Advertising","Operating Expenses - Total Allowable + Non-Allowable: Other Operating Costs","Capital Expenses - Medical: Rent","Capital Expenses - Medical: Depreciation","Capital Expenses - Medical: Occupancy Taxes","Capital Expenses - Medical: Interest Expense (Capital)","Capital Expenses - Medical: Equipment Rental","Capital Expenses - Medical: Other Capital Costs","Operating & Capital Expenses - Medical: TOTAL","Capital Expenses - Behavioral Health & Substance Abuse: Rent","Capital Expenses - Behavioral Health & Substance Abuse: Depreciation","Capital Expenses - Behavioral Health & Substance Abuse: Occupancy Taxes","Capital Expenses - Behavioral Health & Substance Abuse: Interest Expense (Capital)","Capital Expenses - Behavioral Health & Substance Abuse: Equipment Rental","Capital Expenses - Behavioral Health & Substance Abuse: Other Capital Costs","Operating & Capital Expenses - Behavioral Health & Substance Abuse: TOTAL","Capital Expenses - Dental: Rent","Capital Expenses - Dental: Depreciation","Capital Expenses - Dental: Occupancy Taxes","Capital Expenses - Dental: Interest Expense (Capital)","Capital Expenses - Dental: Equipment Rental","Capital Expenses - Dental: Other Capital Costs","Operating & Capital Expenses - Dental: TOTAL","Capital Expenses - Vision: Rent","Capital Expenses - Vision: Depreciation","Capital Expenses - Vision: Occupancy Taxes","Capital Expenses - Vision: Interest Expense (Capital)","Capital Expenses - Vision: Equipment Rental","Capital Expenses - Vision: Other Capital Costs","Operating & Capital Expenses - Vision: TOTAL","Capital Expenses - Laboratory: Rent","Capital Expenses - Laboratory: Depreciation","Capital Expenses - Laboratory: Occupancy Taxes","Capital Expenses - Laboratory: Interest Expense (Capital)","Capital Expenses - Laboratory: Equipment Rental","Capital Expenses - Laboratory: Other Capital Costs","Operating & Capital Expenses - Laboratory: TOTAL","Capital Expenses - X-Ray: Rent","Capital Expenses - X-Ray: Depreciation","Capital Expenses - X-Ray: Occupancy Taxes","Capital Expenses - X-Ray: Interest Expense (Capital)","Capital Expenses - X-Ray: Equipment Rental","Capital Expenses - X-Ray: Other Capital Costs","Operating & Capital Expenses - X-Ray: TOTAL","Capital Expenses - Pharmacy: Rent","Capital Expenses - Pharmacy: Depreciation","Capital Expenses - Pharmacy: Occupancy Taxes","Capital Expenses - Pharmacy: Interest Expense (Capital)","Capital Expenses - Pharmacy: Equipment Rental","Capital Expenses - Pharmacy: Other Capital Costs","Operating & Capital Expenses - Pharmacy: TOTAL","Capital Expenses - Enabling: Rent","Capital Expenses - Enabling: Depreciation","Capital Expenses - Enabling: Occupancy Taxes","Capital Expenses - Enabling: Interest Expense (Capital)","Capital Expenses - Enabling: Equipment Rental","Capital Expenses - Enabling: Other Capital Costs","Operating & Capital Expenses - Enabling: TOTAL","Capital Expenses - Admin: Rent","Capital Expenses - Admin: Depreciation","Capital Expenses - Admin: Occupancy Taxes","Capital Expenses - Admin: Interest Expense (Capital)","Capital Expenses - Admin: Equipment Rental","Capital Expenses - Admin: Other Capital Costs","Operating & Capital Expenses - Admin: TOTAL","Capital Expenses - Facility: Rent","Capital Expenses - Facility: Depreciation","Capital Expenses - Facility: Occupancy Taxes","Capital Expenses - Facility: Interest Expense (Capital)","Capital Expenses - Facility: Equipment Rental","Capital Expenses - Facility: Other Capital Costs","Operating & Capital Expenses - Facility: TOTAL","Capital Expenses - Total Allowable: Rent","Capital Expenses - Total Allowable: Depreciation","Capital Expenses - Total Allowable: Occupancy Taxes","Capital Expenses - Total Allowable: Interest Expense (Capital)","Capital Expenses - Total Allowable: Equipment Rental","Capital Expenses - Total Allowable: Other Capital Costs","Operating & Capital Expenses - Total Allowable: TOTAL","Capital Expenses - WIC: Rent","Capital Expenses - WIC: Depreciation","Capital Expenses - WIC: Occupancy Taxes","Capital Expenses - WIC: Interest Expense (Capital)","Capital Expenses - WIC: Equipment Rental","Capital Expenses - WIC: Other Capital Costs","Operating & Capital Expenses - WIC: TOTAL","Capital Expenses - Non-FQHC Sites: Rent","Capital Expenses - Non-FQHC Sites: Depreciation","Capital Expenses - Non-FQHC Sites: Occupancy Taxes","Capital Expenses - Non-FQHC Sites: Interest Expense (Capital)","Capital Expenses - Non-FQHC Sites: Equipment Rental","Capital Expenses - Non-FQHC Sites: Other Capital Costs","Operating & Capital Expenses - Non-FQHC Sites: TOTAL","Capital Expenses - PACE Program: Rent","Capital Expenses - PACE Program: Depreciation","Capital Expenses - PACE Program: Occupancy Taxes","Capital Expenses - PACE Program: Interest Expense (Capital)","Capital Expenses - PACE Program: Equipment Rental","Capital Expenses - PACE Program: Other Capital Costs","Operating & Capital Expenses - PACE Program: TOTAL","Capital Expenses - SCO: Rent","Capital Expenses - SCO: Depreciation","Capital Expenses - SCO: Occupancy Taxes","Capital Expenses - SCO: Interest Expense (Capital)","Capital Expenses - SCO: Equipment Rental","Capital Expenses - SCO: Other Capital Costs","Operating & Capital Expenses - SCO: TOTAL","Capital Expenses - Other (Specify): Rent","Capital Expenses - Other (Specify): Depreciation","Capital Expenses - Other (Specify): Occupancy Taxes","Capital Expenses - Other (Specify): Interest Expense (Capital)","Capital Expenses - Other (Specify): Equipment Rental","Capital Expenses - Other (Specify): Other Capital Costs","Operating & Capital Expenses - Other (Specify): TOTAL","Capital Expenses - Total Non-Allowable: Rent","Capital Expenses - Total Non-Allowable: Depreciation","Capital Expenses - Total Non-Allowable: Occupancy Taxes","Capital Expenses - Total Non-Allowable: Interest Expense (Capital)","Capital Expenses - Total Non-Allowable: Equipment Rental","Capital Expenses - Total Non-Allowable: Other Capital Costs","Operating & Capital Expenses - Total Non-Allowable: TOTAL","Capital Expenses - Total Allowable + Non-Allowable: Rent","Capital Expenses - Total Allowable + Non-Allowable: Depreciation","Capital Expenses - Total Allowable + Non-Allowable: Occupancy Taxes","Capital Expenses - Total Allowable + Non-Allowable: Interest Expense (Capital)","Capital Expenses - Total Allowable + Non-Allowable: Equipment Rental","Capital Expenses - Total Allowable + Non-Allowable: Other Capital Costs","Operating & Capital Expenses - Total Allowable + Non-Allowable: TOTAL","Total Other than Personnel Services (OTPS) Expenses","Total Fringe","Total Personnel/Contracted","Total","Description of Reclassification(s)","Increases - Cost Center","Increases - Line #","Increases - Amount","Decreases - Cost Center","Decreases - Line #","Decreases - Amount","Description of Reclassification(s)","Increases - Cost Center","Increases - Line #","Increases - Amount","Decreases - Cost Center","Decreases - Line #","Decreases - Amount","Description of Reclassification(s)","Increases - Cost Center","Increases - Line #","Increases - Amount","Decreases - Cost Center","Decreases - Line #","Decreases - Amount","Description of Reclassification(s)","Increases - Cost Center","Increases - Line #","Increases - Amount","Decreases - Cost Center","Decreases - Line #","Decreases - Amount","Description of Reclassification(s)","Increases - Cost Center","Increases - Line #","Increases - Amount","Decreases - Cost Center","Decreases - Line #","Decreases - Amount","Description of Reclassification(s)","Increases - Cost Center","Increases - Line #","Increases - Amount","Decreases - Cost Center","Decreases - Line #","Decreases - Amount","Description of Reclassification(s)","Increases - Cost Center","Increases - Line #","Increases - Amount","Decreases - Cost Center","Decreases - Line #","Decreases - Amount","Description of Reclassification(s)","Increases - Cost Center","Increases - Line #","Increases - Amount","Decreases - Cost Center","Decreases - Line #","Decreases - Amount","Description of Reclassification(s)","Increases - Cost Center","Increases - Line #","Increases - Amount","Decreases - Cost Center","Decreases - Line #","Decreases - Amount","Description of Reclassification(s)","Increases - Cost Center","Increases - Line #","Increases - Amount","Decreases - Cost Center","Decreases - Line #","Decreases - Amount","Description of Reclassification(s)","Increases - Cost Center","Increases - Line #","Increases - Amount","Decreases - Cost Center","Decreases - Line #","Decreases - Amount","Description of Reclassification(s)","Increases - Cost Center","Increases - Line #","Increases - Amount","Decreases - Cost Center","Decreases - Line #","Decreases - Amount","Description of Reclassification(s)","Increases - Cost Center","Increases - Line #","Increases - Amount","Decreases - Cost Center","Decreases - Line #","Decreases - Amount","Description of Reclassification(s)","Increases - Cost Center","Increases - Line #","Increases - Amount","Decreases - Cost Center","Decreases - Line #","Decreases - Amount","Description of Reclassification(s)","Increases - Cost Center","Increases - Line #","Increases - Amount","Decreases - Cost Center","Decreases - Line #","Decreases - Amount","Description of Reclassification(s)","Increases - Cost Center","Increases - Line #","Increases - Amount","Decreases - Cost Center","Decreases - Line #","Decreases - Amount","Description of Reclassification(s)","Increases - Cost Center","Increases - Line #","Increases - Amount","Decreases - Cost Center","Decreases - Line #","Decreases - Amount","Description of Reclassification(s)","Increases - Cost Center","Increases - Line #","Increases - Amount","Decreases - Cost Center","Decreases - Line #","Decreases - Amount","Description of Reclassification(s)","Increases - Cost Center","Increases - Line #","Increases - Amount","Decreases - Cost Center","Decreases - Line #","Decreases - Amount","Description of Reclassification(s)","Increases - Cost Center","Increases - Line #","Increases - Amount","Decreases - Cost Center","Decreases - Line #","Decreases - Amount","Description of Reclassification(s)","Increases - Cost Center","Increases - Line #","Increases - Amount","Decreases - Cost Center","Decreases - Line #","Decreases - Amount","Description of Reclassification(s)","Increases - Cost Center","Increases - Line #","Increases - Amount","Decreases - Cost Center","Decreases - Line #","Decreases - Amount","Description of Reclassification(s)","Increases - Cost Center","Increases - Line #","Increases - Amount","Decreases - Cost Center","Decreases - Line #","Decreases - Amount","Description of Reclassification(s)","Increases - Cost Center","Increases - Line #","Increases - Amount","Decreases - Cost Center","Decreases - Line #","Decreases - Amount","Description of Reclassification(s)","Increases - Cost Center","Increases - Line #","Increases - Amount","Decreases - Cost Center","Decreases - Line #","Decreases - Amount","Description of Reclassification(s)","Increases - Cost Center","Increases - Line #","Increases - Amount","Decreases - Cost Center","Decreases - Line #","Decreases - Amount","Description of Reclassification(s)","Increases - Cost Center","Increases - Line #","Increases - Amount","Decreases - Cost Center","Decreases - Line #","Decreases - Amount","Description of Reclassification(s)","Increases - Cost Center","Increases - Line #","Increases - Amount","Decreases - Cost Center","Decreases - Line #","Decreases - Amount","Description of Reclassification(s)","Increases - Cost Center","Increases - Line #","Increases - Amount","Decreases - Cost Center","Decreases - Line #","Decreases - Amount","Description of Reclassification(s)","Increases - Cost Center","Increases - Line #","Increases - Amount","Decreases - Cost Center","Decreases - Line #","Decreases - Amount","Description of Reclassification(s)","Increases - Cost Center","Increases - Line #","Increases - Amount","Decreases - Cost Center","Decreases - Line #","Decreases - Amount","Description of Reclassification(s)","Increases - Cost Center","Increases - Line #","Increases - Amount","Decreases - Cost Center","Decreases - Line #","Decreases - Amount","Description of Reclassification(s)","Increases - Cost Center","Increases - Line #","Increases - Amount","Decreases - Cost Center","Decreases - Line #","Decreases - Amount","Description of Reclassification(s)","Increases - Cost Center","Increases - Line #","Increases - Amount","Decreases - Cost Center","Decreases - Line #","Decreases - Amount","Description of Reclassification(s)","Increases - Cost Center","Increases - Line #","Increases - Amount","Decreases - Cost Center","Decreases - Line #","Decreases - Amount","Description of Reclassification(s)","Increases - Cost Center","Increases - Line #","Increases - Amount","Decreases - Cost Center","Decreases - Line #","Decreases - Amount","Description of Reclassification(s)","Increases - Cost Center","Increases - Line #","Increases - Amount","Decreases - Cost Center","Decreases - Line #","Decreases - Amount","Description of Reclassification(s)","Increases - Cost Center","Increases - Line #","Increases - Amount","Decreases - Cost Center","Decreases - Line #","Decreases - Amount","Description of Reclassification(s)","Increases - Cost Center","Increases - Line #","Increases - Amount","Decreases - Cost Center","Decreases - Line #","Decreases - Amount","Description of Reclassification(s)","Increases - Cost Center","Increases - Line #","Increases - Amount","Decreases - Cost Center","Decreases - Line #","Decreases - Amount","Description of Reclassification(s)","Increases - Cost Center","Increases - Line #","Increases - Amount","Decreases - Cost Center","Decreases - Line #","Decreases - Amount","Description of Reclassification(s)","Increases - Cost Center","Increases - Line #","Increases - Amount","Decreases - Cost Center","Decreases - Line #","Decreases - Amount","Description of Reclassification(s)","Increases - Cost Center","Increases - Line #","Increases - Amount","Decreases - Cost Center","Decreases - Line #","Decreases - Amount","Description of Reclassification(s)","Increases - Cost Center","Increases - Line #","Increases - Amount","Decreases - Cost Center","Decreases - Line #","Decreases - Amount","Description of Reclassification(s)","Increases - Cost Center","Increases - Line #","Increases - Amount","Decreases - Cost Center","Decreases - Line #","Decreases - Amount","Description of Reclassification(s)","Increases - Cost Center","Increases - Line #","Increases - Amount","Decreases - Cost Center","Decreases - Line #","Decreases - Amount","Description of Reclassification(s)","Increases - Cost Center","Increases - Line #","Increases - Amount","Decreases - Cost Center","Decreases - Line #","Decreases - Amount","Description of Reclassification(s)","Increases - Cost Center","Increases - Line #","Increases - Amount","Decreases - Cost Center","Decreases - Line #","Decreases - Amount","Description of Reclassification(s)","Increases - Cost Center","Increases - Line #","Increases - Amount","Decreases - Cost Center","Decreases - Line #","Decreases - Amount","Description of Reclassification(s)","Increases - Cost Center","Increases - Line #","Increases - Amount","Decreases - Cost Center","Decreases - Line #","Decreases - Amount","TOTAL: Increases - Amount","TOTAL: Decreases - Amount","Description of Adjustment to Expenses","Basis for Adjustment","Worksheet Line Number","Cost Center","Amount","Description of Adjustment to Expenses","Basis for Adjustment","Worksheet Line Number","Cost Center","Amount","Description of Adjustment to Expenses","Basis for Adjustment","Worksheet Line Number","Cost Center","Amount","Description of Adjustment to Expenses","Basis for Adjustment","Worksheet Line Number","Cost Center","Amount","Description of Adjustment to Expenses","Basis for Adjustment","Worksheet Line Number","Cost Center","Amount","Description of Adjustment to Expenses","Basis for Adjustment","Worksheet Line Number","Cost Center","Amount","Description of Adjustment to Expenses","Basis for Adjustment","Worksheet Line Number","Cost Center","Amount","Description of Adjustment to Expenses","Basis for Adjustment","Worksheet Line Number","Cost Center","Amount","Description of Adjustment to Expenses","Basis for Adjustment","Worksheet Line Number","Cost Center","Amount","Description of Adjustment to Expenses","Basis for Adjustment","Worksheet Line Number","Cost Center","Amount","Description of Adjustment to Expenses","Basis for Adjustment","Worksheet Line Number","Cost Center","Amount","Description of Adjustment to Expenses","Basis for Adjustment","Worksheet Line Number","Cost Center","Amount","Description of Adjustment to Expenses","Basis for Adjustment","Worksheet Line Number","Cost Center","Amount","Description of Adjustment to Expenses","Basis for Adjustment","Worksheet Line Number","Cost Center","Amount","Description of Adjustment to Expenses","Basis for Adjustment","Worksheet Line Number","Cost Center","Amount","Description of Adjustment to Expenses","Basis for Adjustment","Worksheet Line Number","Cost Center","Amount","Description of Adjustment to Expenses","Basis for Adjustment","Worksheet Line Number","Cost Center","Amount","Description of Adjustment to Expenses","Basis for Adjustment","Worksheet Line Number","Cost Center","Amount","Amount - TOTAL","Square Feet - Medical","Square Feet - Vision","Square Feet - Dental","Square Feet - Laboratory","Square Feet - X- Ray","Square Feet - Pharmacy","Square Feet - Administration","Square Feet - Enabling","Square Feet - Behavioral Health/Substance Abuse","Square Feet - Non-Allowable Services","Total Square Footage","Totals - Salaries - Provider","Totals - Salaries - Non-Provider","Totals - Subtotal Salaries","Totals - Fringe Benefits","Totals - Total Compensation","Totals - Contrators - Provider","Totals - Contractors - Non-Providers","Totals - OTPS","Totals - TOTAL EXPENSES","Totals - Facility Cost Allocation","Totals - Subtotal - After Facility Allocation","Totals - Enabling Services Allocation","Totals - Subtotal - Accumulated Costs","Totals - Administrative Allocation","Totals - Total","Medical - Salaries - Provider","Medical - Salaries - Non-Provider","Medical - Subtotal Salaries","Medical - Fringe Benefits","Medical - Total Compensation","Medical - Contractors - Providers","Medical - Contractors - Non-Providers","Medical - OTPS","Medical - TOTAL EXPENSES","Medical - Facility Cost Allocation","Medical - Subtotal - After Facility Allocation","Medical - Enabling Services Allocation","Medical - Subtotal - Accumulated Costs","Medical - Administrative Allocation","Medical - Total","Behavioral Health & Substance Abuse - Salaries - Provider","Behavioral Health & Substance Abuse - Salaries - Non-Provider","Behavioral Health & Substance Abuse - Subtotal Salaries","Behavioral Health & Substance Abuse - Fringe Benefits","Behavioral Health & Substance Abuse - Total Compensation","Behavioral Health & Substance Abuse - Contractors - Providers","Behavioral Health & Substance Abuse - Contractors - Non-Providers","Behavioral Health & Substance Abuse - OTPS","Behavioral Health & Substance Abuse - TOTAL EXPENSES","Behavioral Health & Substance Abuse - Facility Cost Allocation","Behavioral Health & Substance Abuse - Subtotal - After Facility Allocation","Behavioral Health & Substance Abuse - Enabling Services Allocation","Behavioral Health & Substance Abuse - Subtotal - Accumulated Costs","Behavioral Health & Substance Abuse - Administrative Allocation","Behavioral Health & Substance Abuse - Total","Dental - Salaries - Provider","Dental - Salaries - Non-Provider","Dental - Subtotal Salaries","Dental - Fringe Benefits","Dental - Total Compensation","Dental - Contractors - Providers","Dental - Contractors - Non-Providers","Dental - OTPS","Dental - TOTAL EXPENSES","Dental - Facility Cost Allocation","Dental - Subtotal - After Facility Allocation","Dental - Enabling Services Allocation","Dental - Subtotal - Accumulated Costs","Dental - Administrative Allocation","Dental - Total","Laboratory - Salaries - Provider","Laboratory - Salaries - Non-Provider","Laboratory - Subtotal Salaries","Laboratory - Fringe Benefits","Laboratory - Total Compensation","Laboratory - Contractors - Providers","Laboratory - Contractors - Non-Providers","Laboratory - OTPS","Laboratory - TOTAL EXPENSES","Laboratory - Facility Cost Allocation","Laboratory - Subtotal - After Facility Allocation","Laboratory - Enabling Services Allocation","Laboratory - Subtotal - Accumulated Costs","Laboratory - Administrative Allocation","Laboratory - Total","X-Ray - Salaries - Provider","X-Ray - Salaries - Non-Provider","X-Ray - Subtotal Salaries","X-Ray - Fringe Benefits","X-Ray - Total Compensation","X-Ray - Contractors - Providers","X-Ray - Contractors - Non-Providers","X-Ray - OTPS","X-Ray - TOTAL EXPENSES","X-Ray - Facility Cost Allocation","X-Ray - Subtotal - After Facility Allocation","X-Ray - Enabling Services Allocation","X-Ray - Subtotal - Accumulated Costs","X-Ray - Administrative Allocation","X-Ray - Total","Pharmacy - Salaries - Provider","Pharmacy - Salaries - Non-Provider","Pharmacy - Subtotal Salaries","Pharmacy - Fringe Benefits","Pharmacy - Total Compensation","Pharmacy - Contractors - Providers","Pharmacy - Contractors - Non-Providers","Pharmacy - OTPS","Pharmacy - TOTAL EXPENSES","Pharmacy - Facility Cost Allocation","Pharmacy - Subtotal - After Facility Allocation","Pharmacy - Enabling Services Allocation","Pharmacy - Subtotal - Accumulated Costs","Pharmacy - Administrative Allocation","Pharmacy - Total","Enabling - Salaries - Provider","Enabling - Salaries - Non-Provider","Enabling - Subtotal Salaries","Enabling - Fringe Benefits","Enabling - Total Compensation","Enabling - Contractors - Providers","Enabling - Contractors - Non-Providers","Enabling - OTPS","Enabling - TOTAL EXPENSES","Enabling - Facility Cost Allocation","Enabling - Subtotal - After Facility Allocation","Enabling - Enabling Services Allocation","Enabling - Subtotal - Accumulated Costs","Enabling - Administrative Allocation","Enabling - Total","Admin - Salaries - Provider","Admin - Salaries - Non-Provider","Admin - Subtotal Salaries","Admin - Fringe Benefits","Admin - Total Compensation","Admin - Contractors - Providers","Admin - Contractors - Non-Providers","Admin - OTPS","Admin - TOTAL EXPENSES","Admin - Facility Cost Allocation","Admin - Subtotal - After Facility Allocation","Admin - Enabling Services Allocation","Admin - Subtotal - Accumulated Costs","Admin - Administrative Allocation","Admin - Total","Facility - Salaries - Provider","Facility - Salaries - Non-Provider","Facility - Subtotal Salaries","Facility - Fringe Benefits","Facility - Total Compensation","Facility - Contractors - Providers","Facility - Contractors - Non-Providers","Facility - OTPS","Facility - TOTAL EXPENSES","Facility - Facility Cost Allocation","Facility - Subtotal - After Facility Allocation","Facility - Enabling Services Allocation","Facility - Subtotal - Accumulated Costs","Facility - Administrative Allocation","Facility - Total","Non-Allowable - Salaries - Provider","Non-Allowable - Salaries - Non-Provider","Non-Allowable - Subtotal Salaries","Non-Allowable - Fringe Benefits","Non-Allowable - Total Compensation","Non-Allowable - Contractors - Providers","Non-Allowable - Contractors - Non-Providers","Non-Allowable - OTPS","Non-Allowable - TOTAL EXPENSES","Non-Allowable - Facility Cost Allocation","Non-Allowable - Subtotal - After Facility Allocation","Non-Allowable - Enabling Services Allocation","Non-Allowable - Subtotal - Accumulated Costs","Non-Allowable - Administrative Allocation","Non-Allowable - Total","Total - Square Footage - Facility","Total - Accumulated Cost (Worksheets ____) - Admin","Total - Total Visits (Worksheet __) - Enabling","Medical - Square Footage - Facility","Medical - Accumulated Cost (Worksheets ____) - Admin","Medical - Total Visits (Worksheet __) - Enabling","Behavioral Health & Substance Abuse - Square Footage - Facility","Behavioral Health & Substance Abuse - Accumulated Cost (Worksheets ____) - Admin","Behavioral Health & Substance Abuse - Total Visits (Worksheet __) - Enabling","Dental - Square Footage - Facility","Dental - Accumulated Cost (Worksheets ____) - Admin","Dental - Total Visits (Worksheet __) - Enabling","Laboratory - Square Footage - Facility","Laboratory - Accumulated Cost (Worksheets ____) - Admin","Laboratory - Total Visits (Worksheet __) - Enabling","X-Ray - Square Footage - Facility","X-Ray - Accumulated Cost (Worksheets ____) - Admin","X-Ray - Total Visits (Worksheet __) - Enabling","Pharmacy - Square Footage - Facility","Pharmacy - Accumulated Cost (Worksheets ____) - Admin","Pharmacy - Total Visits (Worksheet __) - Enabling","Enabling - Square Footage - Facility","Enabling - Accumulated Cost (Worksheets ____) - Admin","Enabling - Total Visits (Worksheet __) - Enabling","Admin - Square Footage - Facility","Admin - Accumulated Cost (Worksheets ____) - Admin","Admin - Total Visits (Worksheet __) - Enabling","Facility - Square Footage - Facility","Facility - Accumulated Cost (Worksheets ____) - Admin","Facility - Total Visits (Worksheet __) - Enabling","Non-Allowable  - Square Footage - Facility","Non-Allowable  - Accumulated Cost (Worksheets ____) - Admin","Non-Allowable - Total Visits (Worksheet __) - Enabling","Total - Square Footage - Facility","Total - Accumulated Cost  - Admin","Total - Total Visits - Enabling","Medical - Square Footage - Facility","Medical - Accumulated Cost - Admin","Medical - Total Visits - Enabling","Behavioral Health & Substance Abuse - Square Footage - Facility","Behavioral Health & Substance Abuse - Accumulated Cost - Admin","Behavioral Health & Substance Abuse - Total Visits - Enabling","Dental - Square Footage - Facility","Dental - Accumulated Cost - Admin","Dental - Total Visits - Enabling","Laboratory - Square Footage - Facility","Laboratory - Accumulated Cost - Admin","Laboratory - Total Visits - Enabling","X-Ray - Square Footage - Facility","X-Ray - Accumulated Cost - Admin","X-Ray - Total Visits - Enabling","Pharmacy - Square Footage - Facility","Pharmacy - Accumulated Cost - Admin","Pharmacy - Total Visits - Enabling","Enabling - Square Footage - Facility","Enabling - Accumulated Cost  -Admin","Enabling - Total Visits - Enabling","Admin - Square Footage - Facility","Admin - Accumulated Cost - Admin","Admin - Total Visits - Enabling","Facility - Square Footage - Facility","Facility - Accumulated Cost - Admin","Facility - Total Visits - Enabling","Non-Allowable  - Square Footage - Facility","Non-Allowable  - Accumulated Cost - Admin","Non-Allowable - Total Visits - Enabling","Staff Cost - Salaried Personnel - Physician ","Staff Cost - Salaried Personnel - Nurse Practitioners ","Staff Cost - Salaried Personnel - Physicians Assistants","Staff Cost - Salaried Personnel - Certified Nurse Midwives","Staff Cost - Salaried Personnel - Registered Nurses (RNs)","Staff Cost - Salaried Personnel - Licensed Practical Nurses ","Staff Cost - Salaried Personnel - Opthalmologists","Staff Cost - Salaried Personnel - In-Bundle Direct Medical Staff Costs","Staff Cost - Salaried Personnel - Other Professional Services","Staff Cost - Salaried Personnel - Optometrists","Staff Cost - Salaried Personnel - Optician","Staff Cost - Salaried Personnel - Other NON-BILLABLE Medical Providers","Staff Cost - Salaried Personnel - Out-of Bundle Direct Medical Staff Costs","Staff Cost - Salaried Personnel - Other Non-Provider Medical Staff","Staff Cost - Salaried Personnel - Non-Provider Direct Medical Staff Costs","Staff Cost - Salaried Personnel - Subtotal Direct Medical Staff Cost","Staff Cost - Fringe Benefits - Physician ","Staff Cost - Fringe Benefits - Nurse Practitioners ","Staff Cost - Fringe Benefits - Physicians Assistants","Staff Cost - Fringe Benefits - Certified Nurse Midwives","Staff Cost - Fringe Benefits - Registered Nurses (RNs)","Staff Cost - Fringe Benefits - Licensed Practical Nurses ","Staff Cost - Fringe Benefits - Opthalmologists","Staff Cost - Fringe Benefits - In-Bundle Direct Medical Staff Costs","Staff Cost - Fringe Benefits - Other Professional Services","Staff Cost - Fringe Benefits - Optometrists","Staff Cost - Fringe Benefits - Optician","Staff Cost - Fringe Benefits - Other NON-BILLABLE Medical Providers","Staff Cost - Fringe Benefits - Out-of Bundle Direct Medical Staff Costs","Staff Cost - Fringe Benefits - Other Non-Provider Medical Staff","Staff Cost - Fringe Benefits - Non-Provider Direct Medical Staff Costs","Staff Cost - Fringe Benefits - Subtotal Direct Medical Staff Cost","Staff Cost - Compensation - Physician ","Staff Cost - Compensation - Nurse Practitioners ","Staff Cost - Compensation - Physicians Assistants","Staff Cost - Compensation - Certified Nurse Midwives","Staff Cost - Compensation - Registered Nurses (RNs)","Staff Cost - Compensation - Licensed Practical Nurses ","Staff Cost - Compensation - Opthalmologists","Staff Cost - Compensation - In-Bundle Direct Medical Staff Costs","Staff Cost - Compensation - Other Professional Services","Staff Cost - Compensation - Optometrists","Staff Cost - Compensation - Optician","Staff Cost - Compensation - Other NON-BILLABLE Medical Providers","Staff Cost - Compensation - Out-of Bundle Direct Medical Staff Costs","Staff Cost - Compensation - Other Non-Provider Medical Staff","Staff Cost - Compensation - Non-Provider Direct Medical Staff Costs","Staff Cost - Compensation - Subtotal Direct Medical Staff Cost","Staff Cost - Other Costs - Physician ","Staff Cost - Other Costs - Nurse Practitioners ","Staff Cost - Other Costs - Physicians Assistants","Staff Cost - Other Costs - Certified Nurse Midwives","Staff Cost - Other Costs - Registered Nurses (RNs)","Staff Cost - Other Costs - Licensed Practical Nurses ","Staff Cost - Other Costs - Opthalmologists","Staff Cost - Other Costs - In-Bundle Direct Medical Staff Costs","Staff Cost - Other Costs - Other Professional Services","Staff Cost - Other Costs - Optometrists","Staff Cost - Other Costs - Optician","Staff Cost - Other Costs - Other NON-BILLABLE Medical Providers","Staff Cost - Other Costs - Out-of Bundle Direct Medical Staff Costs","Staff Cost - Other Costs - Other Non-Provider Medical Staff","Staff Cost - Other Costs - Non-Provider Direct Medical Staff Costs","Staff Cost - Other Costs - Subtotal Direct Medical Staff Cost","Staff Cost - Total - Physician ","Staff Cost - Total - Nurse Practitioners ","Staff Cost - Total - Physicians Assistants","Staff Cost - Total - Certified Nurse Midwives","Staff Cost - Total - Registered Nurses (RNs)","Staff Cost - Total - Licensed Practical Nurses ","Staff Cost - Total - Opthalmologists","Staff Cost - Total - In-Bundle Direct Medical Staff Costs","Staff Cost - Total - Other Professional Services","Staff Cost - Total - Optometrists","Staff Cost - Total - Optician","Staff Cost - Total - Other NON-BILLABLE Medical Providers","Staff Cost - Total - Out-of Bundle Direct Medical Staff Costs","Staff Cost - Total - Other Non-Provider Medical Staff","Staff Cost - Total - Non-Provider Direct Medical Staff Costs","Staff Cost - Total - Subtotal Direct Medical Staff Cost","Staff Cost - Reclassifications - Physician ","Staff Cost - Reclassifications - Nurse Practitioners ","Staff Cost - Reclassifications - Physicians Assistants","Staff Cost - Reclassifications - Certified Nurse Midwives","Staff Cost - Reclassifications - Registered Nurses (RNs)","Staff Cost - Reclassifications - Licensed Practical Nurses ","Staff Cost - Reclassifications - Opthalmologists","Staff Cost - Reclassifications - In-Bundle Direct Medical Staff Costs","Staff Cost - Reclassifications - Other Professional Services","Staff Cost - Reclassifications - Optometrists","Staff Cost - Reclassifications - Optician","Staff Cost - Reclassifications - Other NON-BILLABLE Medical Providers","Staff Cost - Reclassifications - Out-of Bundle Direct Medical Staff Costs","Staff Cost - Reclassifications - Other Non-Provider Medical Staff","Staff Cost - Reclassifications - Non-Provider Direct Medical Staff Costs","Staff Cost - Reclassifications - Subtotal Direct Medical Staff Cost","Staff Cost - Reclassified Trial Balance (Col 3 & 4) - Physician ","Staff Cost - Reclassified Trial Balance (Col 3 & 4) - Nurse Practitioners ","Staff Cost - Reclassified Trial Balance (Col 3 & 4) - Physicians Assistants","Staff Cost - Reclassified Trial Balance (Col 3 & 4) - Certified Nurse Midwives","Staff Cost - Reclassified Trial Balance (Col 3 & 4) - Registered Nurses (RNs)","Staff Cost - Reclassified Trial Balance (Col 3 & 4) - Licensed Practical Nurses ","Staff Cost - Reclassified Trial Balance (Col 3 & 4) - Opthalmologists","Staff Cost - Reclassified Trial Balance (Col 3 & 4) - In-Bundle Direct Medical Staff Costs","Staff Cost - Reclassified Trial Balance (Col 3 & 4) - Other Professional Services","Staff Cost - Reclassified Trial Balance (Col 3 & 4) - Optometrists","Staff Cost - Reclassified Trial Balance (Col 3 & 4) - Optician","Staff Cost - Reclassified Trial Balance (Col 3 & 4) - Other NON-BILLABLE Medical Providers","Staff Cost - Reclassified Trial Balance (Col 3 & 4) - Out-of Bundle Direct Medical Staff Costs","Staff Cost - Reclassified Trial Balance (Col 3 & 4) - Other Non-Provider Medical Staff","Staff Cost - Reclassified Trial Balance (Col 3 & 4) - Non-Provider Direct Medical Staff Costs","Staff Cost - Reclassified Trial Balance (Col 3 & 4) - Subtotal Direct Medical Staff Cost","Staff Cost - Adjustments Increase (Decrease) - Physician ","Staff Cost - Adjustments Increase (Decrease) - Nurse Practitioners ","Staff Cost - Adjustments Increase (Decrease) - Physicians Assistants","Staff Cost - Adjustments Increase (Decrease) - Certified Nurse Midwives","Staff Cost - Adjustments Increase (Decrease) - Registered Nurses (RNs)","Staff Cost - Adjustments Increase (Decrease) - Licensed Practical Nurses ","Staff Cost - Adjustments Increase (Decrease) - Opthalmologists","Staff Cost - Adjustments Increase (Decrease) - In-Bundle Direct Medical Staff Costs","Staff Cost - Adjustments Increase (Decrease) - Other Professional Services","Staff Cost - Adjustments Increase (Decrease) - Optometrists","Staff Cost - Adjustments Increase (Decrease) - Optician","Staff Cost - Adjustments Increase (Decrease) - Other NON-BILLABLE Medical Providers","Staff Cost - Adjustments Increase (Decrease) - Out-of Bundle Direct Medical Staff Costs","Staff Cost - Adjustments Increase (Decrease) - Other Non-Provider Medical Staff","Staff Cost - Adjustments Increase (Decrease) - Non-Provider Direct Medical Staff Costs","Staff Cost - Adjustments Increase (Decrease) - Subtotal Direct Medical Staff Cost","Staff Cost - Net Expenses w Cost Changes (Col 5 + 6) - Physician ","Staff Cost - Net Expenses w Cost Changes (Col 5 + 6) - Nurse Practitioners ","Staff Cost - Net Expenses w Cost Changes (Col 5 + 6) - Physicians Assistants","Staff Cost - Net Expenses w Cost Changes (Col 5 + 6) - Certified Nurse Midwives","Staff Cost - Net Expenses w Cost Changes (Col 5 + 6) - Registered Nurses (RNs)","Staff Cost - Net Expenses w Cost Changes (Col 5 + 6) - Licensed Practical Nurses ","Staff Cost - Net Expenses w Cost Changes (Col 5 + 6) - Opthalmologists","Staff Cost - Net Expenses w Cost Changes (Col 5 + 6) - In-Bundle Direct Medical Staff Costs","Staff Cost - Net Expenses w Cost Changes (Col 5 + 6) - Other Professional Services","Staff Cost - Net Expenses w Cost Changes (Col 5 + 6) - Optometrists","Staff Cost - Net Expenses w Cost Changes (Col 5 + 6) - Optician","Staff Cost - Net Expenses w Cost Changes (Col 5 + 6) - Other NON-BILLABLE Medical Providers","Staff Cost - Net Expenses w Cost Changes (Col 5 + 6) - Out-of Bundle Direct Medical Staff Costs","Staff Cost - Net Expenses w Cost Changes (Col 5 + 6) - Other Non-Provider Medical Staff","Staff Cost - Net Expenses w Cost Changes (Col 5 + 6) - Non-Provider Direct Medical Staff Costs","Staff Cost - Net Expenses w Cost Changes (Col 5 + 6) - Subtotal Direct Medical Staff Cost","Other Direct Medical Costs - Other Costs - Insurance","Other Direct Medical Costs - Other Costs - Consumable Supplies","Other Direct Medical Costs - Other Costs - Repairs and Maintenance","Other Direct Medical Costs - Other Costs - Equipment Rental","Other Direct Medical Costs - Other Costs - Travel, Conference and Meeting Expenses","Other Direct Medical Costs - Other Costs - Dues and Subscriptions","Other Direct Medical Costs - Other Costs - Interest Expense (Operating)","Other Direct Medical Costs - Other Costs - Interest Expense (Capital)","Other Direct Medical Costs - Other Costs - Professional Services","Other Direct Medical Costs - Other Costs - Staff Training","Other Direct Medical Costs - Other Costs - Contracted Services","Other Direct Medical Costs - Other Costs - Publishing, Printing and Mailing","Other Direct Medical Costs - Other Costs - Depreciation","Other Direct Medical Costs - Other Costs - Personnel Recruitment","Other Direct Medical Costs - Other Costs - Other Operating Expense ","Other Direct Medical Costs - Other Costs - Other Capital Expense","Other Direct Medical Costs - Other Costs - Subtotal Other Direct Medical Cost","Other Direct Medical Costs - Total - Insurance","Other Direct Medical Costs - Total - Consumable Supplies","Other Direct Medical Costs - Total - Repairs and Maintenance","Other Direct Medical Costs - Total - Equipment Rental","Other Direct Medical Costs - Total - Travel, Conference and Meeting Expenses","Other Direct Medical Costs - Total - Dues and Subscriptions","Other Direct Medical Costs - Total - Interest Expense (Operating)","Other Direct Medical Costs - Total - Interest Expense (Capital)","Other Direct Medical Costs - Total - Professional Services","Other Direct Medical Costs - Total - Staff Training","Other Direct Medical Costs - Total - Contracted Services","Other Direct Medical Costs - Total - Publishing, Printing and Mailing","Other Direct Medical Costs - Total - Depreciation","Other Direct Medical Costs - Total - Personnel Recruitment","Other Direct Medical Costs - Total - Other Operating Expense ","Other Direct Medical Costs - Total - Other Capital Expense","Other Direct Medical Costs - Total - Subtotal Other Direct Medical Cost","Other Direct Medical Costs - Reclassifications - Insurance","Other Direct Medical Costs - Reclassifications - Consumable Supplies","Other Direct Medical Costs - Reclassifications - Repairs and Maintenance","Other Direct Medical Costs - Reclassifications - Equipment Rental","Other Direct Medical Costs - Reclassifications - Travel, Conference and Meeting Expenses","Other Direct Medical Costs - Reclassifications - Dues and Subscriptions","Other Direct Medical Costs - Reclassifications - Interest Expense (Operating)","Other Direct Medical Costs - Reclassifications - Interest Expense (Capital)","Other Direct Medical Costs - Reclassifications - Professional Services","Other Direct Medical Costs - Reclassifications - Staff Training","Other Direct Medical Costs - Reclassifications - Contracted Services","Other Direct Medical Costs - Reclassifications - Publishing, Printing and Mailing","Other Direct Medical Costs - Reclassifications - Depreciation","Other Direct Medical Costs - Reclassifications - Personnel Recruitment","Other Direct Medical Costs - Reclassifications - Other Operating Expense ","Other Direct Medical Costs - Reclassifications - Other Capital Expense","Other Direct Medical Costs - Reclassifications - Subtotal Other Direct Medical Cost","Other Direct Medical Costs - Reclassified Trial Balance (Col 3 & 4) - Insurance","Other Direct Medical Costs - Reclassified Trial Balance (Col 3 & 4) - Consumable Supplies","Other Direct Medical Costs - Reclassified Trial Balance (Col 3 & 4) - Repairs and Maintenance","Other Direct Medical Costs - Reclassified Trial Balance (Col 3 & 4) - Equipment Rental","Other Direct Medical Costs - Reclassified Trial Balance (Col 3 & 4) - Travel, Conference and Meeting Expenses","Other Direct Medical Costs - Reclassified Trial Balance (Col 3 & 4) - Dues and Subscriptions","Other Direct Medical Costs - Reclassified Trial Balance (Col 3 & 4) - Interest Expense (Operating)","Other Direct Medical Costs - Reclassified Trial Balance (Col 3 & 4) - Interest Expense (Capital)","Other Direct Medical Costs - Reclassified Trial Balance (Col 3 & 4) - Professional Services","Other Direct Medical Costs - Reclassified Trial Balance (Col 3 & 4) - Staff Training","Other Direct Medical Costs - Reclassified Trial Balance (Col 3 & 4) - Contracted Services","Other Direct Medical Costs - Reclassified Trial Balance (Col 3 & 4) - Publishing, Printing and Mailing","Other Direct Medical Costs - Reclassified Trial Balance (Col 3 & 4) - Depreciation","Other Direct Medical Costs - Reclassified Trial Balance (Col 3 & 4) - Personnel Recruitment","Other Direct Medical Costs - Reclassified Trial Balance (Col 3 & 4) - Other Operating Expense ","Other Direct Medical Costs - Reclassified Trial Balance (Col 3 & 4) - Other Capital Expense","Other Direct Medical Costs - Reclassified Trial Balance (Col 3 & 4) - Subtotal Other Direct Medical Cost","Other Direct Medical Costs - Adjustments Increase (Decrease) - Insurance","Other Direct Medical Costs - Adjustments Increase (Decrease) - Consumable Supplies","Other Direct Medical Costs - Adjustments Increase (Decrease) - Repairs and Maintenance","Other Direct Medical Costs - Adjustments Increase (Decrease) - Equipment Rental","Other Direct Medical Costs - Adjustments Increase (Decrease) - Travel, Conference and Meeting Expenses","Other Direct Medical Costs - Adjustments Increase (Decrease) - Dues and Subscriptions","Other Direct Medical Costs - Adjustments Increase (Decrease) - Interest Expense (Operating)","Other Direct Medical Costs - Adjustments Increase (Decrease) - Interest Expense (Capital)","Other Direct Medical Costs - Adjustments Increase (Decrease) - Professional Services","Other Direct Medical Costs - Adjustments Increase (Decrease) - Staff Training","Other Direct Medical Costs - Adjustments Increase (Decrease) - Contracted Services","Other Direct Medical Costs - Adjustments Increase (Decrease) - Publishing, Printing and Mailing","Other Direct Medical Costs - Adjustments Increase (Decrease) - Depreciation","Other Direct Medical Costs - Adjustments Increase (Decrease) - Personnel Recruitment","Other Direct Medical Costs - Adjustments Increase (Decrease) - Other Operating Expense ","Other Direct Medical Costs - Adjustments Increase (Decrease) - Other Capital Expense","Other Direct Medical Costs - Adjustments Increase (Decrease) - Subtotal Other Direct Medical Cost","Other Direct Medical Costs - Net Expenses w Cost Changes (Col 5 + 6) - Insurance","Other Direct Medical Costs - Net Expenses w Cost Changes (Col 5 + 6) - Consumable Supplies","Other Direct Medical Costs - Net Expenses w Cost Changes (Col 5 + 6) - Repairs and Maintenance","Other Direct Medical Costs - Net Expenses w Cost Changes (Col 5 + 6) - Equipment Rental","Other Direct Medical Costs - Net Expenses w Cost Changes (Col 5 + 6) - Travel, Conference and Meeting Expenses","Other Direct Medical Costs - Net Expenses w Cost Changes (Col 5 + 6) - Dues and Subscriptions","Other Direct Medical Costs - Net Expenses w Cost Changes (Col 5 + 6) - Interest Expense (Operating)","Other Direct Medical Costs - Net Expenses w Cost Changes (Col 5 + 6) - Interest Expense (Capital)","Other Direct Medical Costs - Net Expenses w Cost Changes (Col 5 + 6) - Professional Services","Other Direct Medical Costs - Net Expenses w Cost Changes (Col 5 + 6) - Staff Training","Other Direct Medical Costs - Net Expenses w Cost Changes (Col 5 + 6) - Contracted Services","Other Direct Medical Costs - Net Expenses w Cost Changes (Col 5 + 6) - Publishing, Printing and Mailing","Other Direct Medical Costs - Net Expenses w Cost Changes (Col 5 + 6) - Depreciation","Other Direct Medical Costs - Net Expenses w Cost Changes (Col 5 + 6) - Personnel Recruitment","Other Direct Medical Costs - Net Expenses w Cost Changes (Col 5 + 6) - Other Operating Expense ","Other Direct Medical Costs - Net Expenses w Cost Changes (Col 5 + 6) - Other Capital Expense","Other Direct Medical Costs - Net Expenses w Cost Changes (Col 5 + 6) - Subtotal Other Direct Medical Cost","TOTAL DIRECT MEDICAL COST (1.e.4 & 2.i.1) - Salaried Personnel","TOTAL DIRECT MEDICAL COST (1.e.4 & 2.i.1) - Fringe Benefits","TOTAL DIRECT MEDICAL COST (1.e.4 & 2.i.1) - Compensation","TOTAL DIRECT MEDICAL COST (1.e.4 & 2.i.1) - Other Costs","TOTAL DIRECT MEDICAL COST (1.e.4 & 2.i.1) - Total","TOTAL DIRECT MEDICAL COST (1.e.4 & 2.i.1) - Reclassification","TOTAL DIRECT MEDICAL COST (1.e.4 & 2.i.1) - Reclassified Trial Balance (Col 3 & 4)","TOTAL DIRECT MEDICAL COST (1.e.4 & 2.i.1) - Adjustments Increase (Decrease)","TOTAL DIRECT MEDICAL COST (1.e.4 & 2.i.1) - Net Expenses w Cost Change (Col 5 + 6)","Direct Dental Care Cost - Salaried Personnel - Dentist","Direct Dental Care Cost - Salaried Personnel - Dental Specialist","Direct Dental Care Cost - Salaried Personnel - Dental Hygienist","Direct Dental Care Cost - Salaried Personnel - Other NON-BILLABLE Dental Providers","Direct Dental Care Cost - Salaried Personnel - In-Bundle Direct Dental Staff Costs","Direct Dental Care Cost - Salaried Personnel - Other Non-Provider Staff","Direct Dental Care Cost - Salaried Personnel - Non-Provider Direct Dental Staff Costs","Direct Dental Care Cost - Salaried Personnel - Subtotal Direct Dental Staff Costs","Direct Dental Care Cost - Fringe Benefits - Dentist","Direct Dental Care Cost - Fringe Benefits - Dental Specialist","Direct Dental Care Cost - Fringe Benefits - Dental Hygienist","Direct Dental Care Cost - Fringe Benefits - Other NON-BILLABLE Dental Providers","Direct Dental Care Cost - Fringe Benefits - In-Bundle Direct Dental Staff Costs","Direct Dental Care Cost - Fringe Benefits - Other Non-Provider Staff","Direct Dental Care Cost - Fringe Benefits - Non-Provider Direct Dental Staff Costs","Direct Dental Care Cost - Fringe Benefits - Subtotal Direct Dental Staff Costs","Direct Dental Care Cost - Compensation - Dentist","Direct Dental Care Cost - Compensation - Dental Specialist","Direct Dental Care Cost - Compensation - Dental Hygienist","Direct Dental Care Cost - Compensation - Other NON-BILLABLE Dental Providers","Direct Dental Care Cost - Compensation - In-Bundle Direct Dental Staff Costs","Direct Dental Care Cost - Compensation - Other Non-Provider Staff","Direct Dental Care Cost - Compensation - Non-Provider Direct Dental Staff Costs","Direct Dental Care Cost - Compensation - Subtotal Direct Dental Staff Costs","Direct Dental Care Cost - Other Costs - Dentist","Direct Dental Care Cost - Other Costs - Dental Specialist","Direct Dental Care Cost - Other Costs - Dental Hygienist","Direct Dental Care Cost - Other Costs - Other NON-BILLABLE Dental Providers","Direct Dental Care Cost - Other Costs - In-Bundle Direct Dental Staff Costs","Direct Dental Care Cost - Other Costs - Other Non-Provider Staff","Direct Dental Care Cost - Other Costs - Non-Provider Direct Dental Staff Costs","Direct Dental Care Cost - Other Costs - Subtotal Direct Dental Staff Costs","Direct Dental Care Cost - Total - Dentist","Direct Dental Care Cost - Total - Dental Specialist","Direct Dental Care Cost - Total - Dental Hygienist","Direct Dental Care Cost - Total - Other NON-BILLABLE Dental Providers","Direct Dental Care Cost - Total - In-Bundle Direct Dental Staff Costs","Direct Dental Care Cost - Total - Other Non-Provider Staff","Direct Dental Care Cost - Total - Non-Provider Direct Dental Staff Costs","Direct Dental Care Cost - Total - Subtotal Direct Dental Staff Costs","Direct Dental Care Cost - Reclassifications - Dentist","Direct Dental Care Cost - Reclassifications - Dental Specialist","Direct Dental Care Cost - Reclassifications - Dental Hygienist","Direct Dental Care Cost - Reclassifications - Other NON-BILLABLE Dental Providers","Direct Dental Care Cost - Reclassifications - In-Bundle Direct Dental Staff Costs","Direct Dental Care Cost - Reclassifications - Other Non-Provider Staff","Direct Dental Care Cost - Reclassifications - Non-Provider Direct Dental Staff Costs","Direct Dental Care Cost - Reclassifications - Subtotal Direct Dental Staff Costs","Direct Dental Care Cost - Reclassified Trial Balance (Col 3 & 4) - Dentist","Direct Dental Care Cost - Reclassified Trial Balance (Col 3 & 4) - Dental Specialist","Direct Dental Care Cost - Reclassified Trial Balance (Col 3 & 4) - Dental Hygienist","Direct Dental Care Cost - Reclassified Trial Balance (Col 3 & 4) - Other NON-BILLABLE Dental Providers","Direct Dental Care Cost - Reclassified Trial Balance (Col 3 & 4) - In-Bundle Direct Dental Staff Costs","Direct Dental Care Cost - Reclassified Trial Balance (Col 3 & 4) - Other Non-Provider Staff","Direct Dental Care Cost - Reclassified Trial Balance (Col 3 & 4) - Non-Provider Direct Dental Staff Costs","Direct Dental Care Cost - Reclassified Trial Balance (Col 3 & 4) - Subtotal Direct Dental Staff Costs","Direct Dental Care Cost - Adjustments Increase (Decrease) - Dentist","Direct Dental Care Cost - Adjustments Increase (Decrease) - Dental Specialist","Direct Dental Care Cost - Adjustments Increase (Decrease) - Dental Hygienist","Direct Dental Care Cost - Adjustments Increase (Decrease) - Other NON-BILLABLE Dental Providers","Direct Dental Care Cost - Adjustments Increase (Decrease) - In-Bundle Direct Dental Staff Costs","Direct Dental Care Cost - Adjustments Increase (Decrease) - Other Non-Provider Staff","Direct Dental Care Cost - Adjustments Increase (Decrease) - Non-Provider Direct Dental Staff Costs","Direct Dental Care Cost - Adjustments Increase (Decrease) - SubAdjustments Increase (Decrease) Direct Dental Staff Costs","Direct Dental Care Cost - Net Expenses w Cost Changes (Col 5 + 6) - Dentist","Direct Dental Care Cost - Net Expenses w Cost Changes (Col 5 + 6) - Dental Specialist","Direct Dental Care Cost - Net Expenses w Cost Changes (Col 5 + 6) - Dental Hygienist","Direct Dental Care Cost - Net Expenses w Cost Changes (Col 5 + 6) - Other NON-BILLABLE Dental Providers","Direct Dental Care Cost - Net Expenses w Cost Changes (Col 5 + 6) - In-Bundle Direct Dental Staff Costs","Direct Dental Care Cost - Net Expenses w Cost Changes (Col 5 + 6) - Other Non-Provider Staff","Direct Dental Care Cost - Net Expenses w Cost Changes (Col 5 + 6) - Non-Provider Direct Dental Staff Costs","Direct Dental Care Cost - Net Expenses w Cost Changes (Col 5 + 6) - Subtotal Direct Dental Staff Costs","Other Direct Dental Costs - Other Costs - Insurance","Other Direct Dental Costs - Other Costs - Consumable Supplies","Other Direct Dental Costs - Other Costs - Repairs and Maintenance","Other Direct Dental Costs - Other Costs - Equipment Rental","Other Direct Dental Costs - Other Costs - Travel, Conference and Meeting Expenses","Other Direct Dental Costs - Other Costs - Dues and Subscriptions","Other Direct Dental Costs - Other Costs - Interest Expense (Operating)","Other Direct Dental Costs - Other Costs - Interest Expense (Capital)","Other Direct Dental Costs - Other Costs - Professional Services","Other Direct Dental Costs - Other Costs - Staff Training","Other Direct Dental Costs - Other Costs - Contracted Services","Other Direct Dental Costs - Other Costs - Publishing, Printing and Mailing","Other Direct Dental Costs - Other Costs - Depreciation","Other Direct Dental Costs - Other Costs - Personnel Recruitment","Other Direct Dental Costs - Other Costs - Other Operating Expense ","Other Direct Dental Costs - Other Costs - Other Capital Expense","Other Direct Dental Costs - Other Costs - Subtotal Other Direct Dental Cost","Other Direct Dental Costs - Total - Insurance","Other Direct Dental Costs - Total - Consumable Supplies","Other Direct Dental Costs - Total - Repairs and Maintenance","Other Direct Dental Costs - Total - Equipment Rental","Other Direct Dental Costs - Total - Travel, Conference and Meeting Expenses","Other Direct Dental Costs - Total - Dues and Subscriptions","Other Direct Dental Costs - Total - Interest Expense (Operating)","Other Direct Dental Costs - Total - Interest Expense (Capital)","Other Direct Dental Costs - Total - Professional Services","Other Direct Dental Costs - Total - Staff Training","Other Direct Dental Costs - Total - Contracted Services","Other Direct Dental Costs - Total - Publishing, Printing and Mailing","Other Direct Dental Costs - Total - Depreciation","Other Direct Dental Costs - Total - Personnel Recruitment","Other Direct Dental Costs - Total - Other Operating Expense ","Other Direct Dental Costs - Total - Other Capital Expense","Other Direct Dental Costs - Total - Subtotal Other Direct Dental Cost","Other Direct Dental Costs - Reclassifications - Insurance","Other Direct Dental Costs - Reclassifications - Consumable Supplies","Other Direct Dental Costs - Reclassifications - Repairs and Maintenance","Other Direct Dental Costs - Reclassifications - Equipment Rental","Other Direct Dental Costs - Reclassifications - Travel, Conference and Meeting Expenses","Other Direct Dental Costs - Reclassifications - Dues and Subscriptions","Other Direct Dental Costs - Reclassifications - Interest Expense (Operating)","Other Direct Dental Costs - Reclassifications - Interest Expense (Capital)","Other Direct Dental Costs - Reclassifications - Professional Services","Other Direct Dental Costs - Reclassifications - Staff Training","Other Direct Dental Costs - Reclassifications - Contracted Services","Other Direct Dental Costs - Reclassifications - Publishing, Printing and Mailing","Other Direct Dental Costs - Reclassifications - Depreciation","Other Direct Dental Costs - Reclassifications - Personnel Recruitment","Other Direct Dental Costs - Reclassifications - Other Operating Expense ","Other Direct Dental Costs - Reclassifications - Other Capital Expense","Other Direct Dental Costs - Reclassifications - Subtotal Other Direct Dental Cost","Other Direct Dental Costs - Reclassified Trial Balance (Col 3 & 4) - Insurance","Other Direct Dental Costs - Reclassified Trial Balance (Col 3 & 4) - Consumable Supplies","Other Direct Dental Costs - Reclassified Trial Balance (Col 3 & 4) - Repairs and Maintenance","Other Direct Dental Costs - Reclassified Trial Balance (Col 3 & 4) - Equipment Rental","Other Direct Dental Costs - Reclassified Trial Balance (Col 3 & 4) - Travel, Conference and Meeting Expenses","Other Direct Dental Costs - Reclassified Trial Balance (Col 3 & 4) - Dues and Subscriptions","Other Direct Dental Costs - Reclassified Trial Balance (Col 3 & 4) - Interest Expense (Operating)","Other Direct Dental Costs - Reclassified Trial Balance (Col 3 & 4) - Interest Expense (Capital)","Other Direct Dental Costs - Reclassified Trial Balance (Col 3 & 4) - Professional Services","Other Direct Dental Costs - Reclassified Trial Balance (Col 3 & 4) - Staff Training","Other Direct Dental Costs - Reclassified Trial Balance (Col 3 & 4) - Contracted Services","Other Direct Dental Costs - Reclassified Trial Balance (Col 3 & 4) - Publishing, Printing and Mailing","Other Direct Dental Costs - Reclassified Trial Balance (Col 3 & 4) - Depreciation","Other Direct Dental Costs - Reclassified Trial Balance (Col 3 & 4) - Personnel Recruitment","Other Direct Dental Costs - Reclassified Trial Balance (Col 3 & 4) - Other Operating Expense ","Other Direct Dental Costs - Reclassified Trial Balance (Col 3 & 4) - Other Capital Expense","Other Direct Dental Costs - Reclassified Trial Balance (Col 3 & 4) - Subtotal Other Direct Dental Cost","Other Direct Dental Costs - Adjustments Increase (Decrease) - Insurance","Other Direct Dental Costs - Adjustments Increase (Decrease) - Consumable Supplies","Other Direct Dental Costs - Adjustments Increase (Decrease) - Repairs and Maintenance","Other Direct Dental Costs - Adjustments Increase (Decrease) - Equipment Rental","Other Direct Dental Costs - Adjustments Increase (Decrease) - Travel, Conference and Meeting Expenses","Other Direct Dental Costs - Adjustments Increase (Decrease) - Dues and Subscriptions","Other Direct Dental Costs - Adjustments Increase (Decrease) - Interest Expense (Operating)","Other Direct Dental Costs - Adjustments Increase (Decrease) - Interest Expense (Capital)","Other Direct Dental Costs - Adjustments Increase (Decrease) - Professional Services","Other Direct Dental Costs - Adjustments Increase (Decrease) - Staff Training","Other Direct Dental Costs - Adjustments Increase (Decrease) - Contracted Services","Other Direct Dental Costs - Adjustments Increase (Decrease) - Publishing, Printing and Mailing","Other Direct Dental Costs - Adjustments Increase (Decrease) - Depreciation","Other Direct Dental Costs - Adjustments Increase (Decrease) - Personnel Recruitment","Other Direct Dental Costs - Adjustments Increase (Decrease) - Other Operating Expense ","Other Direct Dental Costs - Adjustments Increase (Decrease) - Other Capital Expense","Other Direct Dental Costs - Adjustments Increase (Decrease) - Subtotal Other Direct Dental Cost","Other Direct Dental Costs - Net Expenses w Cost Changes (Col 5 + 6) - Insurance","Other Direct Dental Costs - Net Expenses w Cost Changes (Col 5 + 6) - Consumable Supplies","Other Direct Dental Costs - Net Expenses w Cost Changes (Col 5 + 6) - Repairs and Maintenance","Other Direct Dental Costs - Net Expenses w Cost Changes (Col 5 + 6) - Equipment Rental","Other Direct Dental Costs - Net Expenses w Cost Changes (Col 5 + 6) - Travel, Conference and Meeting Expenses","Other Direct Dental Costs - Net Expenses w Cost Changes (Col 5 + 6) - Dues and Subscriptions","Other Direct Dental Costs - Net Expenses w Cost Changes (Col 5 + 6) - Interest Expense (Operating)","Other Direct Dental Costs - Net Expenses w Cost Changes (Col 5 + 6) - Interest Expense (Capital)","Other Direct Dental Costs - Net Expenses w Cost Changes (Col 5 + 6) - Professional Services","Other Direct Dental Costs - Net Expenses w Cost Changes (Col 5 + 6) - Staff Training","Other Direct Dental Costs - Net Expenses w Cost Changes (Col 5 + 6) - Contracted Services","Other Direct Dental Costs - Net Expenses w Cost Changes (Col 5 + 6) - Publishing, Printing and Mailing","Other Direct Dental Costs - Net Expenses w Cost Changes (Col 5 + 6) - Depreciation","Other Direct Dental Costs - Net Expenses w Cost Changes (Col 5 + 6) - Personnel Recruitment","Other Direct Dental Costs - Net Expenses w Cost Changes (Col 5 + 6) - Other Operating Expense ","Other Direct Dental Costs - Net Expenses w Cost Changes (Col 5 + 6) - Other Capital Expense","Other Direct Dental Costs - Net Expenses w Cost Changes (Col 5 + 6) - Subtotal Other Direct Dental Cost","TOTAL DIRECT DENTAL CARE COST (1.d.3 & 2.f.1) - Salaried Personnel","TOTAL DIRECT DENTAL CARE COST (1.d.3 & 2.f.1) - Fringe Benefits","TOTAL DIRECT DENTAL CARE COST (1.d.3 & 2.f.1) - Compensation","TOTAL DIRECT DENTAL CARE COST (1.d.3 & 2.f.1) - Other Costs","TOTAL DIRECT DENTAL CARE COST (1.d.3 & 2.f.1) - Total","TOTAL DIRECT DENTAL CARE COST (1.d.3 & 2.f.1) - Reclassification","TOTAL DIRECT DENTAL CARE COST (1.d.3 & 2.f.1) - Reclassified Trial Balance (Col 3 & 4)","TOTAL DIRECT DENTAL CARE COST (1.d.3 & 2.f.1) - Adjustments Increase (Decrease)","TOTAL DIRECT DENTAL CARE COST (1.d.3 & 2.f.1) - Net Expenses w Cost Change (Col 5 + 6)","Direct Behavioral Health Care Cost - Salaried Personnel - Mental Health - Psychiatrists","Direct Behavioral Health Care Cost - Salaried Personnel - Mental Health - Psychologists","Direct Behavioral Health Care Cost - Salaried Personnel - Mental Health - Licensed Independent Clinical Social Worker (LISCW)","Direct Behavioral Health Care Cost - Salaried Personnel - Mental Health - Licensed Clinical Social Worker (LCSW)","Direct Behavioral Health Care Cost - Salaried Personnel - Mental Health - Unlicensed Master of Social Worker (MSW)","Direct Behavioral Health Care Cost - Salaried Personnel - Mental Health - Licensed Mental Health Counselor (LMHC)","Direct Behavioral Health Care Cost - Salaried Personnel - Mental Health - Family Therapists","Direct Behavioral Health Care Cost - Salaried Personnel - Mental Health - Psychiatric Nurse Practitioner","Direct Behavioral Health Care Cost - Salaried Personnel - Mental Health - Nurses - Psychiatric and Mental Health","Direct Behavioral Health Care Cost - Salaried Personnel - Mental Health - RN Nurse Counselors","Direct Behavioral Health Care Cost - Salaried Personnel - Mental Health - Unlicensed Mental Health Providers, including trainees (interns or residents) and \"Certified\" staff","Direct Behavioral Health Care Cost - Salaried Personnel - Substance Use Disorder - RN Nurse Counselors","Direct Behavioral Health Care Cost - Salaried Personnel - Substance Use Disorder - Licensed Independent Clinical Social Worker (LISCW)","Direct Behavioral Health Care Cost - Salaried Personnel - Substance Use Disorder - Licensed Clinical Social Worker (LCSW)","Direct Behavioral Health Care Cost - Salaried Personnel - Substance Use Disorder - Unlicensed Master of Social Worker (MSW)","Direct Behavioral Health Care Cost - Salaried Personnel - Substance Use Disorder - Licensed Mental Health Counselor (LMHC)","Direct Behavioral Health Care Cost - Salaried Personnel - Substance Use Disorder - LADAC/CADAC","Direct Behavioral Health Care Cost - Salaried Personnel - Substance Use Disorder - Family Therapists","Direct Behavioral Health Care Cost - Salaried Personnel - Substance Use Disorder - Recovery Coaches/Peer Support","Direct Behavioral Health Care Cost - Salaried Personnel - In-Bundle Direct Behavioral Health Staff Costs ","Direct Behavioral Health Care Cost - Salaried Personnel - Substance Use Disorder - Harm Reduction Specialist","Direct Behavioral Health Care Cost - Salaried Personnel - Substance Use Disorder - Other NON-BILLABLE MH/SUD Providers","Direct Behavioral Health Care Cost - Salaried Personnel - Out-of-Bundle Direct Behavioral Health Staff Costs","Direct Behavioral Health Care Cost - Salaried Personnel - Other MH/SUD Non-Provider Staff","Direct Behavioral Health Care Cost - Salaried Personnel - Non-Provider Direct Behavioral Health Staff Costs","Direct Behavioral Health Care Cost - Salaried Personnel - Subtotal Direct Behavioral Health Staff Cost","Direct Behavioral Health Care Cost - Fringe Benefits - Mental Health - Psychiatrists","Direct Behavioral Health Care Cost - Fringe Benefits - Mental Health - Psychologists","Direct Behavioral Health Care Cost - Fringe Benefits - Mental Health - Licensed Independent Clinical Social Worker (LISCW)","Direct Behavioral Health Care Cost - Fringe Benefits - Mental Health - Licensed Clinical Social Worker (LCSW)","Direct Behavioral Health Care Cost - Fringe Benefits - Mental Health - Unlicensed Master of Social Worker (MSW)","Direct Behavioral Health Care Cost - Fringe Benefits - Mental Health - Licensed Mental Health Counselor (LMHC)","Direct Behavioral Health Care Cost - Fringe Benefits - Mental Health - Family Therapists","Direct Behavioral Health Care Cost - Fringe Benefits - Mental Health - Psychiatric Nurse Practitioner","Direct Behavioral Health Care Cost - Fringe Benefits - Mental Health - Nurses - Psychiatric and Mental Health","Direct Behavioral Health Care Cost - Fringe Benefits - Mental Health - RN Nurse Counselors","Direct Behavioral Health Care Cost - Fringe Benefits - Mental Health - Unlicensed Mental Health Providers, including trainees (interns or residents) and \"Certified\" staff","Direct Behavioral Health Care Cost - Fringe Benefits - Substance Use Disorder - RN Nurse Counselors","Direct Behavioral Health Care Cost - Fringe Benefits - Substance Use Disorder - Licensed Independent Clinical Social Worker (LISCW)","Direct Behavioral Health Care Cost - Fringe Benefits - Substance Use Disorder - Licensed Clinical Social Worker (LCSW)","Direct Behavioral Health Care Cost - Fringe Benefits - Substance Use Disorder - Unlicensed Master of Social Worker (MSW)","Direct Behavioral Health Care Cost - Fringe Benefits - Substance Use Disorder - Licensed Mental Health Counselor (LMHC)","Direct Behavioral Health Care Cost - Fringe Benefits - Substance Use Disorder - LADAC/CADAC","Direct Behavioral Health Care Cost - Fringe Benefits - Substance Use Disorder - Family Therapists","Direct Behavioral Health Care Cost - Fringe Benefits - Substance Use Disorder - Recovery Coaches/Peer Support","Direct Behavioral Health Care Cost - Fringe Benefits - In-Bundle Direct Behavioral Health Staff Costs ","Direct Behavioral Health Care Cost - Fringe Benefits - Substance Use Disorder - Harm Reduction Specialist","Direct Behavioral Health Care Cost - Fringe Benefits - Substance Use Disorder - Other NON-BILLABLE MH/SUD Providers","Direct Behavioral Health Care Cost - Fringe Benefits - Out-of-Bundle Direct Behavioral Health Staff Costs","Direct Behavioral Health Care Cost - Fringe Benefits - Other MH/SUD Non-Provider Staff","Direct Behavioral Health Care Cost - Fringe Benefits - Non-Provider Direct Behavioral Health Staff Costs","Direct Behavioral Health Care Cost - Fringe Benefits - Subtotal Direct Behavioral Health Staff Cost","Direct Behavioral Health Care Cost - Compensation - Mental Health - Psychiatrists","Direct Behavioral Health Care Cost - Compensation - Mental Health - Psychologists","Direct Behavioral Health Care Cost - Compensation - Mental Health - Licensed Independent Clinical Social Worker (LISCW)","Direct Behavioral Health Care Cost - Compensation - Mental Health - Licensed Clinical Social Worker (LCSW)","Direct Behavioral Health Care Cost - Compensation - Mental Health - Unlicensed Master of Social Worker (MSW)","Direct Behavioral Health Care Cost - Compensation - Mental Health - Licensed Mental Health Counselor (LMHC)","Direct Behavioral Health Care Cost - Compensation - Mental Health - Family Therapists","Direct Behavioral Health Care Cost - Compensation - Mental Health - Psychiatric Nurse Practitioner","Direct Behavioral Health Care Cost - Compensation - Mental Health - Nurses - Psychiatric and Mental Health","Direct Behavioral Health Care Cost - Compensation - Mental Health - RN Nurse Counselors","Direct Behavioral Health Care Cost - Compensation - Mental Health - Unlicensed Mental Health Providers, including trainees (interns or residents) and \"Certified\" staff","Direct Behavioral Health Care Cost - Compensation - Substance Use Disorder - RN Nurse Counselors","Direct Behavioral Health Care Cost - Compensation - Substance Use Disorder - Licensed Independent Clinical Social Worker (LISCW)","Direct Behavioral Health Care Cost - Compensation - Substance Use Disorder - Licensed Clinical Social Worker (LCSW)","Direct Behavioral Health Care Cost - Compensation - Substance Use Disorder - Unlicensed Master of Social Worker (MSW)","Direct Behavioral Health Care Cost - Compensation - Substance Use Disorder - Licensed Mental Health Counselor (LMHC)","Direct Behavioral Health Care Cost - Compensation - Substance Use Disorder - LADAC/CADAC","Direct Behavioral Health Care Cost - Compensation - Substance Use Disorder - Family Therapists","Direct Behavioral Health Care Cost - Compensation - Substance Use Disorder - Recovery Coaches/Peer Support","Direct Behavioral Health Care Cost - Compensation - In-Bundle Direct Behavioral Health Staff Costs ","Direct Behavioral Health Care Cost - Compensation - Substance Use Disorder - Harm Reduction Specialist","Direct Behavioral Health Care Cost - Compensation - Substance Use Disorder - Other NON-BILLABLE MH/SUD Providers","Direct Behavioral Health Care Cost - Compensation - Out-of-Bundle Direct Behavioral Health Staff Costs","Direct Behavioral Health Care Cost - Compensation - Other MH/SUD Non-Provider Staff","Direct Behavioral Health Care Cost - Compensation - Non-Provider Direct Behavioral Health Staff Costs","Direct Behavioral Health Care Cost - Compensation - Subtotal Direct Behavioral Health Staff Cost","Direct Behavioral Health Care Cost - Other Costs - Mental Health - Psychiatrists","Direct Behavioral Health Care Cost - Other Costs - Mental Health - Psychologists","Direct Behavioral Health Care Cost - Other Costs - Mental Health - Licensed Independent Clinical Social Worker (LISCW)","Direct Behavioral Health Care Cost - Other Costs - Mental Health - Licensed Clinical Social Worker (LCSW)","Direct Behavioral Health Care Cost - Other Costs - Mental Health - Unlicensed Master of Social Worker (MSW)","Direct Behavioral Health Care Cost - Other Costs - Mental Health - Licensed Mental Health Counselor (LMHC)","Direct Behavioral Health Care Cost - Other Costs - Mental Health - Family Therapists","Direct Behavioral Health Care Cost - Other Costs - Mental Health - Psychiatric Nurse Practitioner","Direct Behavioral Health Care Cost - Other Costs - Mental Health - Nurses - Psychiatric and Mental Health","Direct Behavioral Health Care Cost - Other Costs - Mental Health - RN Nurse Counselors","Direct Behavioral Health Care Cost - Other Costs - Mental Health - Unlicensed Mental Health Providers, including trainees (interns or residents) and \"Certified\" staff","Direct Behavioral Health Care Cost - Other Costs - Substance Use Disorder - RN Nurse Counselors","Direct Behavioral Health Care Cost - Other Costs - Substance Use Disorder - Licensed Independent Clinical Social Worker (LISCW)","Direct Behavioral Health Care Cost - Other Costs - Substance Use Disorder - Licensed Clinical Social Worker (LCSW)","Direct Behavioral Health Care Cost - Other Costs - Substance Use Disorder - Unlicensed Master of Social Worker (MSW)","Direct Behavioral Health Care Cost - Other Costs - Substance Use Disorder - Licensed Mental Health Counselor (LMHC)","Direct Behavioral Health Care Cost - Other Costs - Substance Use Disorder - LADAC/CADAC","Direct Behavioral Health Care Cost - Other Costs - Substance Use Disorder - Family Therapists","Direct Behavioral Health Care Cost - Other Costs - Substance Use Disorder - Recovery Coaches/Peer Support","Direct Behavioral Health Care Cost - Other Costs - In-Bundle Direct Behavioral Health Staff Costs ","Direct Behavioral Health Care Cost - Other Costs - Substance Use Disorder - Harm Reduction Specialist","Direct Behavioral Health Care Cost - Other Costs - Substance Use Disorder - Other NON-BILLABLE MH/SUD Providers","Direct Behavioral Health Care Cost - Other Costs - Out-of-Bundle Direct Behavioral Health Staff Costs","Direct Behavioral Health Care Cost - Other Costs - Other MH/SUD Non-Provider Staff","Direct Behavioral Health Care Cost - Other Costs - Non-Provider Direct Behavioral Health Staff Costs","Direct Behavioral Health Care Cost - Other Costs - Subtotal Direct Behavioral Health Staff Cost","Direct Behavioral Health Care Cost - Total - Mental Health - Psychiatrists","Direct Behavioral Health Care Cost - Total - Mental Health - Psychologists","Direct Behavioral Health Care Cost - Total - Mental Health - Licensed Independent Clinical Social Worker (LISCW)","Direct Behavioral Health Care Cost - Total - Mental Health - Licensed Clinical Social Worker (LCSW)","Direct Behavioral Health Care Cost - Total - Mental Health - Unlicensed Master of Social Worker (MSW)","Direct Behavioral Health Care Cost - Total - Mental Health - Licensed Mental Health Counselor (LMHC)","Direct Behavioral Health Care Cost - Total - Mental Health - Family Therapists","Direct Behavioral Health Care Cost - Total - Mental Health - Psychiatric Nurse Practitioner","Direct Behavioral Health Care Cost - Total - Mental Health - Nurses - Psychiatric and Mental Health","Direct Behavioral Health Care Cost - Total - Mental Health - RN Nurse Counselors","Direct Behavioral Health Care Cost - Total - Mental Health - Unlicensed Mental Health Providers, including trainees (interns or residents) and \"Certified\" staff","Direct Behavioral Health Care Cost - Total - Substance Use Disorder - RN Nurse Counselors","Direct Behavioral Health Care Cost - Total - Substance Use Disorder - Licensed Independent Clinical Social Worker (LISCW)","Direct Behavioral Health Care Cost - Total - Substance Use Disorder - Licensed Clinical Social Worker (LCSW)","Direct Behavioral Health Care Cost - Total - Substance Use Disorder - Unlicensed Master of Social Worker (MSW)","Direct Behavioral Health Care Cost - Total - Substance Use Disorder - Licensed Mental Health Counselor (LMHC)","Direct Behavioral Health Care Cost - Total - Substance Use Disorder - LADAC/CADAC","Direct Behavioral Health Care Cost - Total - Substance Use Disorder - Family Therapists","Direct Behavioral Health Care Cost - Total - Substance Use Disorder - Recovery Coaches/Peer Support","Direct Behavioral Health Care Cost - Total - In-Bundle Direct Behavioral Health Staff Costs ","Direct Behavioral Health Care Cost - Total - Substance Use Disorder - Harm Reduction Specialist","Direct Behavioral Health Care Cost - Total - Substance Use Disorder - Other NON-BILLABLE MH/SUD Providers","Direct Behavioral Health Care Cost - Total - Out-of-Bundle Direct Behavioral Health Staff Costs","Direct Behavioral Health Care Cost - Total - Other MH/SUD Non-Provider Staff","Direct Behavioral Health Care Cost - Total - Non-Provider Direct Behavioral Health Staff Costs","Direct Behavioral Health Care Cost - Total - Subtotal Direct Behavioral Health Staff Cost","Direct Behavioral Health Care Cost - Reclassification - Mental Health - Psychiatrists","Direct Behavioral Health Care Cost - Reclassification - Mental Health - Psychologists","Direct Behavioral Health Care Cost - Reclassification - Mental Health - Licensed Independent Clinical Social Worker (LISCW)","Direct Behavioral Health Care Cost - Reclassification - Mental Health - Licensed Clinical Social Worker (LCSW)","Direct Behavioral Health Care Cost - Reclassification - Mental Health - Unlicensed Master of Social Worker (MSW)","Direct Behavioral Health Care Cost - Reclassification - Mental Health - Licensed Mental Health Counselor (LMHC)","Direct Behavioral Health Care Cost - Reclassification - Mental Health - Family Therapists","Direct Behavioral Health Care Cost - Reclassification - Mental Health - Psychiatric Nurse Practitioner","Direct Behavioral Health Care Cost - Reclassification - Mental Health - Nurses - Psychiatric and Mental Health","Direct Behavioral Health Care Cost - Reclassification - Mental Health - RN Nurse Counselors","Direct Behavioral Health Care Cost - Reclassification - Mental Health - Unlicensed Mental Health Providers, including trainees (interns or residents) and \"Certified\" staff","Direct Behavioral Health Care Cost - Reclassification - Substance Use Disorder - RN Nurse Counselors","Direct Behavioral Health Care Cost - Reclassification - Substance Use Disorder - Licensed Independent Clinical Social Worker (LISCW)","Direct Behavioral Health Care Cost - Reclassification - Substance Use Disorder - Licensed Clinical Social Worker (LCSW)","Direct Behavioral Health Care Cost - Reclassification - Substance Use Disorder - Unlicensed Master of Social Worker (MSW)","Direct Behavioral Health Care Cost - Reclassification - Substance Use Disorder - Licensed Mental Health Counselor (LMHC)","Direct Behavioral Health Care Cost - Reclassification - Substance Use Disorder - LADAC/CADAC","Direct Behavioral Health Care Cost - Reclassification - Substance Use Disorder - Family Therapists","Direct Behavioral Health Care Cost - Reclassification - Substance Use Disorder - Recovery Coaches/Peer Support","Direct Behavioral Health Care Cost - Reclassification - In-Bundle Direct Behavioral Health Staff Costs ","Direct Behavioral Health Care Cost - Reclassification - Substance Use Disorder - Harm Reduction Specialist","Direct Behavioral Health Care Cost - Reclassification - Substance Use Disorder - Other NON-BILLABLE MH/SUD Providers","Direct Behavioral Health Care Cost - Reclassification - Out-of-Bundle Direct Behavioral Health Staff Costs","Direct Behavioral Health Care Cost - Reclassification - Other MH/SUD Non-Provider Staff","Direct Behavioral Health Care Cost - Reclassification - Non-Provider Direct Behavioral Health Staff Costs","Direct Behavioral Health Care Cost - Reclassification - Subtotal Direct Behavioral Health Staff Cost","Direct Behavioral Health Care Cost - Reclassified Trial Balance (Col 3 & 4) - Mental Health - Psychiatrists","Direct Behavioral Health Care Cost - Reclassified Trial Balance (Col 3 & 4) - Mental Health - Psychologists","Direct Behavioral Health Care Cost - Reclassified Trial Balance (Col 3 & 4) - Mental Health - Licensed Independent Clinical Social Worker (LISCW)","Direct Behavioral Health Care Cost - Reclassified Trial Balance (Col 3 & 4) - Mental Health - Licensed Clinical Social Worker (LCSW)","Direct Behavioral Health Care Cost - Reclassified Trial Balance (Col 3 & 4) - Mental Health - Unlicensed Master of Social Worker (MSW)","Direct Behavioral Health Care Cost - Reclassified Trial Balance (Col 3 & 4) - Mental Health - Licensed Mental Health Counselor (LMHC)","Direct Behavioral Health Care Cost - Reclassified Trial Balance (Col 3 & 4) - Mental Health - Family Therapists","Direct Behavioral Health Care Cost - Reclassified Trial Balance (Col 3 & 4) - Mental Health - Psychiatric Nurse Practitioner","Direct Behavioral Health Care Cost - Reclassified Trial Balance (Col 3 & 4) - Mental Health - Nurses - Psychiatric and Mental Health","Direct Behavioral Health Care Cost - Reclassified Trial Balance (Col 3 & 4) - Mental Health - RN Nurse Counselors","Direct Behavioral Health Care Cost - Reclassified Trial Balance (Col 3 & 4) - Mental Health - Unlicensed Mental Health Providers, including trainees (interns or residents) and \"Certified\" staff","Direct Behavioral Health Care Cost - Reclassified Trial Balance (Col 3 & 4) - Substance Use Disorder - RN Nurse Counselors","Direct Behavioral Health Care Cost - Reclassified Trial Balance (Col 3 & 4) - Substance Use Disorder - Licensed Independent Clinical Social Worker (LISCW)","Direct Behavioral Health Care Cost - Reclassified Trial Balance (Col 3 & 4) - Substance Use Disorder - Licensed Clinical Social Worker (LCSW)","Direct Behavioral Health Care Cost - Reclassified Trial Balance (Col 3 & 4) - Substance Use Disorder - Unlicensed Master of Social Worker (MSW)","Direct Behavioral Health Care Cost - Reclassified Trial Balance (Col 3 & 4) - Substance Use Disorder - Licensed Mental Health Counselor (LMHC)","Direct Behavioral Health Care Cost - Reclassified Trial Balance (Col 3 & 4) - Substance Use Disorder - LADAC/CADAC","Direct Behavioral Health Care Cost - Reclassified Trial Balance (Col 3 & 4) - Substance Use Disorder - Family Therapists","Direct Behavioral Health Care Cost - Reclassified Trial Balance (Col 3 & 4) - Substance Use Disorder - Recovery Coaches/Peer Support","Direct Behavioral Health Care Cost - Reclassified Trial Balance (Col 3 & 4) - In-Bundle Direct Behavioral Health Staff Costs ","Direct Behavioral Health Care Cost - Reclassified Trial Balance (Col 3 & 4) - Substance Use Disorder - Harm Reduction Specialist","Direct Behavioral Health Care Cost - Reclassified Trial Balance (Col 3 & 4) - Substance Use Disorder - Other NON-BILLABLE MH/SUD Providers","Direct Behavioral Health Care Cost - Reclassified Trial Balance (Col 3 & 4) - Out-of-Bundle Direct Behavioral Health Staff Costs","Direct Behavioral Health Care Cost - Reclassified Trial Balance (Col 3 & 4) - Other MH/SUD Non-Provider Staff","Direct Behavioral Health Care Cost - Reclassified Trial Balance (Col 3 & 4) - Non-Provider Direct Behavioral Health Staff Costs","Direct Behavioral Health Care Cost - Reclassified Trial Balance (Col 3 & 4) - Subtotal Direct Behavioral Health Staff Cost","Direct Behavioral Health Care Cost - Adjustments Increase (Decrease) - Mental Health - Psychiatrists","Direct Behavioral Health Care Cost - Adjustments Increase (Decrease) - Mental Health - Psychologists","Direct Behavioral Health Care Cost - Adjustments Increase (Decrease) - Mental Health - Licensed Independent Clinical Social Worker (LISCW)","Direct Behavioral Health Care Cost - Adjustments Increase (Decrease) - Mental Health - Licensed Clinical Social Worker (LCSW)","Direct Behavioral Health Care Cost - Adjustments Increase (Decrease) - Mental Health - Unlicensed Master of Social Worker (MSW)","Direct Behavioral Health Care Cost - Adjustments Increase (Decrease) - Mental Health - Licensed Mental Health Counselor (LMHC)","Direct Behavioral Health Care Cost - Adjustments Increase (Decrease) - Mental Health - Family Therapists","Direct Behavioral Health Care Cost - Adjustments Increase (Decrease) - Mental Health - Psychiatric Nurse Practitioner","Direct Behavioral Health Care Cost - Adjustments Increase (Decrease) - Mental Health - Nurses - Psychiatric and Mental Health","Direct Behavioral Health Care Cost - Adjustments Increase (Decrease) - Mental Health - RN Nurse Counselors","Direct Behavioral Health Care Cost - Adjustments Increase (Decrease) - Mental Health - Unlicensed Mental Health Providers, including trainees (interns or residents) and \"Certified\" staff","Direct Behavioral Health Care Cost - Adjustments Increase (Decrease) - Substance Use Disorder - RN Nurse Counselors","Direct Behavioral Health Care Cost - Adjustments Increase (Decrease) - Substance Use Disorder - Licensed Independent Clinical Social Worker (LISCW)","Direct Behavioral Health Care Cost - Adjustments Increase (Decrease) - Substance Use Disorder - Licensed Clinical Social Worker (LCSW)","Direct Behavioral Health Care Cost - Adjustments Increase (Decrease) - Substance Use Disorder - Unlicensed Master of Social Worker (MSW)","Direct Behavioral Health Care Cost - Adjustments Increase (Decrease) - Substance Use Disorder - Licensed Mental Health Counselor (LMHC)","Direct Behavioral Health Care Cost - Adjustments Increase (Decrease) - Substance Use Disorder - LADAC/CADAC","Direct Behavioral Health Care Cost - Adjustments Increase (Decrease) - Substance Use Disorder - Family Therapists","Direct Behavioral Health Care Cost - Adjustments Increase (Decrease) - Substance Use Disorder - Recovery Coaches/Peer Support","Direct Behavioral Health Care Cost - Adjustments Increase (Decrease) - In-Bundle Direct Behavioral Health Staff Costs ","Direct Behavioral Health Care Cost - Adjustments Increase (Decrease) - Substance Use Disorder - Harm Reduction Specialist","Direct Behavioral Health Care Cost - Adjustments Increase (Decrease) - Substance Use Disorder - Other NON-BILLABLE MH/SUD Providers","Direct Behavioral Health Care Cost - Adjustments Increase (Decrease) - Out-of-Bundle Direct Behavioral Health Staff Costs","Direct Behavioral Health Care Cost - Adjustments Increase (Decrease) - Other MH/SUD Non-Provider Staff","Direct Behavioral Health Care Cost - Adjustments Increase (Decrease) - Non-Provider Direct Behavioral Health Staff Costs","Direct Behavioral Health Care Cost - Adjustments Increase (Decrease) - Subtotal Direct Behavioral Health Staff Cost","Direct Behavioral Health Care Cost - Net Expenses w Cost Changes (Col 5 & 6) - Mental Health - Psychiatrists","Direct Behavioral Health Care Cost - Net Expenses w Cost Changes (Col 5 & 6) - Mental Health - Psychologists","Direct Behavioral Health Care Cost - Net Expenses w Cost Changes (Col 5 & 6) - Mental Health - Licensed Independent Clinical Social Worker (LISCW)","Direct Behavioral Health Care Cost - Net Expenses w Cost Changes (Col 5 & 6) - Mental Health - Licensed Clinical Social Worker (LCSW)","Direct Behavioral Health Care Cost - Net Expenses w Cost Changes (Col 5 & 6) - Mental Health - Unlicensed Master of Social Worker (MSW)","Direct Behavioral Health Care Cost - Net Expenses w Cost Changes (Col 5 & 6) - Mental Health - Licensed Mental Health Counselor (LMHC)","Direct Behavioral Health Care Cost - Net Expenses w Cost Changes (Col 5 & 6) - Mental Health - Family Therapists","Direct Behavioral Health Care Cost - Net Expenses w Cost Changes (Col 5 & 6) - Mental Health - Psychiatric Nurse Practitioner","Direct Behavioral Health Care Cost - Net Expenses w Cost Changes (Col 5 & 6) - Mental Health - Nurses - Psychiatric and Mental Health","Direct Behavioral Health Care Cost - Net Expenses w Cost Changes (Col 5 & 6) - Mental Health - RN Nurse Counselors","Direct Behavioral Health Care Cost - Net Expenses w Cost Changes (Col 5 & 6) - Mental Health - Unlicensed Mental Health Providers, including trainees (interns or residents) and \"Certified\" staff","Direct Behavioral Health Care Cost - Net Expenses w Cost Changes (Col 5 & 6) - Substance Use Disorder - RN Nurse Counselors","Direct Behavioral Health Care Cost - Net Expenses w Cost Changes (Col 5 & 6) - Substance Use Disorder - Licensed Independent Clinical Social Worker (LISCW)","Direct Behavioral Health Care Cost - Net Expenses w Cost Changes (Col 5 & 6) - Substance Use Disorder - Licensed Clinical Social Worker (LCSW)","Direct Behavioral Health Care Cost - Net Expenses w Cost Changes (Col 5 & 6) - Substance Use Disorder - Unlicensed Master of Social Worker (MSW)","Direct Behavioral Health Care Cost - Net Expenses w Cost Changes (Col 5 & 6) - Substance Use Disorder - Licensed Mental Health Counselor (LMHC)","Direct Behavioral Health Care Cost - Net Expenses w Cost Changes (Col 5 & 6) - Substance Use Disorder - LADAC/CADAC","Direct Behavioral Health Care Cost - Net Expenses w Cost Changes (Col 5 & 6) - Substance Use Disorder - Family Therapists","Direct Behavioral Health Care Cost - Net Expenses w Cost Changes (Col 5 & 6) - Substance Use Disorder - Recovery Coaches/Peer Support","Direct Behavioral Health Care Cost - Net Expenses w Cost Changes (Col 5 & 6) - In-Bundle Direct Behavioral Health Staff Costs ","Direct Behavioral Health Care Cost - Net Expenses w Cost Changes (Col 5 & 6) - Substance Use Disorder - Harm Reduction Specialist","Direct Behavioral Health Care Cost - Net Expenses w Cost Changes (Col 5 & 6) - Substance Use Disorder - Other NON-BILLABLE MH/SUD Providers","Direct Behavioral Health Care Cost - Net Expenses w Cost Changes (Col 5 & 6) - Out-of-Bundle Direct Behavioral Health Staff Costs","Direct Behavioral Health Care Cost - Net Expenses w Cost Changes (Col 5 & 6) - Other MH/SUD Non-Provider Staff","Direct Behavioral Health Care Cost - Net Expenses w Cost Changes (Col 5 & 6) - Non-Provider Direct Behavioral Health Staff Costs","Direct Behavioral Health Care Cost - Net Expenses w Cost Changes (Col 5 & 6) - Subtotal Direct Behavioral Health Staff Cost","Other Direct Behavioral Health Care Costs - Other Costs - Insurance","Other Direct Behavioral Health Care Costs - Other Costs - Consumable Supplies","Other Direct Behavioral Health Care Costs - Other Costs - Repairs and Maintenance","Other Direct Behavioral Health Care Costs - Other Costs - Equipment Rental","Other Direct Behavioral Health Care Costs - Other Costs - Travel, Conference and Meeting Expenses","Other Direct Behavioral Health Care Costs - Other Costs - Dues and Subscriptions","Other Direct Behavioral Health Care Costs - Other Costs - Interest Expense (Operating)","Other Direct Behavioral Health Care Costs - Other Costs - Interest Expense (Capital)","Other Direct Behavioral Health Care Costs - Other Costs - Professional Services","Other Direct Behavioral Health Care Costs - Other Costs - Staff Training","Other Direct Behavioral Health Care Costs - Other Costs - Contracted Services","Other Direct Behavioral Health Care Costs - Other Costs - Publishing, Printing and Mailing","Other Direct Behavioral Health Care Costs - Other Costs - Depreciation","Other Direct Behavioral Health Care Costs - Other Costs - Personnel Recruitment","Other Direct Behavioral Health Care Costs - Other Costs - Other Operating Expense ","Other Direct Behavioral Health Care Costs - Other Costs - Other Capital Expense","Other Direct Behavioral Health Care Costs - Other Costs - Subtotal Other Direct Behavioral Health Care Cost","Other Direct Behavioral Health Care Costs - Total - Insurance","Other Direct Behavioral Health Care Costs - Total - Consumable Supplies","Other Direct Behavioral Health Care Costs - Total - Repairs and Maintenance","Other Direct Behavioral Health Care Costs - Total - Equipment Rental","Other Direct Behavioral Health Care Costs - Total - Travel, Conference and Meeting Expenses","Other Direct Behavioral Health Care Costs - Total - Dues and Subscriptions","Other Direct Behavioral Health Care Costs - Total - Interest Expense (Operating)","Other Direct Behavioral Health Care Costs - Total - Interest Expense (Capital)","Other Direct Behavioral Health Care Costs - Total - Professional Services","Other Direct Behavioral Health Care Costs - Total - Staff Training","Other Direct Behavioral Health Care Costs - Total - Contracted Services","Other Direct Behavioral Health Care Costs - Total - Publishing, Printing and Mailing","Other Direct Behavioral Health Care Costs - Total - Depreciation","Other Direct Behavioral Health Care Costs - Total - Personnel Recruitment","Other Direct Behavioral Health Care Costs - Total - Other Operating Expense ","Other Direct Behavioral Health Care Costs - Total - Other Capital Expense","Other Direct Behavioral Health Care Costs - Total - Subtotal Other Direct Behavioral Health Care Cost","Other Direct Behavioral Health Care Costs - Reclassifications - Insurance","Other Direct Behavioral Health Care Costs - Reclassifications - Consumable Supplies","Other Direct Behavioral Health Care Costs - Reclassifications - Repairs and Maintenance","Other Direct Behavioral Health Care Costs - Reclassifications - Equipment Rental","Other Direct Behavioral Health Care Costs - Reclassifications - Travel, Conference and Meeting Expenses","Other Direct Behavioral Health Care Costs - Reclassifications - Dues and Subscriptions","Other Direct Behavioral Health Care Costs - Reclassifications - Interest Expense (Operating)","Other Direct Behavioral Health Care Costs - Reclassifications - Interest Expense (Capital)","Other Direct Behavioral Health Care Costs - Reclassifications - Professional Services","Other Direct Behavioral Health Care Costs - Reclassifications - Staff Training","Other Direct Behavioral Health Care Costs - Reclassifications - Contracted Services","Other Direct Behavioral Health Care Costs - Reclassifications - Publishing, Printing and Mailing","Other Direct Behavioral Health Care Costs - Reclassifications - Depreciation","Other Direct Behavioral Health Care Costs - Reclassifications - Personnel Recruitment","Other Direct Behavioral Health Care Costs - Reclassifications - Other Operating Expense ","Other Direct Behavioral Health Care Costs - Reclassifications - Other Capital Expense","Other Direct Behavioral Health Care Costs - Reclassifications - Subtotal Other Direct Behavioral Health Care Cost","Other Direct Behavioral Health Care Costs - Reclassified Trial Balance (Col 3 & 4) - Insurance","Other Direct Behavioral Health Care Costs - Reclassified Trial Balance (Col 3 & 4) - Consumable Supplies","Other Direct Behavioral Health Care Costs - Reclassified Trial Balance (Col 3 & 4) - Repairs and Maintenance","Other Direct Behavioral Health Care Costs - Reclassified Trial Balance (Col 3 & 4) - Equipment Rental","Other Direct Behavioral Health Care Costs - Reclassified Trial Balance (Col 3 & 4) - Travel, Conference and Meeting Expenses","Other Direct Behavioral Health Care Costs - Reclassified Trial Balance (Col 3 & 4) - Dues and Subscriptions","Other Direct Behavioral Health Care Costs - Reclassified Trial Balance (Col 3 & 4) - Interest Expense (Operating)","Other Direct Behavioral Health Care Costs - Reclassified Trial Balance (Col 3 & 4) - Interest Expense (Capital)","Other Direct Behavioral Health Care Costs - Reclassified Trial Balance (Col 3 & 4) - Professional Services","Other Direct Behavioral Health Care Costs - Reclassified Trial Balance (Col 3 & 4) - Staff Training","Other Direct Behavioral Health Care Costs - Reclassified Trial Balance (Col 3 & 4) - Contracted Services","Other Direct Behavioral Health Care Costs - Reclassified Trial Balance (Col 3 & 4) - Publishing, Printing and Mailing","Other Direct Behavioral Health Care Costs - Reclassified Trial Balance (Col 3 & 4) - Depreciation","Other Direct Behavioral Health Care Costs - Reclassified Trial Balance (Col 3 & 4) - Personnel Recruitment","Other Direct Behavioral Health Care Costs - Reclassified Trial Balance (Col 3 & 4) - Other Operating Expense ","Other Direct Behavioral Health Care Costs - Reclassified Trial Balance (Col 3 & 4) - Other Capital Expense","Other Direct Behavioral Health Care Costs - Reclassified Trial Balance (Col 3 & 4) - Subtotal Other Direct Behavioral Health Care Cost","Other Direct Behavioral Health Care Costs - Adjustments Increase (Decrease) - Insurance","Other Direct Behavioral Health Care Costs - Adjustments Increase (Decrease) - Consumable Supplies","Other Direct Behavioral Health Care Costs - Adjustments Increase (Decrease) - Repairs and Maintenance","Other Direct Behavioral Health Care Costs - Adjustments Increase (Decrease) - Equipment Rental","Other Direct Behavioral Health Care Costs - Adjustments Increase (Decrease) - Travel, Conference and Meeting Expenses","Other Direct Behavioral Health Care Costs - Adjustments Increase (Decrease) - Dues and Subscriptions","Other Direct Behavioral Health Care Costs - Adjustments Increase (Decrease) - Interest Expense (Operating)","Other Direct Behavioral Health Care Costs - Adjustments Increase (Decrease) - Interest Expense (Capital)","Other Direct Behavioral Health Care Costs - Adjustments Increase (Decrease) - Professional Services","Other Direct Behavioral Health Care Costs - Adjustments Increase (Decrease) - Staff Training","Other Direct Behavioral Health Care Costs - Adjustments Increase (Decrease) - Contracted Services","Other Direct Behavioral Health Care Costs - Adjustments Increase (Decrease) - Publishing, Printing and Mailing","Other Direct Behavioral Health Care Costs - Adjustments Increase (Decrease) - Depreciation","Other Direct Behavioral Health Care Costs - Adjustments Increase (Decrease) - Personnel Recruitment","Other Direct Behavioral Health Care Costs - Adjustments Increase (Decrease) - Other Operating Expense ","Other Direct Behavioral Health Care Costs - Adjustments Increase (Decrease) - Other Capital Expense","Other Direct Behavioral Health Care Costs - Adjustments Increase (Decrease) - Subtotal Other Direct Behavioral Health Care Cost","Other Direct Behavioral Health Care Costs - Net Expenses w Cost Changes (Col 5 + 6) - Insurance","Other Direct Behavioral Health Care Costs - Net Expenses w Cost Changes (Col 5 + 6) - Consumable Supplies","Other Direct Behavioral Health Care Costs - Net Expenses w Cost Changes (Col 5 + 6) - Repairs and Maintenance","Other Direct Behavioral Health Care Costs - Net Expenses w Cost Changes (Col 5 + 6) - Equipment Rental","Other Direct Behavioral Health Care Costs - Net Expenses w Cost Changes (Col 5 + 6) - Travel, Conference and Meeting Expenses","Other Direct Behavioral Health Care Costs - Net Expenses w Cost Changes (Col 5 + 6) - Dues and Subscriptions","Other Direct Behavioral Health Care Costs - Net Expenses w Cost Changes (Col 5 + 6) - Interest Expense (Operating)","Other Direct Behavioral Health Care Costs - Net Expenses w Cost Changes (Col 5 + 6) - Interest Expense (Capital)","Other Direct Behavioral Health Care Costs - Net Expenses w Cost Changes (Col 5 + 6) - Professional Services","Other Direct Behavioral Health Care Costs - Net Expenses w Cost Changes (Col 5 + 6) - Staff Training","Other Direct Behavioral Health Care Costs - Net Expenses w Cost Changes (Col 5 + 6) - Contracted Services","Other Direct Behavioral Health Care Costs - Net Expenses w Cost Changes (Col 5 + 6) - Publishing, Printing and Mailing","Other Direct Behavioral Health Care Costs - Net Expenses w Cost Changes (Col 5 + 6) - Depreciation","Other Direct Behavioral Health Care Costs - Net Expenses w Cost Changes (Col 5 + 6) - Personnel Recruitment","Other Direct Behavioral Health Care Costs - Net Expenses w Cost Changes (Col 5 + 6) - Other Operating Expense ","Other Direct Behavioral Health Care Costs - Net Expenses w Cost Changes (Col 5 + 6) - Other Capital Expense","Other Direct Behavioral Health Care Costs - Net Expenses w Cost Changes (Col 5 + 6) - Subtotal Other Direct Behavioral Health Care Cost","TOTAL DIRECT BEHAVIORAL HEALTH CARE COST (1.d.4 & 2.f.1) - Salaried Personnel","TOTAL DIRECT BEHAVIORAL HEALTH CARE COST (1.d.4 & 2.f.1) - Fringe Benefits","TOTAL DIRECT BEHAVIORAL HEALTH CARE COST (1.d.4 & 2.f.1) - Compensation","TOTAL DIRECT BEHAVIORAL HEALTH CARE COST (1.d.4 & 2.f.1) - Other Costs","TOTAL DIRECT BEHAVIORAL HEALTH CARE COST (1.d.4 & 2.f.1) - Total","TOTAL DIRECT BEHAVIORAL HEALTH CARE COST (1.d.4 & 2.f.1) - Reclassification","TOTAL DIRECT BEHAVIORAL HEALTH CARE COST (1.d.4 & 2.f.1) - Reclassified Trial Balance (Col 3 & 4)","TOTAL DIRECT BEHAVIORAL HEALTH CARE COST (1.d.4 & 2.f.1) - Adjustments Increase (Decrease)","TOTAL DIRECT BEHAVIORAL HEALTH CARE COST (1.d.4 & 2.f.1) - Net Expenses w Cost Change (Col 5 + 6)","TOTAL DIRECT COST BEFORE NON-ALLOWABLE SERVICES - Salaried Personnel","TOTAL DIRECT COST BEFORE NON-ALLOWABLE SERVICES - Fringe Benefits","TOTAL DIRECT COST BEFORE NON-ALLOWABLE SERVICES - Compensation","TOTAL DIRECT COST BEFORE NON-ALLOWABLE SERVICES - Other Costs","TOTAL DIRECT COST BEFORE NON-ALLOWABLE SERVICES - Total","TOTAL DIRECT COST BEFORE NON-ALLOWABLE SERVICES - Reclassification","TOTAL DIRECT COST BEFORE NON-ALLOWABLE SERVICES - Reclassified Trial Balance (Col 3 & 4)","TOTAL DIRECT COST BEFORE NON-ALLOWABLE SERVICES - Adjustments Increase (Decrease)","TOTAL DIRECT COST BEFORE NON-ALLOWABLE SERVICES - Net Expenses w Cost Change (Col 5 + 6)","NON-ALLOWABLE DIRECT OTHER SERVICES COST -  Salaried Personnel - WIC","NON-ALLOWABLE DIRECT OTHER SERVICES COST -  Salaried Personnel - Head Start","NON-ALLOWABLE DIRECT OTHER SERVICES COST -  Salaried Personnel - Housing Assistance","NON-ALLOWABLE DIRECT OTHER SERVICES COST -  Salaried Personnel - Child Care Services","NON-ALLOWABLE DIRECT OTHER SERVICES COST -  Salaried Personnel - Food Bank/Meal Delivery ","NON-ALLOWABLE DIRECT OTHER SERVICES COST -  Salaried Personnel - Employment/Educational Services","NON-ALLOWABLE DIRECT OTHER SERVICES COST -  Salaried Personnel - Exercise Trainers/Fitness Center ","NON-ALLOWABLE DIRECT OTHER SERVICES COST -  Salaried Personnel - Adult Day Health Care","NON-ALLOWABLE DIRECT OTHER SERVICES COST -  Salaried Personnel - Fundraising/Development ","NON-ALLOWABLE DIRECT OTHER SERVICES COST -  Salaried Personnel - PACE ","NON-ALLOWABLE DIRECT OTHER SERVICES COST -  Salaried Personnel - SCO ","NON-ALLOWABLE DIRECT OTHER SERVICES COST -  Salaried Personnel - Non-FQHC Sites","NON-ALLOWABLE DIRECT OTHER SERVICES COST -  Salaried Personnel - Laboratory ","NON-ALLOWABLE DIRECT OTHER SERVICES COST -  Salaried Personnel - Radiology","NON-ALLOWABLE DIRECT OTHER SERVICES COST -  Salaried Personnel - Pharmacy","NON-ALLOWABLE DIRECT OTHER SERVICES COST -  Salaried Personnel - Other Non-Allowable","NON-ALLOWABLE DIRECT OTHER SERVICES COST -  Salaried Personnel - Total Non-Allowable Direct Other Service Cost","NON-ALLOWABLE DIRECT OTHER SERVICES COST -  Salaried Personnel - TOTAL DIRECT COST","NON-ALLOWABLE DIRECT OTHER SERVICES COST -  Fringe Benefits - WIC","NON-ALLOWABLE DIRECT OTHER SERVICES COST -  Fringe Benefits - Head Start","NON-ALLOWABLE DIRECT OTHER SERVICES COST -  Fringe Benefits - Housing Assistance","NON-ALLOWABLE DIRECT OTHER SERVICES COST -  Fringe Benefits - Child Care Services","NON-ALLOWABLE DIRECT OTHER SERVICES COST -  Fringe Benefits - Food Bank/Meal Delivery ","NON-ALLOWABLE DIRECT OTHER SERVICES COST -  Fringe Benefits - Employment/Educational Services","NON-ALLOWABLE DIRECT OTHER SERVICES COST -  Fringe Benefits - Exercise Trainers/Fitness Center ","NON-ALLOWABLE DIRECT OTHER SERVICES COST -  Fringe Benefits - Adult Day Health Care","NON-ALLOWABLE DIRECT OTHER SERVICES COST -  Fringe Benefits - Fundraising/Development ","NON-ALLOWABLE DIRECT OTHER SERVICES COST -  Fringe Benefits - PACE ","NON-ALLOWABLE DIRECT OTHER SERVICES COST -  Fringe Benefits - SCO ","NON-ALLOWABLE DIRECT OTHER SERVICES COST -  Fringe Benefits - Non-FQHC Sites","NON-ALLOWABLE DIRECT OTHER SERVICES COST -  Fringe Benefits - Laboratory ","NON-ALLOWABLE DIRECT OTHER SERVICES COST -  Fringe Benefits - Radiology","NON-ALLOWABLE DIRECT OTHER SERVICES COST -  Fringe Benefits - Pharmacy","NON-ALLOWABLE DIRECT OTHER SERVICES COST -  Fringe Benefits - Other Non-Allowable","NON-ALLOWABLE DIRECT OTHER SERVICES COST -  Fringe Benefits - Total Non-Allowable Direct Other Service Cost","NON-ALLOWABLE DIRECT OTHER SERVICES COST -  Fringe Benefits - TOTAL DIRECT COST","NON-ALLOWABLE DIRECT OTHER SERVICES COST -  Compensation - WIC","NON-ALLOWABLE DIRECT OTHER SERVICES COST -  Compensation - Head Start","NON-ALLOWABLE DIRECT OTHER SERVICES COST -  Compensation - Housing Assistance","NON-ALLOWABLE DIRECT OTHER SERVICES COST -  Compensation - Child Care Services","NON-ALLOWABLE DIRECT OTHER SERVICES COST -  Compensation - Food Bank/Meal Delivery ","NON-ALLOWABLE DIRECT OTHER SERVICES COST -  Compensation - Employment/Educational Services","NON-ALLOWABLE DIRECT OTHER SERVICES COST -  Compensation - Exercise Trainers/Fitness Center ","NON-ALLOWABLE DIRECT OTHER SERVICES COST -  Compensation - Adult Day Health Care","NON-ALLOWABLE DIRECT OTHER SERVICES COST -  Compensation - Fundraising/Development ","NON-ALLOWABLE DIRECT OTHER SERVICES COST -  Compensation - PACE ","NON-ALLOWABLE DIRECT OTHER SERVICES COST -  Compensation - SCO ","NON-ALLOWABLE DIRECT OTHER SERVICES COST -  Compensation - Non-FQHC Sites","NON-ALLOWABLE DIRECT OTHER SERVICES COST -  Compensation - Laboratory ","NON-ALLOWABLE DIRECT OTHER SERVICES COST -  Compensation - Radiology","NON-ALLOWABLE DIRECT OTHER SERVICES COST -  Compensation - Pharmacy","NON-ALLOWABLE DIRECT OTHER SERVICES COST -  Compensation - Other Non-Allowable","NON-ALLOWABLE DIRECT OTHER SERVICES COST -  Compensation - Total Non-Allowable Direct Other Service Cost","NON-ALLOWABLE DIRECT OTHER SERVICES COST -  Compensation - TOTAL DIRECT COST","NON-ALLOWABLE DIRECT OTHER SERVICES COST -  Other Costs - WIC","NON-ALLOWABLE DIRECT OTHER SERVICES COST -  Other Costs - Head Start","NON-ALLOWABLE DIRECT OTHER SERVICES COST -  Other Costs - Housing Assistance","NON-ALLOWABLE DIRECT OTHER SERVICES COST -  Other Costs - Child Care Services","NON-ALLOWABLE DIRECT OTHER SERVICES COST -  Other Costs - Food Bank/Meal Delivery ","NON-ALLOWABLE DIRECT OTHER SERVICES COST -  Other Costs - Employment/Educational Services","NON-ALLOWABLE DIRECT OTHER SERVICES COST -  Other Costs - Exercise Trainers/Fitness Center ","NON-ALLOWABLE DIRECT OTHER SERVICES COST -  Other Costs - Adult Day Health Care","NON-ALLOWABLE DIRECT OTHER SERVICES COST -  Other Costs - Fundraising/Development ","NON-ALLOWABLE DIRECT OTHER SERVICES COST -  Other Costs - PACE ","NON-ALLOWABLE DIRECT OTHER SERVICES COST -  Other Costs - SCO ","NON-ALLOWABLE DIRECT OTHER SERVICES COST -  Other Costs - Non-FQHC Sites","NON-ALLOWABLE DIRECT OTHER SERVICES COST -  Other Costs - Laboratory ","NON-ALLOWABLE DIRECT OTHER SERVICES COST -  Other Costs - Radiology","NON-ALLOWABLE DIRECT OTHER SERVICES COST -  Other Costs - Pharmacy","NON-ALLOWABLE DIRECT OTHER SERVICES COST -  Other Costs - Other Non-Allowable","NON-ALLOWABLE DIRECT OTHER SERVICES COST -  Other Costs - Total Non-Allowable Direct Other Service Cost","NON-ALLOWABLE DIRECT OTHER SERVICES COST -  Other Costs - TOTAL DIRECT COST","NON-ALLOWABLE DIRECT OTHER SERVICES COST -  Total - WIC","NON-ALLOWABLE DIRECT OTHER SERVICES COST -  Total - Head Start","NON-ALLOWABLE DIRECT OTHER SERVICES COST -  Total - Housing Assistance","NON-ALLOWABLE DIRECT OTHER SERVICES COST -  Total - Child Care Services","NON-ALLOWABLE DIRECT OTHER SERVICES COST -  Total - Food Bank/Meal Delivery ","NON-ALLOWABLE DIRECT OTHER SERVICES COST -  Total - Employment/Educational Services","NON-ALLOWABLE DIRECT OTHER SERVICES COST -  Total - Exercise Trainers/Fitness Center ","NON-ALLOWABLE DIRECT OTHER SERVICES COST -  Total - Adult Day Health Care","NON-ALLOWABLE DIRECT OTHER SERVICES COST -  Total - Fundraising/Development ","NON-ALLOWABLE DIRECT OTHER SERVICES COST -  Total - PACE ","NON-ALLOWABLE DIRECT OTHER SERVICES COST -  Total - SCO ","NON-ALLOWABLE DIRECT OTHER SERVICES COST -  Total - Non-FQHC Sites","NON-ALLOWABLE DIRECT OTHER SERVICES COST -  Total - Laboratory ","NON-ALLOWABLE DIRECT OTHER SERVICES COST -  Total - Radiology","NON-ALLOWABLE DIRECT OTHER SERVICES COST -  Total - Pharmacy","NON-ALLOWABLE DIRECT OTHER SERVICES COST -  Total - Other Non-Allowable","NON-ALLOWABLE DIRECT OTHER SERVICES COST -  Total - Total Non-Allowable Direct Other Service Cost","NON-ALLOWABLE DIRECT OTHER SERVICES COST -  Total - TOTAL DIRECT COST","NON-ALLOWABLE DIRECT OTHER SERVICES COST -  Reclassifications - WIC","NON-ALLOWABLE DIRECT OTHER SERVICES COST -  Reclassifications - Head Start","NON-ALLOWABLE DIRECT OTHER SERVICES COST -  Reclassifications - Housing Assistance","NON-ALLOWABLE DIRECT OTHER SERVICES COST -  Reclassifications - Child Care Services","NON-ALLOWABLE DIRECT OTHER SERVICES COST -  Reclassifications - Food Bank/Meal Delivery ","NON-ALLOWABLE DIRECT OTHER SERVICES COST -  Reclassifications - Employment/Educational Services","NON-ALLOWABLE DIRECT OTHER SERVICES COST -  Reclassifications - Exercise Trainers/Fitness Center ","NON-ALLOWABLE DIRECT OTHER SERVICES COST -  Reclassifications - Adult Day Health Care","NON-ALLOWABLE DIRECT OTHER SERVICES COST -  Reclassifications - Fundraising/Development ","NON-ALLOWABLE DIRECT OTHER SERVICES COST -  Reclassifications - PACE ","NON-ALLOWABLE DIRECT OTHER SERVICES COST -  Reclassifications - SCO ","NON-ALLOWABLE DIRECT OTHER SERVICES COST -  Reclassifications - Non-FQHC Sites","NON-ALLOWABLE DIRECT OTHER SERVICES COST -  Reclassifications - Laboratory ","NON-ALLOWABLE DIRECT OTHER SERVICES COST -  Reclassifications - Radiology","NON-ALLOWABLE DIRECT OTHER SERVICES COST -  Reclassifications - Pharmacy","NON-ALLOWABLE DIRECT OTHER SERVICES COST -  Reclassifications - Other Non-Allowable","NON-ALLOWABLE DIRECT OTHER SERVICES COST -  Reclassifications - Total Non-Allowable Direct Other Service Cost","NON-ALLOWABLE DIRECT OTHER SERVICES COST -  Reclassifications - TOTAL DIRECT COST","NON-ALLOWABLE DIRECT OTHER SERVICES COST -  Reclassified Trial Balance (Col 3 & 4) - WIC","NON-ALLOWABLE DIRECT OTHER SERVICES COST -  Reclassified Trial Balance (Col 3 & 4) - Head Start","NON-ALLOWABLE DIRECT OTHER SERVICES COST -  Reclassified Trial Balance (Col 3 & 4) - Housing Assistance","NON-ALLOWABLE DIRECT OTHER SERVICES COST -  Reclassified Trial Balance (Col 3 & 4) - Child Care Services","NON-ALLOWABLE DIRECT OTHER SERVICES COST -  Reclassified Trial Balance (Col 3 & 4) - Food Bank/Meal Delivery ","NON-ALLOWABLE DIRECT OTHER SERVICES COST -  Reclassified Trial Balance (Col 3 & 4) - Employment/Educational Services","NON-ALLOWABLE DIRECT OTHER SERVICES COST -  Reclassified Trial Balance (Col 3 & 4) - Exercise Trainers/Fitness Center ","NON-ALLOWABLE DIRECT OTHER SERVICES COST -  Reclassified Trial Balance (Col 3 & 4) - Adult Day Health Care","NON-ALLOWABLE DIRECT OTHER SERVICES COST -  Reclassified Trial Balance (Col 3 & 4) - Fundraising/Development ","NON-ALLOWABLE DIRECT OTHER SERVICES COST -  Reclassified Trial Balance (Col 3 & 4) - PACE ","NON-ALLOWABLE DIRECT OTHER SERVICES COST -  Reclassified Trial Balance (Col 3 & 4) - SCO ","NON-ALLOWABLE DIRECT OTHER SERVICES COST -  Reclassified Trial Balance (Col 3 & 4) - Non-FQHC Sites","NON-ALLOWABLE DIRECT OTHER SERVICES COST -  Reclassified Trial Balance (Col 3 & 4) - Laboratory ","NON-ALLOWABLE DIRECT OTHER SERVICES COST -  Reclassified Trial Balance (Col 3 & 4) - Radiology","NON-ALLOWABLE DIRECT OTHER SERVICES COST -  Reclassified Trial Balance (Col 3 & 4) - Pharmacy","NON-ALLOWABLE DIRECT OTHER SERVICES COST -  Reclassified Trial Balance (Col 3 & 4) - Other Non-Allowable","NON-ALLOWABLE DIRECT OTHER SERVICES COST -  Reclassified Trial Balance (Col 3 & 4) - Total Non-Allowable Direct Other Service Cost","NON-ALLOWABLE DIRECT OTHER SERVICES COST -  Reclassified Trial Balance (Col 3 & 4) - TOTAL DIRECT COST","NON-ALLOWABLE DIRECT OTHER SERVICES COST -  Adjustments Increase (Decrease) - WIC","NON-ALLOWABLE DIRECT OTHER SERVICES COST -  Adjustments Increase (Decrease) - Head Start","NON-ALLOWABLE DIRECT OTHER SERVICES COST -  Adjustments Increase (Decrease) - Housing Assistance","NON-ALLOWABLE DIRECT OTHER SERVICES COST -  Adjustments Increase (Decrease) - Child Care Services","NON-ALLOWABLE DIRECT OTHER SERVICES COST -  Adjustments Increase (Decrease) - Food Bank/Meal Delivery ","NON-ALLOWABLE DIRECT OTHER SERVICES COST -  Adjustments Increase (Decrease) - Employment/Educational Services","NON-ALLOWABLE DIRECT OTHER SERVICES COST -  Adjustments Increase (Decrease) - Exercise Trainers/Fitness Center ","NON-ALLOWABLE DIRECT OTHER SERVICES COST -  Adjustments Increase (Decrease) - Adult Day Health Care","NON-ALLOWABLE DIRECT OTHER SERVICES COST -  Adjustments Increase (Decrease) - Fundraising/Development ","NON-ALLOWABLE DIRECT OTHER SERVICES COST -  Adjustments Increase (Decrease) - PACE ","NON-ALLOWABLE DIRECT OTHER SERVICES COST -  Adjustments Increase (Decrease) - SCO ","NON-ALLOWABLE DIRECT OTHER SERVICES COST -  Adjustments Increase (Decrease) - Non-FQHC Sites","NON-ALLOWABLE DIRECT OTHER SERVICES COST -  Adjustments Increase (Decrease) - Laboratory ","NON-ALLOWABLE DIRECT OTHER SERVICES COST -  Adjustments Increase (Decrease) - Radiology","NON-ALLOWABLE DIRECT OTHER SERVICES COST -  Adjustments Increase (Decrease) - Pharmacy","NON-ALLOWABLE DIRECT OTHER SERVICES COST -  Adjustments Increase (Decrease) - Other Non-Allowable","NON-ALLOWABLE DIRECT OTHER SERVICES COST -  Adjustments Increase (Decrease) - Total Non-Allowable Direct Other Service Cost","NON-ALLOWABLE DIRECT OTHER SERVICES COST -  Adjustments Increase (Decrease) - TOTAL DIRECT COST","NON-ALLOWABLE DIRECT OTHER SERVICES COST -  Net Expenses w Cost Changes (Col 5+6) - WIC","NON-ALLOWABLE DIRECT OTHER SERVICES COST -  Net Expenses w Cost Changes (Col 5+6) - Head Start","NON-ALLOWABLE DIRECT OTHER SERVICES COST -  Net Expenses w Cost Changes (Col 5+6) - Housing Assistance","NON-ALLOWABLE DIRECT OTHER SERVICES COST -  Net Expenses w Cost Changes (Col 5+6) - Child Care Services","NON-ALLOWABLE DIRECT OTHER SERVICES COST -  Net Expenses w Cost Changes (Col 5+6) - Food Bank/Meal Delivery ","NON-ALLOWABLE DIRECT OTHER SERVICES COST -  Net Expenses w Cost Changes (Col 5+6) - Employment/Educational Services","NON-ALLOWABLE DIRECT OTHER SERVICES COST -  Net Expenses w Cost Changes (Col 5+6) - Exercise Trainers/Fitness Center ","NON-ALLOWABLE DIRECT OTHER SERVICES COST -  Net Expenses w Cost Changes (Col 5+6) - Adult Day Health Care","NON-ALLOWABLE DIRECT OTHER SERVICES COST -  Net Expenses w Cost Changes (Col 5+6) - Fundraising/Development ","NON-ALLOWABLE DIRECT OTHER SERVICES COST -  Net Expenses w Cost Changes (Col 5+6) - PACE ","NON-ALLOWABLE DIRECT OTHER SERVICES COST -  Net Expenses w Cost Changes (Col 5+6) - SCO ","NON-ALLOWABLE DIRECT OTHER SERVICES COST -  Net Expenses w Cost Changes (Col 5+6) - Non-FQHC Sites","NON-ALLOWABLE DIRECT OTHER SERVICES COST -  Net Expenses w Cost Changes (Col 5+6) - Laboratory ","NON-ALLOWABLE DIRECT OTHER SERVICES COST -  Net Expenses w Cost Changes (Col 5+6) - Radiology","NON-ALLOWABLE DIRECT OTHER SERVICES COST -  Net Expenses w Cost Changes (Col 5+6) - Pharmacy","NON-ALLOWABLE DIRECT OTHER SERVICES COST -  Net Expenses w Cost Changes (Col 5+6) - Other Non-Allowable","NON-ALLOWABLE DIRECT OTHER SERVICES COST -  Net Expenses w Cost Changes (Col 5+6) - Total Non-Allowable Direct Other Service Cost","NON-ALLOWABLE DIRECT OTHER SERVICES COST -  Net Expenses w Cost Changes (Col 5+6) - TOTAL DIRECT COST","OVERHEAD - FACILITY COST - Salaried Personnel - Facility Staff","OVERHEAD - FACILITY COST - Salaried Personnel - Subtotal Overhead - Facility Cost","OVERHEAD - FACILITY COST - Fringe Benefits - Facility Staff","OVERHEAD - FACILITY COST - Fringe Benefits - Subtotal Overhead - Facility Cost","OVERHEAD - FACILITY COST - Compensation - Facility Staff","OVERHEAD - FACILITY COST - Compensation - Subtotal Overhead - Facility Cost","OVERHEAD - FACILITY COST - Other Costs - Facility Staff","OVERHEAD - FACILITY COST - Other Costs - Insurance","OVERHEAD - FACILITY COST - Other Costs - Consumable Supplies","OVERHEAD - FACILITY COST - Other Costs - Repairs and Maintenance","OVERHEAD - FACILITY COST - Other Costs - Equiptment Rental","OVERHEAD - FACILITY COST - Other Costs - Travel, Conference and Meeting Expenses","OVERHEAD - FACILITY COST - Other Costs - Dues and Subscriptions","OVERHEAD - FACILITY COST - Other Costs - Utilities","OVERHEAD - FACILITY COST - Other Costs - Interest Expense (Operating)","OVERHEAD - FACILITY COST - Other Costs - Interest Expense (Capital)","OVERHEAD - FACILITY COST - Other Costs - Professional Services","OVERHEAD - FACILITY COST - Other Costs - Staff Training","OVERHEAD - FACILITY COST - Other Costs - Contracted Services","OVERHEAD - FACILITY COST - Other Costs - Publishing, Printing and Mailing","OVERHEAD - FACILITY COST - Other Costs - Rent","OVERHEAD - FACILITY COST - Other Costs - Depreciation","OVERHEAD - FACILITY COST - Other Costs - Occupancy Taxes","OVERHEAD - FACILITY COST - Other Costs - Personnel Recruitment","OVERHEAD - FACILITY COST - Other Costs - Other Operating Expense ","OVERHEAD - FACILITY COST - Other Costs - Other Capital Expense","OVERHEAD - FACILITY COST - Other Costs - Subtotal Overhead - Facility Cost","OVERHEAD - FACILITY COST - Total - Facility Staff","OVERHEAD - FACILITY COST - Total - Insurance","OVERHEAD - FACILITY COST - Total - Consumable Supplies","OVERHEAD - FACILITY COST - Total - Repairs and Maintenance","OVERHEAD - FACILITY COST - Total - Equiptment Rental","OVERHEAD - FACILITY COST - Total - Travel, Conference and Meeting Expenses","OVERHEAD - FACILITY COST - Total - Dues and Subscriptions","OVERHEAD - FACILITY COST - Total - Utilities","OVERHEAD - FACILITY COST - Total - Interest Expense (Operating)","OVERHEAD - FACILITY COST - Total - Interest Expense (Capital)","OVERHEAD - FACILITY COST - Total - Professional Services","OVERHEAD - FACILITY COST - Total - Staff Training","OVERHEAD - FACILITY COST - Total - Contracted Services","OVERHEAD - FACILITY COST - Total - Publishing, Printing and Mailing","OVERHEAD - FACILITY COST - Total - Rent","OVERHEAD - FACILITY COST - Total - Depreciation","OVERHEAD - FACILITY COST - Total - Occupancy Taxes","OVERHEAD - FACILITY COST - Total - Personnel Recruitment","OVERHEAD - FACILITY COST - Total - Other Operating Expense ","OVERHEAD - FACILITY COST - Total - Other Capital Expense","OVERHEAD - FACILITY COST - Total - Subtotal Overhead - Facility Cost","OVERHEAD - FACILITY COST - Reclassifications - Facility Staff","OVERHEAD - FACILITY COST - Reclassifications - Insurance","OVERHEAD - FACILITY COST - Reclassifications - Consumable Supplies","OVERHEAD - FACILITY COST - Reclassifications - Repairs and Maintenance","OVERHEAD - FACILITY COST - Reclassifications - Equiptment Rental","OVERHEAD - FACILITY COST - Reclassifications - Travel, Conference and Meeting Expenses","OVERHEAD - FACILITY COST - Reclassifications - Dues and Subscriptions","OVERHEAD - FACILITY COST - Reclassifications - Utilities","OVERHEAD - FACILITY COST - Reclassifications - Interest Expense (Operating)","OVERHEAD - FACILITY COST - Reclassifications - Interest Expense (Capital)","OVERHEAD - FACILITY COST - Reclassifications - Professional Services","OVERHEAD - FACILITY COST - Reclassifications - Staff Training","OVERHEAD - FACILITY COST - Reclassifications - Contracted Services","OVERHEAD - FACILITY COST - Reclassifications - Publishing, Printing and Mailing","OVERHEAD - FACILITY COST - Reclassifications - Rent","OVERHEAD - FACILITY COST - Reclassifications - Depreciation","OVERHEAD - FACILITY COST - Reclassifications - Occupancy Taxes","OVERHEAD - FACILITY COST - Reclassifications - Personnel Recruitment","OVERHEAD - FACILITY COST - Reclassifications - Other Operating Expense ","OVERHEAD - FACILITY COST - Reclassifications - Other Capital Expense","OVERHEAD - FACILITY COST - Reclassifications - Subtotal Overhead - Facility Cost","OVERHEAD - FACILITY COST - Reclassified Trial Balance (Col 3 & 4) - Facility Staff","OVERHEAD - FACILITY COST - Reclassified Trial Balance (Col 3 & 4) - Insurance","OVERHEAD - FACILITY COST - Reclassified Trial Balance (Col 3 & 4) - Consumable Supplies","OVERHEAD - FACILITY COST - Reclassified Trial Balance (Col 3 & 4) - Repairs and Maintenance","OVERHEAD - FACILITY COST - Reclassified Trial Balance (Col 3 & 4) - Equiptment Rental","OVERHEAD - FACILITY COST - Reclassified Trial Balance (Col 3 & 4) - Travel, Conference and Meeting Expenses","OVERHEAD - FACILITY COST - Reclassified Trial Balance (Col 3 & 4) - Dues and Subscriptions","OVERHEAD - FACILITY COST - Reclassified Trial Balance (Col 3 & 4) - Utilities","OVERHEAD - FACILITY COST - Reclassified Trial Balance (Col 3 & 4) - Interest Expense (Operating)","OVERHEAD - FACILITY COST - Reclassified Trial Balance (Col 3 & 4) - Interest Expense (Capital)","OVERHEAD - FACILITY COST - Reclassified Trial Balance (Col 3 & 4) - Professional Services","OVERHEAD - FACILITY COST - Reclassified Trial Balance (Col 3 & 4) - Staff Training","OVERHEAD - FACILITY COST - Reclassified Trial Balance (Col 3 & 4) - Contracted Services","OVERHEAD - FACILITY COST - Reclassified Trial Balance (Col 3 & 4) - Publishing, Printing and Mailing","OVERHEAD - FACILITY COST - Reclassified Trial Balance (Col 3 & 4) - Rent","OVERHEAD - FACILITY COST - Reclassified Trial Balance (Col 3 & 4) - Depreciation","OVERHEAD - FACILITY COST - Reclassified Trial Balance (Col 3 & 4) - Occupancy Taxes","OVERHEAD - FACILITY COST - Reclassified Trial Balance (Col 3 & 4) - Personnel Recruitment","OVERHEAD - FACILITY COST - Reclassified Trial Balance (Col 3 & 4) - Other Operating Expense ","OVERHEAD - FACILITY COST - Reclassified Trial Balance (Col 3 & 4) - Other Capital Expense","OVERHEAD - FACILITY COST - Reclassified Trial Balance (Col 3 & 4) - Subtotal Overhead - Facility Cost","OVERHEAD - FACILITY COST - Adjustments Increase (Decrease) - Facility Staff","OVERHEAD - FACILITY COST - Adjustments Increase (Decrease) - Insurance","OVERHEAD - FACILITY COST - Adjustments Increase (Decrease) - Consumable Supplies","OVERHEAD - FACILITY COST - Adjustments Increase (Decrease) - Repairs and Maintenance","OVERHEAD - FACILITY COST - Adjustments Increase (Decrease) - Equiptment Rental","OVERHEAD - FACILITY COST - Adjustments Increase (Decrease) - Travel, Conference and Meeting Expenses","OVERHEAD - FACILITY COST - Adjustments Increase (Decrease) - Dues and Subscriptions","OVERHEAD - FACILITY COST - Adjustments Increase (Decrease) - Utilities","OVERHEAD - FACILITY COST - Adjustments Increase (Decrease) - Interest Expense (Operating)","OVERHEAD - FACILITY COST - Adjustments Increase (Decrease) - Interest Expense (Capital)","OVERHEAD - FACILITY COST - Adjustments Increase (Decrease) - Professional Services","OVERHEAD - FACILITY COST - Adjustments Increase (Decrease) - Staff Training","OVERHEAD - FACILITY COST - Adjustments Increase (Decrease) - Contracted Services","OVERHEAD - FACILITY COST - Adjustments Increase (Decrease) - Publishing, Printing and Mailing","OVERHEAD - FACILITY COST - Adjustments Increase (Decrease) - Rent","OVERHEAD - FACILITY COST - Adjustments Increase (Decrease) - Depreciation","OVERHEAD - FACILITY COST - Adjustments Increase (Decrease) - Occupancy Taxes","OVERHEAD - FACILITY COST - Adjustments Increase (Decrease) - Personnel Recruitment","OVERHEAD - FACILITY COST - Adjustments Increase (Decrease) - Other Operating Expense ","OVERHEAD - FACILITY COST - Adjustments Increase (Decrease) - Other Capital Expense","OVERHEAD - FACILITY COST - Adjustments Increase (Decrease) - Subtotal Overhead - Facility Cost","OVERHEAD - FACILITY COST - Net Expenses w Cost Changes (Col 5 + 6) - Facility Staff","OVERHEAD - FACILITY COST - Net Expenses w Cost Changes (Col 5 + 6) - Insurance","OVERHEAD - FACILITY COST - Net Expenses w Cost Changes (Col 5 + 6) - Consumable Supplies","OVERHEAD - FACILITY COST - Net Expenses w Cost Changes (Col 5 + 6) - Repairs and Maintenance","OVERHEAD - FACILITY COST - Net Expenses w Cost Changes (Col 5 + 6) - Equiptment Rental","OVERHEAD - FACILITY COST - Net Expenses w Cost Changes (Col 5 + 6) - Travel, Conference and Meeting Expenses","OVERHEAD - FACILITY COST - Net Expenses w Cost Changes (Col 5 + 6) - Dues and Subscriptions","OVERHEAD - FACILITY COST - Net Expenses w Cost Changes (Col 5 + 6) - Utilities","OVERHEAD - FACILITY COST - Net Expenses w Cost Changes (Col 5 + 6) - Interest Expense (Operating)","OVERHEAD - FACILITY COST - Net Expenses w Cost Changes (Col 5 + 6) - Interest Expense (Capital)","OVERHEAD - FACILITY COST - Net Expenses w Cost Changes (Col 5 + 6) - Professional Services","OVERHEAD - FACILITY COST - Net Expenses w Cost Changes (Col 5 + 6) - Staff Training","OVERHEAD - FACILITY COST - Net Expenses w Cost Changes (Col 5 + 6) - Contracted Services","OVERHEAD - FACILITY COST - Net Expenses w Cost Changes (Col 5 + 6) - Publishing, Printing and Mailing","OVERHEAD - FACILITY COST - Net Expenses w Cost Changes (Col 5 + 6) - Rent","OVERHEAD - FACILITY COST - Net Expenses w Cost Changes (Col 5 + 6) - Depreciation","OVERHEAD - FACILITY COST - Net Expenses w Cost Changes (Col 5 + 6) - Occupancy Taxes","OVERHEAD - FACILITY COST - Net Expenses w Cost Changes (Col 5 + 6) - Personnel Recruitment","OVERHEAD - FACILITY COST - Net Expenses w Cost Changes (Col 5 + 6) - Other Operating Expense ","OVERHEAD - FACILITY COST - Net Expenses w Cost Changes (Col 5 + 6) - Other Capital Expense","OVERHEAD - FACILITY COST - Net Expenses w Cost Changes (Col 5 + 6) - Subtotal Overhead - Facility Cost","OVERHEAD - ADMINISTRATIVE COST - Salaried Personnel - Office/Admin Personnel","OVERHEAD - ADMINISTRATIVE COST - Salaried Personnel - Subtotal Overhead - Administrative Cost","OVERHEAD - ADMINISTRATIVE COST - Fringe Benefits - Office/Admin Personnel","OVERHEAD - ADMINISTRATIVE COST - Fringe Benefits - Subtotal Overhead - Administrative Cost","OVERHEAD - ADMINISTRATIVE COST - Compensation - Office/Admin Personnel","OVERHEAD - ADMINISTRATIVE COST - Compensation - Subtotal Overhead - Administrative Cost","OVERHEAD - ADMINISTRATIVE COST - Other Costs - Office/Admin Personnel","OVERHEAD - ADMINISTRATIVE COST - Other Costs - Insurance","OVERHEAD - ADMINISTRATIVE COST - Other Costs - Consumable Supplies","OVERHEAD - ADMINISTRATIVE COST - Other Costs - Repairs and Maintenance","OVERHEAD - ADMINISTRATIVE COST - Other Costs - Equipment Rental","OVERHEAD - ADMINISTRATIVE COST - Other Costs - Travel, Conference and Meeting Expenses","OVERHEAD - ADMINISTRATIVE COST - Other Costs - Dues and Subscriptions","OVERHEAD - ADMINISTRATIVE COST - Other Costs - Interest Expense (Operating)","OVERHEAD - ADMINISTRATIVE COST - Other Costs - Interest Expense (Capital)","OVERHEAD - ADMINISTRATIVE COST - Other Costs - Postage & Supplies","OVERHEAD - ADMINISTRATIVE COST - Other Costs - Professional Services","OVERHEAD - ADMINISTRATIVE COST - Other Costs - Staff Training","OVERHEAD - ADMINISTRATIVE COST - Other Costs - Contracted Services","OVERHEAD - ADMINISTRATIVE COST - Other Costs - Publishing, Printing and Mailing","OVERHEAD - ADMINISTRATIVE COST - Other Costs - Depreciation","OVERHEAD - ADMINISTRATIVE COST - Other Costs - Telephone & Pagers/Communications","OVERHEAD - ADMINISTRATIVE COST - Other Costs - Personnel Recruitment","OVERHEAD - ADMINISTRATIVE COST - Other Costs - Promotion/Advertising","OVERHEAD - ADMINISTRATIVE COST - Other Costs - Other Operating Expense ","OVERHEAD - ADMINISTRATIVE COST - Other Costs - Other Capital Expense","OVERHEAD - ADMINISTRATIVE COST - Other Costs - Subtotal Overhead - Administrative Cost","OVERHEAD - ADMINISTRATIVE COST - Total - Office/Admin Personnel","OVERHEAD - ADMINISTRATIVE COST - Total - Insurance","OVERHEAD - ADMINISTRATIVE COST - Total - Consumable Supplies","OVERHEAD - ADMINISTRATIVE COST - Total - Repairs and Maintenance","OVERHEAD - ADMINISTRATIVE COST - Total - Equipment Rental","OVERHEAD - ADMINISTRATIVE COST - Total - Travel, Conference and Meeting Expenses","OVERHEAD - ADMINISTRATIVE COST - Total - Dues and Subscriptions","OVERHEAD - ADMINISTRATIVE COST - Total - Interest Expense (Operating)","OVERHEAD - ADMINISTRATIVE COST - Total - Interest Expense (Capital)","OVERHEAD - ADMINISTRATIVE COST - Total - Postage & Supplies","OVERHEAD - ADMINISTRATIVE COST - Total - Professional Services","OVERHEAD - ADMINISTRATIVE COST - Total - Staff Training","OVERHEAD - ADMINISTRATIVE COST - Total - Contracted Services","OVERHEAD - ADMINISTRATIVE COST - Total - Publishing, Printing and Mailing","OVERHEAD - ADMINISTRATIVE COST - Total - Depreciation","OVERHEAD - ADMINISTRATIVE COST - Total - Telephone & Pagers/Communications","OVERHEAD - ADMINISTRATIVE COST - Total - Personnel Recruitment","OVERHEAD - ADMINISTRATIVE COST - Total - Promotion/Advertising","OVERHEAD - ADMINISTRATIVE COST - Total - Other Operating Expense ","OVERHEAD - ADMINISTRATIVE COST - Total - Other Capital Expense","OVERHEAD - ADMINISTRATIVE COST - Total - Subtotal Overhead - Administrative Cost","OVERHEAD - ADMINISTRATIVE COST - Reclassifications - Office/Admin Personnel","OVERHEAD - ADMINISTRATIVE COST - Reclassifications - Insurance","OVERHEAD - ADMINISTRATIVE COST - Reclassifications - Consumable Supplies","OVERHEAD - ADMINISTRATIVE COST - Reclassifications - Repairs and Maintenance","OVERHEAD - ADMINISTRATIVE COST - Reclassifications - Equipment Rental","OVERHEAD - ADMINISTRATIVE COST - Reclassifications - Travel, Conference and Meeting Expenses","OVERHEAD - ADMINISTRATIVE COST - Reclassifications - Dues and Subscriptions","OVERHEAD - ADMINISTRATIVE COST - Reclassifications - Interest Expense (Operating)","OVERHEAD - ADMINISTRATIVE COST - Reclassifications - Interest Expense (Capital)","OVERHEAD - ADMINISTRATIVE COST - Reclassifications - Postage & Supplies","OVERHEAD - ADMINISTRATIVE COST - Reclassifications - Professional Services","OVERHEAD - ADMINISTRATIVE COST - Reclassifications - Staff Training","OVERHEAD - ADMINISTRATIVE COST - Reclassifications - Contracted Services","OVERHEAD - ADMINISTRATIVE COST - Reclassifications - Publishing, Printing and Mailing","OVERHEAD - ADMINISTRATIVE COST - Reclassifications - Depreciation","OVERHEAD - ADMINISTRATIVE COST - Reclassifications - Telephone & Pagers/Communications","OVERHEAD - ADMINISTRATIVE COST - Reclassifications - Personnel Recruitment","OVERHEAD - ADMINISTRATIVE COST - Reclassifications - Promotion/Advertising","OVERHEAD - ADMINISTRATIVE COST - Reclassifications - Other Operating Expense ","OVERHEAD - ADMINISTRATIVE COST - Reclassifications - Other Capital Expense","OVERHEAD - ADMINISTRATIVE COST - Reclassifications - Subtotal Overhead - Administrative Cost","OVERHEAD - ADMINISTRATIVE COST - Reclassified Trial Balance (Col 3 & 4) - Office/Admin Personnel","OVERHEAD - ADMINISTRATIVE COST - Reclassified Trial Balance (Col 3 & 4) - Insurance","OVERHEAD - ADMINISTRATIVE COST - Reclassified Trial Balance (Col 3 & 4) - Consumable Supplies","OVERHEAD - ADMINISTRATIVE COST - Reclassified Trial Balance (Col 3 & 4) - Repairs and Maintenance","OVERHEAD - ADMINISTRATIVE COST - Reclassified Trial Balance (Col 3 & 4) - Equipment Rental","OVERHEAD - ADMINISTRATIVE COST - Reclassified Trial Balance (Col 3 & 4) - Travel, Conference and Meeting Expenses","OVERHEAD - ADMINISTRATIVE COST - Reclassified Trial Balance (Col 3 & 4) - Dues and Subscriptions","OVERHEAD - ADMINISTRATIVE COST - Reclassified Trial Balance (Col 3 & 4) - Interest Expense (Operating)","OVERHEAD - ADMINISTRATIVE COST - Reclassified Trial Balance (Col 3 & 4) - Interest Expense (Capital)","OVERHEAD - ADMINISTRATIVE COST - Reclassified Trial Balance (Col 3 & 4) - Postage & Supplies","OVERHEAD - ADMINISTRATIVE COST - Reclassified Trial Balance (Col 3 & 4) - Professional Services","OVERHEAD - ADMINISTRATIVE COST - Reclassified Trial Balance (Col 3 & 4) - Staff Training","OVERHEAD - ADMINISTRATIVE COST - Reclassified Trial Balance (Col 3 & 4) - Contracted Services","OVERHEAD - ADMINISTRATIVE COST - Reclassified Trial Balance (Col 3 & 4) - Publishing, Printing and Mailing","OVERHEAD - ADMINISTRATIVE COST - Reclassified Trial Balance (Col 3 & 4) - Depreciation","OVERHEAD - ADMINISTRATIVE COST - Reclassified Trial Balance (Col 3 & 4) - Telephone & Pagers/Communications","OVERHEAD - ADMINISTRATIVE COST - Reclassified Trial Balance (Col 3 & 4) - Personnel Recruitment","OVERHEAD - ADMINISTRATIVE COST - Reclassified Trial Balance (Col 3 & 4) - Promotion/Advertising","OVERHEAD - ADMINISTRATIVE COST - Reclassified Trial Balance (Col 3 & 4) - Other Operating Expense ","OVERHEAD - ADMINISTRATIVE COST - Reclassified Trial Balance (Col 3 & 4) - Other Capital Expense","OVERHEAD - ADMINISTRATIVE COST - Reclassified Trial Balance (Col 3 & 4) - Subtotal Overhead - Administrative Cost","OVERHEAD - ADMINISTRATIVE COST - Adjustments Increase (Decrease) - Office/Admin Personnel","OVERHEAD - ADMINISTRATIVE COST - Adjustments Increase (Decrease) - Insurance","OVERHEAD - ADMINISTRATIVE COST - Adjustments Increase (Decrease) - Consumable Supplies","OVERHEAD - ADMINISTRATIVE COST - Adjustments Increase (Decrease) - Repairs and Maintenance","OVERHEAD - ADMINISTRATIVE COST - Adjustments Increase (Decrease) - Equipment Rental","OVERHEAD - ADMINISTRATIVE COST - Adjustments Increase (Decrease) - Travel, Conference and Meeting Expenses","OVERHEAD - ADMINISTRATIVE COST - Adjustments Increase (Decrease) - Dues and Subscriptions","OVERHEAD - ADMINISTRATIVE COST - Adjustments Increase (Decrease) - Interest Expense (Operating)","OVERHEAD - ADMINISTRATIVE COST - Adjustments Increase (Decrease) - Interest Expense (Capital)","OVERHEAD - ADMINISTRATIVE COST - Adjustments Increase (Decrease) - Postage & Supplies","OVERHEAD - ADMINISTRATIVE COST - Adjustments Increase (Decrease) - Professional Services","OVERHEAD - ADMINISTRATIVE COST - Adjustments Increase (Decrease) - Staff Training","OVERHEAD - ADMINISTRATIVE COST - Adjustments Increase (Decrease) - Contracted Services","OVERHEAD - ADMINISTRATIVE COST - Adjustments Increase (Decrease) - Publishing, Printing and Mailing","OVERHEAD - ADMINISTRATIVE COST - Adjustments Increase (Decrease) - Depreciation","OVERHEAD - ADMINISTRATIVE COST - Adjustments Increase (Decrease) - Telephone & Pagers/Communications","OVERHEAD - ADMINISTRATIVE COST - Adjustments Increase (Decrease) - Personnel Recruitment","OVERHEAD - ADMINISTRATIVE COST - Adjustments Increase (Decrease) - Promotion/Advertising","OVERHEAD - ADMINISTRATIVE COST - Adjustments Increase (Decrease) - Other Operating Expense ","OVERHEAD - ADMINISTRATIVE COST - Adjustments Increase (Decrease) - Other Capital Expense","OVERHEAD - ADMINISTRATIVE COST - Adjustments Increase (Decrease) - Subtotal Overhead - Administrative Cost","OVERHEAD - ADMINISTRATIVE COST - Net Expenses w Cost Changes (Col 5 + 6) - Office/Admin Personnel","OVERHEAD - ADMINISTRATIVE COST - Net Expenses w Cost Changes (Col 5 + 6) - Insurance","OVERHEAD - ADMINISTRATIVE COST - Net Expenses w Cost Changes (Col 5 + 6) - Consumable Supplies","OVERHEAD - ADMINISTRATIVE COST - Net Expenses w Cost Changes (Col 5 + 6) - Repairs and Maintenance","OVERHEAD - ADMINISTRATIVE COST - Net Expenses w Cost Changes (Col 5 + 6) - Equipment Rental","OVERHEAD - ADMINISTRATIVE COST - Net Expenses w Cost Changes (Col 5 + 6) - Travel, Conference and Meeting Expenses","OVERHEAD - ADMINISTRATIVE COST - Net Expenses w Cost Changes (Col 5 + 6) - Dues and Subscriptions","OVERHEAD - ADMINISTRATIVE COST - Net Expenses w Cost Changes (Col 5 + 6) - Interest Expense (Operating)","OVERHEAD - ADMINISTRATIVE COST - Net Expenses w Cost Changes (Col 5 + 6) - Interest Expense (Capital)","OVERHEAD - ADMINISTRATIVE COST - Net Expenses w Cost Changes (Col 5 + 6) - Postage & Supplies","OVERHEAD - ADMINISTRATIVE COST - Net Expenses w Cost Changes (Col 5 + 6) - Professional Services","OVERHEAD - ADMINISTRATIVE COST - Net Expenses w Cost Changes (Col 5 + 6) - Staff Training","OVERHEAD - ADMINISTRATIVE COST - Net Expenses w Cost Changes (Col 5 + 6) - Contracted Services","OVERHEAD - ADMINISTRATIVE COST - Net Expenses w Cost Changes (Col 5 + 6) - Publishing, Printing and Mailing","OVERHEAD - ADMINISTRATIVE COST - Net Expenses w Cost Changes (Col 5 + 6) - Depreciation","OVERHEAD - ADMINISTRATIVE COST - Net Expenses w Cost Changes (Col 5 + 6) - Telephone & Pagers/Communications","OVERHEAD - ADMINISTRATIVE COST - Net Expenses w Cost Changes (Col 5 + 6) - Personnel Recruitment","OVERHEAD - ADMINISTRATIVE COST - Net Expenses w Cost Changes (Col 5 + 6) - Promotion/Advertising","OVERHEAD - ADMINISTRATIVE COST - Net Expenses w Cost Changes (Col 5 + 6) - Other Operating Expense ","OVERHEAD - ADMINISTRATIVE COST - Net Expenses w Cost Changes (Col 5 + 6) - Other Capital Expense","OVERHEAD - ADMINISTRATIVE COST - Net Expenses w Cost Changes (Col 5 + 6) - Subtotal Overhead - Administrative Cost","ENABLING COST - Salaried Personnel - Enabling Personnel","ENABLING COST - Salaried Personnel - Subtotal - Enabling Cost","ENABLING COST - Salaried Personnel - TOTAL OVERHEAD AND ENABLING COST (Gi + Hi + Ii)","ENABLING COST - Fringe Benefits - Enabling Personnel","ENABLING COST - Fringe Benefits - Subtotal - Enabling Cost","ENABLING COST - Fringe Benefits - TOTAL OVERHEAD AND ENABLING COST (Gi + Hi + Ii)","ENABLING COST - Compensation - Enabling Personnel","ENABLING COST - Compensations - Subtotal - Enabling Cost","ENABLING COST - Compensation - TOTAL OVERHEAD AND ENABLING COST (Gi + Hi + Ii)","ENABLING COST - Other Costs - Enabling Personnel","ENABLING COST - Other Costs - Insurance","ENABLING COST - Other Costs - Consumable Supplies","ENABLING COST - Other Costs - Repairs and Maintenance","ENABLING COST - Other Costs - Equipment Rental","ENABLING COST - Other Costs - Travel, Conference and Meeting Expenses","ENABLING COST - Other Costs - Dues and Subscriptions","ENABLING COST - Other Costs - Interest Expense (Operating)","ENABLING COST - Other Costs - Interest Expense (Capital)","ENABLING COST - Other Costs - Professional Services","ENABLING COST - Other Costs - Staff Training","ENABLING COST - Other Costs - Contracted Services","ENABLING COST - Other Costs - Publishing, Printing and Mailing","ENABLING COST - Other Costs - Depreciation","ENABLING COST - Other Costs - Personnel Recruitment","ENABLING COST - Other Costs - Other Operating Expense ","ENABLING COST - Other Costs - Other Capital Expense","ENABLING COST - Other Costs - Subtotal - Enabling Cost","ENABLING COST - Other Costs - TOTAL OVERHEAD AND ENABLING COST (Gi + Hi + Ii)","ENABLING COST - Total - Enabling Personnel","ENABLING COST - Total - Insurance","ENABLING COST - Total - Consumable Supplies","ENABLING COST - Total - Repairs and Maintenance","ENABLING COST - Total - Equipment Rental","ENABLING COST - Total - Travel, Conference and Meeting Expenses","ENABLING COST - Total - Dues and Subscriptions","ENABLING COST - Total - Interest Expense (Operating)","ENABLING COST - Total - Interest Expense (Capital)","ENABLING COST - Total - Professional Services","ENABLING COST - Total - Staff Training","ENABLING COST - Total - Contracted Services","ENABLING COST - Total - Publishing, Printing and Mailing","ENABLING COST - Total - Depreciation","ENABLING COST - Total - Personnel Recruitment","ENABLING COST - Total - Other Operating Expense ","ENABLING COST - Total - Other Capital Expense","ENABLING COST - Total - Subtotal - Enabling Cost","ENABLING COST - Total - TOTAL OVERHEAD AND ENABLING COST (Gi + Hi + Ii)","ENABLING COST - Reclassifications - Enabling Personnel","ENABLING COST - Reclassifications - Insurance","ENABLING COST - Reclassifications - Consumable Supplies","ENABLING COST - Reclassifications - Repairs and Maintenance","ENABLING COST - Reclassifications - Equipment Rental","ENABLING COST - Reclassifications - Travel, Conference and Meeting Expenses","ENABLING COST - Reclassifications - Dues and Subscriptions","ENABLING COST - Reclassifications - Interest Expense (Operating)","ENABLING COST - Reclassifications - Interest Expense (Capital)","ENABLING COST - Reclassifications - Professional Services","ENABLING COST - Reclassifications - Staff Training","ENABLING COST - Reclassifications - Contracted Services","ENABLING COST - Reclassifications - Publishing, Printing and Mailing","ENABLING COST - Reclassifications - Depreciation","ENABLING COST - Reclassifications - Personnel Recruitment","ENABLING COST - Reclassifications - Other Operating Expense ","ENABLING COST - Reclassifications - Other Capital Expense","ENABLING COST - Reclassifications - Subtotal - Enabling Cost","ENABLING COST - Reclassifications - TOTAL OVERHEAD AND ENABLING COST (Gi + Hi + Ii)","ENABLING COST - Reclassified Trial Balance (Col 3 & 4) - Enabling Personnel","ENABLING COST - Reclassified Trial Balance (Col 3 & 4) - Insurance","ENABLING COST - Reclassified Trial Balance (Col 3 & 4) - Consumable Supplies","ENABLING COST - Reclassified Trial Balance (Col 3 & 4) - Repairs and Maintenance","ENABLING COST - Reclassified Trial Balance (Col 3 & 4) - Equipment Rental","ENABLING COST - Reclassified Trial Balance (Col 3 & 4) - Travel, Conference and Meeting Expenses","ENABLING COST - Reclassified Trial Balance (Col 3 & 4) - Dues and Subscriptions","ENABLING COST - Reclassified Trial Balance (Col 3 & 4) - Interest Expense (Operating)","ENABLING COST - Reclassified Trial Balance (Col 3 & 4) - Interest Expense (Capital)","ENABLING COST - Reclassified Trial Balance (Col 3 & 4) - Professional Services","ENABLING COST - Reclassified Trial Balance (Col 3 & 4) - Staff Training","ENABLING COST - Reclassified Trial Balance (Col 3 & 4) - Contracted Services","ENABLING COST - Reclassified Trial Balance (Col 3 & 4) - Publishing, Printing and Mailing","ENABLING COST - Reclassified Trial Balance (Col 3 & 4) - Depreciation","ENABLING COST - Reclassified Trial Balance (Col 3 & 4) - Personnel Recruitment","ENABLING COST - Reclassified Trial Balance (Col 3 & 4) - Other Operating Expense ","ENABLING COST - Reclassified Trial Balance (Col 3 & 4) - Other Capital Expense","ENABLING COST - Reclassified Trial Balance (Col 3 & 4) - Subtotal - Enabling Cost","ENABLING COST - Reclassified Trial Balance (Col 3 & 4) - TOTAL OVERHEAD AND ENABLING COST (Gi + Hi + Ii)","ENABLING COST - Adjustments Increase (Decrease) - Enabling Personnel","ENABLING COST - Adjustments Increase (Decrease) - Insurance","ENABLING COST - Adjustments Increase (Decrease) - Consumable Supplies","ENABLING COST - Adjustments Increase (Decrease) - Repairs and Maintenance","ENABLING COST - Adjustments Increase (Decrease) - Equipment Rental","ENABLING COST - Adjustments Increase (Decrease) - Travel, Conference and Meeting Expenses","ENABLING COST - Adjustments Increase (Decrease) - Dues and Subscriptions","ENABLING COST - Adjustments Increase (Decrease) - Interest Expense (Operating)","ENABLING COST - Adjustments Increase (Decrease) - Interest Expense (Capital)","ENABLING COST - Adjustments Increase (Decrease) - Professional Services","ENABLING COST - Adjustments Increase (Decrease) - Staff Training","ENABLING COST - Adjustments Increase (Decrease) - Contracted Services","ENABLING COST - Adjustments Increase (Decrease) - Publishing, Printing and Mailing","ENABLING COST - Adjustments Increase (Decrease) - Depreciation","ENABLING COST - Adjustments Increase (Decrease) - Personnel Recruitment","ENABLING COST - Adjustments Increase (Decrease) - Other Operating Expense ","ENABLING COST - Adjustments Increase (Decrease) - Other Capital Expense","ENABLING COST - Adjustments Increase (Decrease) - Subtotal - Enabling Cost","ENABLING COST - Adjustments Increase (Decrease) - TOTAL OVERHEAD AND ENABLING COST (Gi + Hi + Ii)","ENABLING COST - Net Expenses w Cost Change (Col 5 + 6) - Enabling Personnel","ENABLING COST - Net Expenses w Cost Change (Col 5 + 6) - Insurance","ENABLING COST - Net Expenses w Cost Change (Col 5 + 6) - Consumable Supplies","ENABLING COST - Net Expenses w Cost Change (Col 5 + 6) - Repairs and Maintenance","ENABLING COST - Net Expenses w Cost Change (Col 5 + 6) - Equipment Rental","ENABLING COST - Net Expenses w Cost Change (Col 5 + 6) - Travel, Conference and Meeting Expenses","ENABLING COST - Net Expenses w Cost Change (Col 5 + 6) - Dues and Subscriptions","ENABLING COST - Net Expenses w Cost Change (Col 5 + 6) - Interest Expense (Operating)","ENABLING COST - Net Expenses w Cost Change (Col 5 + 6) - Interest Expense (Capital)","ENABLING COST - Net Expenses w Cost Change (Col 5 + 6) - Professional Services","ENABLING COST - Net Expenses w Cost Change (Col 5 + 6) - Staff Training","ENABLING COST - Net Expenses w Cost Change (Col 5 + 6) - Contracted Services","ENABLING COST - Net Expenses w Cost Change (Col 5 + 6) - Publishing, Printing and Mailing","ENABLING COST - Net Expenses w Cost Change (Col 5 + 6) - Depreciation","ENABLING COST - Net Expenses w Cost Change (Col 5 + 6) - Personnel Recruitment","ENABLING COST - Net Expenses w Cost Change (Col 5 + 6) - Other Operating Expense ","ENABLING COST - Net Expenses w Cost Change (Col 5 + 6) - Other Capital Expense","ENABLING COST - Net Expenses w Cost Change (Col 5 + 6) - Subtotal - Enabling Cost","ENABLING COST - Net Expenses w Cost Change (Col 5 + 6) - TOTAL OVERHEAD AND ENABLING COST (Gi + Hi + Ii)","ENABLING COST - Compensations - TOTAL EXPENSES","ENABLING COST - Other Costs - TOTAL EXPENSES","ENABLING COST - Total - TOTAL EXPENSES","ENABLING COST - Reclassifications - TOTAL EXPENSES","ENABLING COST - Reclassified Trial Balances (Col 3 & 4) - TOTAL EXPENSES","ENABLING COST - Adjustments Increase (Decrease) - TOTAL EXPENSES","ENABLING COST - Net Expenses w Cost Change (Col 5 + 6) - Expenses","Description of Reclassification(s)","Increases - Cost Center","Increases - Line #","Increases - Amount","Decreases - Cost Center","Decreases - Line #","Decreases - Amount","Description of Reclassification(s)","Increases - Cost Center","Increases - Line #","Increases - Amount","Decreases - Cost Center","Decreases - Line #","Decreases - Amount","Description of Reclassification(s)","Increases - Cost Center","Increases - Line #","Increases - Amount","Decreases - Cost Center","Decreases - Line #","Decreases - Amount","Description of Reclassification(s)","Increases - Cost Center","Increases - Line #","Increases - Amount","Decreases - Cost Center","Decreases - Line #","Decreases - Amount","Description of Reclassification(s)","Increases - Cost Center","Increases - Line #","Increases - Amount","Decreases - Cost Center","Decreases - Line #","Decreases - Amount","Description of Reclassification(s)","Increases - Cost Center","Increases - Line #","Increases - Amount","Decreases - Cost Center","Decreases - Line #","Decreases - Amount","Description of Reclassification(s)","Increases - Cost Center","Increases - Line #","Increases - Amount","Decreases - Cost Center","Decreases - Line #","Decreases - Amount","Description of Reclassification(s)","Increases - Cost Center","Increases - Line #","Increases - Amount","Decreases - Cost Center","Decreases - Line #","Decreases - Amount","Description of Reclassification(s)","Increases - Cost Center","Increases - Line #","Increases - Amount","Decreases - Cost Center","Decreases - Line #","Decreases - Amount","Description of Reclassification(s)","Increases - Cost Center","Increases - Line #","Increases - Amount","Decreases - Cost Center","Decreases - Line #","Decreases - Amount","Description of Reclassification(s)","Increases - Cost Center","Increases - Line #","Increases - Amount","Decreases - Cost Center","Decreases - Line #","Decreases - Amount","Description of Reclassification(s)","Increases - Cost Center","Increases - Line #","Increases - Amount","Decreases - Cost Center","Decreases - Line #","Decreases - Amount","Description of Reclassification(s)","Increases - Cost Center","Increases - Line #","Increases - Amount","Decreases - Cost Center","Decreases - Line #","Decreases - Amount","Description of Reclassification(s)","Increases - Cost Center","Increases - Line #","Increases - Amount","Decreases - Cost Center","Decreases - Line #","Decreases - Amount","Description of Reclassification(s)","Increases - Cost Center","Increases - Line #","Increases - Amount","Decreases - Cost Center","Decreases - Line #","Decreases - Amount","Description of Reclassification(s)","Increases - Cost Center","Increases - Line #","Increases - Amount","Decreases - Cost Center","Decreases - Line #","Decreases - Amount","Description of Reclassification(s)","Increases - Cost Center","Increases - Line #","Increases - Amount","Decreases - Cost Center","Decreases - Line #","Decreases - Amount","Description of Reclassification(s)","Increases - Cost Center","Increases - Line #","Increases - Amount","Decreases - Cost Center","Decreases - Line #","Decreases - Amount","Description of Reclassification(s)","Increases - Cost Center","Increases - Line #","Increases - Amount","Decreases - Cost Center","Decreases - Line #","Decreases - Amount","Description of Reclassification(s)","Increases - Cost Center","Increases - Line #","Increases - Amount","Decreases - Cost Center","Decreases - Line #","Decreases - Amount","Description of Reclassification(s)","Increases - Cost Center","Increases - Line #","Increases - Amount","Decreases - Cost Center","Decreases - Line #","Decreases - Amount","Description of Reclassification(s)","Increases - Cost Center","Increases - Line #","Increases - Amount","Decreases - Cost Center","Decreases - Line #","Decreases - Amount","Description of Reclassification(s)","Increases - Cost Center","Increases - Line #","Increases - Amount","Decreases - Cost Center","Decreases - Line #","Decreases - Amount","Description of Reclassification(s)","Increases - Cost Center","Increases - Line #","Increases - Amount","Decreases - Cost Center","Decreases - Line #","Decreases - Amount","Description of Reclassification(s)","Increases - Cost Center","Increases - Line #","Increases - Amount","Decreases - Cost Center","Decreases - Line #","Decreases - Amount","Description of Reclassification(s)","Increases - Cost Center","Increases - Line #","Increases - Amount","Decreases - Cost Center","Decreases - Line #","Decreases - Amount","Description of Reclassification(s)","Increases - Cost Center","Increases - Line #","Increases - Amount","Decreases - Cost Center","Decreases - Line #","Decreases - Amount","Description of Reclassification(s)","Increases - Cost Center","Increases - Line #","Increases - Amount","Decreases - Cost Center","Decreases - Line #","Decreases - Amount","Description of Reclassification(s)","Increases - Cost Center","Increases - Line #","Increases - Amount","Decreases - Cost Center","Decreases - Line #","Decreases - Amount","Description of Reclassification(s)","Increases - Cost Center","Increases - Line #","Increases - Amount","Decreases - Cost Center","Decreases - Line #","Decreases - Amount","Description of Reclassification(s)","Increases - Cost Center","Increases - Line #","Increases - Amount","Decreases - Cost Center","Decreases - Line #","Decreases - Amount","Description of Reclassification(s)","Increases - Cost Center","Increases - Line #","Increases - Amount","Decreases - Cost Center","Decreases - Line #","Decreases - Amount","Description of Reclassification(s)","Increases - Cost Center","Increases - Line #","Increases - Amount","Decreases - Cost Center","Decreases - Line #","Decreases - Amount","Description of Reclassification(s)","Increases - Cost Center","Increases - Line #","Increases - Amount","Decreases - Cost Center","Decreases - Line #","Decreases - Amount","Description of Reclassification(s)","Increases - Cost Center","Increases - Line #","Increases - Amount","Decreases - Cost Center","Decreases - Line #","Decreases - Amount","Description of Reclassification(s)","Increases - Cost Center","Increases - Line #","Increases - Amount","Decreases - Cost Center","Decreases - Line #","Decreases - Amount","Description of Reclassification(s)","Increases - Cost Center","Increases - Line #","Increases - Amount","Decreases - Cost Center","Decreases - Line #","Decreases - Amount","Description of Reclassification(s)","Increases - Cost Center","Increases - Line #","Increases - Amount","Decreases - Cost Center","Decreases - Line #","Decreases - Amount","Description of Reclassification(s)","Increases - Cost Center","Increases - Line #","Increases - Amount","Decreases - Cost Center","Decreases - Line #","Decreases - Amount","Description of Reclassification(s)","Increases - Cost Center","Increases - Line #","Increases - Amount","Decreases - Cost Center","Decreases - Line #","Decreases - Amount","Description of Reclassification(s)","Increases - Cost Center","Increases - Line #","Increases - Amount","Decreases - Cost Center","Decreases - Line #","Decreases - Amount","Description of Reclassification(s)","Increases - Cost Center","Increases - Line #","Increases - Amount","Decreases - Cost Center","Decreases - Line #","Decreases - Amount","Description of Reclassification(s)","Increases - Cost Center","Increases - Line #","Increases - Amount","Decreases - Cost Center","Decreases - Line #","Decreases - Amount","Description of Reclassification(s)","Increases - Cost Center","Increases - Line #","Increases - Amount","Decreases - Cost Center","Decreases - Line #","Decreases - Amount","Description of Reclassification(s)","Increases - Cost Center","Increases - Line #","Increases - Amount","Decreases - Cost Center","Decreases - Line #","Decreases - Amount","Description of Reclassification(s)","Increases - Cost Center","Increases - Line #","Increases - Amount","Decreases - Cost Center","Decreases - Line #","Decreases - Amount","Description of Reclassification(s)","Increases - Cost Center","Increases - Line #","Increases - Amount","Decreases - Cost Center","Decreases - Line #","Decreases - Amount","Description of Reclassification(s)","Increases - Cost Center","Increases - Line #","Increases - Amount","Decreases - Cost Center","Decreases - Line #","Decreases - Amount","Description of Reclassification(s)","Increases - Cost Center","Increases - Line #","Increases - Amount","Decreases - Cost Center","Decreases - Line #","Decreases - Amount","Description of Reclassification(s)","Increases - Cost Center","Increases - Line #","Increases - Amount","Decreases - Cost Center","Decreases - Line #","Decreases - Amount","TOTAL: Increases - Amount","TOTAL: Decreases - Amount","Description of Adjustment to Expenses","Basis for Adjustment","Worksheet Line Number","Cost Center","Amount","Description of Adjustment to Expenses","Basis for Adjustment","Worksheet Line Number","Cost Center","Amount","Description of Adjustment to Expenses","Basis for Adjustment","Worksheet Line Number","Cost Center","Amount","Description of Adjustment to Expenses","Basis for Adjustment","Worksheet Line Number","Cost Center","Amount","Description of Adjustment to Expenses","Basis for Adjustment","Worksheet Line Number","Cost Center","Amount","Description of Adjustment to Expenses","Basis for Adjustment","Worksheet Line Number","Cost Center","Amount","Description of Adjustment to Expenses","Basis for Adjustment","Worksheet Line Number","Cost Center","Amount","Description of Adjustment to Expenses","Basis for Adjustment","Worksheet Line Number","Cost Center","Amount","Description of Adjustment to Expenses","Basis for Adjustment","Worksheet Line Number","Cost Center","Amount","Description of Adjustment to Expenses","Basis for Adjustment","Worksheet Line Number","Cost Center","Amount","Description of Adjustment to Expenses","Basis for Adjustment","Worksheet Line Number","Cost Center","Amount","Description of Adjustment to Expenses","Basis for Adjustment","Worksheet Line Number","Cost Center","Amount","Description of Adjustment to Expenses","Basis for Adjustment","Worksheet Line Number","Cost Center","Amount","Description of Adjustment to Expenses","Basis for Adjustment","Worksheet Line Number","Cost Center","Amount","Description of Adjustment to Expenses","Basis for Adjustment","Worksheet Line Number","Cost Center","Amount","Description of Adjustment to Expenses","Basis for Adjustment","Worksheet Line Number","Cost Center","Amount","Description of Adjustment to Expenses","Basis for Adjustment","Worksheet Line Number","Cost Center","Amount","Description of Adjustment to Expenses","Basis for Adjustment","Worksheet Line Number","Cost Center","Amount","Amount - TOTAL","MEDICAL PROVIDERS - Visits - Physician (Note - includes OBAT per keeping in Med)","MEDICAL PROVIDERS - Visits - Nurse Practitioners","MEDICAL PROVIDERS - Visits - Physician Assistants","MEDICAL PROVIDERS - Visits - Certified Nurse Midwives","MEDICAL PROVIDERS - Visits - Registered Nurses (Note - includes OBAT as keeping in Med)","MEDICAL PROVIDERS - Visits - Licensed Practical Nurses","MEDICAL PROVIDERS - Visits - Ophthalmologists","MEDICAL PROVIDERS - Visits - Total Medical Visits and FTEs","MEDICAL PROVIDERS - Total FTEs - Physician (Note - includes OBAT per keeping in Med)","MEDICAL PROVIDERS - Total FTEs - Nurse Practitioners","MEDICAL PROVIDERS - Total FTEs - Physician Assistants","MEDICAL PROVIDERS - Total FTEs - Certified Nurse Midwives","MEDICAL PROVIDERS - Total FTEs - Registered Nurses (Note - includes OBAT as keeping in Med)","MEDICAL PROVIDERS - Total FTEs - Licensed Practical Nurses","MEDICAL PROVIDERS - Total FTEs - Ophthalmologists","MEDICAL PROVIDERS - Total FTEs - Total Medical Visits and FTEs","DENTAL PROVIDERS - Visits - General Dentists","DENTAL PROVIDERS - Visits - Dental Specialist (DMD-DDS)","DENTAL PROVIDERS - Visits - Dental Hygienists","DENTAL PROVIDERS - Visits - Total Dental Visits and FTEs","DENTAL PROVIDERS - Total FTEs - General Dentists","DENTAL PROVIDERS - Total FTEs - Dental Specialist (DMD-DDS)","DENTAL PROVIDERS - Total FTEs - Dental Hygienists","DENTAL PROVIDERS - Total FTEs - Total Dental Visits and FTEs","BEHAVIORAL HEALTH PROVIDERS - Mental Health Providers - Visits - Psychiatrists","BEHAVIORAL HEALTH PROVIDERS - Mental Health Providers - Visits - Psychologists","BEHAVIORAL HEALTH PROVIDERS - Mental Health Providers - Visits - Licensed Independent Clinical Social Worker (LISCW)","BEHAVIORAL HEALTH PROVIDERS - Mental Health Providers - Visits - Licensed Clinical Social Worker (LCSW)","BEHAVIORAL HEALTH PROVIDERS - Mental Health Providers - Visits - Unlicensed Master of Social Worker (MSW)","BEHAVIORAL HEALTH PROVIDERS - Mental Health Providers - Visits - Licensed Mental Health Counselor (LMHC)","BEHAVIORAL HEALTH PROVIDERS - Mental Health Providers - Visits - Family Therapists","BEHAVIORAL HEALTH PROVIDERS - Mental Health Providers - Visits - Psychiatric Nurse Practitioner","BEHAVIORAL HEALTH PROVIDERS - Mental Health Providers - Visits - Nurses - Psychiatric and Mental Health","BEHAVIORAL HEALTH PROVIDERS - Mental Health Providers - Visits - RN Nurse Counselors","BEHAVIORAL HEALTH PROVIDERS - Mental Health Providers - Visits - Unlicensed Mental Health Providers, including trainees (interns or residents) and \"Certified\" staff","BEHAVIORAL HEALTH PROVIDERS - Mental Health Providers - Total FTEs - Psychiatrists","BEHAVIORAL HEALTH PROVIDERS - Mental Health Providers - Total FTEs - Psychologists","BEHAVIORAL HEALTH PROVIDERS - Mental Health Providers - Total FTEs - Licensed Independent Clinical Social Worker (LISCW)","BEHAVIORAL HEALTH PROVIDERS - Mental Health Providers - Total FTEs - Licensed Clinical Social Worker (LCSW)","BEHAVIORAL HEALTH PROVIDERS - Mental Health Providers - Total FTEs - Unlicensed Master of Social Worker (MSW)","BEHAVIORAL HEALTH PROVIDERS - Mental Health Providers - Total FTEs - Licensed Mental Health Counselor (LMHC)","BEHAVIORAL HEALTH PROVIDERS - Mental Health Providers - Total FTEs - Family Therapists","BEHAVIORAL HEALTH PROVIDERS - Mental Health Providers - Total FTEs - Psychiatric Nurse Practitioner","BEHAVIORAL HEALTH PROVIDERS - Mental Health Providers - Total FTEs - Nurses - Psychiatric and Mental Health","BEHAVIORAL HEALTH PROVIDERS - Mental Health Providers - Total FTEs - RN Nurse Counselors","BEHAVIORAL HEALTH PROVIDERS - Mental Health Providers - Total FTEs - Unlicensed Mental Health Providers, including trainees (interns or residents) and \"Certified\" staff","BEHAVIORAL HEALTH PROVIDERS - Substance Use Providers - Visits - RN Nurse Counselors","BEHAVIORAL HEALTH PROVIDERS - Substance Use Providers - Visits - Licensed Independent Clinical Social Worker (LISCW)","BEHAVIORAL HEALTH PROVIDERS - Substance Use Providers - Visits - Licensed Clinical Social Worker (LCSW)","BEHAVIORAL HEALTH PROVIDERS - Substance Use Providers - Visits - Unlicensed Master of Social Worker (MSW)","BEHAVIORAL HEALTH PROVIDERS - Substance Use Providers - Visits - Licensed Mental Health Counselor (LMHC)","BEHAVIORAL HEALTH PROVIDERS - Substance Use Providers - Visits - LADAC/CADAC ","BEHAVIORAL HEALTH PROVIDERS - Substance Use Providers - Visits - Family Therapists","BEHAVIORAL HEALTH PROVIDERS - Substance Use Providers - Visits - Recovery Coaches/Peer Support","BEHAVIORAL HEALTH PROVIDERS - Visits - Total Behavioral Health Visits and FTEs","BEHAVIORAL HEALTH PROVIDERS - Substance Use Providers - Total FTEs - RN Nurse Counselors","BEHAVIORAL HEALTH PROVIDERS - Substance Use Providers - Total FTEs - Licensed Independent Clinical Social Worker (LISCW)","BEHAVIORAL HEALTH PROVIDERS - Substance Use Providers - Total FTEs - Licensed Clinical Social Worker (LCSW)","BEHAVIORAL HEALTH PROVIDERS - Substance Use Providers - Total FTEs - Unlicensed Master of Social Worker (MSW)","BEHAVIORAL HEALTH PROVIDERS - Substance Use Providers - Total FTEs - Licensed Mental Health Counselor (LMHC)","BEHAVIORAL HEALTH PROVIDERS - Substance Use Providers - Total FTEs - LADAC/CADAC ","BEHAVIORAL HEALTH PROVIDERS - Substance Use Providers - Total FTEs - Family Therapists","BEHAVIORAL HEALTH PROVIDERS - Substance Use Providers - Total FTEs - Recovery Coaches/Peer Support","BEHAVIORAL HEALTH PROVIDERS - Total FTEs - Total Behavioral Health Visits and FTEs","TOTAL VISITS AND FTEs - Visits","TOTAL VISITS AND FTEs - Total FTEs","Allocation Basis - In-Bundle & Out-of-Bundle FTEs (Tab 3) - Non-Provider & Other Direct Costs - Total ","Allocation Basis - Square Footage - Facility - Total","Allocation Basis - Total Visits (Form 7 & Tab 3) - Enabling - Total","Allocation Basis - Accumulated Cost (Line 16) - Admin - Total","Allocation Basis - In-Bundle & Out-of-Bundle FTEs (Tab 3) - Non-Provider & Other Direct Costs - Medical (In-Bundle)","Allocation Basis - Square Footage - Facility - Medical (In-Bundle)","Allocation Basis - Total Visits (Form 7 & Tab 3) - Enabling - Medical (In-Bundle)","Allocation Basis - Accumulated Cost (Line 16) - Admin - Medical (In-Bundle)","Allocation Basis - In-Bundle & Out-of-Bundle FTEs (Tab 3) - Non-Provider & Other Direct Costs - Behavioral Health (In-Bundle)","Allocation Basis - Square Footage - Facility - Behavioral Health (In-Bundle)","Allocation Basis - Total Visits (Form 7 & Tab 3) - Enabling - Behavioral Health (In-Bundle)","Allocation Basis - Accumulated Cost (Line 16) - Admin - Behavioral Health (In-Bundle)","Allocation Basis - In-Bundle & Out-of-Bundle FTEs (Tab 3) - Non-Provider & Other Direct Costs - Dental (100% In-Bundle)","Allocation Basis - Square Footage - Facility - Dental (100% In-Bundle)","Allocation Basis - Total Visits (Form 7 & Tab 3) - Enabling - Dental (100% In-Bundle)","Allocation Basis - Accumulated Cost (Line 16) - Admin - Dental (100% In-Bundle)","Allocation Basis - Square Footage - Facility - Laboratory","Allocation Basis - Accumulated Cost (Line 16) - Admin - Laboratory","Allocation Basis - Square Footage - Facility - X-Ray","Allocation Basis - Accumulated Cost (Line 16) - Admin - X-Ray","Allocation Basis - Square Footage - Facility - Pharmacy","Allocation Basis - Accumulated Cost (Line 16) - Admin - Pharmacy","Allocation Basis - In-Bundle & Out-of-Bundle FTEs (Tab 3) - Non-Provider & Other Direct Costs - Medical (Out-of-Bundle)","Allocation Basis - Square Footage - Facility - Medical (Out-of-Bundle)","Allocation Basis - Total Visits (Form 7 & Tab 3) - Enabling - Medical (Out-of-Bundle)","Allocation Basis - Accumulated Cost (Line 16) - Admin - Medical (Out-of-Bundle)","Allocation Basis - In-Bundle & Out-of-Bundle FTEs (Tab 3) - Non-Provider & Other Direct Costs - Behavioral Health (Out-of-Bundle)","Allocation Basis - Square Footage - Facility - Behavioral Health (Out-of-Bundle)","Allocation Basis - Total Visits (Form 7 & Tab 3) - Enabling - Behavioral Health (Out-of-Bundle)","Allocation Basis - Accumulated Cost (Line 16) - Admin - Behavioral Health (Out-of-Bundle)","Allocation Basis - Square Footage - Facility - Enabling","Allocation Basis - Square Footage - Facility - Admin","Allocation Basis - Square Footage - Facility - Non-Allowable","Allocation Basis - Accumulated Cost (Line 16) - Admin - Non-Allowable","% Allocated - Square Footage - Facility - Total","% Allocated - Total Visits - Enabling - Total","% Allocated - Accumulated Cost - Admin - Total","% Allocated - In-Bundle & Out-of-Bundle FTEs - Non-Provider & Other Direct Costs - Medical (In-Bundle)","% Allocated - Square Footage - Facility - Medical (In-Bundle)","% Allocated - Total Visits - Enabling - Medical (In-Bundle)","% Allocated - Accumulated Cost - Admin - Medical (In-Bundle)","% Allocated - In-Bundle & Out-of-Bundle FTEs - Non-Provider & Other Direct Costs - Behavioral Health (In-Bundle)","% Allocated - Square Footage - Facility - Behavioral Health (In-Bundle)","% Allocated - Total Visits - Enabling - Behavioral Health (In-Bundle)","% Allocated - Accumulated Cost - Admin - Behavioral Health (In-Bundle)","% Allocated - In-Bundle & Out-of-Bundle FTEs - Non-Provider & Other Direct Costs - Dental (100% In-Bundle)","% Allocated - Square Footage - Facility - Dental (100% In-Bundle)","% Allocated - Total Visits - Enabling - Dental (100% In-Bundle)","% Allocated - Accumulated Cost - Admin - Dental (100% In-Bundle)","% Allocated - Square Footage - Facility - Laboratory","% Allocated - Accumulated Cost - Admin - Laboratory","% Allocated - Square Footage - Facility - X-Ray","% Allocated - Accumulated Cost - Admin - X-Ray","% Allocated - Square Footage - Facility - Pharmacy","% Allocated - Accumulated Cost - Admin - Pharmacy","% Allocated - In-Bundle & Out-of-Bundle FTEs - Non-Provider & Other Direct Costs - Medical (Out-of-Bundle)","% Allocated - Square Footage - Facility - Medical (Out-of-Bundle)","% Allocated - Total Visits - Enabling - Medical (Out-of-Bundle)","% Allocated - Accumulated Cost - Admin - Medical (Out-of-Bundle)","% Allocated - In-Bundle & Out-of-Bundle FTEs - Non-Provider & Other Direct Costs - Behavioral Health (Out-of-Bundle)","% Allocated - Square Footage - Facility - Behavioral Health (Out-of-Bundle)","% Allocated - Total Visits - Enabling - Behavioral Health (Out-of-Bundle)","% Allocated - Accumulated Cost - Admin - Behavioral Health (Out-of-Bundle)","% Allocated - Square Footage - Facility - Enabling","% Allocated - Square Footage - Facility - Admin","% Allocated - Square Footage - Facility - Non-Allowable","% Allocated - Accumulated Cost - Admin - Non-Allowable","Cost Allocations - Net Direct Expenses (Forms 1-5) - Total","Cost Allocations - Allocation of Medical and Behavioral Health Non-Provider Staff Costs (by FTEs) - Total","Cost Allocations - Allocation of Medical and Behavioral Health Other Direct Costs (by FTEs) - Total","Cost Allocations - Direct Expenses, After Non-Provider Staff Cost and Other Direct Cost Allocation (Line 9+10+11) - Total","Cost Allocations - Allocation of Facility Costs (by Square Footage) - Total","Cost Allocations - Direct Expenses, After Facility Allocation (Line 12+13) - Total","Cost Allocations - Allocation of Enabling Services Costs (by Visits) - Total","Cost Allocations - Direct Expenses, After Allocation of Facility and Enabling (Line 14+15) - Total","Cost Allocations - Allocation of Administrative Expenses (by Accumulated Cost) - Total","Cost Allocations - Total Adjusted Net Expenses (Line 16+17) - Total","Cost Allocations - Net Direct Expenses (Forms 1-5) - Medical (In-Bundle)","Cost Allocations - Allocation of Medical and Behavioral Health Non-Provider Staff Costs (by FTEs) - Medical (In-Bundle)","Cost Allocations - Allocation of Medical and Behavioral Health Other Direct Costs (by FTEs) - Medical (In-Bundle)","Cost Allocations - Direct Expenses, After Non-Provider Staff Cost and Other Direct Cost Allocation (Line 9+10+11) - Medical (In-Bundle)","Cost Allocations - Allocation of Facility Costs (by Square Footage) - Medical (In-Bundle)","Cost Allocations - Direct Expenses, After Facility Allocation (Line 12+13) - Medical (In-Bundle)","Cost Allocations - Allocation of Enabling Services Costs (by Visits) - Medical (In-Bundle)","Cost Allocations - Direct Expenses, After Allocation of Facility and Enabling (Line 14+15) - Medical (In-Bundle)","Cost Allocations - Allocation of Administrative Expenses (by Accumulated Cost) - Medical (In-Bundle)","Cost Allocations - Total Adjusted Net Expenses (Line 16+17) - Medical (In-Bundle)","Cost Allocations - Net Direct Expenses (Forms 1-5) - Behavioral Health (In-Bundle)","Cost Allocations - Allocation of Medical and Behavioral Health Non-Provider Staff Costs (by FTEs) - Behavioral Health (In-Bundle)","Cost Allocations - Allocation of Medical and Behavioral Health Other Direct Costs (by FTEs) - Behavioral Health (In-Bundle)","Cost Allocations - Direct Expenses, After Non-Provider Staff Cost and Other Direct Cost Allocation (Line 9+10+11) - Behavioral Health (In-Bundle)","Cost Allocations - Allocation of Facility Costs (by Square Footage) - Behavioral Health (In-Bundle)","Cost Allocations - Direct Expenses, After Facility Allocation (Line 12+13) - Behavioral Health (In-Bundle)","Cost Allocations - Allocation of Enabling Services Costs (by Visits) - Behavioral Health (In-Bundle)","Cost Allocations - Direct Expenses, After Allocation of Facility and Enabling (Line 14+15) - Behavioral Health (In-Bundle)","Cost Allocations - Allocation of Administrative Expenses (by Accumulated Cost) - Behavioral Health (In-Bundle)","Cost Allocations - Total Adjusted Net Expenses (Line 16+17) - Behavioral Health (In-Bundle)","Cost Allocations - Net Direct Expenses (Forms 1-5) - Dental (In-Bundle)","Cost Allocations - Direct Expenses, After Non-Provider Staff Cost and Other Direct Cost Allocation (Line 9+10+11) - Dental (In-Bundle)","Cost Allocations - Allocation of Facility Costs (by Square Footage) - Dental (In-Bundle)","Cost Allocations - Direct Expenses, After Facility Allocation (Line 12+13) - Dental (In-Bundle)","Cost Allocations - Allocation of Enabling Services Costs (by Visits) - Dental (In-Bundle)","Cost Allocations - Direct Expenses, After Allocation of Facility and Enabling (Line 14+15) - Dental (In-Bundle)","Cost Allocations - Allocation of Administrative Expenses (by Accumulated Cost) - Dental (In-Bundle)","Cost Allocations - Total Adjusted Net Expenses (Line 16+17) - Dental (In-Bundle)","Cost Allocations - Net Direct Expenses (Forms 1-5) - Laboratory","Cost Allocations - Direct Expenses, After Non-Provider Staff Cost and Other Direct Cost Allocation (Line 9+10+11) - Laboratory","Cost Allocations - Allocation of Facility Costs (by Square Footage) - Laboratory","Cost Allocations - Direct Expenses, After Facility Allocation (Line 12+13) - Laboratory","Cost Allocations - Direct Expenses, After Allocation of Facility and Enabling (Line 14+15) - Laboratory","Cost Allocations - Allocation of Administrative Expenses (by Accumulated Cost) - Laboratory","Cost Allocations - Total Adjusted Net Expenses (Line 16+17) - Laboratory","Cost Allocations - Net Direct Expenses (Forms 1-5) - X-Ray","Cost Allocations - Direct Expenses, After Non-Provider Staff Cost and Other Direct Cost Allocation (Line 9+10+11) - X-Ray","Cost Allocations - Allocation of Facility Costs (by Square Footage) - X-Ray","Cost Allocations - Direct Expenses, After Facility Allocation (Line 12+13) - X-Ray","Cost Allocations - Direct Expenses, After Allocation of Facility and Enabling (Line 14+15) - X-Ray","Cost Allocations - Allocation of Administrative Expenses (by Accumulated Cost) - X-Ray","Cost Allocations - Total Adjusted Net Expenses (Line 16+17) - X-Ray","Cost Allocations - Net Direct Expenses (Forms 1-5) - Pharmacy","Cost Allocations - Direct Expenses, After Non-Provider Staff Cost and Other Direct Cost Allocation (Line 9+10+11) - Pharmacy","Cost Allocations - Allocation of Facility Costs (by Square Footage) - Pharmacy","Cost Allocations - Direct Expenses, After Facility Allocation (Line 12+13) - Pharmacy","Cost Allocations - Direct Expenses, After Allocation of Facility and Enabling (Line 14+15) - Pharmacy","Cost Allocations - Allocation of Administrative Expenses (by Accumulated Cost) - Pharmacy","Cost Allocations - Total Adjusted Net Expenses (Line 16+17) - Pharmacy","Cost Allocations - Net Direct Expenses (Forms 1-5) - Medical (Out-of-Bundle)","Cost Allocations - Allocation of Medical and Behavioral Health Non-Provider Staff Costs (by FTEs) - Medical (Out-of-Bundle)","Cost Allocations - Allocation of Medical and Behavioral Health Other Direct Costs (by FTEs) - Medical (Out-of-Bundle)","Cost Allocations - Direct Expenses, After Non-Provider Staff Cost and Other Direct Cost Allocation (Line 9+10+11) - Medical (Out-of-Bundle)","Cost Allocations - Allocation of Facility Costs (by Square Footage) - Medical (Out-of-Bundle)","Cost Allocations - Direct Expenses, After Facility Allocation (Line 12+13) - Medical (Out-of-Bundle)","Cost Allocations - Allocation of Enabling Services Costs (by Visits) - Medical (Out-of-Bundle)","Cost Allocations - Direct Expenses, After Allocation of Facility and Enabling (Line 14+15) - Medical (Out-of-Bundle)","Cost Allocations - Allocation of Administrative Expenses (by Accumulated Cost) - Medical (Out-of-Bundle)","Cost Allocations - Total Adjusted Net Expenses (Line 16+17) - Medical (Out-of-Bundle)","Cost Allocations - Net Direct Expenses (Forms 1-5) - Behavioral Health (Out-of-Bundle)","Cost Allocations - Allocation of Medical and Behavioral Health Non-Provider Staff Costs (by FTEs) - Behavioral Health (Out-of-Bundle)","Cost Allocations - Allocation of Medical and Behavioral Health Other Direct Costs (by FTEs) - Behavioral Health (Out-of-Bundle)","Cost Allocations - Direct Expenses, After Non-Provider Staff Cost and Other Direct Cost Allocation (Line 9+10+11) - Behavioral Health (Out-of-Bundle)","Cost Allocations - Allocation of Facility Costs (by Square Footage) - Behavioral Health (Out-of-Bundle)","Cost Allocations - Direct Expenses, After Facility Allocation (Line 12+13) - Behavioral Health (Out-of-Bundle)","Cost Allocations - Allocation of Enabling Services Costs (by Visits) - Behavioral Health (Out-of-Bundle)","Cost Allocations - Direct Expenses, After Allocation of Facility and Enabling (Line 14+15) - Behavioral Health (Out-of-Bundle)","Cost Allocations - Allocation of Administrative Expenses (by Accumulated Cost) - Behavioral Health (Out-of-Bundle)","Cost Allocations - Total Adjusted Net Expenses (Line 16+17) - Behavioral Health (Out-of-Bundle)","Cost Allocations - Net Direct Expenses (Forms 1-5) - Medical Non-Providers Staff Cost","Cost Allocations - Allocation of Medical and Behavioral Health Non-Provider Staff Costs (by FTEs) - Medical Non-Providers Staff Cost","Cost Allocations - Direct Expenses, After Non-Provider Staff Cost and Other Direct Cost Allocation (Line 9+10+11) - Medical Non-Providers Staff Cost","Cost Allocations - Net Direct Expenses (Forms 1-5) - Behavioral Health Non-Providers Staff Cost","Cost Allocations - Allocation of Medical and Behavioral Health Non-Provider Staff Costs (by FTEs) - Behavioral Health Non-Providers Staff Cost","Cost Allocations - Direct Expenses, After Non-Provider Staff Cost and Other Direct Cost Allocation (Line 9+10+11) - Behavioral Health Non-Providers Staff Cost","Cost Allocations - Net Direct Expenses (Forms 1-5) - Medical Other Direct Cost","Cost Allocations - Allocation of Medical and Behavioral Health Other Direct Costs (by FTEs) - Medical Other Direct Cost","Cost Allocations - Direct Expenses, After Non-Provider Staff Cost and Other Direct Cost Allocation (Line 9+10+11) - Medical Other Direct Cost","Cost Allocations - Net Direct Expenses (Forms 1-5) - Medical Other Direct Cost","Cost Allocations - Allocation of Medical and Behavioral Health Other Direct Costs (by FTEs) - Medical Other Direct Cost","Cost Allocations - Direct Expenses, After Non-Provider Staff Cost and Other Direct Cost Allocation (Line 9+10+11) - Medical Other Direct Cost","Cost Allocations - Net Direct Expenses (Forms 1-5) - Facility","Cost Allocations - Direct Expenses, After Non-Provider Staff Cost and Other Direct Cost Allocation (Line 9+10+11) - Facility","Cost Allocations - Allocation of Facility Costs (by Square Footage) - Facility","Cost Allocations - Direct Expenses, After Facility Allocation (Line 12+13) - Facility","Cost Allocations - Net Direct Expenses (Forms 1-5) - Enabling","Cost Allocations - Direct Expenses, After Non-Provider Staff Cost and Other Direct Cost Allocation (Line 9+10+11) - Enabling","Cost Allocations - Allocation of Facility Costs (by Square Footage) - Enabling","Cost Allocations - Direct Expenses, After Facility Allocation (Line 12+13) - Enabling","Cost Allocations - Allocation of Enabling Services Costs (by Visits) - Enabling","Cost Allocations - Direct Expenses, After Allocation of Facility and Enabling (Line 14+15) - Enabling","Cost Allocations - Net Direct Expenses (Forms 1-5) - Admin","Cost Allocations - Direct Expenses, After Non-Provider Staff Cost and Other Direct Cost Allocation (Line 9+10+11) - Admin","Cost Allocations - Allocation of Facility Costs (by Square Footage) - Admin","Cost Allocations - Direct Expenses, After Facility Allocation (Line 12+13) - Admin","Cost Allocations - Direct Expenses, After Allocation of Facility and Enabling (Line 14+15) - Admin","Cost Allocations - Allocation of Administrative Expenses (by Accumulated Cost) - Admin","Cost Allocations - Total Adjusted Net Expenses (Line 16+17) - Admin","Cost Allocations - Net Direct Expenses (Forms 1-5) - Non-Allowable","Cost Allocations - Direct Expenses, After Non-Provider Staff Cost and Other Direct Cost Allocation (Line 9+10+11) - Non-Allowable","Cost Allocations - Allocation of Facility Costs (by Square Footage) - Non-Allowable","Cost Allocations - Direct Expenses, After Facility Allocation (Line 12+13) - Non-Allowable","Cost Allocations - Direct Expenses, After Allocation of Facility and Enabling (Line 14+15) - Non-Allowable","Cost Allocations - Allocation of Administrative Expenses (by Accumulated Cost) - Non-Allowable","Cost Allocations - Total Adjusted Net Expenses (Line 16+17) - Non-Allowable","Cost Adjustment and Allocation - Medical + Behavioral Health (Dental Carved Out) - Total Adjusted Allowable Costs (Form A, Line 18)","Cost Adjustment and Allocation - Medical + Behavioral Health (Dental Carved Out) - Visits (Form 7)","Cost Adjustment and Allocation - Medical + Behavioral Health (Dental Carved Out) - Allowable Medical + BH Cost per Visit (A/B)","Cost Adjustment and Allocation - Dental Costs - Total Adjusted Allowable Costs (Form A, Line 18)","Cost Adjustment and Allocation - Dental Costs - Visits (Form 7)","Cost Adjustment and Allocation - Dental Costs - Visits (Form 7) - Allowable Dental Cost per Visit (A/B)","Cost Report Net Income - Total Cost Report Revenue (Tab 2, line 45)","Cost Report Net Income - Total Cost Report Expenses (Form A, Line 18 plus Tab 7, Line 19)","Cost Report Net Income - Net Income (Loss) Cost Report","Cost Report Net Income - Profitability","Financial Statement Net Income - Total Financial Statement Revenue","Financial Statement Net Income - Total Financial Statement Expenses","Financial Statement Net Income - Net Income (Loss) Financial Statement","Variance - Variance Between Cost Report and Financial Statements: Revenue","Variance - Variance Between Cost Report and Financial Statements: Expenses","Variance - Variance Between Cost Report and Financial Statements: Net Income","Reconciling Items - Reconciling Item #1 - Description ","Reconciling Items - Reconciling Item #1 - Amount ($) ","Reconciling Items - Reconciling Item #2 - Description ","Reconciling Items - Reconciling Item #2 - Amount ($) ","Reconciling Items - Reconciling Item #3 - Description ","Reconciling Items - Reconciling Item #3 - Amount ($) ","Reconciling Items - Reconciling Item #4 - Description ","Reconciling Items - Reconciling Item #4 - Amount ($) ","Reconciling Items - Reconciling Item #5 - Description ","Reconciling Items - Reconciling Item #5 - Amount ($) ","Total Reconciling Items","Difference Between Total Reconciling Items and Variance Between Cost Report and Financial Statements: Net Income *","Total Revenue","Total Expense","Profit/Loss","Profitability","Signature of Authorized Submitter\n(Type electronic signature):","Date of Submission (mm/dd/yyyy):","Submitter's Acknowledgement:","Provider name is chosen (Tab 1)","MassHealth ID is entered (Tab 1)","Medicare Provider Number (Tab 1)","Fiscal year ending date is selected (Tab 1)","Contact Information is complete (Name, Phone Number, and Email Address) (Tab 1)","Total Revenue amount is entered (Tab 2)","Total Benefit amount is entered (Tab 5)","Medical Expense amount is entered","Total Other Than Personnel Services (OTPS) Expense is entered (Tab 5)","Provider Salary Expense is entered if Provider Salary FTE is Entered (Tab 3)","Provider Contractor Expense is entered if Provider Contractor FTE is Entered (Tab 3)","Non-Provider Salary Expense is entered if Non-Provider Salary FTE is Entered (Tab 4)","Non-Provider Contractor Expense is entered if Non-Provider Contractor FTE is Entered (Tab 4)","Non-Provider Salary/Contractor Expense and/or Non-Provider Salary/Contractor FTEs are entered (Tab 4)","Total Expense amount is entered (Cost Breakdown Tab)","Square Footage is entered (Tab 8)","Total Billable Vist amount is entered (Tab 3)","The reported differences between your cost report and financial statement must equal the sum of the variances reported in the Reconcilliation tab.","Above Certification by Provider is complete."]
[null,"CMS2 ID","Org Name",null,"01.C.9","01.C.10","01.C.11","01.C.12","01.C.13","01.C.14","01.C.15","01.C.16","01.C.17","01.C.18","01.C.21","01.C.22","01.C.23","01.C.24","01.C.25","01.C.26","01.C.27","01.C.28","02.E.9","02.E.10","02.E.11","02.E.12","02.E.13","02.E.14","02.E.15","02.E.16","02.E.17","02.E.18","02.E.19","02.E.20","02.E.21","02.E.22","02.F.23","02.E.25","02.E.26","02.E.27","02.E.28","02.E.29","02.E.30","02.F.31","02.E.33","02.E.34","02.E.35","02.E.36","02.E.37","02.E.38","02.F.39","02.E.41","02.E.42","02.E.43","02.E.44","02.E.45","02.E.46","02.B.48","02.B.49","02.B.50","02.B.51","02.B.52","02.B.53","02.E.48","02.E.49","02.E.50","02.E.51","02.E.52","02.E.53","02.E.56","02.F.23","02.F.31","02.F.39","02.F.54","02.F.55","02.F.56","02.F.57","02.F.58","03.C.13","03.C.14","03.C.15","03.C.16","03.C.17","03.C.18","03.C.19","03.C.20","03.C.21","03.C.22","03.C.23","03.C.24","03.C.25","03.C.27","03.C.28","03.C.29","03.C.30","03.C.32","03.C.33","03.C.34","03.C.35","03.C.37","03.C.38","03.C.39","03.C.40","03.C.41","03.C.42","03.C.43","03.C.44","03.C.45","03.C.46","03.C.47","03.C.48","03.C.49","03.C.50","03.C.51","03.C.52","03.C.53","03.C.54","03.C.55","03.C.56","03.C.57","03.C.58","03.C.61","03.C.62","03.C.63","03.C.64","03.C.65","03.C.66","03.C.67","03.C.68","03.C.69","03.C.70","03.C.74","03.C.75","03.C.77","03.C.78","03.C.79","03.C.80","03.C.81","03.C.83","03.C.84","03.C.85","03.C.86","03.C.87","03.C.89","03.C.91","03.C.92","03.C.93","03.C.94","03.C.95","03.C.96","03.C.97","03.C.98","03.C.99","03.C.100","03.C.101","03.C.102","03.C.103","03.C.104","03.C.105","03.C.106","03.C.108","03.D.13","03.D.14","03.D.15","03.D.16","03.D.17","03.D.18","03.D.19","03.D.20","03.D.21","03.D.22","03.D.23","03.D.24","03.D.25","03.D.27","03.D.28","03.D.29","03.D.30","03.D.32","03.D.33","03.D.34","03.D.35","03.D.37","03.D.38","03.D.39","03.D.40","03.D.41","03.D.42","03.D.43","03.D.44","03.D.45","03.D.46","03.D.47","03.D.48","03.D.49","03.D.50","03.D.51","03.D.52","03.D.53","03.D.54","03.D.55","03.D.56","03.D.57","03.D.58","03.D.61","03.D.62","03.D.63","03.D.64","03.D.65","03.D.66","03.D.67","03.D.68","03.D.69","03.D.70","03.D.74","03.D.75","03.D.77","03.D.78","03.D.79","03.D.80","03.D.81","03.D.83","03.D.84","03.D.85","03.D.86","03.D.87","03.D.89","03.D.91","03.D.92","03.D.93","03.D.94","03.D.95","03.D.96","03.D.97","03.D.98","03.D.99","03.D.100","03.D.101","03.D.102","03.D.103","03.D.104","03.D.105","03.D.106","03.D.108","03.E.13","03.E.14","03.E.15","03.E.16","03.E.17","03.E.18","03.E.19","03.E.20","03.E.21","03.E.22","03.E.23","03.E.24","03.E.25","03.E.27","03.E.28","03.E.29","03.E.30","03.E.32","03.E.33","03.E.34","03.E.35","03.E.37","03.E.38","03.E.39","03.E.40","03.E.41","03.E.42","03.E.43","03.E.44","03.E.45","03.E.46","03.E.47","03.E.48","03.E.49","03.E.50","03.E.51","03.E.52","03.E.53","03.E.54","03.E.55","03.E.56","03.E.57","03.E.58","03.E.61","03.E.62","03.E.63","03.E.64","03.E.65","03.E.66","03.E.67","03.E.68","03.E.69","03.E.70","03.E.74","03.E.75","03.E.77","03.E.78","03.E.79","03.E.80","03.E.81","03.E.83","03.E.84","03.E.85","03.E.86","03.E.87","03.E.89","03.E.91","03.E.92","03.E.93","03.E.94","03.E.95","03.E.96","03.E.97","03.E.98","03.E.99","03.E.100","03.E.101","03.E.102","03.E.103","03.E.104","03.E.105","03.E.106","03.E.108","03.F.13","03.F.14","03.F.15","03.F.16","03.F.17","03.F.18","03.F.19","03.F.20","03.F.21","03.F.22","03.F.23","03.F.24","03.F.25","03.F.27","03.F.28","03.F.29","03.F.30","03.F.32","03.F.33","03.F.34","03.F.35","03.F.37","03.F.38","03.F.39","03.F.40","03.F.41","03.F.42","03.F.43","03.F.44","03.F.45","03.F.46","03.F.47","03.F.48","03.F.49","03.F.50","03.F.51","03.F.52","03.F.53","03.F.54","03.F.55","03.F.56","03.F.57","03.F.58","03.F.61","03.F.62","03.F.63","03.F.64","03.F.65","03.F.66","03.F.67","03.F.68","03.F.69","03.F.70","03.F.74","03.F.75","03.F.77","03.F.78","03.F.79","03.F.80","03.F.81","03.F.83","03.F.84","03.F.85","03.F.86","03.F.87","03.F.89","03.F.91","03.F.92","03.F.93","03.F.94","03.F.95","03.F.96","03.F.97","03.F.98","03.F.99","03.F.100","03.F.101","03.F.102","03.F.103","03.F.104","03.F.105","03.F.106","03.F.108","03.G.13","03.G.14","03.G.15","03.G.16","03.G.17","03.G.18","03.G.19","03.G.20","03.G.21","03.G.22","03.G.23","03.G.24","03.G.25","03.G.27","03.G.28","03.G.29","03.G.30","03.G.32","03.G.33","03.G.34","03.G.35","03.G.37","03.G.38","03.G.39","03.G.40","03.G.41","03.G.42","03.G.43","03.G.44","03.G.45","03.G.46","03.G.47","03.G.48","03.G.49","03.G.50","03.G.51","03.G.52","03.G.53","03.G.54","03.G.55","03.G.56","03.G.57","03.G.58","03.G.61","03.G.62","03.G.63","03.G.64","03.G.65","03.G.66","03.G.67","03.G.68","03.G.69","03.G.70","03.G.74","03.G.75","03.G.77","03.G.78","03.G.79","03.G.80","03.G.81","03.G.83","03.G.84","03.G.85","03.G.86","03.G.87","03.G.89","03.G.91","03.G.92","03.G.93","03.G.94","03.G.95","03.G.96","03.G.97","03.G.98","03.G.99","03.G.100","03.G.101","03.G.102","03.G.103","03.G.104","03.G.105","03.G.106","03.G.108","4.C.15","4.C.16","4.C.17","4.C.18","4.C.19","4.C.20","4.C.21","4.C.22","4.C.23","4.C.24","4.C.25","4.C.26","4.C.27","4.C.28","4.C.30","4.C.31","4.C.32","4.C.33","4.C.34","4.C.35","4.C.36","4.C.37","4.C.38","4.C.39","4.C.40","4.C.44","4.C.45","4.C.46","4.C.47","4.C.48","4.C.49","4.C.50","4.C.51","4.C.52","4.C.53","4.C.54","4.C.55","4.C.59","4.C.60","4.C.61","4.C.62","4.C.63","4.C.64","4.C.65","4.C.66","4.C.67","4.C.68","4.C.69","4.C.73","4.C.74","4.C.75","4.C.76","4.C.77","4.C.78","4.C.79","4.C.80","4.C.81","4.C.82","4.C.83","4.C.84","4.C.88","4.C.89","4.C.90","4.C.91","4.C.92","4.C.93","4.C.94","4.C.95","4.C.96","4.C.97","4.C.98","4.C.99","4.C.100","4.C.101","4.C.105","4.C.106","4.C.107","4.C.108","4.C.109","4.C.110","4.C.111","4.C.112","4.C.113","4.C.114","4.C.115","4.C.116","4.C.120","4.C.121","4.C.122","4.C.123","4.C.124","4.C.125","4.C.126","4.C.127","4.C.128","4.C.129","4.C.132","4.C.133","4.C.134","4.C.135","4.C.136","4.C.137","4.C.138","4.C.139","4.C.140","4.C.142","4.C.143","4.C.146","4.C.147","4.C.148","4.C.151","4.C.152","4.C.153","4.C.154","4.C.155","4.C.156","4.C.157","4.C.160","4.C.161","4.C.162","4.C.165","4.C.166","4.C.167","4.C.168","4.C.169","4.C.170","4.C.172","4.C.173","4.C.174","4.C.175","4.C.176","4.C.177","4.C.178","4.C.182","4.C.183","4.C.184","4.C.185","4.C.186","4.C.187","4.C.188","4.C.191","4.C.192","4.C.193","4.C.194","4.C.195","4.C.196","4.C.197","4.C.198","4.C.199","4.C.200","4.C.201","4.C.204","4.C.205","4.C.206","4.C.207","4.C.210","4.C.211","4.C.212","4.C.213","4.C.214","4.C.215","4.C.216","4.C.219","4.C.220","4.C.221","4.C.222","4.C.223","4.C.224","4.C.225","4.C.226","4.C.227","4.C.228","4.C.231","4.C.232","4.C.233","4.C.234","4.C.235","4.C.236","4.C.237","4.C.238","4.C.239","4.C.240","4.C.241","4.C.242","4.C.245","4.C.246","4.C.247","4.C.248","4.C.249","4.C.250","4.C.251","4.C.252","4.C.253","4.C.254","4.C.255","4.C.256","4.C.257","4.C.258","4.C.259","4.C.261","4.C.262","4.C.263","4.C.264","4.C.265","4.C.266","4.C.267","4.C.268","4.C.269","4.C.270","4.C.274","4.C.275","4.C.276","4.C.277","4.C.278","4.C.279","4.C.280","4.C.281","4.C.282","4.C.283","4.C.284","4.C.285","4.C.286","4.C.287","4.C.288","4.C.289","4.C.293","4.C.294","4.C.295","4.C.296","4.C.297","4.C.298","4.C.299","4.C.300","4.C.301","4.C.302","4.C.303","4.C.304","4.C.305","4.C.306","4.C.307","4.C.308","4.C.309","4.C.310","4.C.311","4.C.312","4.C.314","4.C.315","4.C.317","4.D.15","4.D.16","4.D.17","4.D.18","4.D.19","4.D.20","4.D.21","4.D.22","4.D.23","4.D.24","4.D.25","4.D.26","4.D.27","4.D.28","4.D.30","4.D.31","4.D.32","4.D.33","4.D.34","4.D.35","4.D.36","4.D.37","4.D.38","4.D.39","4.D.40","4.D.44","4.D.45","4.D.46","4.D.47","4.D.48","4.D.49","4.D.50","4.D.51","4.D.52","4.D.53","4.D.54","4.D.55","4.D.59","4.D.60","4.D.61","4.D.62","4.D.63","4.D.64","4.D.65","4.D.66","4.D.67","4.D.68","4.D.69","4.D.73","4.D.74","4.D.75","4.D.76","4.D.77","4.D.78","4.D.79","4.D.80","4.D.81","4.D.82","4.D.83","4.D.84","4.D.88","4.D.89","4.D.90","4.D.91","4.D.92","4.D.93","4.D.94","4.D.95","4.D.96","4.D.97","4.D.98","4.D.99","4.D.100","4.D.101","4.D.105","4.D.106","4.D.107","4.D.108","4.D.109","4.D.110","4.D.111","4.D.112","4.D.113","4.D.114","4.D.115","4.D.116","4.D.120","4.D.121","4.D.122","4.D.123","4.D.124","4.D.125","4.D.126","4.D.127","4.D.128","4.D.129","4.D.132","4.D.133","4.D.134","4.D.135","4.D.136","4.D.137","4.D.138","4.D.139","4.D.140","4.D.142","4.D.143","4.D.146","4.D.147","4.D.148","4.D.151","4.D.152","4.D.153","4.D.154","4.D.155","4.D.156","4.D.157","4.D.160","4.D.161","4.D.162","4.D.165","4.D.166","4.D.167","4.D.168","4.D.169","4.D.170","4.D.172","4.D.173","4.D.174","4.D.175","4.D.176","4.D.177","4.D.178","4.D.182","4.D.183","4.D.184","4.D.185","4.D.186","4.D.187","4.D.188","4.D.191","4.D.192","4.D.193","4.D.194","4.D.195","4.D.196","4.D.197","4.D.198","4.D.199","4.D.200","4.D.201","4.D.204","4.D.205","4.D.206","4.D.207","4.D.210","4.D.211","4.D.212","4.D.213","4.D.214","4.D.215","4.D.216","4.D.219","4.D.220","4.D.221","4.D.222","4.D.223","4.D.224","4.D.225","4.D.226","4.D.227","4.D.228","4.D.231","4.D.232","4.D.233","4.D.234","4.D.235","4.D.236","4.D.237","4.D.238","4.D.239","4.D.240","4.D.241","4.D.242","4.D.245","4.D.246","4.D.247","4.D.248","4.D.249","4.D.250","4.D.251","4.D.252","4.D.253","4.D.254","4.D.255","4.D.256","4.D.257","4.D.258","4.D.259","4.D.261","4.D.262","4.D.263","4.D.264","4.D.265","4.D.266","4.D.267","4.D.268","4.D.269","4.D.270","4.D.274","4.D.275","4.D.276","4.D.277","4.D.278","4.D.279","4.D.280","4.D.281","4.D.282","4.D.283","4.D.284","4.D.285","4.D.286","4.D.287","4.D.288","4.D.289","4.D.293","4.D.294","4.D.295","4.D.296","4.D.297","4.D.298","4.D.299","4.D.300","4.D.301","4.D.302","4.D.303","4.D.304","4.D.305","4.D.306","4.D.307","4.D.308","4.D.309","4.D.310","4.D.311","4.D.312","4.D.314","4.D.315","4.D.317","4.E.15","4.E.16","4.E.17","4.E.18","4.E.19","4.E.20","4.E.21","4.E.22","4.E.23","4.E.24","4.E.25","4.E.26","4.E.27","4.E.28","4.E.30","4.E.31","4.E.32","4.E.33","4.E.34","4.E.35","4.E.36","4.E.37","4.E.38","4.E.39","4.E.40","4.E.44","4.E.45","4.E.46","4.E.47","4.E.48","4.E.49","4.E.50","4.E.51","4.E.52","4.E.53","4.E.54","4.E.55","4.E.59","4.E.60","4.E.61","4.E.62","4.E.63","4.E.64","4.E.65","4.E.66","4.E.67","4.E.68","4.E.69","4.E.73","4.E.74","4.E.75","4.E.76","4.E.77","4.E.78","4.E.79","4.E.80","4.E.81","4.E.82","4.E.83","4.E.84","4.E.88","4.E.89","4.E.90","4.E.91","4.E.92","4.E.93","4.E.94","4.E.95","4.E.96","4.E.97","4.E.98","4.E.99","4.E.100","4.E.101","4.E.105","4.E.106","4.E.107","4.E.108","4.E.109","4.E.110","4.E.111","4.E.112","4.E.113","4.E.114","4.E.115","4.E.116","4.E.120","4.E.121","4.E.122","4.E.123","4.E.124","4.E.125","4.E.126","4.E.127","4.E.128","4.E.129","4.E.132","4.E.133","4.E.134","4.E.135","4.E.136","4.E.137","4.E.138","4.E.139","4.E.140","4.E.142","4.E.143","4.E.146","4.E.147","4.E.148","4.E.151","4.E.152","4.E.153","4.E.154","4.E.155","4.E.156","4.E.157","4.E.160","4.E.161","4.E.162","4.E.165","4.E.166","4.E.167","4.E.168","4.E.169","4.E.170","4.E.172","4.E.173","4.E.174","4.E.175","4.E.176","4.E.177","4.E.178","4.E.182","4.E.183","4.E.184","4.E.185","4.E.186","4.E.187","4.E.188","4.E.191","4.E.192","4.E.193","4.E.194","4.E.195","4.E.196","4.E.197","4.E.198","4.E.199","4.E.200","4.E.201","4.E.204","4.E.205","4.E.206","4.E.207","4.E.210","4.E.211","4.E.212","4.E.213","4.E.214","4.E.215","4.E.216","4.E.219","4.E.220","4.E.221","4.E.222","4.E.223","4.E.224","4.E.225","4.E.226","4.E.227","4.E.228","4.E.231","4.E.232","4.E.233","4.E.234","4.E.235","4.E.236","4.E.237","4.E.238","4.E.239","4.E.240","4.E.241","4.E.242","4.E.245","4.E.246","4.E.247","4.E.248","4.E.249","4.E.250","4.E.251","4.E.252","4.E.253","4.E.254","4.E.255","4.E.256","4.E.257","4.E.258","4.E.259","4.E.261","4.E.262","4.E.263","4.E.264","4.E.265","4.E.266","4.E.267","4.E.268","4.E.269","4.E.270","4.E.274","4.E.275","4.E.276","4.E.277","4.E.278","4.E.279","4.E.280","4.E.281","4.E.282","4.E.283","4.E.284","4.E.285","4.E.286","4.E.287","4.E.288","4.E.289","4.E.293","4.E.294","4.E.295","4.E.296","4.E.297","4.E.298","4.E.299","4.E.300","4.E.301","4.E.302","4.E.303","4.E.304","4.E.305","4.E.306","4.E.307","4.E.308","4.E.309","4.E.310","4.E.311","4.E.312","4.E.314","4.E.315","4.E.317","4.F.15","4.F.16","4.F.17","4.F.18","4.F.19","4.F.20","4.F.21","4.F.22","4.F.23","4.F.24","4.F.25","4.F.26","4.F.27","4.F.28","4.F.30","4.F.31","4.F.32","4.F.33","4.F.34","4.F.35","4.F.36","4.F.37","4.F.38","4.F.39","4.F.40","4.F.44","4.F.45","4.F.46","4.F.47","4.F.48","4.F.49","4.F.50","4.F.51","4.F.52","4.F.53","4.F.54","4.F.55","4.F.59","4.F.60","4.F.61","4.F.62","4.F.63","4.F.64","4.F.65","4.F.66","4.F.67","4.F.68","4.F.69","4.F.73","4.F.74","4.F.75","4.F.76","4.F.77","4.F.78","4.F.79","4.F.80","4.F.81","4.F.82","4.F.83","4.F.84","4.F.88","4.F.89","4.F.90","4.F.91","4.F.92","4.F.93","4.F.94","4.F.95","4.F.96","4.F.97","4.F.98","4.F.99","4.F.100","4.F.101","4.F.105","4.F.106","4.F.107","4.F.108","4.F.109","4.F.110","4.F.111","4.F.112","4.F.113","4.F.114","4.F.115","4.F.116","4.F.120","4.F.121","4.F.122","4.F.123","4.F.124","4.F.125","4.F.126","4.F.127","4.F.128","4.F.129","4.F.132","4.F.133","4.F.134","4.F.135","4.F.136","4.F.137","4.F.138","4.F.139","4.F.140","4.F.142","4.F.143","4.F.146","4.F.147","4.F.148","4.F.151","4.F.152","4.F.153","4.F.154","4.F.155","4.F.156","4.F.157","4.F.160","4.F.161","4.F.162","4.F.165","4.F.166","4.F.167","4.F.168","4.F.169","4.F.170","4.F.172","4.F.173","4.F.174","4.F.175","4.F.176","4.F.177","4.F.178","4.F.182","4.F.183","4.F.184","4.F.185","4.F.186","4.F.187","4.F.188","4.F.191","4.F.192","4.F.193","4.F.194","4.F.195","4.F.196","4.F.197","4.F.198","4.F.199","4.F.200","4.F.201","4.F.204","4.F.205","4.F.206","4.F.207","4.F.210","4.F.211","4.F.212","4.F.213","4.F.214","4.F.215","4.F.216","4.F.219","4.F.220","4.F.221","4.F.222","4.F.223","4.F.224","4.F.225","4.F.226","4.F.227","4.F.228","4.F.231","4.F.232","4.F.233","4.F.234","4.F.235","4.F.236","4.F.237","4.F.238","4.F.239","4.F.240","4.F.241","4.F.242","4.F.245","4.F.246","4.F.247","4.F.248","4.F.249","4.F.250","4.F.251","4.F.252","4.F.253","4.F.254","4.F.255","4.F.256","4.F.257","4.F.258","4.F.259","4.F.261","4.F.262","4.F.263","4.F.264","4.F.265","4.F.266","4.F.267","4.F.268","4.F.269","4.F.270","4.F.274","4.F.275","4.F.276","4.F.277","4.F.278","4.F.279","4.F.280","4.F.281","4.F.282","4.F.283","4.F.284","4.F.285","4.F.286","4.F.287","4.F.288","4.F.289","4.F.293","4.F.294","4.F.295","4.F.296","4.F.297","4.F.298","4.F.299","4.F.300","4.F.301","4.F.302","4.F.303","4.F.304","4.F.305","4.F.306","4.F.307","4.F.308","4.F.309","4.F.310","4.F.311","4.F.312","4.F.314","4.F.315","4.F.317","5.D.11","5.D.12","5.D.13","5.D.14","5.D.15","5.D.16","5.D.17","5.D.18","5.D.19","5.D.20","5.D.21","5.D.22","5.E.11","5.E.12","5.E.13","5.E.14","5.E.15","5.E.16","5.E.17","5.E.18","5.E.19","5.E.20","5.E.21","5.E.22","5.D.35","5.D.36","5.D.37","5.D.38","5.D.39","5.D.40","5.D.41","5.D.42","5.D.43","5.D.44","5.D.45","5.D.46","5.D.47","5.D.48","5.D.49","5.D.50","5.E.35","5.E.36","5.E.37","5.E.38","5.E.39","5.E.40","5.E.41","5.E.42","5.E.43","5.E.44","5.E.45","5.E.46","5.E.47","5.E.48","5.E.49","5.E.50","5.F.35","5.F.36","5.F.37","5.F.38","5.F.39","5.F.40","5.F.41","5.F.42","5.F.43","5.F.44","5.F.45","5.F.46","5.F.47","5.F.48","5.F.49","5.F.50","5.G.35","5.G.36","5.G.37","5.G.38","5.G.39","5.G.40","5.G.41","5.G.42","5.G.43","5.G.44","5.G.45","5.G.46","5.G.47","5.G.48","5.G.49","5.G.50","5.H.35","5.H.36","5.H.37","5.H.38","5.H.39","5.H.40","5.H.41","5.H.42","5.H.43","5.H.44","5.H.45","5.H.46","5.H.47","5.H.48","5.H.49","5.H.50","5.I.35","5.I.36","5.I.37","5.I.38","5.I.39","5.I.40","5.I.41","5.I.42","5.I.43","5.I.44","5.I.45","5.I.46","5.I.47","5.I.48","5.I.49","5.I.50","5.J.35","5.J.36","5.J.37","5.J.38","5.J.39","5.J.40","5.J.41","5.J.42","5.J.43","5.J.44","5.J.45","5.J.46","5.J.47","5.J.48","5.J.49","5.J.50","5.K.35","5.K.36","5.K.37","5.K.38","5.K.39","5.K.40","5.K.41","5.K.42","5.K.43","5.K.44","5.K.45","5.K.46","5.K.47","5.K.48","5.K.49","5.K.50","5.L.35","5.L.36","5.L.37","5.L.38","5.L.39","5.L.40","5.L.41","5.L.42","5.L.43","5.L.44","5.L.45","5.L.46","5.L.47","5.L.48","5.L.49","5.L.50","5.M.35","5.M.36","5.M.37","5.M.38","5.M.39","5.M.40","5.M.41","5.M.42","5.M.43","5.M.44","5.M.45","5.M.46","5.M.47","5.M.48","5.M.49","5.M.50","5.N.35","5.N.36","5.N.37","5.N.38","5.N.39","5.N.40","5.N.41","5.N.42","5.N.43","5.N.44","5.N.45","5.N.46","5.N.47","5.N.48","5.N.49","5.N.50","5.P.35","5.P.36","5.P.37","5.P.38","5.P.39","5.P.40","5.P.41","5.P.42","5.P.43","5.P.44","5.P.45","5.P.46","5.P.47","5.P.48","5.P.49","5.P.50","5.Q.35","5.Q.36","5.Q.37","5.Q.38","5.Q.39","5.Q.40","5.Q.41","5.Q.42","5.Q.43","5.Q.44","5.Q.45","5.Q.46","5.Q.47","5.Q.48","5.Q.49","5.Q.50","5.R.35","5.R.36","5.R.37","5.R.38","5.R.39","5.R.40","5.R.41","5.R.42","5.R.43","5.R.44","5.R.45","5.R.46","5.R.47","5.R.48","5.R.49","5.R.50","5.S.35","5.S.36","5.S.37","5.S.38","5.S.39","5.S.40","5.S.41","5.S.42","5.S.43","5.S.44","5.S.45","5.S.46","5.S.47","5.S.48","5.S.49","5.S.50","5.T.35","5.T.36","5.T.37","5.T.38","5.T.39","5.T.40","5.T.41","5.T.42","5.T.43","5.T.44","5.T.45","5.T.46","5.T.47","5.T.48","5.T.49","5.T.50","5.U.35","5.U.36","5.U.37","5.U.38","5.U.39","5.U.40","5.U.41","5.U.42","5.U.43","5.U.44","5.U.45","5.U.46","5.U.47","5.U.48","5.U.49","5.U.50","5.W.35","5.W.36","5.W.37","5.W.38","5.W.39","5.W.40","5.W.41","5.W.42","5.W.43","5.W.44","5.W.45","5.W.46","5.W.47","5.W.48","5.W.49","5.W.50","5.D.52","5.D.53","5.D.54","5.D.55","5.D.56","5.D.57","5.D.58","5.E.52","5.E.53","5.E.54","5.E.55","5.E.56","5.E.57","5.E.58","5.F.52","5.F.53","5.F.54","5.F.55","5.F.56","5.F.57","5.F.58","5.G.52","5.G.53","5.G.54","5.G.55","5.G.56","5.G.57","5.G.58","5.H.52","5.H.53","5.H.54","5.H.55","5.H.56","5.H.57","5.H.58","5.I.52","5.I.53","5.I.54","5.I.55","5.I.56","5.I.57","5.I.58","5.J.52","5.J.53","5.J.54","5.J.55","5.J.56","5.J.57","5.J.58","5.K.52","5.K.53","5.K.54","5.K.55","5.K.56","5.K.57","5.K.58","5.L.52","5.L.53","5.L.54","5.L.55","5.L.56","5.L.57","5.L.58","5.M.52","5.M.53","5.M.54","5.M.55","5.M.56","5.M.57","5.M.58","5.N.52","5.N.53","5.N.54","5.N.55","5.N.56","5.N.57","5.N.58","5.P.52","5.P.53","5.P.54","5.P.55","5.P.56","5.P.57","5.P.58","5.Q.52","5.Q.53","5.Q.54","5.Q.55","5.Q.56","5.Q.57","5.Q.58","5.R.52","5.R.53","5.R.54","5.R.55","5.R.56","5.R.57","5.R.58","5.S.52","5.S.53","5.S.54","5.S.55","5.S.56","5.S.57","5.S.58","5.T.52","5.T.53","5.T.54","5.T.55","5.T.56","5.T.57","5.T.58","5.U.52","5.U.53","5.U.54","5.U.55","5.U.56","5.U.57","5.U.58","5.W.52","5.W.53","5.W.54","5.W.55","5.W.56","5.W.57","5.W.58","5.W.60","5.W.61","5.W.62","5.W.63","6.B.11","6.D.11","6.E.11","6.F.11","6.G.11","6.H.11","6.I.11","6.B.12","6.D.12","6.E.12","6.F.12","6.G.12","6.H.12","6.I.12","6.B.13","6.D.13","6.E.13","6.F.13","6.G.13","6.H.13","6.I.13","6.B.14","6.D.14","6.E.14","6.F.14","6.G.14","6.H.14","6.I.14","6.B.15","6.D.15","6.E.15","6.F.15","6.G.15","6.H.15","6.I.15","6.B.16","6.D.16","6.E.16","6.F.16","6.G.16","6.H.16","6.I.16","6.B.17","6.D.17","6.E.17","6.F.17","6.G.17","6.H.17","6.I.17","6.B.18","6.D.18","6.E.18","6.F.18","6.G.18","6.H.18","6.I.18","6.B.19","6.D.19","6.E.19","6.F.19","6.G.19","6.H.19","6.I.19","6.B.20","6.D.20","6.E.20","6.F.20","6.G.20","6.H.20","6.I.20","6.B.21","6.D.21","6.E.21","6.F.21","6.G.21","6.H.21","6.I.21","6.B.22","6.D.22","6.E.22","6.F.22","6.G.22","6.H.22","6.I.22","6.B.23","6.D.23","6.E.23","6.F.23","6.G.23","6.H.23","6.I.23","6.B.24","6.D.24","6.E.24","6.F.24","6.G.24","6.H.24","6.I.24","6.B.25","6.D.25","6.E.25","6.F.25","6.G.25","6.H.25","6.I.25","6.B.26","6.D.26","6.E.26","6.F.26","6.G.26","6.H.26","6.I.26","6.B.27","6.D.27","6.E.27","6.F.27","6.G.27","6.H.27","6.I.27","6.B.28","6.D.28","6.E.28","6.F.28","6.G.28","6.H.28","6.I.28","6.B.29","6.D.29","6.E.29","6.F.29","6.G.29","6.H.29","6.I.29","6.B.30","6.D.30","6.E.30","6.F.30","6.G.30","6.H.30","6.I.30","6.B.31","6.D.31","6.E.31","6.F.31","6.G.31","6.H.31","6.I.31","6.B.32","6.D.32","6.E.32","6.F.32","6.G.32","6.H.32","6.I.32","6.B.33","6.D.33","6.E.33","6.F.33","6.G.33","6.H.33","6.I.33","6.B.34","6.D.34","6.E.34","6.F.34","6.G.34","6.H.34","6.I.34","6.B.35","6.D.35","6.E.35","6.F.35","6.G.35","6.H.35","6.I.35","6.B.36","6.D.36","6.E.36","6.F.36","6.G.36","6.H.36","6.I.36","6.B.37","6.D.37","6.E.37","6.F.37","6.G.37","6.H.37","6.I.37","6.B.38","6.D.38","6.E.38","6.F.38","6.G.38","6.H.38","6.I.38","6.B.39","6.D.39","6.E.39","6.F.39","6.G.39","6.H.39","6.I.39","6.B.40","6.D.40","6.E.40","6.F.40","6.G.40","6.H.40","6.I.40","6.B.41","6.D.41","6.E.41","6.F.41","6.G.41","6.H.41","6.I.41","6.B.42","6.D.42","6.E.42","6.F.42","6.G.42","6.H.42","6.I.42","6.B.43","6.D.43","6.E.43","6.F.43","6.G.43","6.H.43","6.I.43","6.B.44","6.D.44","6.E.44","6.F.44","6.G.44","6.H.44","6.I.44","6.B.45","6.D.45","6.E.45","6.F.45","6.G.45","6.H.45","6.I.45","6.B.46","6.D.46","6.E.46","6.F.46","6.G.46","6.H.46","6.I.46","6.B.47","6.D.47","6.E.47","6.F.47","6.G.47","6.H.47","6.I.47","6.B.48","6.D.48","6.E.48","6.F.48","6.G.48","6.H.48","6.I.48","6.B.49","6.D.49","6.E.49","6.F.49","6.G.49","6.H.49","6.I.49","6.B.50","6.D.50","6.E.50","6.F.50","6.G.50","6.H.50","6.I.50","6.B.51","6.D.51","6.E.51","6.F.51","6.G.51","6.H.51","6.I.51","6.B.52","6.D.52","6.E.52","6.F.52","6.G.52","6.H.52","6.I.52","6.B.53","6.D.53","6.E.53","6.F.53","6.G.53","6.H.53","6.I.53","6.B.54","6.D.54","6.E.54","6.F.54","6.G.54","6.H.54","6.I.54","6.B.55","6.D.55","6.E.55","6.F.55","6.G.55","6.H.55","6.I.55","6.B.56","6.D.56","6.E.56","6.F.56","6.G.56","6.H.56","6.I.56","6.B.57","6.D.57","6.E.57","6.F.57","6.G.57","6.H.57","6.I.57","6.B.58","6.D.58","6.E.58","6.F.58","6.G.58","6.H.58","6.I.58","6.B.59","6.D.59","6.E.59","6.F.59","6.G.59","6.H.59","6.I.59","6.B.60","6.D.60","6.E.60","6.F.60","6.G.60","6.H.60","6.I.60","6.F.61","6.I.61","7.B.11","7.C.11","7.D.11","7.E.11","7.F.11","7.B.12","7.C.12","7.D.12","7.E.12","7.F.12","7.B.13","7.C.13","7.D.13","7.E.13","7.F.13","7.B.14","7.C.14","7.D.14","7.E.14","7.F.14","7.B.15","7.C.15","7.D.15","7.E.15","7.F.15","7.B.16","7.C.16","7.D.16","7.E.16","7.F.16","7.B.17","7.C.17","7.D.17","7.E.17","7.F.17","7.B.18","7.C.18","7.D.18","7.E.18","7.F.18","7.B.19","7.C.19","7.D.19","7.E.19","7.F.19","7.B.20","7.C.20","7.D.20","7.E.20","7.F.20","7.B.21","7.C.21","7.D.21","7.E.21","7.F.21","7.B.22","7.C.22","7.D.22","7.E.22","7.F.22","7.B.23","7.C.23","7.D.23","7.E.23","7.F.23","7.B.24","7.C.24","7.D.24","7.E.24","7.F.24","7.B.25","7.C.25","7.D.25","7.E.25","7.F.25","7.B.26","7.C.26","7.D.26","7.E.26","7.F.26","7.B.27","7.C.27","7.D.27","7.E.27","7.F.27","7.B.28","7.C.28","7.D.28","7.E.28","7.F.28","7.F.29","8.C.9","8.C.10","8.C.11","8.C.12","8.C.13","8.C.14","8.C.15","8.C.16","8.C.17","8.C.18","8.C.19","CB.D.9","CB.D.10","CB.D.11","CB.D.12","CB.D.13","CB.D.14","CB.D.15","CB.D.16","CB.D.18","CB.D.20","CB.D.21","CB.D.22","CB.D.23","CB.D.25","CB.D.27","CB.E.9","CB.E.10","CB.E.11","CB.E.12","CB.E.13","CB.E.14","CB.E.15","CB.E.16","CB.E.18","CB.E.20","CB.E.21","CB.E.22","CB.E.23","CB.E.25","CB.E.27","CB.F.9","CB.F.10","CB.F.11","CB.F.12","CB.F.13","CB.F.14","CB.F.15","CB.F.16","CB.F.18","CB.F.20","CB.F.21","CB.F.22","CB.F.23","CB.F.25","CB.F.27","CB.G.9","CB.G.10","CB.G.11","CB.G.12","CB.G.13","CB.G.14","CB.G.15","CB.G.16","CB.G.18","CB.G.20","CB.G.21","CB.G.22","CB.G.23","CB.G.25","CB.G.27","CB.H.9","CB.H.10","CB.H.11","CB.H.12","CB.H.13","CB.H.14","CB.H.15","CB.H.16","CB.H.18","CB.H.20","CB.H.21","CB.H.22","CB.H.23","CB.H.25","CB.H.27","CB.I.9","CB.I.10","CB.I.11","CB.I.12","CB.I.13","CB.I.14","CB.I.15","CB.I.16","CB.I.18","CB.I.20","CB.I.21","CB.I.22","CB.I.23","CB.I.25","CB.I.27","CB.J.9","CB.J.10","CB.J.11","CB.J.12","CB.J.13","CB.J.14","CB.J.15","CB.J.16","CB.J.18","CB.J.20","CB.J.21","CB.J.22","CB.J.23","CB.J.25","CB.J.27","CB.K.9","CB.K.10","CB.K.11","CB.K.12","CB.K.13","CB.K.14","CB.K.15","CB.K.16","CB.K.18","CB.K.20","CB.K.21","CB.K.22","CB.K.23","CB.K.25","CB.K.27","CB.L.9","CB.L.10","CB.L.11","CB.L.12","CB.L.13","CB.L.14","CB.L.15","CB.L.16","CB.L.18","CB.L.20","CB.L.21","CB.L.22","CB.L.23","CB.L.25","CB.L.27","CB.M.9","CB.M.10","CB.M.11","CB.M.12","CB.M.13","CB.M.14","CB.M.15","CB.M.16","CB.M.18","CB.M.20","CB.M.21","CB.M.22","CB.M.23","CB.M.25","CB.M.27","CB.N.9","CB.N.10","CB.N.11","CB.N.12","CB.N.13","CB.N.14","CB.N.15","CB.N.16","CB.N.18","CB.N.20","CB.N.21","CB.N.22","CB.N.23","CB.N.25","CB.N.27","CB.D.32","CB.D.33","CB.D.34","CB.E.32","CB.E.33","CB.E.34","CB.F.32","CB.F.33","CB.F.34","CB.G.32","CB.G.33","CB.G.34","CB.H.32","CB.H.33","CB.H.34","CB.I.32","CB.I.33","CB.I.34","CB.J.32","CB.J.33","CB.J.34","CB.K.32","CB.K.33","CB.K.34","CB.L.32","CB.L.33","CB.L.34","CB.M.32","CB.M.33","CB.M.34","CB.N.32","CB.N.33","CB.N.34","CB.D.40","CB.D.41","CB.D.42","CB.E.40","CB.E.41","CB.E.42","CB.F.40","CB.F.41","CB.F.42","CB.G.40","CB.G.41","CB.G.42","CB.H.40","CB.H.41","CB.H.42","CB.I.40","CB.I.41","CB.I.42","CB.J.40","CB.J.41","CB.J.42","CB.K.40","CB.K.41","CB.K.42","CB.L.40","CB.L.41","CB.L.42","CB.M.40","CB.M.41","CB.M.42","CB.N.40","CB.N.41","CB.N.42","F1.D.14","F1.D.15","F1.D.16","F1.D.17","F1.D.18","F1.D.19","F1.D.20","F1.D.21","F1.D.22","F1.D.23","F1.D.24","F1.D.25","F1.D.26","F1.D.27","F1.D.28","F1.D.29","F1.E.14","F1.E.15","F1.E.16","F1.E.17","F1.E.18","F1.E.19","F1.E.20","F1.E.21","F1.E.22","F1.E.23","F1.E.24","F1.E.25","F1.E.26","F1.E.27","F1.E.28","F1.E.29","F1.F.14","F1.F.15","F1.F.16","F1.F.17","F1.F.18","F1.F.19","F1.F.20","F1.F.21","F1.F.22","F1.F.23","F1.F.24","F1.F.25","F1.F.26","F1.F.27","F1.F.28","F1.F.29","F1.G.14","F1.G.15","F1.G.16","F1.G.17","F1.G.18","F1.G.19","F1.G.20","F1.G.21","F1.G.22","F1.G.23","F1.G.24","F1.G.25","F1.G.26","F1.G.27","F1.G.28","F1.G.29","F1.H.14","F1.H.15","F1.H.16","F1.H.17","F1.H.18","F1.H.19","F1.H.20","F1.H.21","F1.H.22","F1.H.23","F1.H.24","F1.H.25","F1.H.26","F1.H.27","F1.H.28","F1.H.29","F1.I.14","F1.I.15","F1.I.16","F1.I.17","F1.I.18","F1.I.19","F1.I.20","F1.I.21","F1.I.22","F1.I.23","F1.I.24","F1.I.25","F1.I.26","F1.I.27","F1.I.28","F1.I.29","F1.J.14","F1.J.15","F1.J.16","F1.J.17","F1.J.18","F1.J.19","F1.J.20","F1.J.21","F1.J.22","F1.J.23","F1.J.24","F1.J.25","F1.J.26","F1.J.27","F1.J.28","F1.J.29","F1.K.14","F1.K.15","F1.K.16","F1.K.17","F1.K.18","F1.K.19","F1.K.20","F1.K.21","F1.K.22","F1.K.23","F1.K.24","F1.K.25","F1.K.26","F1.K.27","F1.K.28","F1.K.29","F1.L.14","F1.L.15","F1.L.16","F1.L.17","F1.L.18","F1.L.19","F1.L.20","F1.L.21","F1.L.22","F1.L.23","F1.L.24","F1.L.25","F1.L.26","F1.L.27","F1.L.28","F1.L.29","F1.G.31","F1.G.32","F1.G.33","F1.G.34","F1.G.35","F1.G.36","F1.G.37","F1.G.38","F1.G.39","F1.G.40","F1.G.41","F1.G.42","F1.G.43","F1.G.44","F1.G.45","F1.G.46","F1.G.47","F1.H.31","F1.H.32","F1.H.33","F1.H.34","F1.H.35","F1.H.36","F1.H.37","F1.H.38","F1.H.39","F1.H.40","F1.H.41","F1.H.42","F1.H.43","F1.H.44","F1.H.45","F1.H.46","F1.H.47","F1.I.31","F1.I.32","F1.I.33","F1.I.34","F1.I.35","F1.I.36","F1.I.37","F1.I.38","F1.I.39","F1.I.40","F1.I.41","F1.I.42","F1.I.43","F1.I.44","F1.I.45","F1.I.46","F1.I.47","F1.J.31","F1.J.32","F1.J.33","F1.J.34","F1.J.35","F1.J.36","F1.J.37","F1.J.38","F1.J.39","F1.J.40","F1.J.41","F1.J.42","F1.J.43","F1.J.44","F1.J.45","F1.J.46","F1.J.47","F1.K.31","F1.K.32","F1.K.33","F1.K.34","F1.K.35","F1.K.36","F1.K.37","F1.K.38","F1.K.39","F1.K.40","F1.K.41","F1.K.42","F1.K.43","F1.K.44","F1.K.45","F1.K.46","F1.K.47","F1.L.31","F1.L.32","F1.L.33","F1.L.34","F1.L.35","F1.L.36","F1.L.37","F1.L.38","F1.L.39","F1.L.40","F1.L.41","F1.L.42","F1.L.43","F1.L.44","F1.L.45","F1.L.46","F1.L.47","F1.D.49","F1.E.49","F1.F.49","F1.G.49","F1.H.49","F1.I.49","F1.J.49","F1.K.49","F1.L.49","F2.D.13","F2.D.14","F2.D.15","F2.D.16","F2.D.17","F2.D.18","F2.D.19","F2.D.20","F2.E.13","F2.E.14","F2.E.15","F2.E.16","F2.E.17","F2.E.18","F2.E.19","F2.E.20","F2.F.13","F2.F.14","F2.F.15","F2.F.16","F2.F.17","F2.F.18","F2.F.19","F2.F.20","F2.G.13","F2.G.14","F2.G.15","F2.G.16","F2.G.17","F2.G.18","F2.G.19","F2.G.20","F2.H.13","F2.H.14","F2.H.15","F2.H.16","F2.H.17","F2.H.18","F2.H.19","F2.H.20","F2.I.13","F2.I.14","F2.I.15","F2.I.16","F2.I.17","F2.I.18","F2.I.19","F2.I.20","F2.J.13","F2.J.14","F2.J.15","F2.J.16","F2.J.17","F2.J.18","F2.J.19","F2.J.20","F2.K.13","F2.K.14","F2.K.15","F2.K.16","F2.K.17","F2.K.18","F2.K.19","F2.K.20","F2.L.13","F2.L.14","F2.L.15","F2.L.16","F2.L.17","F2.L.18","F2.L.19","F2.L.20","F2.G.22","F2.G.23","F2.G.24","F2.G.25","F2.G.26","F2.G.27","F2.G.28","F2.G.29","F2.G.30","F2.G.31","F2.G.32","F2.G.33","F2.G.34","F2.G.35","F2.G.36","F2.G.37","F2.G.38","F2.H.22","F2.H.23","F2.H.24","F2.H.25","F2.H.26","F2.H.27","F2.H.28","F2.H.29","F2.H.30","F2.H.31","F2.H.32","F2.H.33","F2.H.34","F2.H.35","F2.H.36","F2.H.37","F2.H.38","F2.I.22","F2.I.23","F2.I.24","F2.I.25","F2.I.26","F2.I.27","F2.I.28","F2.I.29","F2.I.30","F2.I.31","F2.I.32","F2.I.33","F2.I.34","F2.I.35","F2.I.36","F2.I.37","F2.I.38","F2.J.22","F2.J.23","F2.J.24","F2.J.25","F2.J.26","F2.J.27","F2.J.28","F2.J.29","F2.J.30","F2.J.31","F2.J.32","F2.J.33","F2.J.34","F2.J.35","F2.J.36","F2.J.37","F2.J.38","F2.K.22","F2.K.23","F2.K.24","F2.K.25","F2.K.26","F2.K.27","F2.K.28","F2.K.29","F2.K.30","F2.K.31","F2.K.32","F2.K.33","F2.K.34","F2.K.35","F2.K.36","F2.K.37","F2.K.38","F2.L.22","F2.L.23","F2.L.24","F2.L.25","F2.L.26","F2.L.27","F2.L.28","F2.L.29","F2.L.30","F2.L.31","F2.L.32","F2.L.33","F2.L.34","F2.L.35","F2.L.36","F2.L.37","F2.L.38","F2.D.40","F2.E.40","F2.F.40","F2.G.40","F2.H.40","F2.I.40","F2.J.40","F2.K.40","F2.L.40","F3.D.14","F3.D.15","F3.D.16","F3.D.17","F3.D.18","F3.D.19","F3.D.20","F3.D.21","F3.D.22","F3.D.23","F3.D.24","F3.D.26","F3.D.27","F3.D.28","F3.D.29","F3.D.30","F3.D.31","F3.D.32","F3.D.33","F3.D.34","F3.D.36","F3.D.37","F3.D.38","F3.D.39","F3.D.40","F3.D.41","F3.E.14","F3.E.15","F3.E.16","F3.E.17","F3.E.18","F3.E.19","F3.E.20","F3.E.21","F3.E.22","F3.E.23","F3.E.24","F3.E.26","F3.E.27","F3.E.28","F3.E.29","F3.E.30","F3.E.31","F3.E.32","F3.E.33","F3.E.34","F3.E.36","F3.E.37","F3.E.38","F3.E.39","F3.E.40","F3.E.41","F3.F.14","F3.F.15","F3.F.16","F3.F.17","F3.F.18","F3.F.19","F3.F.20","F3.F.21","F3.F.22","F3.F.23","F3.F.24","F3.F.26","F3.F.27","F3.F.28","F3.F.29","F3.F.30","F3.F.31","F3.F.32","F3.F.33","F3.F.34","F3.F.36","F3.F.37","F3.F.38","F3.F.39","F3.F.40","F3.F.41","F3.G.14","F3.G.15","F3.G.16","F3.G.17","F3.G.18","F3.G.19","F3.G.20","F3.G.21","F3.G.22","F3.G.23","F3.G.24","F3.G.26","F3.G.27","F3.G.28","F3.G.29","F3.G.30","F3.G.31","F3.G.32","F3.G.33","F3.G.34","F3.G.36","F3.G.37","F3.G.38","F3.G.39","F3.G.40","F3.G.41","F3.H.14","F3.H.15","F3.H.16","F3.H.17","F3.H.18","F3.H.19","F3.H.20","F3.H.21","F3.H.22","F3.H.23","F3.H.24","F3.H.26","F3.H.27","F3.H.28","F3.H.29","F3.H.30","F3.H.31","F3.H.32","F3.H.33","F3.H.34","F3.H.36","F3.H.37","F3.H.38","F3.H.39","F3.H.40","F3.H.41","F3.I.14","F3.I.15","F3.I.16","F3.I.17","F3.I.18","F3.I.19","F3.I.20","F3.I.21","F3.I.22","F3.I.23","F3.I.24","F3.I.26","F3.I.27","F3.I.28","F3.I.29","F3.I.30","F3.I.31","F3.I.32","F3.I.33","F3.I.34","F3.I.36","F3.I.37","F3.I.38","F3.I.39","F3.I.40","F3.I.41","F3.J.14","F3.J.15","F3.J.16","F3.J.17","F3.J.18","F3.J.19","F3.J.20","F3.J.21","F3.J.22","F3.J.23","F3.J.24","F3.J.26","F3.J.27","F3.J.28","F3.J.29","F3.J.30","F3.J.31","F3.J.32","F3.J.33","F3.J.34","F3.J.36","F3.J.37","F3.J.38","F3.J.39","F3.J.40","F3.J.41","F3.K.14","F3.K.15","F3.K.16","F3.K.17","F3.K.18","F3.K.19","F3.K.20","F3.K.21","F3.K.22","F3.K.23","F3.K.24","F3.K.26","F3.K.27","F3.K.28","F3.K.29","F3.K.30","F3.K.31","F3.K.32","F3.K.33","F3.K.34","F3.K.36","F3.K.37","F3.K.38","F3.K.39","F3.K.40","F3.K.41","F3.L.14","F3.L.15","F3.L.16","F3.L.17","F3.L.18","F3.L.19","F3.L.20","F3.L.21","F3.L.22","F3.L.23","F3.L.24","F3.L.26","F3.L.27","F3.L.28","F3.L.29","F3.L.30","F3.L.31","F3.L.32","F3.L.33","F3.L.34","F3.L.36","F3.L.37","F3.L.38","F3.L.39","F3.L.40","F3.L.41","F3.G.43","F3.G.44","F3.G.45","F3.G.46","F3.G.47","F3.G.48","F3.G.49","F3.G.50","F3.G.51","F3.G.52","F3.G.53","F3.G.54","F3.G.55","F3.G.56","F3.G.57","F3.G.58","F3.G.59","F3.H.43","F3.H.44","F3.H.45","F3.H.46","F3.H.47","F3.H.48","F3.H.49","F3.H.50","F3.H.51","F3.H.52","F3.H.53","F3.H.54","F3.H.55","F3.H.56","F3.H.57","F3.H.58","F3.H.59","F3.I.43","F3.I.44","F3.I.45","F3.I.46","F3.I.47","F3.I.48","F3.I.49","F3.I.50","F3.I.51","F3.I.52","F3.I.53","F3.I.54","F3.I.55","F3.I.56","F3.I.57","F3.I.58","F3.I.59","F3.J.43","F3.J.44","F3.J.45","F3.J.46","F3.J.47","F3.J.48","F3.J.49","F3.J.50","F3.J.51","F3.J.52","F3.J.53","F3.J.54","F3.J.55","F3.J.56","F3.J.57","F3.J.58","F3.J.59","F3.K.43","F3.K.44","F3.K.45","F3.K.46","F3.K.47","F3.K.48","F3.K.49","F3.K.50","F3.K.51","F3.K.52","F3.K.53","F3.K.54","F3.K.55","F3.K.56","F3.K.57","F3.K.58","F3.K.59","F3.L.43","F3.L.44","F3.L.45","F3.L.46","F3.L.47","F3.L.48","F3.L.49","F3.L.50","F3.L.51","F3.L.52","F3.L.53","F3.L.54","F3.L.55","F3.L.56","F3.L.57","F3.L.58","F3.L.59","F3.D.61","F3.E.61","F3.F.61","F3.G.61","F3.H.61","F3.I.61","F3.J.61","F3.K.61","F3.L.61","F3.D.63","F3.E.63","F3.F.63","F3.G.63","F3.H.63","F3.I.63","F3.J.63","F3.K.63","F3.L.63","F4.D.13","F4.D.14","F4.D.15","F4.D.16","F4.D.17","F4.D.18","F4.D.19","F4.D.20","F4.D.21","F4.D.22","F4.D.23","F4.D.24","F4.D.25","F4.D.26","F4.D.27","F4.D.28","F4.D.32","F4.D.33","F4.E.13","F4.E.14","F4.E.15","F4.E.16","F4.E.17","F4.E.18","F4.E.19","F4.E.20","F4.E.21","F4.E.22","F4.E.23","F4.E.24","F4.E.25","F4.E.26","F4.E.27","F4.E.28","F4.E.32","F4.E.33","F4.F.13","F4.F.14","F4.F.15","F4.F.16","F4.F.17","F4.F.18","F4.F.19","F4.F.20","F4.F.21","F4.F.22","F4.F.23","F4.F.24","F4.F.25","F4.F.26","F4.F.27","F4.F.28","F4.F.32","F4.F.33","F4.G.13","F4.G.14","F4.G.15","F4.G.16","F4.G.17","F4.G.18","F4.G.19","F4.G.20","F4.G.21","F4.G.22","F4.G.23","F4.G.24","F4.G.25","F4.G.26","F4.G.27","F4.G.28","F4.G.32","F4.G.33","F4.H.13","F4.H.14","F4.H.15","F4.H.16","F4.H.17","F4.H.18","F4.H.19","F4.H.20","F4.H.21","F4.H.22","F4.H.23","F4.H.24","F4.H.25","F4.H.26","F4.H.27","F4.H.28","F4.H.32","F4.H.33","F4.I.13","F4.I.14","F4.I.15","F4.I.16","F4.I.17","F4.I.18","F4.I.19","F4.I.20","F4.I.21","F4.I.22","F4.I.23","F4.I.24","F4.I.25","F4.I.26","F4.I.27","F4.I.28","F4.I.32","F4.I.33","F4.J.13","F4.J.14","F4.J.15","F4.J.16","F4.J.17","F4.J.18","F4.J.19","F4.J.20","F4.J.21","F4.J.22","F4.J.23","F4.J.24","F4.J.25","F4.J.26","F4.J.27","F4.J.28","F4.J.32","F4.J.33","F4.K.13","F4.K.14","F4.K.15","F4.K.16","F4.K.17","F4.K.18","F4.K.19","F4.K.20","F4.K.21","F4.K.22","F4.K.23","F4.K.24","F4.K.25","F4.K.26","F4.K.27","F4.K.28","F4.K.32","F4.K.33","F4.L.13","F4.L.14","F4.L.15","F4.L.16","F4.L.17","F4.L.18","F4.L.19","F4.L.20","F4.L.21","F4.L.22","F4.L.23","F4.L.24","F4.L.25","F4.L.26","F4.L.27","F4.L.28","F4.L.32","F4.L.33","F5.D.12","F5.D.32","F5.E.12","F5.E.32","F5.F.12","F5.F.32","F5.G.12","F5.G.13","F5.G.14","F5.G.15","F5.G.16","F5.G.17","F5.G.18","F5.G.19","F5.G.20","F5.G.21","F5.G.22","F5.G.23","F5.G.24","F5.G.25","F5.G.26","F5.G.27","F5.G.28","F5.G.29","F5.G.30","F5.G.31","F5.G.32","F5.H.12","F5.H.13","F5.H.14","F5.H.15","F5.H.16","F5.H.17","F5.H.18","F5.H.19","F5.H.20","F5.H.21","F5.H.22","F5.H.23","F5.H.24","F5.H.25","F5.H.26","F5.H.27","F5.H.28","F5.H.29","F5.H.30","F5.H.31","F5.H.32","F5.I.12","F5.I.13","F5.I.14","F5.I.15","F5.I.16","F5.I.17","F5.I.18","F5.I.19","F5.I.20","F5.I.21","F5.I.22","F5.I.23","F5.I.24","F5.I.25","F5.I.26","F5.I.27","F5.I.28","F5.I.29","F5.I.30","F5.I.31","F5.I.32","F5.J.12","F5.J.13","F5.J.14","F5.J.15","F5.J.16","F5.J.17","F5.J.18","F5.J.19","F5.J.20","F5.J.21","F5.J.22","F5.J.23","F5.J.24","F5.J.25","F5.J.26","F5.J.27","F5.J.28","F5.J.29","F5.J.30","F5.J.31","F5.J.32","F5.K.12","F5.K.13","F5.K.14","F5.K.15","F5.K.16","F5.K.17","F5.K.18","F5.K.19","F5.K.20","F5.K.21","F5.K.22","F5.K.23","F5.K.24","F5.K.25","F5.K.26","F5.K.27","F5.K.28","F5.K.29","F5.K.30","F5.K.31","F5.K.32","F5.L.12","F5.L.13","F5.L.14","F5.L.15","F5.L.16","F5.L.17","F5.L.18","F5.L.19","F5.L.20","F5.L.21","F5.L.22","F5.L.23","F5.L.24","F5.L.25","F5.L.26","F5.L.27","F5.L.28","F5.L.29","F5.L.30","F5.L.31","F5.L.32","F5.D.34","F5.D.54","F5.E.34","F5.E.54","F5.F.34","F5.F.54","F5.G.34","F5.G.35","F5.G.36","F5.G.37","F5.G.38","F5.G.39","F5.G.40","F5.G.41","F5.G.42","F5.G.43","F5.G.44","F5.G.45","F5.G.46","F5.G.47","F5.G.48","F5.G.49","F5.G.50","F5.G.51","F5.G.52","F5.G.53","F5.G.54","F5.H.34","F5.H.35","F5.H.36","F5.H.37","F5.H.38","F5.H.39","F5.H.40","F5.H.41","F5.H.42","F5.H.43","F5.H.44","F5.H.45","F5.H.46","F5.H.47","F5.H.48","F5.H.49","F5.H.50","F5.H.51","F5.H.52","F5.H.53","F5.H.54","F5.I.34","F5.I.35","F5.I.36","F5.I.37","F5.I.38","F5.I.39","F5.I.40","F5.I.41","F5.I.42","F5.I.43","F5.I.44","F5.I.45","F5.I.46","F5.I.47","F5.I.48","F5.I.49","F5.I.50","F5.I.51","F5.I.52","F5.I.53","F5.I.54","F5.J.34","F5.J.35","F5.J.36","F5.J.37","F5.J.38","F5.J.39","F5.J.40","F5.J.41","F5.J.42","F5.J.43","F5.J.44","F5.J.45","F5.J.46","F5.J.47","F5.J.48","F5.J.49","F5.J.50","F5.J.51","F5.J.52","F5.J.53","F5.J.54","F5.K.34","F5.K.35","F5.K.36","F5.K.37","F5.K.38","F5.K.39","F5.K.40","F5.K.41","F5.K.42","F5.K.43","F5.K.44","F5.K.45","F5.K.46","F5.K.47","F5.K.48","F5.K.49","F5.K.50","F5.K.51","F5.K.52","F5.K.53","F5.K.54","F5.L.34","F5.L.35","F5.L.36","F5.L.37","F5.L.38","F5.L.39","F5.L.40","F5.L.41","F5.L.42","F5.L.43","F5.L.44","F5.L.45","F5.L.46","F5.L.47","F5.L.48","F5.L.49","F5.L.50","F5.L.51","F5.L.52","F5.L.53","F5.L.54","F5.D.56","F5.D.73","F5.D.74","F5.E.56","F5.E.73","F5.E.74","F5.F.56","F5.F.73","F5.F.74","F5.G.56","F5.G.57","F5.G.58","F5.G.59","F5.G.60","F5.G.61","F5.G.62","F5.G.63","F5.G.64","F5.G.65","F5.G.66","F5.G.67","F5.G.68","F5.G.69","F5.G.70","F5.G.71","F5.G.72","F5.G.73","F5.G.74","F5.H.56","F5.H.57","F5.H.58","F5.H.59","F5.H.60","F5.H.61","F5.H.62","F5.H.63","F5.H.64","F5.H.65","F5.H.66","F5.H.67","F5.H.68","F5.H.69","F5.H.70","F5.H.71","F5.H.72","F5.H.73","F5.H.74","F5.I.56","F5.I.57","F5.I.58","F5.I.59","F5.I.60","F5.I.61","F5.I.62","F5.I.63","F5.I.64","F5.I.65","F5.I.66","F5.I.67","F5.I.68","F5.I.69","F5.I.70","F5.I.71","F5.I.72","F5.I.73","F5.I.74","F5.J.56","F5.J.57","F5.J.58","F5.J.59","F5.J.60","F5.J.61","F5.J.62","F5.J.63","F5.J.64","F5.J.65","F5.J.66","F5.J.67","F5.J.68","F5.J.69","F5.J.70","F5.J.71","F5.J.72","F5.J.73","F5.J.74","F5.K.56","F5.K.57","F5.K.58","F5.K.59","F5.K.60","F5.K.61","F5.K.62","F5.K.63","F5.K.64","F5.K.65","F5.K.66","F5.K.67","F5.K.68","F5.K.69","F5.K.70","F5.K.71","F5.K.72","F5.K.73","F5.K.74","F5.L.56","F5.L.57","F5.L.58","F5.L.59","F5.L.60","F5.L.61","F5.L.62","F5.L.63","F5.L.64","F5.L.65","F5.L.66","F5.L.67","F5.L.68","F5.L.69","F5.L.70","F5.L.71","F5.L.72","F5.L.73","F5.L.74","F5.F.76","F5.G.76","F5.H.76","F5.I.76","F5.J.76","F5.K.76","F5.L.76","F6A.B.9","F6A.D.9","F6A.E.9","F6A.F.9","F6A.G.9","F6A.H.9","F6A.I.9","F6A.B.10","F6A.D.10","F6A.E.10","F6A.F.10","F6A.G.10","F6A.H.10","F6A.I.10","F6A.B.11","F6A.D.11","F6A.E.11","F6A.F.11","F6A.G.11","F6A.H.11","F6A.I.11","F6A.B.12","F6A.D.12","F6A.E.12","F6A.F.12","F6A.G.12","F6A.H.12","F6A.I.12","F6A.B.13","F6A.D.13","F6A.E.13","F6A.F.13","F6A.G.13","F6A.H.13","F6A.I.13","F6A.B.14","F6A.D.14","F6A.E.14","F6A.F.14","F6A.G.14","F6A.H.14","F6A.I.14","F6A.B.15","F6A.D.15","F6A.E.15","F6A.F.15","F6A.G.15","F6A.H.15","F6A.I.15","F6A.B.16","F6A.D.16","F6A.E.16","F6A.F.16","F6A.G.16","F6A.H.16","F6A.I.16","F6A.B.17","F6A.D.17","F6A.E.17","F6A.F.17","F6A.G.17","F6A.H.17","F6A.I.17","F6A.B.18","F6A.D.18","F6A.E.18","F6A.F.18","F6A.G.18","F6A.H.18","F6A.I.18","F6A.B.19","F6A.D.19","F6A.E.19","F6A.F.19","F6A.G.19","F6A.H.19","F6A.I.19","F6A.B.20","F6A.D.20","F6A.E.20","F6A.F.20","F6A.G.20","F6A.H.20","F6A.I.20","F6A.B.21","F6A.D.21","F6A.E.21","F6A.F.21","F6A.G.21","F6A.H.21","F6A.I.21","F6A.B.22","F6A.D.22","F6A.E.22","F6A.F.22","F6A.G.22","F6A.H.22","F6A.I.22","F6A.B.23","F6A.D.23","F6A.E.23","F6A.F.23","F6A.G.23","F6A.H.23","F6A.I.23","F6A.B.24","F6A.D.24","F6A.E.24","F6A.F.24","F6A.G.24","F6A.H.24","F6A.I.24","F6A.B.25","F6A.D.25","F6A.E.25","F6A.F.25","F6A.G.25","F6A.H.25","F6A.I.25","F6A.B.26","F6A.D.26","F6A.E.26","F6A.F.26","F6A.G.26","F6A.H.26","F6A.I.26","F6A.B.27","F6A.D.27","F6A.E.27","F6A.F.27","F6A.G.27","F6A.H.27","F6A.I.27","F6A.B.28","F6A.D.28","F6A.E.28","F6A.F.28","F6A.G.28","F6A.H.28","F6A.I.28","F6A.B.29","F6A.D.29","F6A.E.29","F6A.F.29","F6A.G.29","F6A.H.29","F6A.I.29","F6A.B.30","F6A.D.30","F6A.E.30","F6A.F.30","F6A.G.30","F6A.H.30","F6A.I.30","F6A.B.31","F6A.D.31","F6A.E.31","F6A.F.31","F6A.G.31","F6A.H.31","F6A.I.31","F6A.B.32","F6A.D.32","F6A.E.32","F6A.F.32","F6A.G.32","F6A.H.32","F6A.I.32","F6A.B.33","F6A.D.33","F6A.E.33","F6A.F.33","F6A.G.33","F6A.H.33","F6A.I.33","F6A.B.34","F6A.D.34","F6A.E.34","F6A.F.34","F6A.G.34","F6A.H.34","F6A.I.34","F6A.B.35","F6A.D.35","F6A.E.35","F6A.F.35","F6A.G.35","F6A.H.35","F6A.I.35","F6A.B.36","F6A.D.36","F6A.E.36","F6A.F.36","F6A.G.36","F6A.H.36","F6A.I.36","F6A.B.37","F6A.D.37","F6A.E.37","F6A.F.37","F6A.G.37","F6A.H.37","F6A.I.37","F6A.B.38","F6A.D.38","F6A.E.38","F6A.F.38","F6A.G.38","F6A.H.38","F6A.I.38","F6A.B.39","F6A.D.39","F6A.E.39","F6A.F.39","F6A.G.39","F6A.H.39","F6A.I.39","F6A.B.40","F6A.D.40","F6A.E.40","F6A.F.40","F6A.G.40","F6A.H.40","F6A.I.40","F6A.B.41","F6A.D.41","F6A.E.41","F6A.F.41","F6A.G.41","F6A.H.41","F6A.I.41","F6A.B.42","F6A.D.42","F6A.E.42","F6A.F.42","F6A.G.42","F6A.H.42","F6A.I.42","F6A.B.43","F6A.D.43","F6A.E.43","F6A.F.43","F6A.G.43","F6A.H.43","F6A.I.43","F6A.B.44","F6A.D.44","F6A.E.44","F6A.F.44","F6A.G.44","F6A.H.44","F6A.I.44","F6A.B.45","F6A.D.45","F6A.E.45","F6A.F.45","F6A.G.45","F6A.H.45","F6A.I.45","F6A.B.46","F6A.D.46","F6A.E.46","F6A.F.46","F6A.G.46","F6A.H.46","F6A.I.46","F6A.B.47","F6A.D.47","F6A.E.47","F6A.F.47","F6A.G.47","F6A.H.47","F6A.I.47","F6A.B.48","F6A.D.48","F6A.E.48","F6A.F.48","F6A.G.48","F6A.H.48","F6A.I.48","F6A.B.49","F6A.D.49","F6A.E.49","F6A.F.49","F6A.G.49","F6A.H.49","F6A.I.49","F6A.B.50","F6A.D.50","F6A.E.50","F6A.F.50","F6A.G.50","F6A.H.50","F6A.I.50","F6A.B.51","F6A.D.51","F6A.E.51","F6A.F.51","F6A.G.51","F6A.H.51","F6A.I.51","F6A.B.52","F6A.D.52","F6A.E.52","F6A.F.52","F6A.G.52","F6A.H.52","F6A.I.52","F6A.B.53","F6A.D.53","F6A.E.53","F6A.F.53","F6A.G.53","F6A.H.53","F6A.I.53","F6A.B.54","F6A.D.54","F6A.E.54","F6A.F.54","F6A.G.54","F6A.H.54","F6A.I.54","F6A.B.55","F6A.D.55","F6A.E.55","F6A.F.55","F6A.G.55","F6A.H.55","F6A.I.55","F6A.B.56","F6A.D.56","F6A.E.56","F6A.F.56","F6A.G.56","F6A.H.56","F6A.I.56","F6A.B.57","F6A.D.57","F6A.E.57","F6A.F.57","F6A.G.57","F6A.H.57","F6A.I.57","F6A.B.58","F6A.D.58","F6A.E.58","F6A.F.58","F6A.G.58","F6A.H.58","F6A.I.58","F6A.F.59","F6A.I.59","F6B.B.9","F6B.C.9","F6B.D.9","F6B.E.9","F6B.F.9","F6B.B.10","F6B.C.10","F6B.D.10","F6B.E.10","F6B.F.10","F6B.B.11","F6B.C.11","F6B.D.11","F6B.E.11","F6B.F.11","F6B.B.12","F6B.C.12","F6B.D.12","F6B.E.12","F6B.F.12","F6B.B.13","F6B.C.13","F6B.D.13","F6B.E.13","F6B.F.13","F6B.B.14","F6B.C.14","F6B.D.14","F6B.E.14","F6B.F.14","F6B.B.15","F6B.C.15","F6B.D.15","F6B.E.15","F6B.F.15","F6B.B.16","F6B.C.16","F6B.D.16","F6B.E.16","F6B.F.16","F6B.B.17","F6B.C.17","F6B.D.17","F6B.E.17","F6B.F.17","F6B.B.18","F6B.C.18","F6B.D.18","F6B.E.18","F6B.F.18","F6B.B.19","F6B.C.19","F6B.D.19","F6B.E.19","F6B.F.19","F6B.B.20","F6B.C.20","F6B.D.20","F6B.E.20","F6B.F.20","F6B.B.21","F6B.C.21","F6B.D.21","F6B.E.21","F6B.F.21","F6B.B.22","F6B.C.22","F6B.D.22","F6B.E.22","F6B.F.22","F6B.B.23","F6B.C.23","F6B.D.23","F6B.E.23","F6B.F.23","F6B.B.24","F6B.C.24","F6B.D.24","F6B.E.24","F6B.F.24","F6B.B.25","F6B.C.25","F6B.D.25","F6B.E.25","F6B.F.25","F6B.B.26","F6B.C.26","F6B.D.26","F6B.E.26","F6B.F.26","F6B.F.27","F7.D.12","F7.D.13","F7.D.14","F7.D.15","F7.D.16","F7.D.17","F7.D.18","F7.D.19","F7.E.12","F7.E.13","F7.E.14","F7.E.15","F7.E.16","F7.E.17","F7.E.18","F7.E.19","F7.D.21","F7.D.22","F7.D.23","F7.D.24","F7.E.21","F7.E.22","F7.E.23","F7.E.24","F7.D.27","F7.D.28","F7.D.29","F7.D.30","F7.D.31","F7.D.32","F7.D.33","F7.D.34","F7.D.35","F7.D.36","F7.D.37","F7.E.27","F7.E.28","F7.E.29","F7.E.30","F7.E.31","F7.E.32","F7.E.33","F7.E.34","F7.E.35","F7.E.36","F7.E.37","F7.D.39","F7.D.40","F7.D.41","F7.D.42","F7.D.43","F7.D.44","F7.D.45","F7.D.46","F7.D.47","F7.E.39","F7.E.40","F7.E.41","F7.E.42","F7.E.43","F7.E.44","F7.E.45","F7.E.46","F7.E.47","F7.D.48","F7.E.48","FA.D.12","FA.D.13","FA.D.14","FA.D.15","FA.E.12","FA.E.13","FA.E.14","FA.E.15","FA.F.12","FA.F.13","FA.F.14","FA.F.15","FA.G.12","FA.G.13","FA.G.14","FA.G.15","FA.H.13","FA.H.15","FA.I.13","FA.I.15","FA.J.13","FA.J.15","FA.K.12","FA.K.13","FA.K.14","FA.K.15","FA.L.12","FA.L.13","FA.L.14","FA.L.15","FA.R.13","FA.S.13","FA.T.13","FA.T.15","FA.D.19","FA.D.20","FA.D.21","FA.E.18","FA.E.19","FA.E.20","FA.E.21","FA.F.18","FA.F.19","FA.F.20","FA.F.21","FA.G.18","FA.G.19","FA.G.20","FA.G.21","FA.H.19","FA.H.21","FA.I.19","FA.I.21","FA.J.19","FA.J.21","FA.K.18","FA.K.19","FA.K.20","FA.K.21","FA.L.18","FA.L.19","FA.L.20","FA.L.21","FA.R.19","FA.S.19","FA.T.19","FA.T.21","FA.D.24","FA.D.25","FA.D.26","FA.D.27","FA.D.28","FA.D.29","FA.D.30","FA.D.31","FA.D.32","FA.D.33","FA.E.24","FA.E.25","FA.E.26","FA.E.27","FA.E.28","FA.E.29","FA.E.30","FA.E.31","FA.E.32","FA.E.33","FA.F.24","FA.F.25","FA.F.26","FA.F.27","FA.F.28","FA.F.29","FA.F.30","FA.F.31","FA.F.32","FA.F.33","FA.G.24","FA.G.27","FA.G.28","FA.G.29","FA.G.30","FA.G.31","FA.G.32","FA.G.33","FA.H.24","FA.H.27","FA.H.28","FA.H.29","FA.H.31","FA.H.32","FA.H.33","FA.I.24","FA.I.27","FA.I.28","FA.I.29","FA.I.31","FA.I.32","FA.I.33","FA.J.24","FA.J.27","FA.J.28","FA.J.29","FA.J.31","FA.J.32","FA.J.33","FA.K.24","FA.K.25","FA.K.26","FA.K.27","FA.K.28","FA.K.29","FA.K.30","FA.K.31","FA.K.32","FA.K.33","FA.L.24","FA.L.25","FA.L.26","FA.L.27","FA.L.28","FA.L.29","FA.L.30","FA.L.31","FA.L.32","FA.L.33","FA.M.24","FA.M.25","FA.M.27","FA.N.24","FA.N.25","FA.N.27","FA.O.24","FA.O.26","FA.O.27","FA.P.24","FA.P.26","FA.P.27","FA.Q.24","FA.Q.27","FA.Q.28","FA.Q.29","FA.R.24","FA.R.27","FA.R.28","FA.R.29","FA.R.30","FA.R.31","FA.S.24","FA.S.27","FA.S.28","FA.S.29","FA.S.31","FA.S.32","FA.S.33","FA.T.24","FA.T.27","FA.T.28","FA.T.29","FA.T.31","FA.T.32","FA.T.33","FB.D.14","FB.D.15","FB.D.16","FB.D.18","FB.D.19","FB.D.20","9.C.9","9.C.10","9.C.11","9.C.12","9.C.15","9.C.16","9.C.17","9.C.20","9.C.21","9.C.22","9.C.26","9.D.26","9.C.27","9.D.27","9.C.28","9.D.28","9.C.29","9.D.29","9.C.30","9.D.30","9.D.31","9.C.36","10.E.14","10.E.15","10.E.16","10.E.17","10.E.19","10.E.20","10.E.21","10.E.24","10.E.25","10.E.26","10.E.27","10.E.28","10.E.29","10.E.30","10.E.31","10.E.32","10.E.33","10.E.34","10.E.35","10.E.36","10.E.37","10.E.38","10.E.39","10.E.40","10.E.41","10.E.42"]
[null,{"$f":"INDEX('Provider List'!$B:$B,MATCH($C5,'Provider List'!$C:$C,0))","v":{"$error":"#N/A"}},{"$f":"'1. Agency Information'!$C$9","v":0},"",{"$f":"ProviderName","v":0},{"$f":"'1. Agency Information'!C10","v":0},{"$f":"MassHealthProviderID","v":0},{"$f":"'1. Agency Information'!C12","v":0},{"$f":"'1. Agency Information'!C13","v":0},{"$f":"'1. Agency Information'!C14","v":0},{"$f":"'1. Agency Information'!C15","v":0},{"$f":"'1. Agency Information'!C16","v":0},{"$f":"'1. Agency Information'!C17","v":0},{"$f":"'1. Agency Information'!C18","v":"00:00:00"},{"$f":"'1. Agency Information'!C21","v":0},{"$f":"'1. Agency Information'!C22","v":0},{"$f":"'1. Agency Information'!C23","v":0},{"$f":"'1. Agency Information'!C24","v":0},{"$f":"'1. Agency Information'!C25","v":0},{"$f":"'1. Agency Information'!C26","v":0},{"$f":"'1. Agency Information'!C27","v":0},{"$f":"'1. Agency Information'!C28","v":0},{"$f":"'2. Revenue'!E9","v":0},{"$f":"'2. Revenue'!E10","v":0},{"$f":"'2. Revenue'!E11","v":0},{"$f":"'2. Revenue'!E12","v":0},{"$f":"'2. Revenue'!E13","v":0},{"$f":"'2. Revenue'!E14","v":0},{"$f":"'2. Revenue'!E15","v":0},{"$f":"'2. Revenue'!E16","v":0},{"$f":"'2. Revenue'!E17","v":0},{"$f":"'2. Revenue'!E18","v":0},{"$f":"'2. Revenue'!E19","v":0},{"$f":"'2. Revenue'!E20","v":0},{"$f":"'2. Revenue'!E21","v":0},{"$f":"'2. Revenue'!E22","v":0},{"$f":"'2. Revenue'!F23","v":0},{"$f":"'2. Revenue'!E25","v":0},{"$f":"'2. Revenue'!E26","v":0},{"$f":"'2. Revenue'!E27","v":0},{"$f":"'2. Revenue'!E28","v":0},{"$f":"'2. Revenue'!E29","v":0},{"$f":"'2. Revenue'!E30","v":" "},{"$f":"'2. Revenue'!F31","v":0},{"$f":"'2. Revenue'!E33","v":0},{"$f":"'2. Revenue'!E34","v":0},{"$f":"'2. Revenue'!E35","v":0},{"$f":"'2. Revenue'!E36","v":0},{"$f":"'2. Revenue'!E37","v":0},{"$f":"'2. Revenue'!E38","v":0},{"$f":"'2. Revenue'!F39","v":0},{"$f":"'2. Revenue'!E41","v":0},{"$f":"'2. Revenue'!E42","v":0},{"$f":"'2. Revenue'!E43","v":0},{"$f":"'2. Revenue'!E44","v":0},{"$f":"'2. Revenue'!E45","v":0},{"$f":"'2. Revenue'!E46","v":0},{"$f":"'2. Revenue'!B48","v":0},{"$f":"'2. Revenue'!B49","v":0},{"$f":"'2. Revenue'!B50","v":0},{"$f":"'2. Revenue'!B51","v":0},{"$f":"'2. Revenue'!B52","v":0},{"$f":"'2. Revenue'!B53","v":0},{"$f":"'2. Revenue'!E48","v":0},{"$f":"'2. Revenue'!E49","v":0},{"$f":"'2. Revenue'!E50","v":0},{"$f":"'2. Revenue'!E51","v":0},{"$f":"'2. Revenue'!E52","v":0},{"$f":"'2. Revenue'!E53","v":0},{"$f":"'2. Revenue'!E56","v":0},{"$f":"'2. Revenue'!F23","v":0},{"$f":"'2. Revenue'!F31","v":0},{"$f":"'2. Revenue'!F39","v":0},{"$f":"'2. Revenue'!F54","v":0},{"$f":"'2. Revenue'!F55","v":0},{"$f":"'2. Revenue'!F56","v":0},{"$f":"'2. Revenue'!F57","v":0},{"$f":"'2. Revenue'!F58","v":0},{"$f":"TRANSPOSE('3. Providers'!C13:C20)","v":0},0,0,0,0,0,0,0,{"$f":"'3. Providers'!C21","v":0},{"$f":"'3. Providers'!C22","v":0},{"$f":"'3. Providers'!C23","v":0},{"$f":"'3. Providers'!C24","v":0},{"$f":"'3. Providers'!C25","v":0},{"$f":"'3. Providers'!C27","v":0},{"$f":"'3. Providers'!C28","v":0},{"$f":"'3. Providers'!C29","v":0},{"$f":"'3. Providers'!C30","v":0},{"$f":"'3. Providers'!C32","v":0},{"$f":"'3. Providers'!C33","v":0},{"$f":"'3. Providers'!C34","v":0},{"$f":"'3. Providers'!C35","v":0},{"$f":"TRANSPOSE('3. Providers'!C37:C50)","v":0},0,0,0,0,0,0,0,0,0,0,0,0,0,{"$f":"'3. Providers'!C51","v":0},{"$f":"TRANSPOSE('3. Providers'!C52:C56)","v":0},0,0,0,0,{"$f":"'3. Providers'!C57","v":0},{"$f":"'3. Providers'!C58","v":0},{"$f":"'3. Providers'!C61","v":0},{"$f":"'3. Providers'!C62","v":0},{"$f":"'3. Providers'!C63","v":0},{"$f":"'3. Providers'!C64","v":0},{"$f":"'3. Providers'!C65","v":0},{"$f":"'3. Providers'!C66","v":0},{"$f":"'3. Providers'!C67","v":0},{"$f":"'3. Providers'!C68","v":0},{"$f":"'3. Providers'!C69","v":0},{"$f":"'3. Providers'!C70","v":0},{"$f":"'3. Providers'!C74","v":0},{"$f":"'3. Providers'!C75","v":0},{"$f":"'3. Providers'!C77","v":0},{"$f":"'3. Providers'!C78","v":0},{"$f":"'3. Providers'!C79","v":0},{"$f":"'3. Providers'!C80","v":0},{"$f":"'3. Providers'!C81","v":0},{"$f":"'3. Providers'!C83","v":0},{"$f":"'3. Providers'!C84","v":0},{"$f":"'3. Providers'!C85","v":0},{"$f":"'3. Providers'!C86","v":0},{"$f":"'3. Providers'!C87","v":0},{"$f":"'3. Providers'!C89","v":0},{"$f":"TRANSPOSE('3. Providers'!C91:C98)","v":0},0,0,0,0,0,0,0,{"$f":"'3. Providers'!C99","v":0},{"$f":"'3. Providers'!C100","v":0},{"$f":"'3. Providers'!C101","v":0},{"$f":"'3. Providers'!C102","v":0},{"$f":"'3. Providers'!C103","v":0},{"$f":"'3. Providers'!C104","v":0},{"$f":"'3. Providers'!C105","v":0},{"$f":"'3. Providers'!C106","v":0},{"$f":"'3. Providers'!C108","v":0},{"$f":"TRANSPOSE('3. Providers'!D13:D20)","v":0},0,0,0,0,0,0,0,{"$f":"'3. Providers'!D21","v":0},{"$f":"'3. Providers'!D22","v":0},{"$f":"'3. Providers'!D23","v":0},{"$f":"'3. Providers'!D24","v":0},{"$f":"'3. Providers'!D25","v":0},{"$f":"'3. Providers'!D27","v":0},{"$f":"'3. Providers'!D28","v":0},{"$f":"'3. Providers'!D29","v":0},{"$f":"'3. Providers'!D30","v":0},{"$f":"'3. Providers'!D32","v":0},{"$f":"'3. Providers'!D33","v":0},{"$f":"'3. Providers'!D34","v":0},{"$f":"'3. Providers'!D35","v":0},{"$f":"TRANSPOSE('3. Providers'!D37:D50)","v":0},0,0,0,0,0,0,0,0,0,0,0,0,0,{"$f":"'3. Providers'!D51","v":0},{"$f":"'3. Providers'!D52","v":0},{"$f":"'3. Providers'!D53","v":0},{"$f":"'3. Providers'!D54","v":0},{"$f":"'3. Providers'!D55","v":0},{"$f":"'3. Providers'!D56","v":0},{"$f":"'3. Providers'!D57","v":0},{"$f":"'3. Providers'!D58","v":0},{"$f":"'3. Providers'!D61","v":0},{"$f":"'3. Providers'!D62","v":0},{"$f":"'3. Providers'!D63","v":0},{"$f":"'3. Providers'!D64","v":0},{"$f":"'3. Providers'!D65","v":0},{"$f":"'3. Providers'!D66","v":0},{"$f":"'3. Providers'!D67","v":0},{"$f":"'3. Providers'!D68","v":0},{"$f":"'3. Providers'!D69","v":0},{"$f":"'3. Providers'!D70","v":0},{"$f":"'3. Providers'!D74","v":0},{"$f":"'3. Providers'!D75","v":0},{"$f":"'3. Providers'!D77","v":0},{"$f":"'3. Providers'!D78","v":0},{"$f":"'3. Providers'!D79","v":0},{"$f":"'3. Providers'!D80","v":0},{"$f":"'3. Providers'!D81","v":0},{"$f":"'3. Providers'!D83","v":0},{"$f":"'3. Providers'!D84","v":0},{"$f":"'3. Providers'!D85","v":0},{"$f":"'3. Providers'!D86","v":0},{"$f":"'3. Providers'!D87","v":0},{"$f":"'3. Providers'!D89","v":0},{"$f":"TRANSPOSE('3. Providers'!D91:D98)","v":0},0,0,0,0,0,0,0,{"$f":"'3. Providers'!D99","v":0},{"$f":"TRANSPOSE('3. Providers'!D100:D104)","v":0},0,0,0,0,{"$f":"'3. Providers'!D105","v":0},{"$f":"'3. Providers'!D106","v":0},{"$f":"'3. Providers'!D108","v":0},{"$f":"TRANSPOSE('3. Providers'!E13:E20)","v":0},0,0,0,0,0,0,0,{"$f":"'3. Providers'!E21","v":0},{"$f":"'3. Providers'!E22","v":0},{"$f":"'3. Providers'!E23","v":0},{"$f":"'3. Providers'!E24","v":0},{"$f":"'3. Providers'!E25","v":0},{"$f":"'3. Providers'!E27","v":0},{"$f":"'3. Providers'!E28","v":0},{"$f":"'3. Providers'!E29","v":0},{"$f":"'3. Providers'!E30","v":0},{"$f":"'3. Providers'!E32","v":0},{"$f":"'3. Providers'!E33","v":0},{"$f":"'3. Providers'!E34","v":0},{"$f":"'3. Providers'!E35","v":0},{"$f":"TRANSPOSE('3. Providers'!E37:E50)","v":0},0,0,0,0,0,0,0,0,0,0,0,0,0,{"$f":"'3. Providers'!E51","v":0},{"$f":"'3. Providers'!E52","v":0},{"$f":"'3. Providers'!E53","v":0},{"$f":"'3. Providers'!E54","v":0},{"$f":"'3. Providers'!E55","v":0},{"$f":"'3. Providers'!E56","v":0},{"$f":"'3. Providers'!E57","v":0},{"$f":"'3. Providers'!E58","v":0},{"$f":"'3. Providers'!E61","v":0},{"$f":"'3. Providers'!E62","v":0},{"$f":"'3. Providers'!E63","v":0},{"$f":"'3. Providers'!E64","v":0},{"$f":"'3. Providers'!E65","v":0},{"$f":"'3. Providers'!E66","v":0},{"$f":"'3. Providers'!E67","v":0},{"$f":"'3. Providers'!E68","v":0},{"$f":"'3. Providers'!E69","v":0},{"$f":"'3. Providers'!E70","v":0},{"$f":"'3. Providers'!E74","v":0},{"$f":"'3. Providers'!E75","v":0},{"$f":"'3. Providers'!E77","v":0},{"$f":"'3. Providers'!E78","v":0},{"$f":"'3. Providers'!E79","v":0},{"$f":"'3. Providers'!E80","v":0},{"$f":"'3. Providers'!E81","v":0},{"$f":"'3. Providers'!E83","v":0},{"$f":"'3. Providers'!E84","v":0},{"$f":"'3. Providers'!E85","v":0},{"$f":"'3. Providers'!E86","v":0},{"$f":"'3. Providers'!E87","v":0},{"$f":"'3. Providers'!E89","v":0},{"$f":"TRANSPOSE('3. Providers'!E91:E98)","v":0},0,0,0,0,0,0,0,{"$f":"'3. Providers'!E99","v":0},{"$f":"TRANSPOSE('3. Providers'!E100:E104)","v":0},0,0,0,0,{"$f":"'3. Providers'!E105","v":0},{"$f":"'3. Providers'!E106","v":0},{"$f":"'3. Providers'!E108","v":0},{"$f":"TRANSPOSE('3. Providers'!F13:F20)","v":0},0,0,0,0,0,0,0,{"$f":"'3. Providers'!F21","v":0},{"$f":"'3. Providers'!F22","v":0},{"$f":"'3. Providers'!F23","v":0},{"$f":"'3. Providers'!F24","v":0},{"$f":"'3. Providers'!F25","v":0},{"$f":"'3. Providers'!F27","v":0},{"$f":"'3. Providers'!F28","v":0},{"$f":"'3. Providers'!F29","v":0},{"$f":"'3. Providers'!F30","v":0},{"$f":"'3. Providers'!F32","v":0},{"$f":"'3. Providers'!F33","v":0},{"$f":"'3. Providers'!F34","v":0},{"$f":"'3. Providers'!F35","v":0},{"$f":"TRANSPOSE('3. Providers'!F37:F50)","v":0},0,0,0,0,0,0,0,0,0,0,0,0,0,{"$f":"'3. Providers'!F51","v":0},{"$f":"'3. Providers'!F52","v":0},{"$f":"'3. Providers'!F53","v":0},{"$f":"'3. Providers'!F54","v":0},{"$f":"'3. Providers'!F55","v":0},{"$f":"'3. Providers'!F56","v":0},{"$f":"'3. Providers'!F57","v":0},{"$f":"'3. Providers'!F58","v":0},{"$f":"'3. Providers'!F61","v":0},{"$f":"'3. Providers'!F62","v":0},{"$f":"'3. Providers'!F63","v":0},{"$f":"'3. Providers'!F64","v":0},{"$f":"'3. Providers'!F65","v":0},{"$f":"'3. Providers'!F66","v":0},{"$f":"'3. Providers'!F67","v":0},{"$f":"'3. Providers'!F68","v":0},{"$f":"'3. Providers'!F69","v":0},{"$f":"'3. Providers'!F70","v":0},{"$f":"'3. Providers'!F74","v":0},{"$f":"'3. Providers'!F75","v":0},{"$f":"'3. Providers'!F77","v":0},{"$f":"'3. Providers'!F78","v":0},{"$f":"'3. Providers'!F79","v":0},{"$f":"'3. Providers'!F80","v":0},{"$f":"'3. Providers'!F81","v":0},{"$f":"'3. Providers'!F83","v":0},{"$f":"'3. Providers'!F84","v":0},{"$f":"'3. Providers'!F85","v":0},{"$f":"'3. Providers'!F86","v":0},{"$f":"'3. Providers'!F87","v":0},{"$f":"'3. Providers'!F89","v":0},{"$f":"TRANSPOSE('3. Providers'!F91:F98)","v":0},0,0,0,0,0,0,0,{"$f":"'3. Providers'!F99","v":0},{"$f":"TRANSPOSE('3. Providers'!F100:F104)","v":0},0,0,0,0,{"$f":"'3. Providers'!F105","v":0},{"$f":"'3. Providers'!F106","v":0},{"$f":"'3. Providers'!F108","v":0},{"$f":"TRANSPOSE('3. Providers'!G13:G20)","v":0},0,0,0,0,0,0,0,{"$f":"'3. Providers'!G21","v":0},{"$f":"'3. Providers'!G22","v":0},{"$f":"'3. Providers'!G23","v":0},{"$f":"'3. Providers'!G24","v":0},{"$f":"'3. Providers'!G25","v":0},{"$f":"'3. Providers'!G27","v":0},{"$f":"'3. Providers'!G28","v":0},{"$f":"'3. Providers'!G29","v":0},{"$f":"'3. Providers'!G30","v":0},{"$f":"'3. Providers'!G32","v":0},{"$f":"'3. Providers'!G33","v":0},{"$f":"'3. Providers'!G34","v":0},{"$f":"'3. Providers'!G35","v":0},{"$f":"TRANSPOSE('3. Providers'!G37:G50)","v":0},0,0,0,0,0,0,0,0,0,0,0,0,0,{"$f":"'3. Providers'!G51","v":0},{"$f":"TRANSPOSE('3. Providers'!G52:G56)","v":0},0,0,0,0,{"$f":"'3. Providers'!G57","v":0},{"$f":"'3. Providers'!G58","v":0},{"$f":"TRANSPOSE('3. Providers'!G61:G63)","v":0},0,0,{"$f":"'3. Providers'!G64","v":0},{"$f":"TRANSPOSE('3. Providers'!G65:G69)","v":0},0,0,0,0,{"$f":"'3. Providers'!G70","v":0},{"$f":"'3. Providers'!G74","v":0},{"$f":"'3. Providers'!G75","v":0},{"$f":"TRANSPOSE('3. Providers'!G77:G81)","v":0},0,0,0,0,{"$f":"TRANSPOSE('3. Providers'!G83:G87)","v":0},0,0,0,0,{"$f":"'3. Providers'!G89","v":0},{"$f":"TRANSPOSE('3. Providers'!G91:G98)","v":0},0,0,0,0,0,0,0,{"$f":"'3. Providers'!G99","v":0},{"$f":"TRANSPOSE('3. Providers'!G100:G106)","v":0},0,0,0,0,0,0,{"$f":"'3. Providers'!G108","v":0},{"$f":"TRANSPOSE('4. Non-Providers'!C15:C22)","v":0},0,0,0,0,0,0,{"$f":"'4. Non-Providers'!C22","v":0},{"$f":"TRANSPOSE('4. Non-Providers'!C23:C27)","v":0},0,0,0,0,{"$f":"'4. Non-Providers'!C28","v":0},{"$f":"TRANSPOSE('4. Non-Providers'!C30:C40)","v":0},0,0,0,0,0,0,0,0,0,0,{"$f":"TRANSPOSE('4. Non-Providers'!C44:C55)","v":0},0,0,0,0,0,0,0,0,0,0,0,{"$f":"TRANSPOSE('4. Non-Providers'!C59:C69)","v":0},0,0,0,0,0,0,0,0,0,0,{"$f":"TRANSPOSE('4. Non-Providers'!C73:C84)","v":0},0,0,0,0,0,0,0,0,0,0,0,{"$f":"TRANSPOSE('4. Non-Providers'!C88:C101)","v":0},0,0,0,0,0,0,0,0,0,0,0,0,0,{"$f":"TRANSPOSE('4. Non-Providers'!C105:C116)","v":0},0,0,0,0,0,0,0,0,0,0,0,{"$f":"TRANSPOSE('4. Non-Providers'!C120:C129)","v":0},0,0,0,0,0,0,0,0,0,{"$f":"TRANSPOSE('4. Non-Providers'!C132:C140)","v":0},0,0,0,0,0,0,0,0,{"$f":"'4. Non-Providers'!C142","v":0},{"$f":"'4. Non-Providers'!C143","v":0},{"$f":"'4. Non-Providers'!C146","v":0},{"$f":"'4. Non-Providers'!C147","v":0},{"$f":"'4. Non-Providers'!C148","v":0},{"$f":"TRANSPOSE('4. Non-Providers'!C151:C157)","v":0},0,0,0,0,0,0,{"$f":"TRANSPOSE('4. Non-Providers'!C160:C162)","v":0},0,0,{"$f":"TRANSPOSE('4. Non-Providers'!C165:C170)","v":0},0,0,0,0,0,{"$f":"TRANSPOSE('4. Non-Providers'!C172:C178)","v":0},0,0,0,0,0,0,{"$f":"TRANSPOSE('4. Non-Providers'!C182:C188)","v":0},0,0,0,0,0,0,{"$f":"TRANSPOSE('4. Non-Providers'!C191:C201)","v":0},0,0,0,0,0,0,0,0,0,0,{"$f":"TRANSPOSE('4. Non-Providers'!C204:C207)","v":0},0,0,0,{"$f":"TRANSPOSE('4. Non-Providers'!C210:C216)","v":0},0,0,0,0,0,0,{"$f":"TRANSPOSE('4. Non-Providers'!C219:C228)","v":0},0,0,0,0,0,0,0,0,0,{"$f":"TRANSPOSE('4. Non-Providers'!C231:C242)","v":0},0,0,0,0,0,0,0,0,0,0,0,{"$f":"TRANSPOSE('4. Non-Providers'!C245:C259)","v":0},0,0,0,0,0,0,0,0,0,0,0,0,0,0,{"$f":"TRANSPOSE('4. Non-Providers'!C261:C270)","v":0},0,0,0,0,0,0,0,0,0,{"$f":"TRANSPOSE('4. Non-Providers'!C274:C289)","v":0},0,0,0,0,0,0,0,0,0,0,0,0,0,0,0,{"$f":"TRANSPOSE('4. Non-Providers'!C293:C312)","v":0},0,0,0,0,0,0,0,0,0,0,0,0,0,0,0,0,0,0,0,{"$f":"'4. Non-Providers'!C314","v":0},{"$f":"'4. Non-Providers'!C315","v":0},{"$f":"'4. Non-Providers'!C317","v":0},{"$f":"TRANSPOSE('4. Non-Providers'!D15:D28)","v":0},0,0,0,0,0,0,0,0,0,0,0,0,0,{"$f":"TRANSPOSE('4. Non-Providers'!D30:D40)","v":0},0,0,0,0,0,0,0,0,0,0,{"$f":"TRANSPOSE('4. Non-Providers'!D44:D55)","v":0},0,0,0,0,0,0,0,0,0,0,0,{"$f":"TRANSPOSE('4. Non-Providers'!D59:D69)","v":0},0,0,0,0,0,0,0,0,0,0,{"$f":"TRANSPOSE('4. Non-Providers'!D73:D84)","v":0},0,0,0,0,0,0,0,0,0,0,0,{"$f":"TRANSPOSE('4. Non-Providers'!D88:D101)","v":0},0,0,0,0,0,0,0,0,0,0,0,0,0,{"$f":"TRANSPOSE('4. Non-Providers'!D105:D116)","v":0},0,0,0,0,0,0,0,0,0,0,0,{"$f":"TRANSPOSE('4. Non-Providers'!D120:D129)","v":0},0,0,0,0,0,0,0,0,0,{"$f":"TRANSPOSE('4. Non-Providers'!D132:D140)","v":0},0,0,0,0,0,0,0,0,{"$f":"'4. Non-Providers'!D142","v":0},{"$f":"'4. Non-Providers'!D143","v":0},{"$f":"TRANSPOSE('4. Non-Providers'!D146:D148)","v":0},0,0,{"$f":"TRANSPOSE('4. Non-Providers'!D151:D157)","v":0},0,0,0,0,0,0,{"$f":"TRANSPOSE('4. Non-Providers'!D160:D162)","v":0},0,0,{"$f":"TRANSPOSE('4. Non-Providers'!D165:D170)","v":0},0,0,0,0,0,{"$f":"TRANSPOSE('4. Non-Providers'!D172:D178)","v":0},0,0,0,0,0,0,{"$f":"TRANSPOSE('4. Non-Providers'!D182:D188)","v":0},0,0,0,0,0,0,{"$f":"TRANSPOSE('4. Non-Providers'!D191:D201)","v":0},0,0,0,0,0,0,0,0,0,0,{"$f":"TRANSPOSE('4. Non-Providers'!D204:D207)","v":0},0,0,0,{"$f":"TRANSPOSE('4. Non-Providers'!D210:D216)","v":0},0,0,0,0,0,0,{"$f":"TRANSPOSE('4. Non-Providers'!D219:D228)","v":0},0,0,0,0,0,0,0,0,0,{"$f":"TRANSPOSE('4. Non-Providers'!D231:D242)","v":0},0,0,0,0,0,0,0,0,0,0,0,{"$f":"TRANSPOSE('4. Non-Providers'!D245:D259)","v":0},0,0,0,0,0,0,0,0,0,0,0,0,0,0,{"$f":"TRANSPOSE('4. Non-Providers'!D261:D270)","v":0},0,0,0,0,0,0,0,0,0,{"$f":"TRANSPOSE('4. Non-Providers'!D274:D289)","v":0},0,0,0,0,0,0,0,0,0,0,0,0,0,0,0,{"$f":"TRANSPOSE('4. Non-Providers'!D293:D312)","v":0},0,0,0,0,0,0,0,0,0,0,0,0,0,0,0,0,0,0,0,{"$f":"'4. Non-Providers'!D314","v":0},{"$f":"'4. Non-Providers'!D315","v":0},{"$f":"'4. Non-Providers'!D317","v":0},{"$f":"TRANSPOSE('4. Non-Providers'!E15:E28)","v":0},0,0,0,0,0,0,0,0,0,0,0,0,0,{"$f":"TRANSPOSE('4. Non-Providers'!E30:E40)","v":0},0,0,0,0,0,0,0,0,0,0,{"$f":"TRANSPOSE('4. Non-Providers'!E44:E55)","v":0},0,0,0,0,0,0,0,0,0,0,0,{"$f":"TRANSPOSE('4. Non-Providers'!E59:E69)","v":0},0,0,0,0,0,0,0,0,0,0,{"$f":"TRANSPOSE('4. Non-Providers'!E73:E84)","v":0},0,0,0,0,0,0,0,0,0,0,0,{"$f":"TRANSPOSE('4. Non-Providers'!E88:E101)","v":0},0,0,0,0,0,0,0,0,0,0,0,0,0,{"$f":"TRANSPOSE('4. Non-Providers'!E105:E116)","v":0},0,0,0,0,0,0,0,0,0,0,0,{"$f":"TRANSPOSE('4. Non-Providers'!E120:E129)","v":0},0,0,0,0,0,0,0,0,0,{"$f":"TRANSPOSE('4. Non-Providers'!E132:E140)","v":0},0,0,0,0,0,0,0,0,{"$f":"TRANSPOSE('4. Non-Providers'!E142:E143)","v":0},0,{"$f":"TRANSPOSE('4. Non-Providers'!E146:E148)","v":0},0,0,{"$f":"TRANSPOSE('4. Non-Providers'!E151:E157)","v":0},0,0,0,0,0,0,{"$f":"TRANSPOSE('4. Non-Providers'!E160:E162)","v":0},0,0,{"$f":"TRANSPOSE('4. Non-Providers'!E165:E170)","v":0},0,0,0,0,0,{"$f":"TRANSPOSE('4. Non-Providers'!E172:E178)","v":0},0,0,0,0,0,0,{"$f":"TRANSPOSE('4. Non-Providers'!E182:E188)","v":0},0,0,0,0,0,0,{"$f":"TRANSPOSE('4. Non-Providers'!E191:E201)","v":0},0,0,0,0,0,0,0,0,0,0,{"$f":"TRANSPOSE('4. Non-Providers'!E204:E207)","v":0},0,0,0,{"$f":"TRANSPOSE('4. Non-Providers'!E210:E216)","v":0},0,0,0,0,0,0,{"$f":"TRANSPOSE('4. Non-Providers'!E219:E228)","v":0},0,0,0,0,0,0,0,0,0,{"$f":"TRANSPOSE('4. Non-Providers'!E231:E242)","v":0},0,0,0,0,0,0,0,0,0,0,0,{"$f":"TRANSPOSE('4. Non-Providers'!E245:E259)","v":0},0,0,0,0,0,0,0,0,0,0,0,0,0,0,{"$f":"TRANSPOSE('4. Non-Providers'!E261:E270)","v":0},0,0,0,0,0,0,0,0,0,{"$f":"TRANSPOSE('4. Non-Providers'!E274:E289)","v":0},0,0,0,0,0,0,0,0,0,0,0,0,0,0,0,{"$f":"TRANSPOSE('4. Non-Providers'!E293:E312)","v":0},0,0,0,0,0,0,0,0,0,0,0,0,0,0,0,0,0,0,0,{"$f":"'4. Non-Providers'!E314","v":0},{"$f":"'4. Non-Providers'!E315","v":0},{"$f":"'4. Non-Providers'!E317","v":0},{"$f":"TRANSPOSE('4. Non-Providers'!F15:F28)","v":0},0,0,0,0,0,0,0,0,0,0,0,0,0,{"$f":"TRANSPOSE('4. Non-Providers'!F30:F40)","v":0},0,0,0,0,0,0,0,0,0,0,{"$f":"TRANSPOSE('4. Non-Providers'!F44:F55)","v":0},0,0,0,0,0,0,0,0,0,0,0,{"$f":"TRANSPOSE('4. Non-Providers'!F59:F69)","v":0},0,0,0,0,0,0,0,0,0,0,{"$f":"TRANSPOSE('4. Non-Providers'!F73:F84)","v":0},0,0,0,0,0,0,0,0,0,0,0,{"$f":"TRANSPOSE('4. Non-Providers'!F88:F101)","v":0},0,0,0,0,0,0,0,0,0,0,0,0,0,{"$f":"TRANSPOSE('4. Non-Providers'!F105:F116)","v":0},0,0,0,0,0,0,0,0,0,0,0,{"$f":"TRANSPOSE('4. Non-Providers'!F120:F129)","v":0},0,0,0,0,0,0,0,0,0,{"$f":"TRANSPOSE('4. Non-Providers'!F132:F140)","v":0},0,0,0,0,0,0,0,0,{"$f":"TRANSPOSE('4. Non-Providers'!F142:F143)","v":0},0,{"$f":"TRANSPOSE('4. Non-Providers'!F146:F148)","v":0},0,0,{"$f":"TRANSPOSE('4. Non-Providers'!F151:F157)","v":0},0,0,0,0,0,0,{"$f":"TRANSPOSE('4. Non-Providers'!F160:F162)","v":0},0,0,{"$f":"TRANSPOSE('4. Non-Providers'!F165:F170)","v":0},0,0,0,0,0,{"$f":"TRANSPOSE('4. Non-Providers'!F172:F178)","v":0},0,0,0,0,0,0,{"$f":"TRANSPOSE('4. Non-Providers'!F182:F188)","v":0},0,0,0,0,0,0,{"$f":"TRANSPOSE('4. Non-Providers'!F191:F201)","v":0},0,0,0,0,0,0,0,0,0,0,{"$f":"TRANSPOSE('4. Non-Providers'!F204:F207)","v":0},0,0,0,{"$f":"TRANSPOSE('4. Non-Providers'!F210:F216)","v":0},0,0,0,0,0,0,{"$f":"TRANSPOSE('4. Non-Providers'!F219:F228)","v":0},0,0,0,0,0,0,0,0,0,{"$f":"TRANSPOSE('4. Non-Providers'!F231:F242)","v":0},0,0,0,0,0,0,0,0,0,0,0,{"$f":"TRANSPOSE('4. Non-Providers'!F245:F259)","v":0},0,0,0,0,0,0,0,0,0,0,0,0,0,0,{"$f":"TRANSPOSE('4. Non-Providers'!F261:F270)","v":0},0,0,0,0,0,0,0,0,0,{"$f":"TRANSPOSE('4. Non-Providers'!F274:F289)","v":0},0,0,0,0,0,0,0,0,0,0,0,0,0,0,0,{"$f":"TRANSPOSE('4. Non-Providers'!F293:F312)","v":0},0,0,0,0,0,0,0,0,0,0,0,0,0,0,0,0,0,0,0,{"$f":"'4. Non-Providers'!F314","v":0},{"$f":"'4. Non-Providers'!F315","v":0},{"$f":"'4. Non-Providers'!F317","v":0},{"$f":"TRANSPOSE('5. Cost Information'!D11:D22)","v":0},0,0,0,0,0,0,0,0,0,0,0,{"$f":"TRANSPOSE('5. Cost Information'!E11:E22)","v":"0"},"0","0","0","0","0","0","0","0","0","0",0,{"$f":"TRANSPOSE('5. Cost Information'!D35:D50)","v":0},0,0,0,0,0,0,0,0,0,0,0,0,0,0,0,{"$f":"TRANSPOSE('5. Cost Information'!E35:E51)","v":0},0,0,0,0,0,0,0,0,0,0,0,0,0,0,0,{"$f":"TRANSPOSE('5. Cost Information'!F35:F50)","v":0},0,0,0,0,0,0,0,0,0,0,0,0,0,0,0,{"$f":"TRANSPOSE('5. Cost Information'!G35:G50)","v":0},0,0,0,0,0,0,0,0,0,0,0,0,0,0,0,{"$f":"TRANSPOSE('5. Cost Information'!H35:H50)","v":0},0,0,0,0,0,0,0,0,0,0,0,0,0,0,0,{"$f":"TRANSPOSE('5. Cost Information'!I35:I50)","v":0},0,0,0,0,0,0,0,0,0,0,0,0,0,0,0,{"$f":"TRANSPOSE('5. Cost Information'!J35:J50)","v":0},0,0,0,0,0,0,0,0,0,0,0,0,0,0,0,{"$f":"TRANSPOSE('5. Cost Information'!K35:K50)","v":0},0,0,0,0,0,0,0,0,0,0,0,0,0,0,0,{"$f":"TRANSPOSE('5. Cost Information'!L35:L50)","v":0},0,0,0,0,0,0,0,0,0,0,0,0,0,0,0,{"$f":"TRANSPOSE('5. Cost Information'!M35:M50)","v":0},0,0,0,0,0,0,0,0,0,0,0,0,0,0,0,{"$f":"TRANSPOSE('5. Cost Information'!N35:N50)","v":0},0,0,0,0,0,0,0,0,0,0,0,0,0,0,0,{"$f":"TRANSPOSE('5. Cost Information'!P35:P50)","v":0},0,0,0,0,0,0,0,0,0,0,0,0,0,0,0,{"$f":"TRANSPOSE('5. Cost Information'!Q35:Q50)","v":0},0,0,0,0,0,0,0,0,0,0,0,0,0,0,0,{"$f":"TRANSPOSE('5. Cost Information'!R35:R50)","v":0},0,0,0,0,0,0,0,0,0,0,0,0,0,0,0,{"$f":"TRANSPOSE('5. Cost Information'!S35:S50)","v":0},0,0,0,0,0,0,0,0,0,0,0,0,0,0,0,{"$f":"TRANSPOSE('5. Cost Information'!T35:T50)","v":0},0,0,0,0,0,0,0,0,0,0,0,0,0,0,0,{"$f":"TRANSPOSE('5. Cost Information'!U35:U50)","v":0},0,0,0,0,0,0,0,0,0,0,0,0,0,0,0,{"$f":"TRANSPOSE('5. Cost Information'!W35:W50)","v":0},0,0,0,0,0,0,0,0,0,0,0,0,0,0,0,{"$f":"TRANSPOSE('5. Cost Information'!D52:D58)","v":0},0,0,0,0,0,0,{"$f":"TRANSPOSE('5. Cost Information'!E52:E58)","v":0},0,0,0,0,0,0,{"$f":"TRANSPOSE('5. Cost Information'!F52:F58)","v":0},0,0,0,0,0,0,{"$f":"TRANSPOSE('5. Cost Information'!G52:G58)","v":0},0,0,0,0,0,0,{"$f":"TRANSPOSE('5. Cost Information'!H52:H58)","v":0},0,0,0,0,0,0,{"$f":"TRANSPOSE('5. Cost Information'!I52:I58)","v":0},0,0,0,0,0,0,{"$f":"TRANSPOSE('5. Cost Information'!J52:J58)","v":0},0,0,0,0,0,0,{"$f":"TRANSPOSE('5. Cost Information'!K52:K58)","v":0},0,0,0,0,0,0,{"$f":"TRANSPOSE('5. Cost Information'!L52:L58)","v":0},0,0,0,0,0,0,{"$f":"TRANSPOSE('5. Cost Information'!M52:M58)","v":0},0,0,0,0,0,0,{"$f":"TRANSPOSE('5. Cost Information'!N52:N58)","v":0},0,0,0,0,0,0,{"$f":"TRANSPOSE('5. Cost Information'!P52:P58)","v":0},0,0,0,0,0,0,{"$f":"TRANSPOSE('5. Cost Information'!Q52:Q58)","v":0},0,0,0,0,0,0,{"$f":"TRANSPOSE('5. Cost Information'!R52:R58)","v":0},0,0,0,0,0,0,{"$f":"TRANSPOSE('5. Cost Information'!S52:S58)","v":0},0,0,0,0,0,0,{"$f":"TRANSPOSE('5. Cost Information'!T52:T58)","v":0},0,0,0,0,0,0,{"$f":"TRANSPOSE('5. Cost Information'!U52:U58)","v":0},0,0,0,0,0,0,{"$f":"TRANSPOSE('5. Cost Information'!W52:W58)","v":0},0,0,0,0,0,0,{"$f":"TRANSPOSE('5. Cost Information'!W60:W63)","v":0},0,0,0,{"$f":"TRANSPOSE('6. Reclass Template'!B11)","v":0},{"$f":"('6. Reclass Template'!D11:I11)","v":0},0,0,0,0,0,{"$f":"'6. Reclass Template'!B12","v":0},{"$f":"'6. Reclass Template'!D12:I12","v":0},0,0,0,0,0,{"$f":"'6. Reclass Template'!B13","v":0},{"$f":"'6. Reclass Template'!D13:I13","v":0},0,0,0,0,0,{"$f":"'6. Reclass Template'!B14","v":0},{"$f":"'6. Reclass Template'!D14:I14","v":0},0,0,0,0,0,{"$f":"'6. Reclass Template'!B15","v":0},{"$f":"'6. Reclass Template'!D15:I15","v":0},0,0,0,0,0,{"$f":"'6. Reclass Template'!B16","v":0},{"$f":"'6. Reclass Template'!D16:I16","v":0},0,0,0,0,0,{"$f":"'6. Reclass Template'!B17","v":0},{"$f":"'6. Reclass Template'!D17:I17","v":0},0,0,0,0,0,{"$f":"'6. Reclass Template'!B18","v":0},{"$f":"'6. Reclass Template'!D18:I18","v":0},0,0,0,0,0,{"$f":"'6. Reclass Template'!B19","v":0},{"$f":"'6. Reclass Template'!D19:I19","v":0},0,0,0,0,0,{"$f":"'6. Reclass Template'!B20","v":0},{"$f":"'6. Reclass Template'!D20:I20","v":0},0,0,0,0,0,{"$f":"'6. Reclass Template'!B21","v":0},{"$f":"'6. Reclass Template'!D21:I21","v":0},0,0,0,0,0,{"$f":"'6. Reclass Template'!B22","v":0},{"$f":"'6. Reclass Template'!D22:I22","v":0},0,0,0,0,0,{"$f":"'6. Reclass Template'!B23","v":0},{"$f":"'6. Reclass Template'!D23:I23","v":0},0,0,0,0,0,{"$f":"'6. Reclass Template'!B24","v":0},{"$f":"'6. Reclass Template'!D24:I24","v":0},0,0,0,0,0,{"$f":"'6. Reclass Template'!B25","v":0},{"$f":"'6. Reclass Template'!D25:I25","v":0},0,0,0,0,0,{"$f":"'6. Reclass Template'!B26","v":0},{"$f":"'6. Reclass Template'!D26:I26","v":0},0,0,0,0,0,{"$f":"'6. Reclass Template'!B27","v":0},{"$f":"'6. Reclass Template'!D27:I27","v":0},0,0,0,0,0,{"$f":"'6. Reclass Template'!B28","v":0},{"$f":"'6. Reclass Template'!D28:I28","v":0},0,0,0,0,0,{"$f":"'6. Reclass Template'!B29","v":0},{"$f":"'6. Reclass Template'!D29:I29","v":0},0,0,0,0,0,{"$f":"'6. Reclass Template'!B30","v":0},{"$f":"'6. Reclass Template'!D30:I30","v":0},0,0,0,0,0,{"$f":"'6. Reclass Template'!B31","v":0},{"$f":"'6. Reclass Template'!D31:I31","v":0},0,0,0,0,0,{"$f":"'6. Reclass Template'!B32","v":0},{"$f":"'6. Reclass Template'!D32:I32","v":0},0,0,0,0,0,{"$f":"'6. Reclass Template'!B33","v":0},{"$f":"'6. Reclass Template'!D34:I34","v":0},0,0,0,0,0,{"$f":"'6. Reclass Template'!B34","v":0},{"$f":"'6. Reclass Template'!D34:I34","v":0},0,0,0,0,0,{"$f":"'6. Reclass Template'!B35","v":0},{"$f":"'6. Reclass Template'!D35:I35","v":0},0,0,0,0,0,{"$f":"'6. Reclass Template'!B36","v":0},{"$f":"'6. Reclass Template'!D36:I36","v":0},0,0,0,0,0,{"$f":"'6. Reclass Template'!B37","v":0},{"$f":"'6. Reclass Template'!D37:I37","v":0},0,0,0,0,0,{"$f":"'6. Reclass Template'!B38","v":0},{"$f":"'6. Reclass Template'!D38:I38","v":0},0,0,0,0,0,{"$f":"'6. Reclass Template'!B39","v":0},{"$f":"'6. Reclass Template'!D39:I39","v":0},0,0,0,0,0,{"$f":"'6. Reclass Template'!B40","v":0},{"$f":"'6. Reclass Template'!D40:I40","v":0},0,0,0,0,0,{"$f":"'6. Reclass Template'!B41","v":0},{"$f":"'6. Reclass Template'!D41:I41","v":0},0,0,0,0,0,{"$f":"'6. Reclass Template'!B42","v":0},{"$f":"'6. Reclass Template'!D42:I42","v":0},0,0,0,0,0,{"$f":"'6. Reclass Template'!B43","v":0},{"$f":"'6. Reclass Template'!D43:I43","v":0},0,0,0,0,0,{"$f":"'6. Reclass Template'!B44","v":0},{"$f":"'6. Reclass Template'!D44:I44","v":0},0,0,0,0,0,{"$f":"'6. Reclass Template'!B45","v":0},{"$f":"'6. Reclass Template'!D45:I45","v":0},0,0,0,0,0,{"$f":"'6. Reclass Template'!B46","v":0},{"$f":"'6. Reclass Template'!D46:I46","v":0},0,0,0,0,0,{"$f":"'6. Reclass Template'!B47","v":0},{"$f":"'6. Reclass Template'!D47:I47","v":0},0,0,0,0,0,{"$f":"'6. Reclass Template'!B48","v":0},{"$f":"'6. Reclass Template'!D48:I48","v":0},0,0,0,0,0,{"$f":"'6. Reclass Template'!B49","v":0},{"$f":"'6. Reclass Template'!D49:I49","v":0},0,0,0,0,0,{"$f":"'6. Reclass Template'!B50","v":0},{"$f":"'6. Reclass Template'!D50:I50","v":0},0,0,0,0,0,{"$f":"'6. Reclass Template'!B51","v":0},{"$f":"'6. Reclass Template'!D51:I51","v":0},0,0,0,0,0,{"$f":"'6. Reclass Template'!B52","v":0},{"$f":"'6. Reclass Template'!D52:I52","v":0},0,0,0,0,0,{"$f":"'6. Reclass Template'!B53","v":0},{"$f":"'6. Reclass Template'!D53:I53","v":0},0,0,0,0,0,{"$f":"'6. Reclass Template'!B54","v":0},{"$f":"'6. Reclass Template'!D54:I54","v":0},0,0,0,0,0,{"$f":"'6. Reclass Template'!B55","v":0},{"$f":"'6. Reclass Template'!D55:I55","v":0},0,0,0,0,0,{"$f":"'6. Reclass Template'!B56","v":0},{"$f":"'6. Reclass Template'!D56:I56","v":0},0,0,0,0,0,{"$f":"'6. Reclass Template'!B57","v":0},{"$f":"'6. Reclass Template'!D57:I57","v":0},0,0,0,0,0,{"$f":"'6. Reclass Template'!B58","v":0},{"$f":"'6. Reclass Template'!D58:I58","v":0},0,0,0,0,0,{"$f":"'6. Reclass Template'!B59","v":0},{"$f":"'6. Reclass Template'!D59:I59","v":0},0,0,0,0,0,{"$f":"'6. Reclass Template'!B60","v":0},{"$f":"'6. Reclass Template'!D60:I60","v":0},0,0,0,0,0,{"$f":"'6. Reclass Template'!F61","v":0},{"$f":"'6. Reclass Template'!I61","v":0},{"$f":"'7. Adjustment Template'!$B$11:$F$11","v":"Bad Debt"},0,0,0,0,{"$f":"'7. Adjustment Template'!$B$12:$F$12","v":0},0,0,0,0,{"$f":"'7. Adjustment Template'!$B$13:$F$13","v":0},0,0,0,0,{"$f":"'7. Adjustment Template'!$B$14:$F$14","v":0},0,0,0,0,{"$f":"'7. Adjustment Template'!$B$15:$F$15","v":0},0,0,0,0,{"$f":"'7. Adjustment Template'!$B$16:$F$16","v":0},0,0,0,0,{"$f":"'7. Adjustment Template'!$B$17:$F$17","v":0},0,0,0,0,{"$f":"'7. Adjustment Template'!$B$18:$F$18","v":0},0,0,0,0,{"$f":"'7. Adjustment Template'!$B$19:$F$19","v":0},0,0,0,0,{"$f":"'7. Adjustment Template'!$B$20:$F$20","v":0},0,0,0,0,{"$f":"'7. Adjustment Template'!$B$21:$F$21","v":0},0,0,0,0,{"$f":"'7. Adjustment Template'!$B$22:$F$22","v":0},0,0,0,0,{"$f":"'7. Adjustment Template'!$B$23:$F$23","v":0},0,0,0,0,{"$f":"'7. Adjustment Template'!$B$24:$F$24","v":0},0,0,0,0,{"$f":"'7. Adjustment Template'!$B$25:$F$25","v":0},0,0,0,0,{"$f":"'7. Adjustment Template'!$B$26:$F$26","v":0},0,0,0,0,{"$f":"'7. Adjustment Template'!$B$27:$F$27","v":0},0,0,0,0,{"$f":"'7. Adjustment Template'!$B$28:$F$28","v":0},0,0,0,0,{"$f":"'7. Adjustment Template'!$F$29","v":0},{"$f":"TRANSPOSE('8. Other Information'!$C$9:$C$18)","v":0},0,0,0,0,0,0,0,0,0,{"$f":"'8. Other Information'!$C$19","v":0},{"$f":"TRANSPOSE('Cost Breakdown'!$D$9:$D$16)","v":0},0,0,0,0,0,0,0,{"$f":"'Cost Breakdown'!$D$18","v":0},{"$f":"TRANSPOSE('Cost Breakdown'!$D$20:$D$23)","v":0},0,0,0,{"$f":"'Cost Breakdown'!$D$25","v":0},{"$f":"'Cost Breakdown'!$D$27","v":0},{"$f":"TRANSPOSE('Cost Breakdown'!E9:E16)","v":0},0,0,0,0,0,0,0,{"$f":"'Cost Breakdown'!E18","v":0},{"$f":"TRANSPOSE('Cost Breakdown'!E20:E23)","v":0},0,0,0,{"$f":"'Cost Breakdown'!E25","v":0},{"$f":"'Cost Breakdown'!E27","v":0},{"$f":"TRANSPOSE('Cost Breakdown'!F9:F16)","v":0},0,0,0,0,0,0,0,{"$f":"'Cost Breakdown'!F18","v":0},{"$f":"TRANSPOSE('Cost Breakdown'!F20:F23)","v":0},0,0,0,{"$f":"'Cost Breakdown'!F25","v":0},{"$f":"'Cost Breakdown'!F27","v":0},{"$f":"TRANSPOSE('Cost Breakdown'!G9:G16)","v":0},0,0,0,0,0,0,0,{"$f":"'Cost Breakdown'!G18","v":0},{"$f":"TRANSPOSE('Cost Breakdown'!G20:G23)","v":0},0,0,0,{"$f":"'Cost Breakdown'!G25","v":0},{"$f":"'Cost Breakdown'!G27","v":0},{"$f":"TRANSPOSE('Cost Breakdown'!H9:H16)","v":0},0,0,0,0,0,0,0,{"$f":"'Cost Breakdown'!H18","v":0},{"$f":"TRANSPOSE('Cost Breakdown'!H20:H23)","v":0},0,0,0,{"$f":"'Cost Breakdown'!H25","v":0},{"$f":"'Cost Breakdown'!H27","v":0},{"$f":"TRANSPOSE('Cost Breakdown'!I9:I16)","v":0},0,0,0,0,0,0,0,{"$f":"'Cost Breakdown'!I18","v":0},{"$f":"TRANSPOSE('Cost Breakdown'!I20:I23)","v":0},0,0,0,{"$f":"'Cost Breakdown'!I25","v":0},{"$f":"'Cost Breakdown'!I27","v":0},{"$f":"TRANSPOSE('Cost Breakdown'!J9:J16)","v":0},0,0,0,0,0,0,0,{"$f":"'Cost Breakdown'!J18","v":0},{"$f":"TRANSPOSE('Cost Breakdown'!J20:J23)","v":0},0,0,0,{"$f":"'Cost Breakdown'!J25","v":0},{"$f":"'Cost Breakdown'!J27","v":0},{"$f":"TRANSPOSE('Cost Breakdown'!K9:K16)","v":0},0,0,0,0,0,0,0,{"$f":"'Cost Breakdown'!K18","v":0},{"$f":"TRANSPOSE('Cost Breakdown'!K20:K23)","v":0},0,0,0,{"$f":"'Cost Breakdown'!K25","v":0},{"$f":"'Cost Breakdown'!K27","v":0},{"$f":"TRANSPOSE('Cost Breakdown'!L9:L16)","v":0},0,0,0,0,0,0,0,{"$f":"'Cost Breakdown'!L18","v":0},{"$f":"TRANSPOSE('Cost Breakdown'!L20:L23)","v":0},0,0,0,{"$f":"'Cost Breakdown'!L25","v":0},{"$f":"'Cost Breakdown'!L27","v":0},{"$f":"TRANSPOSE('Cost Breakdown'!M9:M16)","v":0},0,0,0,0,0,0,0,{"$f":"'Cost Breakdown'!M18","v":0},{"$f":"TRANSPOSE('Cost Breakdown'!M20:M23)","v":0},0,0,0,{"$f":"'Cost Breakdown'!M25","v":0},{"$f":"'Cost Breakdown'!M27","v":0},{"$f":"TRANSPOSE('Cost Breakdown'!N9:N16)","v":0},0,0,0,0,0,0,0,{"$f":"'Cost Breakdown'!N18","v":0},{"$f":"TRANSPOSE('Cost Breakdown'!N20:N23)","v":0},0,0,0,{"$f":"'Cost Breakdown'!N25","v":0},{"$f":"'Cost Breakdown'!N27","v":0},{"$f":"TRANSPOSE('Cost Breakdown'!D32:D34)","v":0},0,0,{"$f":"TRANSPOSE('Cost Breakdown'!E32:E34)","v":0},0,0,{"$f":"TRANSPOSE('Cost Breakdown'!F32:F34)","v":0},0,0,{"$f":"TRANSPOSE('Cost Breakdown'!G32:G34)","v":0},0,0,{"$f":"TRANSPOSE('Cost Breakdown'!H32:H34)","v":0},0,0,{"$f":"TRANSPOSE('Cost Breakdown'!I32:I34)","v":0},0,0,{"$f":"TRANSPOSE('Cost Breakdown'!J32:J34)","v":0},0,0,{"$f":"TRANSPOSE('Cost Breakdown'!K32:K34)","v":0},0,0,{"$f":"TRANSPOSE('Cost Breakdown'!L32:L34)","v":0},0,0,{"$f":"TRANSPOSE('Cost Breakdown'!M32:M34)","v":0},0,0,{"$f":"TRANSPOSE('Cost Breakdown'!N32:N34)","v":0},0,0,{"$f":"TRANSPOSE('Cost Breakdown'!D40:D42)","v":0},0,0,{"$f":"TRANSPOSE('Cost Breakdown'!E40:E42)","v":0},0,0,{"$f":"TRANSPOSE('Cost Breakdown'!F40:F42)","v":0},0,0,{"$f":"TRANSPOSE('Cost Breakdown'!G40:G42)","v":0},0,0,{"$f":"TRANSPOSE('Cost Breakdown'!H40:H42)","v":0},0,0,{"$f":"TRANSPOSE('Cost Breakdown'!I40:I42)","v":0},0,0,{"$f":"TRANSPOSE('Cost Breakdown'!J40:J42)","v":0},0,0,{"$f":"TRANSPOSE('Cost Breakdown'!K40:K42)","v":0},0,0,{"$f":"TRANSPOSE('Cost Breakdown'!L40:L42)","v":0},0,0,{"$f":"TRANSPOSE('Cost Breakdown'!M40:M42)","v":0},0,0,{"$f":"TRANSPOSE('Cost Breakdown'!N40:N42)","v":0},0,0,{"$f":"TRANSPOSE('Form 1 - Direct Medical Cost'!$D$14:$D$29)","v":0},0,0,0,0,0,0,0,0,0,0,0,0,0,0,0,{"$f":"TRANSPOSE('Form 1 - Direct Medical Cost'!$E$14:$E$29)","v":"0"},"0","0","0","0","0","0",0,"0","0","0","0",0,"0","0",0,{"$f":"TRANSPOSE('Form 1 - Direct Medical Cost'!$F$14:$F$29)","v":0},0,0,0,0,0,0,0,0,0,0,0,0,0,0,0,{"$f":"TRANSPOSE('Form 1 - Direct Medical Cost'!$G$14:$G$29)","v":0},0,0,0,0,0,0,0,0,0,0,0,0,0,0,0,{"$f":"TRANSPOSE('Form 1 - Direct Medical Cost'!$H$14:$H$29)","v":0},0,0,0,0,0,0,0,0,0,0,0,0,0,0,0,{"$f":"TRANSPOSE('Form 1 - Direct Medical Cost'!$I$14:$I$29)","v":0},0,0,0,0,0,0,0,0,0,0,0,0,0,0,0,{"$f":"TRANSPOSE('Form 1 - Direct Medical Cost'!$J$14:$J$29)","v":0},0,0,0,0,0,0,0,0,0,0,0,0,0,0,0,{"$f":"TRANSPOSE('Form 1 - Direct Medical Cost'!$K$14:$K$29)","v":0},0,0,0,0,0,0,0,0,0,0,0,0,0,0,0,{"$f":"TRANSPOSE('Form 1 - Direct Medical Cost'!$L$14:$L$29)","v":0},0,0,0,0,0,0,0,0,0,0,0,0,0,0,0,{"$f":"TRANSPOSE('Form 1 - Direct Medical Cost'!$G$31:$G$47)","v":0},0,0,0,0,0,0,0,0,0,0,0,0,0,0,0,0,{"$f":"TRANSPOSE('Form 1 - Direct Medical Cost'!$H$31:$H$47)","v":0},0,0,0,0,0,0,0,0,0,0,0,0,0,0,0,0,{"$f":"TRANSPOSE('Form 1 - Direct Medical Cost'!$I$31:$I$47)","v":0},0,0,0,0,0,0,0,0,0,0,0,0,0,0,0,0,{"$f":"TRANSPOSE('Form 1 - Direct Medical Cost'!$J$31:$J$47)","v":0},0,0,0,0,0,0,0,0,0,0,0,0,0,0,0,0,{"$f":"TRANSPOSE('Form 1 - Direct Medical Cost'!$K$31:$K$47)","v":0},0,0,0,0,0,0,0,0,0,0,0,0,0,0,0,0,{"$f":"TRANSPOSE('Form 1 - Direct Medical Cost'!$L$31:$L$47)","v":0},0,0,0,0,0,0,0,0,0,0,0,0,0,0,0,0,{"$f":"'Form 1 - Direct Medical Cost'!$D$49:$L$49","v":0},0,0,0,0,0,0,0,0,{"$f":"TRANSPOSE('Form 2 - Direct Dental Cost'!$D$13:$D$20)","v":0},0,0,0,0,0,0,0,{"$f":"TRANSPOSE('Form 2 - Direct Dental Cost'!$E$13:$E$20)","v":"0"},"0","0","0",0,"0","0",0,{"$f":"TRANSPOSE('Form 2 - Direct Dental Cost'!$F$13:$F$20)","v":0},0,0,0,0,0,0,0,{"$f":"TRANSPOSE('Form 2 - Direct Dental Cost'!$G$13:$G$20)","v":0},0,0,0,0,0,0,0,{"$f":"TRANSPOSE('Form 2 - Direct Dental Cost'!$H$13:$H$20)","v":0},0,0,0,0,0,0,0,{"$f":"TRANSPOSE('Form 2 - Direct Dental Cost'!$I$13:$I$20)","v":0},0,0,0,0,0,0,0,{"$f":"TRANSPOSE('Form 2 - Direct Dental Cost'!$J$13:$J$20)","v":0},0,0,0,0,0,0,0,{"$f":"TRANSPOSE('Form 2 - Direct Dental Cost'!$K$13:$K$20)","v":0},0,0,0,0,0,0,0,{"$f":"TRANSPOSE('Form 2 - Direct Dental Cost'!$L$13:$L$20)","v":0},0,0,0,0,0,0,0,{"$f":"TRANSPOSE('Form 2 - Direct Dental Cost'!$G$22:$G$38)","v":0},0,0,0,0,0,0,0,0,0,0,0,0,0,0,0,0,{"$f":"TRANSPOSE('Form 2 - Direct Dental Cost'!$H$22:$H$38)","v":0},0,0,0,0,0,0,0,0,0,0,0,0,0,0,0,0,{"$f":"TRANSPOSE('Form 2 - Direct Dental Cost'!$I$22:$I$38)","v":0},0,0,0,0,0,0,0,0,0,0,0,0,0,0,0,0,{"$f":"TRANSPOSE('Form 2 - Direct Dental Cost'!$J$22:$J$38)","v":0},0,0,0,0,0,0,0,0,0,0,0,0,0,0,0,0,{"$f":"TRANSPOSE('Form 2 - Direct Dental Cost'!$K$22:$K$38)","v":0},0,0,0,0,0,0,0,0,0,0,0,0,0,0,0,0,{"$f":"TRANSPOSE('Form 2 - Direct Dental Cost'!$L$22:$L$38)","v":0},0,0,0,0,0,0,0,0,0,0,0,0,0,0,0,0,{"$f":"'Form 2 - Direct Dental Cost'!$D$40:$L$40","v":0},0,0,0,0,0,0,0,0,{"$f":"TRANSPOSE('Form 3 - Direct BH Cost'!$D$14:$D$24)","v":0},0,0,0,0,0,0,0,0,0,0,{"$f":"TRANSPOSE('Form 3 - Direct BH Cost'!$D$26:$D$33)","v":0},0,0,0,0,0,0,0,{"$f":"'Form 3 - Direct BH Cost'!$D$34","v":0},{"$f":"TRANSPOSE('Form 3 - Direct BH Cost'!$D$36:$D$41)","v":0},0,0,0,0,0,{"$f":"TRANSPOSE('Form 3 - Direct BH Cost'!$E$14:$E$24)","v":"0"},"0","0","0","0","0","0","0","0","0","0",{"$f":"TRANSPOSE('Form 3 - Direct BH Cost'!$E$26:$E$34)","v":"0"},"0","0","0","0","0","0","0",0,{"$f":"TRANSPOSE('Form 3 - Direct BH Cost'!$E$36:$E$41)","v":"0"},"0",0,"0","0",0,{"$f":"TRANSPOSE('Form 3 - Direct BH Cost'!$F$14:$F$24)","v":0},0,0,0,0,0,0,0,0,0,0,{"$f":"TRANSPOSE('Form 3 - Direct BH Cost'!$F$26:$F$34)","v":0},0,0,0,0,0,0,0,0,{"$f":"TRANSPOSE('Form 3 - Direct BH Cost'!$F$36:$F$41)","v":0},0,0,0,0,0,{"$f":"TRANSPOSE('Form 3 - Direct BH Cost'!$G$14:$G$24)","v":0},0,0,0,0,0,0,0,0,0,0,{"$f":"TRANSPOSE('Form 3 - Direct BH Cost'!$G$26:$G$34)","v":0},0,0,0,0,0,0,0,0,{"$f":"TRANSPOSE('Form 3 - Direct BH Cost'!$G$36:$G$41)","v":0},0,0,0,0,0,{"$f":"TRANSPOSE('Form 3 - Direct BH Cost'!$H$14:$H$24)","v":0},0,0,0,0,0,0,0,0,0,0,{"$f":"TRANSPOSE('Form 3 - Direct BH Cost'!$H$26:$H$34)","v":0},0,0,0,0,0,0,0,0,{"$f":"TRANSPOSE('Form 3 - Direct BH Cost'!$H$36:$H$41)","v":0},0,0,0,0,0,{"$f":"TRANSPOSE('Form 3 - Direct BH Cost'!$I$14:$I$24)","v":0},0,0,0,0,0,0,0,0,0,0,{"$f":"TRANSPOSE('Form 3 - Direct BH Cost'!$I$26:$I$34)","v":0},0,0,0,0,0,0,0,0,{"$f":"TRANSPOSE('Form 3 - Direct BH Cost'!$I$36:$I$41)","v":0},0,0,0,0,0,{"$f":"TRANSPOSE('Form 3 - Direct BH Cost'!$J$14:$J$24)","v":0},0,0,0,0,0,0,0,0,0,0,{"$f":"TRANSPOSE('Form 3 - Direct BH Cost'!$J$26:$J$34)","v":0},0,0,0,0,0,0,0,0,{"$f":"TRANSPOSE('Form 3 - Direct BH Cost'!$J$36:$J$41)","v":0},0,0,0,0,0,{"$f":"TRANSPOSE('Form 3 - Direct BH Cost'!$K$14:$K$24)","v":0},0,0,0,0,0,0,0,0,0,0,{"$f":"TRANSPOSE('Form 3 - Direct BH Cost'!$K$26:$K$34)","v":0},0,0,0,0,0,0,0,0,{"$f":"TRANSPOSE('Form 3 - Direct BH Cost'!$K$36:$K$41)","v":0},0,0,0,0,0,{"$f":"TRANSPOSE('Form 3 - Direct BH Cost'!$L$14:$L$24)","v":0},0,0,0,0,0,0,0,0,0,0,{"$f":"TRANSPOSE('Form 3 - Direct BH Cost'!$L$26:$L$34)","v":0},0,0,0,0,0,0,0,0,{"$f":"TRANSPOSE('Form 3 - Direct BH Cost'!$L$36:$L$41)","v":0},0,0,0,0,0,{"$f":"TRANSPOSE('Form 3 - Direct BH Cost'!$G$43:$G$59)","v":0},0,0,0,0,0,0,0,0,0,0,0,0,0,0,0,0,{"$f":"TRANSPOSE('Form 3 - Direct BH Cost'!$H$43:$H$59)","v":0},0,0,0,0,0,0,0,0,0,0,0,0,0,0,0,0,{"$f":"TRANSPOSE('Form 3 - Direct BH Cost'!$I$43:$I$59)","v":0},0,0,0,0,0,0,0,0,0,0,0,0,0,0,0,0,{"$f":"TRANSPOSE('Form 3 - Direct BH Cost'!$J$43:$J$59)","v":0},0,0,0,0,0,0,0,0,0,0,0,0,0,0,0,0,{"$f":"TRANSPOSE('Form 3 - Direct BH Cost'!$K$43:$K$59)","v":0},0,0,0,0,0,0,0,0,0,0,0,0,0,0,0,0,{"$f":"TRANSPOSE('Form 3 - Direct BH Cost'!$L$43:$L$59)","v":0},0,0,0,0,0,0,0,0,0,0,0,0,0,0,0,0,{"$f":"'Form 3 - Direct BH Cost'!$D$61:$L$61","v":0},0,0,0,0,0,0,0,0,{"$f":"'Form 3 - Direct BH Cost'!$D$63:$L$63","v":0},0,0,0,0,0,0,0,0,{"$f":"TRANSPOSE('Form 4 - NonAllowable'!$D$13:$D$28)","v":0},0,0,0,0,0,0,0,0,0,0,0,0,0,0,0,{"$f":"TRANSPOSE('Form 4 - NonAllowable'!$D$32:$D$33)","v":0},0,{"$f":"TRANSPOSE('Form 4 - NonAllowable'!$E$13:$E$28)","v":"0"},"0","0","0","0","0","0","0","0","0","0","0",0,0,0,"0",{"$f":"TRANSPOSE('Form 4 - NonAllowable'!$E$32:$E$33)","v":0},0,{"$f":"TRANSPOSE('Form 4 - NonAllowable'!$F$13:$F$28)","v":0},0,0,0,0,0,0,0,0,0,0,0,0,0,0,0,{"$f":"TRANSPOSE('Form 4 - NonAllowable'!$F$32:$F$33)","v":0},0,{"$f":"TRANSPOSE('Form 4 - NonAllowable'!$G$13:$G$28)","v":0},0,0,0,0,0,0,0,0,0,0,0,0,0,0,0,{"$f":"TRANSPOSE('Form 4 - NonAllowable'!$G$32:$G$33)","v":0},0,{"$f":"TRANSPOSE('Form 4 - NonAllowable'!$H$13:$H$28)","v":0},0,0,0,0,0,0,0,0,0,0,0,0,0,0,0,{"$f":"TRANSPOSE('Form 4 - NonAllowable'!$H$32:$H$33)","v":0},0,{"$f":"TRANSPOSE('Form 4 - NonAllowable'!$I$13:$I$28)","v":0},0,0,0,0,0,0,0,0,0,0,0,0,0,0,0,{"$f":"TRANSPOSE('Form 4 - NonAllowable'!$I$32:$I$33)","v":0},0,{"$f":"TRANSPOSE('Form 4 - NonAllowable'!$J$13:$J$28)","v":0},0,0,0,0,0,0,0,0,0,0,0,0,0,0,0,{"$f":"TRANSPOSE('Form 4 - NonAllowable'!$J$32:$J$33)","v":0},0,{"$f":"TRANSPOSE('Form 4 - NonAllowable'!$K$13:$K$28)","v":0},0,0,0,0,0,0,0,0,0,0,0,0,0,0,0,{"$f":"TRANSPOSE('Form 4 - NonAllowable'!$K$32:$K$33)","v":0},0,{"$f":"TRANSPOSE('Form 4 - NonAllowable'!$L$13:$L$28)","v":0},0,0,0,0,0,0,0,0,0,0,0,0,0,0,0,{"$f":"TRANSPOSE('Form 4 - NonAllowable'!$L$32:$L$33)","v":0},0,{"$f":"'Form 5 - Overhead & Enabling'!$D$12","v":0},{"$f":"'Form 5 - Overhead & Enabling'!$D$32","v":0},{"$f":"'Form 5 - Overhead & Enabling'!$E$12","v":"0"},{"$f":"'Form 5 - Overhead & Enabling'!$E$32","v":0},{"$f":"'Form 5 - Overhead & Enabling'!$F$12","v":0},{"$f":"'Form 5 - Overhead & Enabling'!$F$32","v":0},{"$f":"TRANSPOSE('Form 5 - Overhead & Enabling'!$G$12:$G$32)","v":0},0,0,0,0,0,0,0,0,0,0,0,0,0,0,0,0,0,0,0,0,{"$f":"TRANSPOSE('Form 5 - Overhead & Enabling'!$H$12:$H$32)","v":0},0,0,0,0,0,0,0,0,0,0,0,0,0,0,0,0,0,0,0,0,{"$f":"TRANSPOSE('Form 5 - Overhead & Enabling'!$I$12:$I$32)","v":0},0,0,0,0,0,0,0,0,0,0,0,0,0,0,0,0,0,0,0,0,{"$f":"TRANSPOSE('Form 5 - Overhead & Enabling'!$J$12:$J$32)","v":0},0,0,0,0,0,0,0,0,0,0,0,0,0,0,0,0,0,0,0,0,{"$f":"TRANSPOSE('Form 5 - Overhead & Enabling'!$K$12:$K$32)","v":0},0,0,0,0,0,0,0,0,0,0,0,0,0,0,0,0,0,0,0,0,{"$f":"TRANSPOSE('Form 5 - Overhead & Enabling'!$L$12:$L$32)","v":0},0,0,0,0,0,0,0,0,0,0,0,0,0,0,0,0,0,0,0,0,{"$f":"'Form 5 - Overhead & Enabling'!$D$34","v":0},{"$f":"'Form 5 - Overhead & Enabling'!$D$54","v":0},{"$f":"'Form 5 - Overhead & Enabling'!$E$34","v":0},{"$f":"'Form 5 - Overhead & Enabling'!$E$54","v":0},{"$f":"'Form 5 - Overhead & Enabling'!$F$34","v":0},{"$f":"'Form 5 - Overhead & Enabling'!$F$54","v":0},{"$f":"TRANSPOSE('Form 5 - Overhead & Enabling'!$G$34:$G$54)","v":0},0,0,0,0,0,0,0,0,0,0,0,0,0,0,0,0,0,0,0,0,{"$f":"TRANSPOSE('Form 5 - Overhead & Enabling'!$H$34:$H$54)","v":0},0,0,0,0,0,0,0,0,0,0,0,0,0,0,0,0,0,0,0,0,{"$f":"TRANSPOSE('Form 5 - Overhead & Enabling'!$I$34:$I$54)","v":0},0,0,0,0,0,0,0,0,0,0,0,0,0,0,0,0,0,0,0,0,{"$f":"TRANSPOSE('Form 5 - Overhead & Enabling'!$J$34:$J$54)","v":0},0,0,0,0,0,0,0,0,0,0,0,0,0,0,0,0,0,0,0,0,{"$f":"TRANSPOSE('Form 5 - Overhead & Enabling'!$K$34:$K$54)","v":0},0,0,0,0,0,0,0,0,0,0,0,0,0,0,0,0,0,0,0,0,{"$f":"TRANSPOSE('Form 5 - Overhead & Enabling'!$L$34:$L$54)","v":0},0,0,0,0,0,0,0,0,0,0,0,0,0,0,0,0,0,0,0,0,{"$f":"'Form 5 - Overhead & Enabling'!$D$56","v":0},{"$f":"TRANSPOSE('Form 5 - Overhead & Enabling'!$D$73:$D$74)","v":0},0,{"$f":"'Form 5 - Overhead & Enabling'!$E$56","v":0},{"$f":"'Form 5 - Overhead & Enabling'!$E$73","v":0},{"$f":"'Form 5 - Overhead & Enabling'!$E$74","v":0},{"$f":"'Form 5 - Overhead & Enabling'!$F$56","v":0},{"$f":"'Form 5 - Overhead & Enabling'!$F$73","v":0},{"$f":"'Form 5 - Overhead & Enabling'!$F$74","v":0},{"$f":"TRANSPOSE('Form 5 - Overhead & Enabling'!$G$56:$G$74)","v":0},0,0,0,0,0,0,0,0,0,0,0,0,0,0,0,0,0,0,{"$f":"TRANSPOSE('Form 5 - Overhead & Enabling'!$H$56:$H$74)","v":0},0,0,0,0,0,0,0,0,0,0,0,0,0,0,0,0,0,0,{"$f":"TRANSPOSE('Form 5 - Overhead & Enabling'!$I$56:$I$74)","v":0},0,0,0,0,0,0,0,0,0,0,0,0,0,0,0,0,0,0,{"$f":"TRANSPOSE('Form 5 - Overhead & Enabling'!$J$56:$J$74)","v":0},0,0,0,0,0,0,0,0,0,0,0,0,0,0,0,0,0,0,{"$f":"TRANSPOSE('Form 5 - Overhead & Enabling'!$K$56:$K$74)","v":0},0,0,0,0,0,0,0,0,0,0,0,0,0,0,0,0,0,0,{"$f":"TRANSPOSE('Form 5 - Overhead & Enabling'!$L$56:$L$74)","v":0},0,0,0,0,0,0,0,0,0,0,0,0,0,0,0,0,0,0,{"$f":"'Form 5 - Overhead & Enabling'!$F$76:$L$76","v":0},0,0,0,0,0,0,{"$f":"'Form 6A - Reclassification'!$B$9","v":""},{"$f":"'Form 6A - Reclassification'!$D$9:$I$9","v":""},"","","","","",{"$f":"'Form 6A - Reclassification'!$B$10","v":""},{"$f":"'Form 6A - Reclassification'!$D$10:$I$10","v":""},"","","","","",{"$f":"'Form 6A - Reclassification'!$B$11","v":""},{"$f":"'Form 6A - Reclassification'!$D$11:$I$11","v":""},"","","","","",{"$f":"'Form 6A - Reclassification'!$B$12","v":""},{"$f":"'Form 6A - Reclassification'!$D$12:$I$12","v":""},"","","","","",{"$f":"'Form 6A - Reclassification'!$B$13","v":""},{"$f":"'Form 6A - Reclassification'!$D$13:$I$13","v":""},"","","","","",{"$f":"'Form 6A - Reclassification'!$B$14","v":""},{"$f":"'Form 6A - Reclassification'!$D$14:$I$14","v":""},"","","","","",{"$f":"'Form 6A - Reclassification'!$B$15","v":""},{"$f":"'Form 6A - Reclassification'!$D$15:$I$15","v":""},"","","","","",{"$f":"'Form 6A - Reclassification'!$B$16","v":""},{"$f":"'Form 6A - Reclassification'!$D$16:$I$16","v":""},"","","","","",{"$f":"'Form 6A - Reclassification'!$B$17","v":""},{"$f":"'Form 6A - Reclassification'!$D$17:$I$17","v":""},"","","","","",{"$f":"'Form 6A - Reclassification'!$B$18","v":""},{"$f":"'Form 6A - Reclassification'!$D$18:$I$18","v":""},"","","","","",{"$f":"'Form 6A - Reclassification'!$B$19","v":""},{"$f":"'Form 6A - Reclassification'!$D$19:$I$19","v":""},"","","","","",{"$f":"'Form 6A - Reclassification'!$B$20","v":""},{"$f":"'Form 6A - Reclassification'!$D$20:$I$20","v":""},0,"","","","",{"$f":"'Form 6A - Reclassification'!$B$21","v":""},{"$f":"'Form 6A - Reclassification'!$D$21:$I$21","v":""},"","","","","",{"$f":"'Form 6A - Reclassification'!$B$22","v":""},{"$f":"'Form 6A - Reclassification'!$D$22:$I$22","v":""},"","","","","",{"$f":"'Form 6A - Reclassification'!$B$23","v":""},{"$f":"'Form 6A - Reclassification'!$D$23:$I$23","v":""},"","","","","",{"$f":"'Form 6A - Reclassification'!$B$24","v":""},{"$f":"'Form 6A - Reclassification'!$D$24:$I$24","v":""},"","","","","",{"$f":"'Form 6A - Reclassification'!$B$25","v":""},{"$f":"'Form 6A - Reclassification'!$D$25:$I$25","v":""},"","","","","",{"$f":"'Form 6A - Reclassification'!$B$26","v":""},{"$f":"'Form 6A - Reclassification'!$D$26:$I$26","v":""},"","","","","",{"$f":"'Form 6A - Reclassification'!$B$27","v":""},{"$f":"'Form 6A - Reclassification'!$D$27:$I$27","v":""},"","","","","",{"$f":"'Form 6A - Reclassification'!$B$28","v":""},{"$f":"'Form 6A - Reclassification'!$D$28:$I$28","v":""},"","","","","",{"$f":"'Form 6A - Reclassification'!$B$29","v":""},{"$f":"'Form 6A - Reclassification'!$D$29:$I$29","v":""},"","","","","",{"$f":"'Form 6A - Reclassification'!$B$30","v":""},{"$f":"'Form 6A - Reclassification'!$D$30:$I$30","v":""},"","","","","",{"$f":"'Form 6A - Reclassification'!$B$31","v":""},{"$f":"'Form 6A - Reclassification'!$D$31:$I$31","v":""},"","","","","",{"$f":"'Form 6A - Reclassification'!$B$32","v":""},{"$f":"'Form 6A - Reclassification'!$D$32:$I$32","v":""},"","","","","",{"$f":"'Form 6A - Reclassification'!$B$33","v":""},{"$f":"'Form 6A - Reclassification'!$D$33:$I$33","v":""},"","","","","",{"$f":"'Form 6A - Reclassification'!$B$34","v":""},{"$f":"'Form 6A - Reclassification'!$D$34:$I$34","v":""},"","","","","",{"$f":"'Form 6A - Reclassification'!$B$35","v":""},{"$f":"'Form 6A - Reclassification'!$D$35:$I$35","v":""},"","","","","",{"$f":"'Form 6A - Reclassification'!$B$36","v":""},{"$f":"'Form 6A - Reclassification'!$D$36:$I$36","v":""},"","","","","",{"$f":"'Form 6A - Reclassification'!$B$37","v":""},{"$f":"'Form 6A - Reclassification'!$D$37:$I$37","v":""},"","","","","",{"$f":"'Form 6A - Reclassification'!$B$38","v":""},{"$f":"'Form 6A - Reclassification'!$D$38:$I$38","v":""},"","","","","",{"$f":"'Form 6A - Reclassification'!$B$39","v":""},{"$f":"'Form 6A - Reclassification'!$D$39:$I$39","v":""},"","","","","",{"$f":"'Form 6A - Reclassification'!$B$40","v":""},{"$f":"'Form 6A - Reclassification'!$D$40:$I$40","v":""},"","","","","",{"$f":"'Form 6A - Reclassification'!$B$41","v":""},{"$f":"'Form 6A - Reclassification'!$D$41:$I$41","v":""},"","","","","",{"$f":"'Form 6A - Reclassification'!$B$42","v":""},{"$f":"'Form 6A - Reclassification'!$D$42:$I$42","v":""},"","","","","",{"$f":"'Form 6A - Reclassification'!$B$43","v":""},{"$f":"'Form 6A - Reclassification'!$D$43:$I$43","v":""},"","","","","",{"$f":"'Form 6A - Reclassification'!$B$44","v":""},{"$f":"'Form 6A - Reclassification'!$D$44:$I$44","v":""},"","","","","",{"$f":"'Form 6A - Reclassification'!$B$45","v":""},{"$f":"'Form 6A - Reclassification'!$D$45:$I$45","v":""},"","","","","",{"$f":"'Form 6A - Reclassification'!$B$46","v":""},{"$f":"'Form 6A - Reclassification'!$D$46:$I$46","v":""},"","","","","",{"$f":"'Form 6A - Reclassification'!$B$47","v":""},{"$f":"'Form 6A - Reclassification'!$D$47:$I$47","v":""},"","","","","",{"$f":"'Form 6A - Reclassification'!$B$48","v":""},{"$f":"'Form 6A - Reclassification'!$D$48:$I$48","v":""},"","","","","",{"$f":"'Form 6A - Reclassification'!$B$49","v":""},{"$f":"'Form 6A - Reclassification'!$D$49:$I$49","v":""},"","","","","",{"$f":"'Form 6A - Reclassification'!$B$50","v":""},{"$f":"'Form 6A - Reclassification'!$D$50:$I$50","v":""},"","","","","",{"$f":"'Form 6A - Reclassification'!$B$51","v":""},{"$f":"'Form 6A - Reclassification'!$D$51:$I$51","v":""},"","","","","",{"$f":"'Form 6A - Reclassification'!$B$52","v":""},{"$f":"'Form 6A - Reclassification'!$D$52:$I$52","v":""},"","","","","",{"$f":"'Form 6A - Reclassification'!$B$53","v":""},{"$f":"'Form 6A - Reclassification'!$D$53:$I$53","v":""},"","","","","",{"$f":"'Form 6A - Reclassification'!$B$54","v":""},{"$f":"'Form 6A - Reclassification'!$D$54:$I$54","v":""},"","","","","",{"$f":"'Form 6A - Reclassification'!$B$55","v":""},{"$f":"'Form 6A - Reclassification'!$D$55:$I$55","v":""},"","","","","",{"$f":"'Form 6A - Reclassification'!$B$56","v":""},{"$f":"'Form 6A - Reclassification'!$D$56:$I$56","v":""},"","","","","",{"$f":"'Form 6A - Reclassification'!$B$57","v":""},{"$f":"'Form 6A - Reclassification'!$D$57:$I$57","v":""},"","","","","",{"$f":"'Form 6A - Reclassification'!$B$58","v":""},{"$f":"'Form 6A - Reclassification'!$D$58:$I$58","v":""},"","","","","",{"$f":"'Form 6A - Reclassification'!$F$59","v":0},{"$f":"'Form 6A - Reclassification'!$I$59","v":0},{"$f":"'Form 6B - Adjustments'!$B$9:$F$9","v":"Bad Debt"},"","","","",{"$f":"'Form 6B - Adjustments'!$B$10:$F$10","v":""},"","","","",{"$f":"'Form 6B - Adjustments'!$B$11:$F$11","v":""},"","","","",{"$f":"'Form 6B - Adjustments'!$B$12:$F$12","v":""},"","","","",{"$f":"'Form 6B - Adjustments'!$B$13:$F$13","v":""},"","","","",{"$f":"'Form 6B - Adjustments'!$B$14:$F$14","v":""},"","","","",{"$f":"'Form 6B - Adjustments'!$B$15:$F$15","v":""},"","","","",{"$f":"'Form 6B - Adjustments'!$B$16:$F$16","v":""},"","","","",{"$f":"'Form 6B - Adjustments'!$B$17:$F$17","v":""},"","","","",{"$f":"'Form 6B - Adjustments'!$B$18:$F$18","v":""},"","","","",{"$f":"'Form 6B - Adjustments'!$B$19:$F$19","v":""},"","","","",{"$f":"'Form 6B - Adjustments'!$B$20:$F$20","v":""},"","","","",{"$f":"'Form 6B - Adjustments'!$B$21:$F$21","v":""},"","","","",{"$f":"'Form 6B - Adjustments'!$B$22:$F$22","v":""},"","","","",{"$f":"'Form 6B - Adjustments'!$B$23:$F$23","v":""},"","","","",{"$f":"'Form 6B - Adjustments'!$B$24:$F$24","v":""},"","","","",{"$f":"'Form 6B - Adjustments'!$B$25:$F$25","v":""},"","","","",{"$f":"'Form 6B - Adjustments'!$B$26:$F$26","v":""},"","","","",{"$f":"'Form 6B - Adjustments'!$F$27","v":0},{"$f":"TRANSPOSE('Form 7 - Visits by FTE'!$D$12:$D$19)","v":0},0,0,0,0,0,0,0,{"$f":"TRANSPOSE('Form 7 - Visits by FTE'!$E$12:$E$19)","v":0},0,0,0,0,0,0,0,{"$f":"TRANSPOSE('Form 7 - Visits by FTE'!$D$21:$D$24)","v":0},0,0,0,{"$f":"TRANSPOSE('Form 7 - Visits by FTE'!$E$21:$E$24)","v":0},0,0,0,{"$f":"TRANSPOSE('Form 7 - Visits by FTE'!$D$27:$D$37)","v":0},0,0,0,0,0,0,0,0,0,0,{"$f":"TRANSPOSE('Form 7 - Visits by FTE'!$E$27:$E$37)","v":0},0,0,0,0,0,0,0,0,0,0,{"$f":"TRANSPOSE('Form 7 - Visits by FTE'!$D$39:$D$47)","v":0},0,0,0,0,0,0,0,0,{"$f":"TRANSPOSE('Form 7 - Visits by FTE'!$E$39:$E$47)","v":0},0,0,0,0,0,0,0,0,{"$f":"'Form 7 - Visits by FTE'!$D$48:$E$48","v":0},0,{"$f":"TRANSPOSE('Form A - Allocations'!D12:D15)","v":0},0,0,0,{"$f":"TRANSPOSE('Form A - Allocations'!E12:E15)","v":0},0,0,0,{"$f":"TRANSPOSE('Form A - Allocations'!F12:F15)","v":0},0,0,0,{"$f":"TRANSPOSE('Form A - Allocations'!G12:G15)","v":0},0,0,0,{"$f":"'Form A - Allocations'!H13","v":0},{"$f":"'Form A - Allocations'!H15","v":0},{"$f":"'Form A - Allocations'!I13","v":0},{"$f":"'Form A - Allocations'!I15","v":0},{"$f":"'Form A - Allocations'!J13","v":0},{"$f":"'Form A - Allocations'!J15","v":0},{"$f":"TRANSPOSE('Form A - Allocations'!K12:K15)","v":0},0,0,0,{"$f":"TRANSPOSE('Form A - Allocations'!L12:L15)","v":0},0,0,0,{"$f":"'Form A - Allocations'!R13:T13","v":0},0,0,{"$f":"'Form A - Allocations'!T15","v":0},{"$f":"TRANSPOSE('Form A - Allocations'!D19:D21)","v":0},0,0,{"$f":"TRANSPOSE('Form A - Allocations'!E18:E21)","v":0},0,0,"0",{"$f":"TRANSPOSE('Form A - Allocations'!F18:F21)","v":0},0,0,"0",{"$f":"TRANSPOSE('Form A - Allocations'!G18:G21)","v":0},0,0,"0",{"$f":"'Form A - Allocations'!H19","v":0},{"$f":"'Form A - Allocations'!H21","v":"0"},{"$f":"'Form A - Allocations'!I19","v":0},{"$f":"'Form A - Allocations'!I21","v":"0"},{"$f":"'Form A - Allocations'!J19","v":0},{"$f":"'Form A - Allocations'!J21","v":"0"},{"$f":"TRANSPOSE('Form A - Allocations'!K18:K21)","v":0},0,0,"0",{"$f":"TRANSPOSE('Form A - Allocations'!L18:L21)","v":0},0,0,"0",{"$f":"'Form A - Allocations'!R19:T19","v":0},0,0,{"$f":"'Form A - Allocations'!T21","v":"0"},{"$f":"TRANSPOSE('Form A - Allocations'!D24:D33)","v":0},0,0,0,0,0,0,0,0,0,{"$f":"TRANSPOSE('Form A - Allocations'!E24:E33)","v":0},0,0,0,0,0,0,0,0,0,{"$f":"TRANSPOSE('Form A - Allocations'!F24:F33)","v":0},0,0,0,0,0,0,0,0,0,{"$f":"'Form A - Allocations'!G24","v":0},{"$f":"TRANSPOSE('Form A - Allocations'!G27:G33)","v":0},0,0,0,0,0,0,{"$f":"'Form A - Allocations'!H24","v":0},{"$f":"TRANSPOSE('Form A - Allocations'!H27:H29)","v":0},0,0,{"$f":"TRANSPOSE('Form A - Allocations'!H31:H33)","v":0},0,0,{"$f":"'Form A - Allocations'!I24","v":0},{"$f":"TRANSPOSE('Form A - Allocations'!I27:I29)","v":0},0,0,{"$f":"TRANSPOSE('Form A - Allocations'!I31:I33)","v":0},0,0,{"$f":"'Form A - Allocations'!J24","v":0},{"$f":"TRANSPOSE('Form A - Allocations'!J27:J29)","v":0},0,0,{"$f":"TRANSPOSE('Form A - Allocations'!J31:J33)","v":0},0,0,{"$f":"TRANSPOSE('Form A - Allocations'!K24:K33)","v":0},0,0,0,0,0,0,0,0,0,{"$f":"TRANSPOSE('Form A - Allocations'!L24:L33)","v":0},0,0,0,0,0,0,0,0,0,{"$f":"TRANSPOSE('Form A - Allocations'!M24:M25)","v":0},0,{"$f":"'Form A - Allocations'!M27","v":0},{"$f":"TRANSPOSE('Form A - Allocations'!N24:N25)","v":0},0,{"$f":"'Form A - Allocations'!N27","v":0},{"$f":"'Form A - Allocations'!O24","v":0},{"$f":"TRANSPOSE('Form A - Allocations'!O26:O27)","v":0},0,{"$f":"'Form A - Allocations'!P24","v":0},{"$f":"TRANSPOSE('Form A - Allocations'!P26:P27)","v":0},0,{"$f":"'Form A - Allocations'!Q24","v":0},{"$f":"TRANSPOSE('Form A - Allocations'!Q27:Q29)","v":0},0,0,{"$f":"'Form A - Allocations'!R24","v":0},{"$f":"TRANSPOSE('Form A - Allocations'!R27:R31)","v":0},0,0,0,0,{"$f":"'Form A - Allocations'!S24","v":0},{"$f":"TRANSPOSE('Form A - Allocations'!S27:S29)","v":0},0,0,{"$f":"TRANSPOSE('Form A - Allocations'!S31:S33)","v":0},0,0,{"$f":"'Form A - Allocations'!T24","v":0},{"$f":"TRANSPOSE('Form A - Allocations'!T27:T29)","v":0},0,0,{"$f":"TRANSPOSE('Form A - Allocations'!T31:T33)","v":0},0,0,{"$f":"TRANSPOSE('Form B - Cost per Visit'!D14:D16)","v":0},0,"",{"$f":"TRANSPOSE('Form B - Cost per Visit'!D18:D20)","v":0},0,"",{"$f":"TRANSPOSE('Tab 9. Reconciliation'!C9:C12)","v":0},0,0,"0",{"$f":"TRANSPOSE('Tab 9. Reconciliation'!C15:C17)","v":0},0,0,{"$f":"TRANSPOSE('Tab 9. Reconciliation'!C20:C22)","v":0},0,0,{"$f":"'Tab 9. Reconciliation'!C26:D26","v":0},0,{"$f":"'Tab 9. Reconciliation'!C27:D27","v":0},0,{"$f":"'Tab 9. Reconciliation'!C28:D28","v":0},0,{"$f":"'Tab 9. Reconciliation'!C29:D29","v":0},0,{"$f":"'Tab 9. Reconciliation'!C30:D30","v":0},0,{"$f":"'Tab 9. Reconciliation'!D31","v":0},{"$f":"'Tab 9. Reconciliation'!C34","v":0},{"$f":"TRANSPOSE('Tab 10. Accuracy of Report'!E14:E17)","v":0},0,0,"0",{"$f":"TRANSPOSE('Tab 10. Accuracy of Report'!E19:E21)","v":0},"00:00:00",0,{"$f":"TRANSPOSE('Tab 10. Accuracy of Report'!E24:E42)","v":"ERROR"},"ERROR","ERROR","ERROR","ERROR","ERROR","ERROR","ERROR","ERROR","No Action Required","No Action Required","No Action Required","No Action Required","ERROR","ERROR","ERROR","ERROR","No Action Required","ERROR"]

{"sheet":"System Data","index":24,"n_rows":27,"n_cols":2,"rows_kept":27,"cut":false,"hidden":true,"merged":[]}
[{"$f":"IF(OR(ProviderName <> 0,ProviderName <> \"\"), (INDEX('Provider List'!B4:B60, MATCH(ProviderName,'Provider List'!C4:C60,0),0)), 0)","v":0},"OrgID"]
[{"$f":"MassHealthProviderID","v":0},"MassHealthID"]
[{"$f":"'1. Agency Information'!C18","v":"00:00:00"},"FiscalYear"]
[true,"OnSaveFlag"]
[{"$f":"ProviderName","v":0},"vProviderName"]
[1,"TemplateVersion"]
[{"$f":"OrgID&\"_\"&vProviderName&\"_CHCCRFY\"&RIGHT(YEAR(FiscalYear),2)&\".xlsm\"","v":"0_0_CHCCRFY00.xlsm"},"vFileName"]
[{"$f":"IF(AND(A9,A10,A11,A12,A13,A14,A15,A16,A17,A18,A19,A20,A21,A22,A23,A24,A25,A26,A27),TRUE,FALSE)","v":false},"vRequiredFields"]
[{"$f":"IF('Tab 10. Accuracy of Report'!E24=\"No Action Required\",TRUE,FALSE)","v":false},"vRequiredFieldE24"]
[{"$f":"IF('Tab 10. Accuracy of Report'!E25=\"No Action Required\",TRUE,FALSE)","v":false},"vRequiredFieldE25"]
[{"$f":"IF('Tab 10. Accuracy of Report'!E26=\"No Action Required\",TRUE,FALSE)","v":false},"vRequiredFieldE26"]
[{"$f":"IF('Tab 10. Accuracy of Report'!E27=\"No Action Required\",TRUE,FALSE)","v":false},"vRequiredFieldE27"]
[{"$f":"IF('Tab 10. Accuracy of Report'!E28=\"No Action Required\",TRUE,FALSE)","v":false},"vRequiredFieldE28"]
[{"$f":"IF('Tab 10. Accuracy of Report'!E29=\"No Action Required\",TRUE,FALSE)","v":false},"vRequiredFieldE29"]
[{"$f":"IF('Tab 10. Accuracy of Report'!E30=\"No Action Required\",TRUE,FALSE)","v":false},"vRequiredFieldE30"]
[{"$f":"IF('Tab 10. Accuracy of Report'!E31=\"No Action Required\",TRUE,FALSE)","v":false},"vRequiredFieldE31"]
[{"$f":"IF('Tab 10. Accuracy of Report'!E32=\"No Action Required\",TRUE,FALSE)","v":false},"vRequiredFieldE32"]
[{"$f":"IF('Tab 10. Accuracy of Report'!E33=\"No Action Required\",TRUE,FALSE)","v":true},"vRequiredFieldE33"]
[{"$f":"IF('Tab 10. Accuracy of Report'!E34=\"No Action Required\",TRUE,FALSE)","v":true},"vRequiredFieldE34"]
[{"$f":"IF('Tab 10. Accuracy of Report'!E35=\"No Action Required\",TRUE,FALSE)","v":true},"vRequiredFieldE35"]
[{"$f":"IF('Tab 10. Accuracy of Report'!E36=\"No Action Required\",TRUE,FALSE)","v":true},"vRequiredFieldE36"]
[{"$f":"IF('Tab 10. Accuracy of Report'!E37=\"No Action Required\",TRUE,FALSE)","v":false},"vRequiredFieldE37"]
[{"$f":"IF('Tab 10. Accuracy of Report'!E38=\"No Action Required\",TRUE,FALSE)","v":false},"vRequiredFieldE38"]
[{"$f":"IF('Tab 10. Accuracy of Report'!E39=\"No Action Required\",TRUE,FALSE)","v":false},"vRequiredFieldE39"]
[{"$f":"IF('Tab 10. Accuracy of Report'!E40=\"No Action Required\",TRUE,FALSE)","v":false},"vRequiredFieldE40"]
[{"$f":"IF('Tab 10. Accuracy of Report'!E41=\"No Action Required\",TRUE,FALSE)","v":true},"vRequiredFieldE41"]
[{"$f":"IF('Tab 10. Accuracy of Report'!E42=\"No Action Required\",TRUE,FALSE)","v":false},"vRequiredFieldE42"]